{"text_format":"3","workbook":"xlsx","n_sheets":8,"sheets":["DEPARTAMENTAL","PROVINCIAL","DISTRITAL","EESS","RED DE SALUD AREQUIPA CAYLLOMA","Pob x Genero","DATA","PIRAMIDE"],"not_rendered":{"charts":1,"images":1,"defined_names":12,"pivot_tables":1},"read":"whole","date_system":"1900"}

{"sheet":"DEPARTAMENTAL","index":0,"n_rows":31,"n_cols":77,"rows_kept":31,"merged":[[5,37,5,39],[5,40,6,40],[5,41,6,41],[5,42,5,44],[5,45,6,45],[18,0,18,2],[18,37,18,39],[18,40,19,40],[24,0,24,2],[24,37,24,39],[24,40,25,40],[24,41,25,41],[24,42,24,44],[24,45,25,45]]}
[]
[]
[]
["POBLACION ESTIMADA POR EDADES SIMPLES Y GRUPOS DE EDAD, SEGÚN DEPARTAMENTO. 2026"]
["* Actualizado con datos INEI y el Padrón Nominal"]
["POBLACION 2026",null,null,"POBLACION TOTAL, POR EDADS SIMPLES",{"$nulls":19},"POBLACIÓN TOTAL,  POR GRUPOS QUINQUEN ALES DE EDAD",{"$nulls":13},"EDADES ESPECIALES",null,null,"NACIMIENTOS VIVOS","POBLACION FEMENINA TOTAL","POBLACION FEMENINA",null,null,"GESTANTES  ESPERADAS",{"$nulls":8},"TOTAL"]
["UBIGEO","DEPARTAMENTO","Total","0",1,2,3,4,5,6,7,8,9,10,11,12,13,14,15,16,17,18,19,"20-24","25-29","30-34","35-39","40-44","45-49","50-54","55-59","60-64","65-69","70-74","75-79","80-84","85-+","28 DIAS","0-5 MESES","6-11 MESES",null,null,"10 - 14","15- 19","20- 49",null,null,"TOTAL","NIÑO","Adolescente","Joven","Adulto","Adulto Mayor",null,"00-04","05-09","10-14","15-19","20-24","25-29","30-34","35-39","40-44","45-49","50-54","55-59","60-64","65-69","70-74","75-79","80-84","85-+",null,"Hombres","Mujeres","Nacimientos vivos","Gestantes Esperadas"]
["00","PERU",{"$f":"C9","v":{"v":1655634,"d":"1,655,634"}},{"$f":"D9","v":{"v":15712,"d":"15,712"}},{"v":16435,"d":"16,435"},{"v":16469,"d":"16,469"},{"v":17838,"d":"17,838"},{"v":18010,"d":"18,010"},{"v":21120,"d":"21,120"},{"v":26285,"d":"26,285"},{"v":26908,"d":"26,908"},{"v":26517,"d":"26,517"},{"v":25193,"d":"25,193"},{"v":23455,"d":"23,455"},{"v":23754,"d":"23,754"},{"v":24541,"d":"24,541"},{"v":23426,"d":"23,426"},{"v":23835,"d":"23,835"},{"v":25279,"d":"25,279"},{"v":25532,"d":"25,532"},{"v":25380,"d":"25,380"},{"v":24489,"d":"24,489"},{"v":23987,"d":"23,987"},{"v":121156,"d":"121,156"},{"v":135081,"d":"135,081"},{"v":135252,"d":"135,252"},{"v":122328,"d":"122,328"},{"v":120811,"d":"120,811"},{"v":112552,"d":"112,552"},{"v":98537,"d":"98,537"},{"v":90673,"d":"90,673"},{"v":76289,"d":"76,289"},{"v":60761,"d":"60,761"},{"v":48658,"d":"48,658"},{"v":34917,"d":"34,917"},{"v":22143,"d":"22,143"},{"v":22311,"d":"22,311"},{"v":1178,"d":"1,178"},{"v":7853,"d":"7,853"},{"v":7859,"d":"7,859"},{"v":16644,"d":"16,644"},{"v":840625,"d":"840,625"},{"v":59071,"d":"59,071"},{"v":62354,"d":"62,354"},{"v":379482,"d":"379,482"},{"v":32018,"d":"32,018"},0,{"v":1655634,"d":"1,655,634"},{"v":257696,"d":"257,696"},{"v":147993,"d":"147,993"},{"v":304713,"d":"304,713"},{"v":680153,"d":"680,153"},{"v":265079,"d":"265,079"},0,{"v":84464,"d":"84,464"},{"v":126023,"d":"126,023"},{"v":119011,"d":"119,011"},{"v":124667,"d":"124,667"},{"v":121156,"d":"121,156"},{"v":135081,"d":"135,081"},{"v":135252,"d":"135,252"},{"v":122328,"d":"122,328"},{"v":120811,"d":"120,811"},{"v":112552,"d":"112,552"},{"v":98537,"d":"98,537"},{"v":90673,"d":"90,673"},{"v":76289,"d":"76,289"},{"$f":"BP9","v":{"v":60761,"d":"60,761"}},{"v":48658,"d":"48,658"},{"v":34917,"d":"34,917"},{"v":22143,"d":"22,143"},{"v":22311,"d":"22,311"},0,{"v":815009,"d":"815,009"},{"v":840625,"d":"840,625"},{"v":16644,"d":"16,644"},{"v":32018,"d":"32,018"}]
["04","AREQUIPA",{"v":1655634,"d":"1,655,634"},{"v":15712,"d":"15,712"},{"v":16435,"d":"16,435"},{"v":16469,"d":"16,469"},{"v":17838,"d":"17,838"},{"v":18010,"d":"18,010"},{"v":21120,"d":"21,120"},{"v":26285,"d":"26,285"},{"v":26908,"d":"26,908"},{"v":26517,"d":"26,517"},{"v":25193,"d":"25,193"},{"v":23455,"d":"23,455"},{"v":23754,"d":"23,754"},{"v":24541,"d":"24,541"},{"v":23426,"d":"23,426"},{"v":23835,"d":"23,835"},{"v":25279,"d":"25,279"},{"v":25532,"d":"25,532"},{"v":25380,"d":"25,380"},{"v":24489,"d":"24,489"},{"v":23987,"d":"23,987"},{"v":121156,"d":"121,156"},{"v":135081,"d":"135,081"},{"v":135252,"d":"135,252"},{"v":122328,"d":"122,328"},{"v":120811,"d":"120,811"},{"v":112552,"d":"112,552"},{"v":98537,"d":"98,537"},{"v":90673,"d":"90,673"},{"v":76289,"d":"76,289"},{"v":60761,"d":"60,761"},{"v":48658,"d":"48,658"},{"v":34917,"d":"34,917"},{"v":22143,"d":"22,143"},{"v":22311,"d":"22,311"},{"v":1178,"d":"1,178"},{"v":7853,"d":"7,853"},{"v":7859,"d":"7,859"},{"v":16644,"d":"16,644"},{"v":840625,"d":"840,625"},{"v":59071,"d":"59,071"},{"v":62354,"d":"62,354"},{"v":379482,"d":"379,482"},{"v":32018,"d":"32,018"},null,{"v":1655634,"d":"1,655,634"},{"v":257696,"d":"257,696"},{"v":147993,"d":"147,993"},{"v":304713,"d":"304,713"},{"v":680153,"d":"680,153"},{"v":265079,"d":"265,079"},null,{"v":84464,"d":"84,464"},{"v":126023,"d":"126,023"},{"v":119011,"d":"119,011"},{"v":124667,"d":"124,667"},{"v":121156,"d":"121,156"},{"v":135081,"d":"135,081"},{"v":135252,"d":"135,252"},{"v":122328,"d":"122,328"},{"v":120811,"d":"120,811"},{"v":112552,"d":"112,552"},{"v":98537,"d":"98,537"},{"v":90673,"d":"90,673"},{"v":76289,"d":"76,289"},{"v":60761,"d":"60,761"},{"v":48658,"d":"48,658"},{"v":34917,"d":"34,917"},{"v":22143,"d":"22,143"},{"v":22311,"d":"22,311"},null,{"v":815009,"d":"815,009"},{"v":840625,"d":"840,625"},{"v":16644,"d":"16,644"},{"v":32018,"d":"32,018"}]
[]
[]
["FUENTE: BOLETIN DEMOGRAFICO Nº 25, 26, 39 / RENIEC / Padrón Nominal/ CNV"]
["La población de 0-5 años corresponden al reporte de la poblacion del Padrón Nominal con corte al 31/12/2025"]
["OFICINA DE GESTION DE LA INFORMACION - MINISTERIO DE SALUD"]
[]
[]
[]
[]
["HOMBRES",null,null,"POBLACION TOTAL, POR EDADS SIMPLES",{"$nulls":19},"POBLACIÓN TOTAL,  POR GRUPOS QUINQUEN ALES DE EDAD",{"$nulls":13},"EDADES ESPECIALES",null,null,"NACIMIENTOS VIVOS",{"$nulls":13},"HOMBRES"]
["UBIGEO","DEPARTAMENTO","Total","0",1,2,3,4,5,6,7,8,9,10,11,12,13,14,15,16,17,18,19,"20-24","25-29","30-34","35-39","40-44","45-49","50-54","55-59","60-64","65-69","70-74","75-79","80-84","85-+","28 DIAS","0-5 MESES","6-11 MESES",{"$nulls":7},"TOTAL","NIÑO","Adolescente","Joven","Adulto","Adulto Mayor",null,"00-04","05-09","10-14","15-19","20-24","25-29","30-34","35-39","40-44","45-49","50-54","55-59","60-64","65-69","70-74","75-79","80-84","85-+"]
["00","PERU",{"$f":"C22","v":{"v":815009,"d":"815,009"}},{"$f":"D22","v":{"v":8047,"d":"8,047"}},{"v":8472,"d":"8,472"},{"v":8364,"d":"8,364"},{"v":9038,"d":"9,038"},{"v":9144,"d":"9,144"},{"v":10788,"d":"10,788"},{"v":13324,"d":"13,324"},{"v":13692,"d":"13,692"},{"v":13527,"d":"13,527"},{"v":13359,"d":"13,359"},{"v":11839,"d":"11,839"},{"v":11866,"d":"11,866"},{"v":12274,"d":"12,274"},{"v":11708,"d":"11,708"},{"v":12253,"d":"12,253"},{"v":12620,"d":"12,620"},{"v":12792,"d":"12,792"},{"v":12689,"d":"12,689"},{"v":12262,"d":"12,262"},{"v":11950,"d":"11,950"},{"v":58785,"d":"58,785"},{"v":63334,"d":"63,334"},{"v":66466,"d":"66,466"},{"v":62287,"d":"62,287"},{"v":60582,"d":"60,582"},{"v":56244,"d":"56,244"},{"v":47337,"d":"47,337"},{"v":44628,"d":"44,628"},{"v":37691,"d":"37,691"},{"v":29132,"d":"29,132"},{"v":22945,"d":"22,945"},{"v":16409,"d":"16,409"},{"v":10028,"d":"10,028"},{"v":9133,"d":"9,133"},616,{"v":4024,"d":"4,024"},{"v":4023,"d":"4,023"},{"v":8525,"d":"8,525"},0,0,0,0,0,0,{"v":815009,"d":"815,009"},{"v":131460,"d":"131,460"},{"v":74336,"d":"74,336"},{"v":146331,"d":"146,331"},{"v":337544,"d":"337,544"},{"v":125338,"d":"125,338"},0,{"v":43065,"d":"43,065"},{"v":64690,"d":"64,690"},{"v":59940,"d":"59,940"},{"v":62313,"d":"62,313"},{"v":58785,"d":"58,785"},{"v":63334,"d":"63,334"},{"v":66466,"d":"66,466"},{"v":62287,"d":"62,287"},{"v":60582,"d":"60,582"},{"v":56244,"d":"56,244"},{"v":47337,"d":"47,337"},{"v":44628,"d":"44,628"},{"v":37691,"d":"37,691"},{"$f":"BP22","v":{"v":29132,"d":"29,132"}},{"v":22945,"d":"22,945"},{"v":16409,"d":"16,409"},{"v":10028,"d":"10,028"},{"v":9133,"d":"9,133"}]
["04","AREQUIPA",815009,8047,8472,8364,9038,9144,10788,13324,13692,13527,13359,11839,11866,12274,11708,12253,12620,12792,12689,12262,11950,58785,63334,66466,62287,60582,56244,47337,44628,37691,29132,22945,16409,10028,9133,616,4024,4023,8525,{"$nulls":6},{"v":815009,"d":"815,009"},{"v":131460,"d":"131,460"},{"v":74336,"d":"74,336"},{"v":146331,"d":"146,331"},{"v":337544,"d":"337,544"},{"v":125338,"d":"125,338"},null,{"v":43065,"d":"43,065"},{"v":64690,"d":"64,690"},{"v":59940,"d":"59,940"},{"v":62313,"d":"62,313"},{"v":58785,"d":"58,785"},{"v":63334,"d":"63,334"},{"v":66466,"d":"66,466"},{"v":62287,"d":"62,287"},{"v":60582,"d":"60,582"},{"v":56244,"d":"56,244"},{"v":47337,"d":"47,337"},{"v":44628,"d":"44,628"},{"v":37691,"d":"37,691"},{"v":29132,"d":"29,132"},{"v":22945,"d":"22,945"},{"v":16409,"d":"16,409"},{"v":10028,"d":"10,028"},{"v":9133,"d":"9,133"}]
[]
[]
["MUJERES",null,null,"POBLACION TOTAL, POR EDADS SIMPLES",{"$nulls":19},"POBLACIÓN TOTAL,  POR GRUPOS QUINQUEN ALES DE EDAD",{"$nulls":13},"EDADES ESPECIALES",null,null,"NACIMIENTOS VIVOS","POBLACION FEMENINA TOTAL","POBLACION FEMENINA",null,null,"GESTANTES  ESPERADAS",{"$nulls":8},"MUJERES"]
["UBIGEO","DEPARTAMENTO","Total","0",1,2,3,4,5,6,7,8,9,10,11,12,13,14,15,16,17,18,19,"20-24","25-29","30-34","35-39","40-44","45-49","50-54","55-59","60-64","65-69","70-74","75-79","80-84","85-+","28 DIAS","0-5 MESES","6-11 MESES",null,null,"10 - 14","15- 19","20- 49",null,null,"TOTAL","NIÑO","Adolescente","Joven","Adulto","Adulto Mayor",null,"00-04","05-09","10-14","15-19","20-24","25-29","30-34","35-39","40-44","45-49","50-54","55-59","60-64","65-69","70-74","75-79","80-84","85-+"]
["00","PERU",{"$f":"C28","v":{"v":840625,"d":"840,625"}},{"$f":"D28","v":{"v":7665,"d":"7,665"}},{"v":7963,"d":"7,963"},{"v":8105,"d":"8,105"},{"v":8800,"d":"8,800"},{"v":8866,"d":"8,866"},{"v":10332,"d":"10,332"},{"v":12961,"d":"12,961"},{"v":13216,"d":"13,216"},{"v":12990,"d":"12,990"},{"v":11834,"d":"11,834"},{"v":11616,"d":"11,616"},{"v":11888,"d":"11,888"},{"v":12267,"d":"12,267"},{"v":11718,"d":"11,718"},{"v":11582,"d":"11,582"},{"v":12659,"d":"12,659"},{"v":12740,"d":"12,740"},{"v":12691,"d":"12,691"},{"v":12227,"d":"12,227"},{"v":12037,"d":"12,037"},{"v":62371,"d":"62,371"},{"v":71747,"d":"71,747"},{"v":68786,"d":"68,786"},{"v":60041,"d":"60,041"},{"v":60229,"d":"60,229"},{"v":56308,"d":"56,308"},{"v":51200,"d":"51,200"},{"v":46045,"d":"46,045"},{"v":38598,"d":"38,598"},{"v":31629,"d":"31,629"},{"v":25713,"d":"25,713"},{"v":18508,"d":"18,508"},{"v":12115,"d":"12,115"},{"v":13178,"d":"13,178"},562,{"v":3829,"d":"3,829"},{"v":3836,"d":"3,836"},{"v":8119,"d":"8,119"},{"v":840625,"d":"840,625"},{"v":59071,"d":"59,071"},{"v":62354,"d":"62,354"},{"v":379482,"d":"379,482"},{"v":32018,"d":"32,018"},0,{"v":840625,"d":"840,625"},{"v":126236,"d":"126,236"},{"v":73657,"d":"73,657"},{"v":158382,"d":"158,382"},{"v":342609,"d":"342,609"},{"v":139741,"d":"139,741"},0,{"v":41399,"d":"41,399"},{"v":61333,"d":"61,333"},{"v":59071,"d":"59,071"},{"v":62354,"d":"62,354"},{"v":62371,"d":"62,371"},{"v":71747,"d":"71,747"},{"v":68786,"d":"68,786"},{"v":60041,"d":"60,041"},{"v":60229,"d":"60,229"},{"v":56308,"d":"56,308"},{"v":51200,"d":"51,200"},{"v":46045,"d":"46,045"},{"v":38598,"d":"38,598"},{"$f":"BP28","v":{"v":31629,"d":"31,629"}},{"v":25713,"d":"25,713"},{"v":18508,"d":"18,508"},{"v":12115,"d":"12,115"},{"v":13178,"d":"13,178"}]
["04","AREQUIPA",840625,7665,7963,8105,8800,8866,10332,12961,13216,12990,11834,11616,11888,12267,11718,11582,12659,12740,12691,12227,12037,62371,71747,68786,60041,60229,56308,51200,46045,38598,31629,25713,18508,12115,13178,562,3829,3836,8119,{"v":840625,"d":"840,625"},{"v":59071,"d":"59,071"},{"v":62354,"d":"62,354"},{"v":379482,"d":"379,482"},{"v":32018,"d":"32,018"},null,{"v":840625,"d":"840,625"},{"v":126236,"d":"126,236"},{"v":73657,"d":"73,657"},{"v":158382,"d":"158,382"},{"v":342609,"d":"342,609"},{"v":139741,"d":"139,741"},null,{"v":41399,"d":"41,399"},{"v":61333,"d":"61,333"},{"v":59071,"d":"59,071"},{"v":62354,"d":"62,354"},{"v":62371,"d":"62,371"},{"v":71747,"d":"71,747"},{"v":68786,"d":"68,786"},{"v":60041,"d":"60,041"},{"v":60229,"d":"60,229"},{"v":56308,"d":"56,308"},{"v":51200,"d":"51,200"},{"v":46045,"d":"46,045"},{"v":38598,"d":"38,598"},{"v":31629,"d":"31,629"},{"v":25713,"d":"25,713"},{"v":18508,"d":"18,508"},{"v":12115,"d":"12,115"},{"v":13178,"d":"13,178"}]
[]
[]
["La población de 0-5 años corresponden al reporte de la poblacion del Padrón Nominal con corte al 31/12/2025"]

{"sheet":"PROVINCIAL","index":1,"n_rows":21,"n_cols":55,"rows_kept":21,"merged":[[5,39,5,41],[5,42,6,42],[5,43,6,43],[5,44,5,46],[5,47,6,47]]}
[]
[]
[]
["POBLACION ESTIMADA POR EDADES SIMPLES Y GRUPOS DE EDAD, SEGÚN DEPARTAMENTO y PROVINCIA. 2026"]
["* Actualizado con datos INEI y el Padrón Nominal"]
["POBLACION 2026",{"$nulls":4},"POBLACION TOTAL, POR EDADS SIMPLES",{"$nulls":19},"POBLACIÓN TOTAL,  POR GRUPOS QUINQUEN ALES DE EDAD",{"$nulls":13},"EDADES ESPECIALES",null,null,"NACIMIENTOS VIVOS","POBLACION FEMENINA TOTAL","POBLACION FEMENINA",null,null,"GESTANTES  ESPERADAS"]
["UBIGEO","DIRESA","DEPARTAMENTO","PROVINCIA","Total","0",1,2,3,4,5,6,7,8,9,10,11,12,13,14,15,16,17,18,19,"20-24","25-29","30-34","35-39","40-44","45-49","50-54","55-59","60-64","65-69","70-74","75-79","80-84","85-+","28 DIAS","0-5 MESES","6-11 MESES",null,null,"10 - 14","15- 19","20- 49",null,null,"TOTAL","NIÑO","Adolescente","Joven","Adulto","Adulto Mayor"]
["0000","PERU","PERU","PERU",{"$f":"SUM(E9:E16)","v":{"v":1655634,"d":"1,655,634"}},{"$f":"SUM(F9:F16)","v":{"v":15712,"d":"15,712"}},{"v":16435,"d":"16,435"},{"v":16469,"d":"16,469"},{"v":17838,"d":"17,838"},{"v":18010,"d":"18,010"},{"v":21120,"d":"21,120"},{"v":26285,"d":"26,285"},{"v":26908,"d":"26,908"},{"v":26517,"d":"26,517"},{"v":25193,"d":"25,193"},{"v":23455,"d":"23,455"},{"v":23754,"d":"23,754"},{"v":24541,"d":"24,541"},{"v":23426,"d":"23,426"},{"v":23835,"d":"23,835"},{"v":25279,"d":"25,279"},{"v":25532,"d":"25,532"},{"v":25380,"d":"25,380"},{"v":24489,"d":"24,489"},{"v":23987,"d":"23,987"},{"v":121156,"d":"121,156"},{"v":135081,"d":"135,081"},{"v":135252,"d":"135,252"},{"v":122328,"d":"122,328"},{"v":120811,"d":"120,811"},{"v":112552,"d":"112,552"},{"v":98537,"d":"98,537"},{"v":90673,"d":"90,673"},{"v":76289,"d":"76,289"},{"v":60761,"d":"60,761"},{"v":48658,"d":"48,658"},{"v":34917,"d":"34,917"},{"v":22143,"d":"22,143"},{"v":22311,"d":"22,311"},{"v":1178,"d":"1,178"},{"v":7853,"d":"7,853"},{"v":7859,"d":"7,859"},{"v":16644,"d":"16,644"},{"v":840625,"d":"840,625"},{"v":59071,"d":"59,071"},{"v":62354,"d":"62,354"},{"v":379482,"d":"379,482"},{"v":32018,"d":"32,018"},0,{"v":1655634,"d":"1,655,634"},{"v":257696,"d":"257,696"},{"v":147993,"d":"147,993"},{"v":304713,"d":"304,713"},{"v":680153,"d":"680,153"},{"v":265079,"d":"265,079"}]
["0401","AREQUIPA","AREQUIPA","AREQUIPA",{"v":1283201,"d":"1,283,201"},{"v":12212,"d":"12,212"},{"v":12670,"d":"12,670"},{"v":12473,"d":"12,473"},{"v":13318,"d":"13,318"},{"v":13692,"d":"13,692"},{"v":16316,"d":"16,316"},{"v":20821,"d":"20,821"},{"v":21186,"d":"21,186"},{"v":21044,"d":"21,044"},{"v":19862,"d":"19,862"},{"v":18247,"d":"18,247"},{"v":18345,"d":"18,345"},{"v":19113,"d":"19,113"},{"v":18152,"d":"18,152"},{"v":18268,"d":"18,268"},{"v":19265,"d":"19,265"},{"v":19130,"d":"19,130"},{"v":19074,"d":"19,074"},{"v":18820,"d":"18,820"},{"v":18738,"d":"18,738"},{"v":95521,"d":"95,521"},{"v":106508,"d":"106,508"},{"v":107036,"d":"107,036"},{"v":95388,"d":"95,388"},{"v":94524,"d":"94,524"},{"v":87321,"d":"87,321"},{"v":75781,"d":"75,781"},{"v":68727,"d":"68,727"},{"v":57888,"d":"57,888"},{"v":46489,"d":"46,489"},{"v":37259,"d":"37,259"},{"v":26655,"d":"26,655"},{"v":16720,"d":"16,720"},{"v":16638,"d":"16,638"},917,{"v":6091,"d":"6,091"},{"v":6121,"d":"6,121"},{"v":12944,"d":"12,944"},{"v":648776,"d":"648,776"},{"v":45178,"d":"45,178"},{"v":46978,"d":"46,978"},{"v":295579,"d":"295,579"},{"v":24320,"d":"24,320"},null,{"v":1283201,"d":"1,283,201"},{"v":200186,"d":"200,186"},{"v":113002,"d":"113,002"},{"v":239587,"d":"239,587"},{"v":528777,"d":"528,777"},{"v":201649,"d":"201,649"}]
["0402","AREQUIPA","AREQUIPA","CAMANA",{"v":73366,"d":"73,366"},698,759,780,798,735,875,{"v":1148,"d":"1,148"},{"v":1208,"d":"1,208"},{"v":1154,"d":"1,154"},{"v":1050,"d":"1,050"},{"v":1016,"d":"1,016"},{"v":1112,"d":"1,112"},{"v":1118,"d":"1,118"},{"v":1077,"d":"1,077"},{"v":1095,"d":"1,095"},{"v":1175,"d":"1,175"},{"v":1150,"d":"1,150"},{"v":1160,"d":"1,160"},{"v":1069,"d":"1,069"},967,{"v":4862,"d":"4,862"},{"v":5826,"d":"5,826"},{"v":6010,"d":"6,010"},{"v":5580,"d":"5,580"},{"v":5220,"d":"5,220"},{"v":4995,"d":"4,995"},{"v":4680,"d":"4,680"},{"v":4432,"d":"4,432"},{"v":3875,"d":"3,875"},{"v":2782,"d":"2,782"},{"v":2021,"d":"2,021"},{"v":1309,"d":"1,309"},855,775,51,347,351,741,{"v":37479,"d":"37,479"},{"v":2777,"d":"2,777"},{"v":2844,"d":"2,844"},{"v":17139,"d":"17,139"},{"v":1358,"d":"1,358"},null,{"v":73366,"d":"73,366"},{"v":11333,"d":"11,333"},{"v":6775,"d":"6,775"},{"v":12724,"d":"12,724"},{"v":30917,"d":"30,917"},{"v":11617,"d":"11,617"}]
["0403","AREQUIPA","AREQUIPA","CARAVELI",{"v":51783,"d":"51,783"},523,547,586,685,604,689,817,810,814,830,850,835,798,811,864,946,985,896,791,723,{"v":3350,"d":"3,350"},{"v":3808,"d":"3,808"},{"v":3934,"d":"3,934"},{"v":3856,"d":"3,856"},{"v":3610,"d":"3,610"},{"v":3509,"d":"3,509"},{"v":3155,"d":"3,155"},{"v":2957,"d":"2,957"},{"v":2437,"d":"2,437"},{"v":1830,"d":"1,830"},{"v":1448,"d":"1,448"},{"v":1010,"d":"1,010"},674,801,45,269,254,554,{"v":26779,"d":"26,779"},{"v":2208,"d":"2,208"},{"v":2308,"d":"2,308"},{"v":11789,"d":"11,789"},{"v":1142,"d":"1,142"},null,{"v":51783,"d":"51,783"},{"v":8590,"d":"8,590"},{"v":5300,"d":"5,300"},{"v":8672,"d":"8,672"},{"v":21021,"d":"21,021"},{"v":8200,"d":"8,200"}]
["0404","AREQUIPA","AREQUIPA","CASTILLA",{"v":37711,"d":"37,711"},266,294,341,379,370,436,501,524,563,537,555,587,590,544,613,717,732,762,565,552,{"v":2652,"d":"2,652"},{"v":2762,"d":"2,762"},{"v":2607,"d":"2,607"},{"v":2486,"d":"2,486"},{"v":2492,"d":"2,492"},{"v":2397,"d":"2,397"},{"v":2243,"d":"2,243"},{"v":2334,"d":"2,334"},{"v":1978,"d":"1,978"},{"v":1563,"d":"1,563"},{"v":1300,"d":"1,300"},{"v":1023,"d":"1,023"},656,790,16,132,134,279,{"v":19573,"d":"19,573"},{"v":1517,"d":"1,517"},{"v":1793,"d":"1,793"},{"v":7967,"d":"7,967"},619,null,{"v":37711,"d":"37,711"},{"v":5353,"d":"5,353"},{"v":3958,"d":"3,958"},{"v":6531,"d":"6,531"},{"v":14559,"d":"14,559"},{"v":7310,"d":"7,310"}]
["0405","AREQUIPA","AREQUIPA","CAYLLOMA",{"v":117883,"d":"117,883"},{"v":1176,"d":"1,176"},{"v":1215,"d":"1,215"},{"v":1247,"d":"1,247"},{"v":1567,"d":"1,567"},{"v":1513,"d":"1,513"},{"v":1682,"d":"1,682"},{"v":1791,"d":"1,791"},{"v":1919,"d":"1,919"},{"v":1700,"d":"1,700"},{"v":1685,"d":"1,685"},{"v":1666,"d":"1,666"},{"v":1664,"d":"1,664"},{"v":1700,"d":"1,700"},{"v":1673,"d":"1,673"},{"v":1722,"d":"1,722"},{"v":1739,"d":"1,739"},{"v":2011,"d":"2,011"},{"v":1977,"d":"1,977"},{"v":1867,"d":"1,867"},{"v":1725,"d":"1,725"},{"v":8521,"d":"8,521"},{"v":9588,"d":"9,588"},{"v":9441,"d":"9,441"},{"v":9039,"d":"9,039"},{"v":8743,"d":"8,743"},{"v":8178,"d":"8,178"},{"v":6957,"d":"6,957"},{"v":6534,"d":"6,534"},{"v":5276,"d":"5,276"},{"v":4026,"d":"4,026"},{"v":3292,"d":"3,292"},{"v":2354,"d":"2,354"},{"v":1394,"d":"1,394"},{"v":1301,"d":"1,301"},91,594,582,{"v":1241,"d":"1,241"},{"v":60419,"d":"60,419"},{"v":4256,"d":"4,256"},{"v":4669,"d":"4,669"},{"v":27645,"d":"27,645"},{"v":2626,"d":"2,626"},null,{"v":117883,"d":"117,883"},{"v":18825,"d":"18,825"},{"v":10822,"d":"10,822"},{"v":21701,"d":"21,701"},{"v":48892,"d":"48,892"},{"v":17643,"d":"17,643"}]
["0406","AREQUIPA","AREQUIPA","CONDESUYOS",{"v":17907,"d":"17,907"},171,193,212,221,193,205,218,212,222,236,214,239,231,218,255,312,330,344,262,244,{"v":1198,"d":"1,198"},{"v":1318,"d":"1,318"},{"v":1124,"d":"1,124"},{"v":1142,"d":"1,142"},{"v":1166,"d":"1,166"},{"v":1180,"d":"1,180"},{"v":1068,"d":"1,068"},{"v":1120,"d":"1,120"},907,791,657,515,441,548,12,85,86,180,{"v":9427,"d":"9,427"},612,780,{"v":3662,"d":"3,662"},370,null,{"v":17907,"d":"17,907"},{"v":2536,"d":"2,536"},{"v":1690,"d":"1,690"},{"v":3022,"d":"3,022"},{"v":6800,"d":"6,800"},{"v":3859,"d":"3,859"}]
["0407","AREQUIPA","AREQUIPA","ISLAY",{"v":59596,"d":"59,596"},493,570,584,677,696,726,785,832,798,772,687,744,748,731,793,853,892,860,840,807,{"v":4003,"d":"4,003"},{"v":4420,"d":"4,420"},{"v":4300,"d":"4,300"},{"v":4111,"d":"4,111"},{"v":4264,"d":"4,264"},{"v":4167,"d":"4,167"},{"v":3886,"d":"3,886"},{"v":3762,"d":"3,762"},{"v":3248,"d":"3,248"},{"v":2685,"d":"2,685"},{"v":2174,"d":"2,174"},{"v":1600,"d":"1,600"},{"v":1054,"d":"1,054"},{"v":1034,"d":"1,034"},36,248,245,523,{"v":30829,"d":"30,829"},{"v":1906,"d":"1,906"},{"v":2230,"d":"2,230"},{"v":13199,"d":"13,199"},{"v":1233,"d":"1,233"},null,{"v":59596,"d":"59,596"},{"v":8364,"d":"8,364"},{"v":4877,"d":"4,877"},{"v":10070,"d":"10,070"},{"v":24490,"d":"24,490"},{"v":11795,"d":"11,795"}]
["0408","AREQUIPA","AREQUIPA","LA UNION",{"v":14187,"d":"14,187"},173,187,246,193,207,191,204,217,222,221,220,228,243,220,225,272,302,307,275,231,{"v":1049,"d":"1,049"},851,800,726,792,805,767,807,680,595,507,451,349,424,10,87,86,182,{"v":7343,"d":"7,343"},617,752,{"v":2502,"d":"2,502"},350,null,{"v":14187,"d":"14,187"},{"v":2509,"d":"2,509"},{"v":1569,"d":"1,569"},{"v":2406,"d":"2,406"},{"v":4697,"d":"4,697"},{"v":3006,"d":"3,006"}]
[]
[]
["FUENTE: BOLETIN DEMOGRAFICO Nº 25, 26, 39 / RENIEC / Padrón Nominal/ CNV"]
["La población de 0-5 años corresponden al reporte de la poblacion del Padrón Nominal con corte al 31/12/2025"]
["OFICINA DE GESTION DE LA INFORMACION - MINISTERIO DE SALUD"]

{"sheet":"DISTRITAL","index":2,"n_rows":122,"n_cols":57,"rows_kept":122,"merged":[[5,40,5,42],[5,43,6,43],[5,44,6,44],[5,45,5,47],[5,48,6,48]]}
[]
[]
[]
["POBLACION ESTIMADA POR EDADES SIMPLES Y GRUPOS DE EDAD, SEGÚN DEPARTAMENTO, PROVINCIA Y DISTRITO. 2026"]
["* Actualizado con datos INEI y el Padrón Nominal"]
["POBLACION 2026",{"$nulls":5},"POBLACION TOTAL, POR EDADS SIMPLES",{"$nulls":19},"POBLACIÓN TOTAL,  POR GRUPOS QUINQUEN ALES DE EDAD",{"$nulls":13},"EDADES ESPECIALES",null,null,"NACIMIENTOS VIVOS","POBLACION FEMENINA TOTAL","POBLACION FEMENINA",null,null,"GESTANTES  ESPERADAS"]
["UBIGEO","DIRESA","DEPARTAMENTO","PROVINCIA","DISTRITO","Total","0",1,2,3,4,5,6,7,8,9,10,11,12,13,14,15,16,17,18,19,"20-24","25-29","30-34","35-39","40-44","45-49","50-54","55-59","60-64","65-69","70-74","75-79","80-84","85-+","28 DIAS","0-5 MESES","6-11 MESES",null,null,"10 - 14","15- 19","20- 49",{"$nulls":3},"TOTAL","NIÑO","Adolescente","Joven","Adulto","Adulto Mayor"]
["000000","PERU","PERU","PERU","PERU",{"$f":"SUM(F9:F117)","v":{"v":1655634,"d":"1,655,634"}},{"$f":"SUM(G9:G117)","v":{"v":15712,"d":"15,712"}},{"v":16435,"d":"16,435"},{"v":16469,"d":"16,469"},{"v":17838,"d":"17,838"},{"v":18010,"d":"18,010"},{"v":21120,"d":"21,120"},{"v":26285,"d":"26,285"},{"v":26908,"d":"26,908"},{"v":26517,"d":"26,517"},{"v":25193,"d":"25,193"},{"v":23455,"d":"23,455"},{"v":23754,"d":"23,754"},{"v":24541,"d":"24,541"},{"v":23426,"d":"23,426"},{"v":23835,"d":"23,835"},{"v":25279,"d":"25,279"},{"v":25532,"d":"25,532"},{"v":25380,"d":"25,380"},{"v":24489,"d":"24,489"},{"v":23987,"d":"23,987"},{"v":121156,"d":"121,156"},{"v":135081,"d":"135,081"},{"v":135252,"d":"135,252"},{"v":122328,"d":"122,328"},{"v":120811,"d":"120,811"},{"v":112552,"d":"112,552"},{"v":98537,"d":"98,537"},{"v":90673,"d":"90,673"},{"v":76289,"d":"76,289"},{"v":60761,"d":"60,761"},{"v":48658,"d":"48,658"},{"v":34917,"d":"34,917"},{"v":22143,"d":"22,143"},{"v":22311,"d":"22,311"},{"v":1178,"d":"1,178"},{"v":7853,"d":"7,853"},{"v":7859,"d":"7,859"},{"v":16644,"d":"16,644"},{"v":840625,"d":"840,625"},{"v":59071,"d":"59,071"},{"v":62354,"d":"62,354"},{"v":379482,"d":"379,482"},{"v":32018,"d":"32,018"},null,null,{"v":1655634,"d":"1,655,634"},{"v":257696,"d":"257,696"},{"v":147993,"d":"147,993"},{"v":304713,"d":"304,713"},{"v":680153,"d":"680,153"},{"v":265079,"d":"265,079"}]
["040101","AREQUIPA","AREQUIPA","AREQUIPA","AREQUIPA",{"v":60452,"d":"60,452"},485,534,526,484,527,685,635,684,684,632,555,581,604,596,667,660,646,639,601,610,{"v":3343,"d":"3,343"},{"v":3607,"d":"3,607"},{"v":3923,"d":"3,923"},{"v":3575,"d":"3,575"},{"v":3925,"d":"3,925"},{"v":4241,"d":"4,241"},{"v":4357,"d":"4,357"},{"v":4524,"d":"4,524"},{"v":4341,"d":"4,341"},{"v":3657,"d":"3,657"},{"v":3149,"d":"3,149"},{"v":2346,"d":"2,346"},{"v":1639,"d":"1,639"},{"v":1790,"d":"1,790"},36,243,242,514,{"v":30549,"d":"30,549"},{"v":1410,"d":"1,410"},{"v":1509,"d":"1,509"},{"v":11197,"d":"11,197"},930,null,null,{"v":60452,"d":"60,452"},{"v":7012,"d":"7,012"},{"v":3812,"d":"3,812"},{"v":8161,"d":"8,161"},{"v":24545,"d":"24,545"},{"v":16922,"d":"16,922"}]
["040102","AREQUIPA","AREQUIPA","AREQUIPA","ALTO SELVA ALEGRE",{"v":96079,"d":"96,079"},901,945,918,898,{"v":1041,"d":"1,041"},{"v":1320,"d":"1,320"},{"v":1513,"d":"1,513"},{"v":1571,"d":"1,571"},{"v":1551,"d":"1,551"},{"v":1460,"d":"1,460"},{"v":1313,"d":"1,313"},{"v":1371,"d":"1,371"},{"v":1410,"d":"1,410"},{"v":1396,"d":"1,396"},{"v":1400,"d":"1,400"},{"v":1362,"d":"1,362"},{"v":1431,"d":"1,431"},{"v":1397,"d":"1,397"},{"v":1296,"d":"1,296"},{"v":1403,"d":"1,403"},{"v":7375,"d":"7,375"},{"v":8682,"d":"8,682"},{"v":8480,"d":"8,480"},{"v":7119,"d":"7,119"},{"v":6809,"d":"6,809"},{"v":6135,"d":"6,135"},{"v":5637,"d":"5,637"},{"v":5394,"d":"5,394"},{"v":4753,"d":"4,753"},{"v":3417,"d":"3,417"},{"v":2450,"d":"2,450"},{"v":1643,"d":"1,643"},{"v":1087,"d":"1,087"},{"v":1201,"d":"1,201"},71,462,439,955,{"v":48662,"d":"48,662"},{"v":3310,"d":"3,310"},{"v":3346,"d":"3,346"},{"v":22546,"d":"22,546"},{"v":1526,"d":"1,526"},null,null,{"v":96079,"d":"96,079"},{"v":14802,"d":"14,802"},{"v":8396,"d":"8,396"},{"v":18756,"d":"18,756"},{"v":39574,"d":"39,574"},{"v":14551,"d":"14,551"}]
["040103","AREQUIPA","AREQUIPA","AREQUIPA","CAYMA",{"v":114207,"d":"114,207"},{"v":1041,"d":"1,041"},{"v":1078,"d":"1,078"},{"v":1246,"d":"1,246"},{"v":1407,"d":"1,407"},{"v":1302,"d":"1,302"},{"v":1490,"d":"1,490"},{"v":1999,"d":"1,999"},{"v":1959,"d":"1,959"},{"v":1934,"d":"1,934"},{"v":1803,"d":"1,803"},{"v":1700,"d":"1,700"},{"v":1687,"d":"1,687"},{"v":1800,"d":"1,800"},{"v":1646,"d":"1,646"},{"v":1606,"d":"1,606"},{"v":1801,"d":"1,801"},{"v":1618,"d":"1,618"},{"v":1704,"d":"1,704"},{"v":1695,"d":"1,695"},{"v":1612,"d":"1,612"},{"v":8563,"d":"8,563"},{"v":9779,"d":"9,779"},{"v":10331,"d":"10,331"},{"v":8933,"d":"8,933"},{"v":8223,"d":"8,223"},{"v":7371,"d":"7,371"},{"v":6420,"d":"6,420"},{"v":5869,"d":"5,869"},{"v":5057,"d":"5,057"},{"v":3940,"d":"3,940"},{"v":3031,"d":"3,031"},{"v":2125,"d":"2,125"},{"v":1185,"d":"1,185"},{"v":1252,"d":"1,252"},80,550,491,{"v":1104,"d":"1,104"},{"v":58226,"d":"58,226"},{"v":4132,"d":"4,132"},{"v":4117,"d":"4,117"},{"v":26975,"d":"26,975"},{"v":2718,"d":"2,718"},null,null,{"v":114207,"d":"114,207"},{"v":18646,"d":"18,646"},{"v":10175,"d":"10,175"},{"v":21649,"d":"21,649"},{"v":47147,"d":"47,147"},{"v":16590,"d":"16,590"}]
["040104","AREQUIPA","AREQUIPA","AREQUIPA","CERRO COLORADO",{"v":231952,"d":"231,952"},{"v":2541,"d":"2,541"},{"v":2644,"d":"2,644"},{"v":2171,"d":"2,171"},{"v":2376,"d":"2,376"},{"v":2701,"d":"2,701"},{"v":3144,"d":"3,144"},{"v":4467,"d":"4,467"},{"v":4593,"d":"4,593"},{"v":4529,"d":"4,529"},{"v":4279,"d":"4,279"},{"v":3870,"d":"3,870"},{"v":3730,"d":"3,730"},{"v":3894,"d":"3,894"},{"v":3610,"d":"3,610"},{"v":3583,"d":"3,583"},{"v":3864,"d":"3,864"},{"v":3718,"d":"3,718"},{"v":3841,"d":"3,841"},{"v":3724,"d":"3,724"},{"v":3755,"d":"3,755"},{"v":18888,"d":"18,888"},{"v":20454,"d":"20,454"},{"v":20368,"d":"20,368"},{"v":17961,"d":"17,961"},{"v":17656,"d":"17,656"},{"v":15322,"d":"15,322"},{"v":12443,"d":"12,443"},{"v":10625,"d":"10,625"},{"v":8060,"d":"8,060"},{"v":6393,"d":"6,393"},{"v":5225,"d":"5,225"},{"v":3401,"d":"3,401"},{"v":2135,"d":"2,135"},{"v":1987,"d":"1,987"},180,{"v":1279,"d":"1,279"},{"v":1262,"d":"1,262"},{"v":2694,"d":"2,694"},{"v":113748,"d":"113,748"},{"v":8847,"d":"8,847"},{"v":8982,"d":"8,982"},{"v":54679,"d":"54,679"},{"v":4148,"d":"4,148"},null,null,{"v":231952,"d":"231,952"},{"v":41045,"d":"41,045"},{"v":22510,"d":"22,510"},{"v":46821,"d":"46,821"},{"v":94375,"d":"94,375"},{"v":27201,"d":"27,201"}]
["040105","AREQUIPA","AREQUIPA","AREQUIPA","CHARACATO",{"v":19439,"d":"19,439"},151,172,140,199,163,195,380,338,279,279,291,270,309,266,307,291,298,265,289,348,{"v":1475,"d":"1,475"},{"v":1502,"d":"1,502"},{"v":1528,"d":"1,528"},{"v":1501,"d":"1,501"},{"v":1574,"d":"1,574"},{"v":1429,"d":"1,429"},{"v":1157,"d":"1,157"},{"v":1044,"d":"1,044"},834,711,556,419,262,217,6,74,77,160,{"v":9773,"d":"9,773"},700,732,{"v":4571,"d":"4,571"},385,null,null,{"v":19439,"d":"19,439"},{"v":2857,"d":"2,857"},{"v":1736,"d":"1,736"},{"v":3614,"d":"3,614"},{"v":8233,"d":"8,233"},{"v":2999,"d":"2,999"}]
["040106","AREQUIPA","AREQUIPA","AREQUIPA","CHIGUATA",{"v":3638,"d":"3,638"},61,50,45,52,53,69,48,57,53,47,39,59,30,30,53,52,28,45,46,41,240,270,307,267,249,231,222,205,164,165,141,89,63,67,6,24,37,64,{"v":1899,"d":"1,899"},106,109,854,83,null,null,{"v":3638,"d":"3,638"},633,238,597,{"v":1481,"d":"1,481"},689]
["040107","AREQUIPA","AREQUIPA","AREQUIPA","JACOBO HUNTER",{"v":56949,"d":"56,949"},525,512,515,590,590,722,986,954,935,906,812,835,847,875,724,842,878,885,788,772,{"v":4225,"d":"4,225"},{"v":4698,"d":"4,698"},{"v":4542,"d":"4,542"},{"v":4346,"d":"4,346"},{"v":4338,"d":"4,338"},{"v":4005,"d":"4,005"},{"v":3460,"d":"3,460"},{"v":3103,"d":"3,103"},{"v":2512,"d":"2,512"},{"v":2063,"d":"2,063"},{"v":1596,"d":"1,596"},{"v":1177,"d":"1,177"},695,696,37,243,282,557,{"v":29068,"d":"29,068"},{"v":2031,"d":"2,031"},{"v":2122,"d":"2,122"},{"v":13178,"d":"13,178"},835,null,null,{"v":56949,"d":"56,949"},{"v":8882,"d":"8,882"},{"v":5051,"d":"5,051"},{"v":10483,"d":"10,483"},{"v":23794,"d":"23,794"},{"v":8739,"d":"8,739"}]
["040108","AREQUIPA","AREQUIPA","AREQUIPA","LA JOYA",{"v":44121,"d":"44,121"},452,521,544,607,605,641,689,626,793,815,693,699,771,672,767,778,810,797,812,772,{"v":3652,"d":"3,652"},{"v":4011,"d":"4,011"},{"v":3597,"d":"3,597"},{"v":3351,"d":"3,351"},{"v":2976,"d":"2,976"},{"v":2852,"d":"2,852"},{"v":2251,"d":"2,251"},{"v":2060,"d":"2,060"},{"v":1677,"d":"1,677"},{"v":1370,"d":"1,370"},931,703,437,389,30,214,238,480,{"v":22678,"d":"22,678"},{"v":1878,"d":"1,878"},{"v":2040,"d":"2,040"},{"v":10601,"d":"10,601"},{"v":1173,"d":"1,173"},null,null,{"v":44121,"d":"44,121"},{"v":7685,"d":"7,685"},{"v":4595,"d":"4,595"},{"v":9247,"d":"9,247"},{"v":17087,"d":"17,087"},{"v":5507,"d":"5,507"}]
["040109","AREQUIPA","AREQUIPA","AREQUIPA","MARIANO MELGAR",{"v":71738,"d":"71,738"},674,710,720,742,750,862,{"v":1092,"d":"1,092"},{"v":1064,"d":"1,064"},{"v":1114,"d":"1,114"},{"v":1068,"d":"1,068"},952,944,{"v":1036,"d":"1,036"},{"v":1002,"d":"1,002"},{"v":1037,"d":"1,037"},{"v":1072,"d":"1,072"},{"v":1085,"d":"1,085"},{"v":1009,"d":"1,009"},{"v":1012,"d":"1,012"},{"v":1036,"d":"1,036"},{"v":5179,"d":"5,179"},{"v":5837,"d":"5,837"},{"v":5855,"d":"5,855"},{"v":5043,"d":"5,043"},{"v":5155,"d":"5,155"},{"v":4964,"d":"4,964"},{"v":4486,"d":"4,486"},{"v":4134,"d":"4,134"},{"v":3545,"d":"3,545"},{"v":2781,"d":"2,781"},{"v":2224,"d":"2,224"},{"v":1510,"d":"1,510"},988,{"v":1056,"d":"1,056"},48,328,346,714,{"v":36477,"d":"36,477"},{"v":2461,"d":"2,461"},{"v":2607,"d":"2,607"},{"v":16159,"d":"16,159"},{"v":1796,"d":"1,796"},null,null,{"v":71738,"d":"71,738"},{"v":10692,"d":"10,692"},{"v":6241,"d":"6,241"},{"v":13064,"d":"13,064"},{"v":29637,"d":"29,637"},{"v":12104,"d":"12,104"}]
["040110","AREQUIPA","AREQUIPA","AREQUIPA","MIRAFLORES",{"v":70554,"d":"70,554"},598,609,637,744,695,833,{"v":1020,"d":"1,020"},{"v":1058,"d":"1,058"},{"v":1122,"d":"1,122"},975,{"v":1009,"d":"1,009"},923,925,905,905,923,992,947,956,{"v":1003,"d":"1,003"},{"v":5196,"d":"5,196"},{"v":5784,"d":"5,784"},{"v":5752,"d":"5,752"},{"v":5057,"d":"5,057"},{"v":5308,"d":"5,308"},{"v":5077,"d":"5,077"},{"v":4563,"d":"4,563"},{"v":4074,"d":"4,074"},{"v":3518,"d":"3,518"},{"v":2686,"d":"2,686"},{"v":2141,"d":"2,141"},{"v":1523,"d":"1,523"},993,{"v":1103,"d":"1,103"},53,309,289,634,{"v":36130,"d":"36,130"},{"v":2366,"d":"2,366"},{"v":2480,"d":"2,480"},{"v":16332,"d":"16,332"},{"v":1007,"d":"1,007"},null,null,{"v":70554,"d":"70,554"},{"v":10223,"d":"10,223"},{"v":5597,"d":"5,597"},{"v":12939,"d":"12,939"},{"v":29831,"d":"29,831"},{"v":11964,"d":"11,964"}]
["040111","AREQUIPA","AREQUIPA","AREQUIPA","MOLLEBAYA",{"v":8652,"d":"8,652"},78,75,56,84,59,75,116,179,164,133,93,115,111,131,128,135,134,121,136,89,513,719,901,779,718,681,417,438,400,296,244,167,83,84,3,33,45,83,{"v":4341,"d":"4,341"},289,301,{"v":2241,"d":"2,241"},182,null,null,{"v":8652,"d":"8,652"},{"v":1227,"d":"1,227"},760,{"v":1457,"d":"1,457"},{"v":3934,"d":"3,934"},{"v":1274,"d":"1,274"}]
["040112","AREQUIPA","AREQUIPA","AREQUIPA","PAUCARPATA",{"v":142213,"d":"142,213"},{"v":1413,"d":"1,413"},{"v":1537,"d":"1,537"},{"v":1639,"d":"1,639"},{"v":1708,"d":"1,708"},{"v":1594,"d":"1,594"},{"v":1783,"d":"1,783"},{"v":2294,"d":"2,294"},{"v":2369,"d":"2,369"},{"v":2302,"d":"2,302"},{"v":2164,"d":"2,164"},{"v":2103,"d":"2,103"},{"v":2111,"d":"2,111"},{"v":2121,"d":"2,121"},{"v":2031,"d":"2,031"},{"v":2164,"d":"2,164"},{"v":2231,"d":"2,231"},{"v":2264,"d":"2,264"},{"v":2159,"d":"2,159"},{"v":2114,"d":"2,114"},{"v":2059,"d":"2,059"},{"v":10384,"d":"10,384"},{"v":11335,"d":"11,335"},{"v":11184,"d":"11,184"},{"v":10225,"d":"10,225"},{"v":10689,"d":"10,689"},{"v":10163,"d":"10,163"},{"v":8859,"d":"8,859"},{"v":7370,"d":"7,370"},{"v":5830,"d":"5,830"},{"v":4867,"d":"4,867"},{"v":4122,"d":"4,122"},{"v":3229,"d":"3,229"},{"v":1978,"d":"1,978"},{"v":1818,"d":"1,818"},117,708,705,{"v":1498,"d":"1,498"},{"v":72897,"d":"72,897"},{"v":5257,"d":"5,257"},{"v":5512,"d":"5,512"},{"v":32524,"d":"32,524"},{"v":2212,"d":"2,212"},null,null,{"v":142213,"d":"142,213"},{"v":23017,"d":"23,017"},{"v":12970,"d":"12,970"},{"v":25892,"d":"25,892"},{"v":58490,"d":"58,490"},{"v":21844,"d":"21,844"}]
["040113","AREQUIPA","AREQUIPA","AREQUIPA","POCSI",519,8,6,4,5,2,9,2,2,2,2,2,2,4,4,3,3,3,3,5,5,25,41,45,33,39,42,39,38,35,27,24,19,21,15,1,2,6,8,270,7,7,117,12,null,null,519,46,20,76,236,141]
["040114","AREQUIPA","AREQUIPA","AREQUIPA","POLOBAYA",879,9,14,5,12,12,18,3,5,6,7,6,8,13,8,7,7,8,5,7,19,54,64,66,55,54,51,54,73,66,56,43,20,22,22,0,4,5,9,452,20,22,179,31,null,null,879,105,48,144,353,229]
["040115","AREQUIPA","AREQUIPA","AREQUIPA","QUEQUEÑA",{"v":8714,"d":"8,714"},33,31,34,43,53,43,113,110,67,95,88,95,111,68,81,104,94,97,119,91,401,586,843,906,727,709,679,593,541,361,288,238,137,135,1,14,19,35,{"v":4314,"d":"4,314"},207,251,{"v":2166,"d":"2,166"},65,null,null,{"v":8714,"d":"8,714"},805,555,{"v":1197,"d":"1,197"},{"v":4457,"d":"4,457"},{"v":1700,"d":"1,700"}]
["040116","AREQUIPA","AREQUIPA","AREQUIPA","SABANDIA",{"v":5167,"d":"5,167"},49,56,68,61,98,93,76,72,89,63,61,70,74,64,68,75,70,64,67,61,344,403,369,403,388,366,309,266,220,194,190,131,104,81,1,20,29,52,{"v":2634,"d":"2,634"},167,170,{"v":1168,"d":"1,168"},61,null,null,{"v":5167,"d":"5,167"},856,415,875,{"v":2101,"d":"2,101"},920]
["040117","AREQUIPA","AREQUIPA","AREQUIPA","SACHACA",{"v":31356,"d":"31,356"},329,311,337,342,361,440,508,525,499,465,379,446,466,470,450,479,456,478,453,450,{"v":2298,"d":"2,298"},{"v":2323,"d":"2,323"},{"v":2420,"d":"2,420"},{"v":2189,"d":"2,189"},{"v":2283,"d":"2,283"},{"v":2135,"d":"2,135"},{"v":1859,"d":"1,859"},{"v":1708,"d":"1,708"},{"v":1479,"d":"1,479"},{"v":1302,"d":"1,302"},{"v":1045,"d":"1,045"},759,463,449,23,166,163,348,{"v":15963,"d":"15,963"},{"v":1073,"d":"1,073"},{"v":1169,"d":"1,169"},{"v":6894,"d":"6,894"},700,null,null,{"v":31356,"d":"31,356"},{"v":4942,"d":"4,942"},{"v":2799,"d":"2,799"},{"v":5524,"d":"5,524"},{"v":12594,"d":"12,594"},{"v":5497,"d":"5,497"}]
["040118","AREQUIPA","AREQUIPA","AREQUIPA","SAN JUAN DE SIGUAS",593,4,5,4,10,11,9,4,7,4,6,9,9,9,3,3,3,11,5,7,6,40,43,47,36,43,33,47,46,36,37,24,14,7,11,0,2,2,4,333,22,18,135,9,null,null,593,82,34,96,252,129]
["040119","AREQUIPA","AREQUIPA","AREQUIPA","SAN JUAN DE TARUCANI",{"v":1363,"d":"1,363"},14,16,16,27,17,27,7,10,9,9,10,6,6,21,6,17,9,15,13,13,69,98,97,108,128,104,96,106,82,64,47,35,31,30,2,5,9,15,715,23,34,337,20,null,null,{"v":1363,"d":"1,363"},168,74,193,639,289]
["040120","AREQUIPA","AREQUIPA","AREQUIPA","SANTA ISABEL DE SIGUAS",705,6,9,2,6,4,13,10,11,9,6,10,10,9,12,2,10,10,15,6,9,52,48,53,35,37,46,52,46,46,38,26,23,18,16,0,6,0,6,379,29,25,147,7,null,null,705,96,58,115,269,167]
["040121","AREQUIPA","AREQUIPA","AREQUIPA","SANTA RITA DE SIGUAS",{"v":8708,"d":"8,708"},83,72,89,96,111,110,165,176,140,139,142,138,145,147,132,163,129,130,137,157,713,887,912,791,682,504,395,385,314,177,147,97,58,45,6,40,43,88,{"v":4473,"d":"4,473"},359,371,{"v":2317,"d":"2,317"},155,null,null,{"v":8708,"d":"8,708"},{"v":1461,"d":"1,461"},846,{"v":1894,"d":"1,894"},{"v":3669,"d":"3,669"},838]
["040122","AREQUIPA","AREQUIPA","AREQUIPA","SOCABAYA",{"v":91133,"d":"91,133"},722,680,728,649,766,946,{"v":1400,"d":"1,400"},{"v":1467,"d":"1,467"},{"v":1472,"d":"1,472"},{"v":1476,"d":"1,476"},{"v":1247,"d":"1,247"},{"v":1386,"d":"1,386"},{"v":1366,"d":"1,366"},{"v":1404,"d":"1,404"},{"v":1281,"d":"1,281"},{"v":1393,"d":"1,393"},{"v":1500,"d":"1,500"},{"v":1395,"d":"1,395"},{"v":1449,"d":"1,449"},{"v":1419,"d":"1,419"},{"v":7238,"d":"7,238"},{"v":7799,"d":"7,799"},{"v":7445,"d":"7,445"},{"v":6681,"d":"6,681"},{"v":6788,"d":"6,788"},{"v":6350,"d":"6,350"},{"v":5375,"d":"5,375"},{"v":4965,"d":"4,965"},{"v":4280,"d":"4,280"},{"v":3579,"d":"3,579"},{"v":2610,"d":"2,610"},{"v":1828,"d":"1,828"},{"v":1052,"d":"1,052"},997,55,382,340,766,{"v":46099,"d":"46,099"},{"v":3376,"d":"3,376"},{"v":3535,"d":"3,535"},{"v":21293,"d":"21,293"},{"v":1514,"d":"1,514"},null,null,{"v":91133,"d":"91,133"},{"v":12939,"d":"12,939"},{"v":8339,"d":"8,339"},{"v":17905,"d":"17,905"},{"v":37604,"d":"37,604"},{"v":14346,"d":"14,346"}]
["040123","AREQUIPA","AREQUIPA","AREQUIPA","TIABAYA",{"v":19046,"d":"19,046"},233,225,266,243,229,297,293,358,286,278,229,258,298,245,269,264,257,292,241,267,{"v":1382,"d":"1,382"},{"v":1626,"d":"1,626"},{"v":1620,"d":"1,620"},{"v":1469,"d":"1,469"},{"v":1435,"d":"1,435"},{"v":1260,"d":"1,260"},{"v":1050,"d":"1,050"},995,813,645,526,398,245,254,20,110,123,247,{"v":9838,"d":"9,838"},664,699,{"v":4414,"d":"4,414"},435,null,null,{"v":19046,"d":"19,046"},{"v":3195,"d":"3,195"},{"v":1625,"d":"1,625"},{"v":3516,"d":"3,516"},{"v":7829,"d":"7,829"},{"v":2881,"d":"2,881"}]
["040124","AREQUIPA","AREQUIPA","AREQUIPA","UCHUMAYO",{"v":18741,"d":"18,741"},182,203,215,229,197,252,305,293,276,254,248,251,286,242,230,258,260,249,266,251,{"v":1212,"d":"1,212"},{"v":1631,"d":"1,631"},{"v":1660,"d":"1,660"},{"v":1627,"d":"1,627"},{"v":1608,"d":"1,608"},{"v":1361,"d":"1,361"},{"v":1099,"d":"1,099"},{"v":1008,"d":"1,008"},832,672,459,314,185,126,8,73,109,193,{"v":9878,"d":"9,878"},690,691,{"v":4667,"d":"4,667"},551,null,null,{"v":18741,"d":"18,741"},{"v":2905,"d":"2,905"},{"v":1525,"d":"1,525"},{"v":3360,"d":"3,360"},{"v":8363,"d":"8,363"},{"v":2588,"d":"2,588"}]
["040125","AREQUIPA","AREQUIPA","AREQUIPA","VITOR",{"v":5439,"d":"5,439"},41,35,49,36,38,36,60,87,70,73,62,67,72,97,77,97,92,103,98,93,420,464,434,419,384,332,306,329,289,235,175,105,83,81,3,21,20,43,{"v":2820,"d":"2,820"},207,260,{"v":1307,"d":"1,307"},101,null,null,{"v":5439,"d":"5,439"},654,538,{"v":1075,"d":"1,075"},{"v":2204,"d":"2,204"},968]
["040126","AREQUIPA","AREQUIPA","AREQUIPA","YANAHUARA",{"v":30442,"d":"30,442"},320,286,181,228,304,417,386,369,403,417,366,331,352,342,340,331,365,328,360,369,{"v":1676,"d":"1,676"},{"v":1923,"d":"1,923"},{"v":2069,"d":"2,069"},{"v":1938,"d":"1,938"},{"v":2067,"d":"2,067"},{"v":2197,"d":"2,197"},{"v":2067,"d":"2,067"},{"v":1998,"d":"1,998"},{"v":1911,"d":"1,911"},{"v":1633,"d":"1,633"},{"v":1439,"d":"1,439"},{"v":1105,"d":"1,105"},760,864,22,165,155,339,{"v":15020,"d":"15,020"},752,767,{"v":5869,"d":"5,869"},576,null,null,{"v":30442,"d":"30,442"},{"v":4008,"d":"4,008"},{"v":2058,"d":"2,058"},{"v":4328,"d":"4,328"},{"v":12336,"d":"12,336"},{"v":7712,"d":"7,712"}]
["040127","AREQUIPA","AREQUIPA","AREQUIPA","YARABAMBA",{"v":1986,"d":"1,986"},42,36,46,42,33,36,15,21,17,14,16,18,13,16,11,20,16,17,28,19,116,167,196,155,155,163,122,117,97,70,63,35,25,29,4,20,22,44,{"v":1094,"d":"1,094"},46,55,515,90,null,null,{"v":1986,"d":"1,986"},336,93,330,908,319]
["040128","AREQUIPA","AREQUIPA","AREQUIPA","YURA",{"v":47948,"d":"47,948"},575,582,569,614,625,798,997,927,909,779,808,782,771,773,733,780,701,792,861,763,{"v":3942,"d":"3,942"},{"v":4609,"d":"4,609"},{"v":4675,"d":"4,675"},{"v":3908,"d":"3,908"},{"v":3348,"d":"3,348"},{"v":2871,"d":"2,871"},{"v":2358,"d":"2,358"},{"v":2097,"d":"2,097"},{"v":1631,"d":"1,631"},{"v":1309,"d":"1,309"},910,575,307,269,60,281,294,609,{"v":24138,"d":"24,138"},{"v":1903,"d":"1,903"},{"v":1942,"d":"1,942"},{"v":12022,"d":"12,022"},{"v":1234,"d":"1,234"},null,null,{"v":47948,"d":"47,948"},{"v":8965,"d":"8,965"},{"v":4550,"d":"4,550"},{"v":10175,"d":"10,175"},{"v":19257,"d":"19,257"},{"v":5001,"d":"5,001"}]
["040129","AREQUIPA","AREQUIPA","AREQUIPA","JOSE LUIS BUSTAMANTE Y RIVERO",{"v":90468,"d":"90,468"},642,716,703,784,751,953,{"v":1238,"d":"1,238"},{"v":1294,"d":"1,294"},{"v":1326,"d":"1,326"},{"v":1218,"d":"1,218"},{"v":1134,"d":"1,134"},{"v":1143,"d":"1,143"},{"v":1260,"d":"1,260"},{"v":1076,"d":"1,076"},{"v":1234,"d":"1,234"},{"v":1250,"d":"1,250"},{"v":1247,"d":"1,247"},{"v":1277,"d":"1,277"},{"v":1234,"d":"1,234"},{"v":1246,"d":"1,246"},{"v":6506,"d":"6,506"},{"v":7118,"d":"7,118"},{"v":7317,"d":"7,317"},{"v":6478,"d":"6,478"},{"v":6738,"d":"6,738"},{"v":6326,"d":"6,326"},{"v":5602,"d":"5,602"},{"v":5117,"d":"5,117"},{"v":4525,"d":"4,525"},{"v":3744,"d":"3,744"},{"v":3433,"d":"3,433"},{"v":2627,"d":"2,627"},{"v":1657,"d":"1,657"},{"v":1554,"d":"1,554"},44,313,329,681,{"v":45908,"d":"45,908"},{"v":2846,"d":"2,846"},{"v":3105,"d":"3,105"},{"v":20175,"d":"20,175"},{"v":1764,"d":"1,764"},null,null,{"v":90468,"d":"90,468"},{"v":11902,"d":"11,902"},{"v":7344,"d":"7,344"},{"v":16104,"d":"16,104"},{"v":37578,"d":"37,578"},{"v":17540,"d":"17,540"}]
["040201","AREQUIPA","AREQUIPA","CAMANA","CAMANA",{"v":15591,"d":"15,591"},133,157,100,82,36,19,224,252,260,217,252,203,238,238,257,297,257,282,248,254,{"v":1252,"d":"1,252"},{"v":1213,"d":"1,213"},{"v":1172,"d":"1,172"},954,954,{"v":1020,"d":"1,020"},{"v":1006,"d":"1,006"},957,923,675,549,388,275,247,13,69,64,141,{"v":8067,"d":"8,067"},592,705,{"v":3384,"d":"3,384"},263,null,null,{"v":15591,"d":"15,591"},{"v":1935,"d":"1,935"},{"v":1569,"d":"1,569"},{"v":2967,"d":"2,967"},{"v":6063,"d":"6,063"},{"v":3057,"d":"3,057"}]
["040202","AREQUIPA","AREQUIPA","CAMANA","JOSE MARIA QUIMPER",{"v":5930,"d":"5,930"},57,54,77,68,48,80,86,123,115,80,76,89,94,71,95,92,91,74,80,74,372,491,455,439,400,365,330,363,355,293,182,119,75,67,4,33,24,61,{"v":2977,"d":"2,977"},220,217,{"v":1300,"d":"1,300"},124,null,null,{"v":5930,"d":"5,930"},953,517,{"v":1017,"d":"1,017"},{"v":2352,"d":"2,352"},{"v":1091,"d":"1,091"}]
["040203","AREQUIPA","AREQUIPA","CAMANA","MARIANO NICOLAS VALCARCEL",{"v":9441,"d":"9,441"},156,152,151,152,180,162,168,130,96,149,134,174,162,133,103,108,113,106,80,46,369,679,{"v":1101,"d":"1,101"},{"v":1030,"d":"1,030"},836,727,608,617,371,222,107,53,44,22,9,76,80,166,{"v":4739,"d":"4,739"},412,241,{"v":2588,"d":"2,588"},195,null,null,{"v":9441,"d":"9,441"},{"v":1804,"d":"1,804"},725,{"v":1174,"d":"1,174"},{"v":4919,"d":"4,919"},819]
["040204","AREQUIPA","AREQUIPA","CAMANA","MARISCAL CACERES",{"v":8409,"d":"8,409"},60,90,103,82,78,108,115,117,128,110,99,110,94,116,128,126,125,132,132,108,508,732,682,654,638,624,581,507,437,338,237,134,95,81,1,30,30,64,{"v":4269,"d":"4,269"},260,319,{"v":2016,"d":"2,016"},176,null,null,{"v":8409,"d":"8,409"},{"v":1200,"d":"1,200"},721,{"v":1480,"d":"1,480"},{"v":3686,"d":"3,686"},{"v":1322,"d":"1,322"}]
["040205","AREQUIPA","AREQUIPA","CAMANA","NICOLAS DE PIEROLA",{"v":9284,"d":"9,284"},69,73,91,93,81,121,129,168,154,139,117,147,153,165,134,144,155,141,149,137,620,695,721,678,651,621,594,577,507,371,284,197,110,98,6,30,39,73,{"v":4723,"d":"4,723"},348,357,{"v":2108,"d":"2,108"},153,null,null,{"v":9284,"d":"9,284"},{"v":1382,"d":"1,382"},892,{"v":1601,"d":"1,601"},{"v":3842,"d":"3,842"},{"v":1567,"d":"1,567"}]
["040206","AREQUIPA","AREQUIPA","CAMANA","OCOÑA",{"v":4869,"d":"4,869"},38,41,52,48,47,67,70,75,65,46,48,55,53,66,70,78,72,95,62,57,281,368,295,320,345,319,343,336,324,245,207,121,81,79,3,16,22,40,{"v":2546,"d":"2,546"},158,199,{"v":1062,"d":"1,062"},106,null,null,{"v":4869,"d":"4,869"},652,434,768,{"v":1958,"d":"1,958"},{"v":1057,"d":"1,057"}]
["040207","AREQUIPA","AREQUIPA","CAMANA","QUILCA",{"v":1441,"d":"1,441"},9,8,11,17,15,13,23,18,12,21,15,23,9,18,27,20,23,22,12,17,72,102,119,121,110,102,98,85,111,60,54,33,20,21,1,4,5,9,767,56,56,351,22,null,null,{"v":1441,"d":"1,441"},185,119,203,635,299]
["040208","AREQUIPA","AREQUIPA","CAMANA","SAMUEL PASTOR",{"v":18401,"d":"18,401"},176,184,195,256,250,305,333,325,324,288,275,311,315,270,281,310,314,308,306,274,{"v":1388,"d":"1,388"},{"v":1546,"d":"1,546"},{"v":1465,"d":"1,465"},{"v":1384,"d":"1,384"},{"v":1286,"d":"1,286"},{"v":1217,"d":"1,217"},{"v":1120,"d":"1,120"},990,847,578,401,264,155,160,14,89,87,187,{"v":9391,"d":"9,391"},731,750,{"v":4330,"d":"4,330"},319,null,null,{"v":18401,"d":"18,401"},{"v":3222,"d":"3,222"},{"v":1798,"d":"1,798"},{"v":3514,"d":"3,514"},{"v":7462,"d":"7,462"},{"v":2405,"d":"2,405"}]
["040301","AREQUIPA","AREQUIPA","CARAVELI","CARAVELI",{"v":5400,"d":"5,400"},86,82,98,88,76,73,89,83,68,65,88,46,81,68,59,86,104,89,108,100,453,482,404,349,306,324,325,270,232,184,132,104,98,100,9,50,36,91,{"v":2751,"d":"2,751"},170,246,{"v":1224,"d":"1,224"},156,null,null,{"v":5400,"d":"5,400"},942,487,{"v":1143,"d":"1,143"},{"v":1978,"d":"1,978"},850]
["040302","AREQUIPA","AREQUIPA","CARAVELI","ACARI",{"v":6580,"d":"6,580"},45,43,40,63,55,60,83,107,82,105,119,110,118,126,94,126,136,130,102,80,422,402,368,415,404,431,425,407,378,298,281,241,121,163,5,19,26,48,{"v":3317,"d":"3,317"},286,285,{"v":1288,"d":"1,288"},81,null,null,{"v":6580,"d":"6,580"},912,730,{"v":1006,"d":"1,006"},{"v":2450,"d":"2,450"},{"v":1482,"d":"1,482"}]
["040303","AREQUIPA","AREQUIPA","CARAVELI","ATICO",{"v":6658,"d":"6,658"},47,60,74,77,57,78,118,92,98,97,110,113,74,109,122,115,125,110,111,87,404,498,559,519,487,497,445,388,293,259,165,135,78,57,2,27,20,50,{"v":3427,"d":"3,427"},264,278,{"v":1574,"d":"1,574"},59,null,null,{"v":6658,"d":"6,658"},{"v":1021,"d":"1,021"},655,{"v":1100,"d":"1,100"},{"v":2895,"d":"2,895"},987]
["040304","AREQUIPA","AREQUIPA","CARAVELI","ATIQUIPA",739,8,8,4,11,6,13,3,7,11,12,14,8,14,8,6,8,11,9,11,8,46,74,61,51,60,32,48,49,47,21,34,15,11,10,1,3,5,8,389,30,29,172,11,null,null,739,105,56,139,301,138]
["040305","AREQUIPA","AREQUIPA","CARAVELI","BELLA UNION",{"v":3560,"d":"3,560"},31,51,33,46,45,41,58,48,50,46,30,50,48,52,33,56,75,52,55,53,232,281,251,272,265,269,211,205,177,121,125,91,54,53,3,13,18,33,{"v":1816,"d":"1,816"},107,160,837,78,null,null,{"v":3560,"d":"3,560"},529,316,621,{"v":1473,"d":"1,473"},621]
["040306","AREQUIPA","AREQUIPA","CARAVELI","CAHUACHO",{"v":1365,"d":"1,365"},4,7,8,11,33,9,10,10,26,17,16,16,28,23,17,23,16,22,26,26,69,92,78,72,89,74,84,79,63,67,68,57,51,74,1,2,2,4,719,58,63,242,6,null,null,{"v":1365,"d":"1,365"},167,129,213,476,380]
["040307","AREQUIPA","AREQUIPA","CARAVELI","CHALA",{"v":11388,"d":"11,388"},149,145,171,178,158,191,230,236,265,221,236,194,169,155,214,225,229,207,169,167,757,853,945,977,835,741,615,528,429,316,203,117,77,86,13,77,72,158,{"v":5819,"d":"5,819"},460,515,{"v":2805,"d":"2,805"},378,null,null,{"v":11388,"d":"11,388"},{"v":2374,"d":"2,374"},{"v":1199,"d":"1,199"},{"v":1946,"d":"1,946"},{"v":4641,"d":"4,641"},{"v":1228,"d":"1,228"}]
["040308","AREQUIPA","AREQUIPA","CARAVELI","CHAPARRA",{"v":3742,"d":"3,742"},34,39,37,57,49,61,52,54,45,48,62,76,55,47,84,82,68,76,48,39,197,207,321,336,335,268,231,259,134,108,104,42,41,46,2,21,13,36,{"v":2029,"d":"2,029"},204,210,868,63,null,null,{"v":3742,"d":"3,742"},614,412,491,{"v":1750,"d":"1,750"},475]
["040309","AREQUIPA","AREQUIPA","CARAVELI","HUANUHUANU",{"v":3453,"d":"3,453"},35,39,33,48,44,54,42,47,37,59,43,65,51,92,84,63,62,57,46,47,198,261,357,313,253,273,225,178,145,79,48,15,21,39,4,15,20,37,{"v":1938,"d":"1,938"},221,164,914,107,null,null,{"v":3453,"d":"3,453"},546,409,552,{"v":1599,"d":"1,599"},347]
["040310","AREQUIPA","AREQUIPA","CARAVELI","JAQUI",{"v":1968,"d":"1,968"},23,15,21,17,19,28,29,28,29,25,24,45,40,30,35,40,35,33,32,24,108,145,122,102,119,133,133,136,127,100,63,39,34,35,0,10,13,24,{"v":1030,"d":"1,030"},92,93,384,62,null,null,{"v":1968,"d":"1,968"},303,213,309,745,398]
["040311","AREQUIPA","AREQUIPA","CARAVELI","LOMAS",{"v":1735,"d":"1,735"},18,16,19,28,23,18,23,18,26,39,23,19,26,21,26,25,26,22,17,18,119,139,140,133,134,135,107,112,103,61,48,32,10,11,3,10,8,19,914,61,62,421,45,null,null,{"v":1735,"d":"1,735"},270,146,293,761,265]
["040312","AREQUIPA","AREQUIPA","CARAVELI","QUICACHA",{"v":2388,"d":"2,388"},25,18,19,29,22,40,42,38,35,40,45,51,38,51,39,55,51,53,37,42,178,159,159,160,136,145,131,130,111,90,66,50,38,65,2,14,11,27,{"v":1228,"d":"1,228"},135,121,469,43,null,null,{"v":2388,"d":"2,388"},404,287,416,861,420]
["040313","AREQUIPA","AREQUIPA","CARAVELI","YAUCA",{"v":2807,"d":"2,807"},18,24,29,32,17,23,38,42,42,56,40,42,56,29,51,42,47,36,29,32,167,215,169,157,187,187,175,216,198,126,111,72,40,62,0,8,10,19,{"v":1402,"d":"1,402"},120,82,591,53,null,null,{"v":2807,"d":"2,807"},403,261,443,{"v":1091,"d":"1,091"},609]
["040401","AREQUIPA","AREQUIPA","CASTILLA","APLAO",{"v":10434,"d":"10,434"},103,106,112,114,117,144,135,134,140,120,131,168,207,134,170,147,201,194,158,159,746,817,743,664,658,688,651,674,528,443,357,265,143,163,5,49,54,109,{"v":5344,"d":"5,344"},397,463,{"v":2299,"d":"2,299"},269,null,null,{"v":10434,"d":"10,434"},{"v":1524,"d":"1,524"},{"v":1053,"d":"1,053"},{"v":1880,"d":"1,880"},{"v":4078,"d":"4,078"},{"v":1899,"d":"1,899"}]
["040402","AREQUIPA","AREQUIPA","CASTILLA","ANDAGUA",982,11,11,7,8,10,12,12,12,8,12,12,11,11,14,13,7,20,12,12,10,76,54,52,53,61,64,66,63,64,53,51,45,20,35,1,5,6,12,522,35,32,180,22,null,null,982,126,77,152,359,268]
["040403","AREQUIPA","AREQUIPA","CASTILLA","AYO",372,1,2,2,2,6,3,2,2,2,1,0,6,1,1,2,1,3,3,1,3,7,15,21,27,25,21,33,25,30,30,18,30,16,30,0,1,0,1,199,7,3,56,3,null,null,372,29,11,26,152,154]
["040404","AREQUIPA","AREQUIPA","CASTILLA","CHACHAS",{"v":1806,"d":"1,806"},16,13,26,26,31,31,23,26,29,30,45,27,30,25,37,47,29,39,24,25,138,136,144,127,90,100,86,112,89,62,41,36,26,40,4,13,3,17,995,96,97,376,21,null,null,{"v":1806,"d":"1,806"},323,207,323,659,294]
["040405","AREQUIPA","AREQUIPA","CASTILLA","CHILCAYMARCA",{"v":1144,"d":"1,144"},5,13,15,14,10,12,18,17,18,21,17,26,6,13,9,25,19,26,19,8,69,93,97,100,103,88,71,56,54,38,24,15,14,11,0,3,2,5,593,33,56,282,6,null,null,{"v":1144,"d":"1,144"},186,98,189,515,156]
["040406","AREQUIPA","AREQUIPA","CASTILLA","CHOCO",808,7,2,7,13,4,5,7,8,6,5,5,11,5,10,10,7,13,5,12,12,41,35,51,49,65,59,53,46,53,50,40,47,27,38,0,3,4,7,465,31,29,156,11,null,null,808,80,50,100,323,255]
["040407","AREQUIPA","AREQUIPA","CASTILLA","HUANCARQUI",{"v":1718,"d":"1,718"},12,16,19,15,13,27,16,14,18,19,19,5,21,13,25,23,16,24,13,17,91,102,145,120,128,120,129,128,120,84,80,51,33,42,2,6,6,12,921,44,51,365,23,null,null,{"v":1718,"d":"1,718"},193,122,223,770,410]
["040408","AREQUIPA","AREQUIPA","CASTILLA","MACHAGUAY",470,4,3,7,3,4,2,2,4,2,5,2,9,3,5,7,5,7,9,6,9,25,19,18,15,24,29,34,35,37,19,39,21,24,33,0,3,1,4,259,17,18,72,5,null,null,470,47,36,59,155,173]
["040409","AREQUIPA","AREQUIPA","CASTILLA","ORCOPAMPA",{"v":9035,"d":"9,035"},32,49,56,77,51,86,151,172,202,191,191,191,160,189,203,267,229,264,177,134,748,721,683,691,630,530,425,457,345,254,209,121,75,74,0,17,15,34,{"v":4591,"d":"4,591"},480,548,{"v":2033,"d":"2,033"},121,null,null,{"v":9035,"d":"9,035"},{"v":1449,"d":"1,449"},{"v":1312,"d":"1,312"},{"v":1780,"d":"1,780"},{"v":3416,"d":"3,416"},{"v":1078,"d":"1,078"}]
["040410","AREQUIPA","AREQUIPA","CASTILLA","PAMPACOLCA",{"v":2119,"d":"2,119"},10,17,20,15,30,32,25,22,35,26,32,34,34,30,32,43,40,43,26,37,149,116,102,86,103,125,125,161,112,94,76,105,88,94,0,4,6,10,{"v":1096,"d":"1,096"},80,103,337,13,null,null,{"v":2119,"d":"2,119"},298,222,328,702,569]
["040411","AREQUIPA","AREQUIPA","CASTILLA","TIPAN",451,5,2,1,4,3,1,5,6,3,3,2,5,3,7,4,6,3,8,9,10,22,19,22,17,26,23,24,39,36,29,28,36,10,30,0,2,3,5,238,12,21,61,9,null,null,451,40,31,60,151,169]
["040412","AREQUIPA","AREQUIPA","CASTILLA","UÑON",296,3,1,2,2,2,2,5,0,3,5,0,2,0,2,6,2,2,2,0,4,9,23,18,17,20,24,23,18,28,21,17,12,10,11,0,0,3,3,162,6,7,57,6,null,null,296,27,14,36,120,99]
["040413","AREQUIPA","AREQUIPA","CASTILLA","URACA",{"v":6548,"d":"6,548"},48,53,55,73,71,66,82,90,83,84,90,75,84,84,78,120,128,103,90,107,447,525,441,457,468,431,428,425,368,280,234,156,107,117,2,21,27,51,{"v":3388,"d":"3,388"},224,301,{"v":1446,"d":"1,446"},98,null,null,{"v":6548,"d":"6,548"},870,597,{"v":1169,"d":"1,169"},{"v":2650,"d":"2,650"},{"v":1262,"d":"1,262"}]
["040414","AREQUIPA","AREQUIPA","CASTILLA","VIRACO",{"v":1528,"d":"1,528"},9,6,12,13,18,13,18,17,14,15,9,17,25,17,17,17,22,30,18,17,84,87,70,63,91,95,95,95,114,106,86,83,63,72,2,5,4,9,800,55,64,247,12,null,null,{"v":1528,"d":"1,528"},161,128,206,509,524]
["040501","AREQUIPA","AREQUIPA","CAYLLOMA","CHIVAY",{"v":7927,"d":"7,927"},50,49,52,98,52,85,137,142,145,139,144,121,170,148,124,172,177,165,164,139,752,704,641,534,475,436,355,429,317,217,201,189,90,114,2,27,23,53,{"v":4035,"d":"4,035"},343,398,{"v":1807,"d":"1,807"},88,null,null,{"v":7927,"d":"7,927"},{"v":1214,"d":"1,214"},956,{"v":1759,"d":"1,759"},{"v":2870,"d":"2,870"},{"v":1128,"d":"1,128"}]
["040502","AREQUIPA","AREQUIPA","CAYLLOMA","ACHOMA",{"v":1214,"d":"1,214"},5,5,8,13,12,7,12,11,9,5,7,9,11,11,11,15,10,15,8,21,82,101,77,59,82,96,90,99,85,59,55,44,40,40,1,4,1,5,652,26,40,253,7,null,null,{"v":1214,"d":"1,214"},103,73,212,503,323]
["040503","AREQUIPA","AREQUIPA","CAYLLOMA","CABANACONDE",{"v":2958,"d":"2,958"},14,12,15,19,20,29,41,32,25,22,27,29,29,41,37,33,58,42,38,33,187,213,183,156,192,194,211,265,169,162,124,97,99,110,1,5,9,14,{"v":1500,"d":"1,500"},77,105,555,30,null,null,{"v":2958,"d":"2,958"},285,240,471,{"v":1201,"d":"1,201"},761]
["040504","AREQUIPA","AREQUIPA","CAYLLOMA","CALLALLI",{"v":2195,"d":"2,195"},11,8,19,17,17,25,25,17,21,28,23,34,17,32,9,23,29,19,26,21,146,175,154,135,121,166,172,172,148,121,107,67,40,50,2,4,7,11,{"v":1156,"d":"1,156"},61,72,452,14,null,null,{"v":2195,"d":"2,195"},245,129,368,920,533]
["040505","AREQUIPA","AREQUIPA","CAYLLOMA","CAYLLOMA",{"v":5321,"d":"5,321"},34,38,37,60,67,60,63,82,96,95,96,102,108,82,98,112,100,114,112,84,475,470,378,373,341,312,282,286,245,183,135,97,57,47,1,10,24,36,{"v":2792,"d":"2,792"},269,273,{"v":1218,"d":"1,218"},65,null,null,{"v":5321,"d":"5,321"},830,614,{"v":1141,"d":"1,141"},{"v":1972,"d":"1,972"},764]
["040506","AREQUIPA","AREQUIPA","CAYLLOMA","COPORAQUE",{"v":1547,"d":"1,547"},12,18,9,15,10,16,25,23,17,17,16,14,6,14,11,20,22,16,18,22,85,116,98,119,151,101,94,92,98,74,66,52,38,42,1,2,10,12,769,30,48,342,38,null,null,{"v":1547,"d":"1,547"},192,89,241,655,370]
["040507","AREQUIPA","AREQUIPA","CAYLLOMA","HUAMBO",955,4,6,9,5,8,6,9,9,2,4,13,9,8,8,13,12,21,21,11,6,56,60,56,45,58,49,66,73,52,84,50,41,42,39,0,4,0,4,520,32,44,165,6,null,null,955,84,83,133,347,308]
["040508","AREQUIPA","AREQUIPA","CAYLLOMA","HUANCA",{"v":1493,"d":"1,493"},8,12,11,12,14,10,7,7,8,9,11,9,7,15,9,8,18,20,13,21,74,84,79,89,109,120,117,109,121,96,87,66,52,61,0,6,2,8,810,28,47,278,10,null,null,{"v":1493,"d":"1,493"},118,77,192,623,483]
["040509","AREQUIPA","AREQUIPA","CAYLLOMA","ICHUPAMPA",966,5,3,5,12,7,14,9,10,13,7,7,15,16,7,16,9,13,16,3,14,54,72,83,65,61,64,59,64,56,60,47,34,24,22,1,1,4,5,514,32,26,217,7,null,null,966,107,77,143,396,243]
["040510","AREQUIPA","AREQUIPA","CAYLLOMA","LARI",{"v":1332,"d":"1,332"},6,12,12,15,11,14,14,16,7,16,21,21,13,23,18,23,24,20,25,22,100,110,107,66,86,90,83,82,71,62,38,35,42,27,0,3,3,6,714,55,62,286,22,null,null,{"v":1332,"d":"1,332"},165,121,257,514,275]
["040511","AREQUIPA","AREQUIPA","CAYLLOMA","LLUTA",{"v":1271,"d":"1,271"},6,7,13,18,8,10,4,8,14,4,12,16,18,16,7,22,12,22,22,9,62,59,71,77,85,94,90,99,82,62,79,67,46,50,1,5,1,6,732,39,60,241,25,null,null,{"v":1271,"d":"1,271"},120,97,152,516,386]
["040512","AREQUIPA","AREQUIPA","CAYLLOMA","MACA",{"v":1058,"d":"1,058"},6,6,3,4,8,3,6,12,11,6,12,2,12,9,1,14,12,16,7,16,64,68,55,80,82,85,73,72,57,68,51,68,30,39,0,5,1,6,555,15,30,217,9,null,null,{"v":1058,"d":"1,058"},79,64,155,447,313]
["040513","AREQUIPA","AREQUIPA","CAYLLOMA","MADRIGAL",929,2,5,3,5,3,3,4,5,5,4,3,3,9,11,10,8,15,12,8,10,57,53,50,62,55,72,56,61,78,68,56,54,35,44,0,1,1,2,485,21,35,164,4,null,null,929,45,65,128,356,335]
["040514","AREQUIPA","AREQUIPA","CAYLLOMA","SAN ANTONIO DE CHUCA",{"v":1184,"d":"1,184"},13,12,12,11,13,11,17,18,16,17,27,25,10,11,12,19,26,29,23,13,75,76,65,80,80,76,76,85,71,49,54,31,17,14,1,8,5,13,605,41,56,244,28,null,null,{"v":1184,"d":"1,184"},192,107,187,462,236]
["040515","AREQUIPA","AREQUIPA","CAYLLOMA","SIBAYO",{"v":1111,"d":"1,111"},3,5,12,8,3,10,5,15,7,14,15,13,15,15,1,23,20,18,14,13,88,87,86,76,83,95,60,67,66,48,44,41,19,22,0,2,1,3,572,23,41,262,5,null,null,{"v":1111,"d":"1,111"},110,92,202,467,240]
["040516","AREQUIPA","AREQUIPA","CAYLLOMA","TAPAY",{"v":1024,"d":"1,024"},1,2,4,8,9,9,10,8,10,7,6,9,11,8,15,10,15,11,11,12,50,73,69,85,78,70,56,67,70,65,60,39,37,29,0,1,0,1,582,31,41,225,2,null,null,{"v":1024,"d":"1,024"},83,70,146,425,300]
["040517","AREQUIPA","AREQUIPA","CAYLLOMA","TISCO",{"v":2179,"d":"2,179"},6,10,12,16,14,14,27,23,25,24,25,19,32,36,34,40,34,46,43,28,182,158,134,125,149,147,146,160,127,93,81,87,44,38,0,3,3,6,{"v":1185,"d":"1,185"},76,102,470,19,null,null,{"v":2179,"d":"2,179"},215,222,411,861,470]
["040518","AREQUIPA","AREQUIPA","CAYLLOMA","TUTI",{"v":1090,"d":"1,090"},6,7,9,9,6,10,18,16,8,13,16,16,15,2,9,13,25,16,20,27,84,78,77,79,82,71,57,60,55,43,62,42,19,20,1,5,1,6,579,30,41,252,18,null,null,{"v":1090,"d":"1,090"},134,80,209,426,241]
["040519","AREQUIPA","AREQUIPA","CAYLLOMA","YANQUE",{"v":3124,"d":"3,124"},17,15,21,19,23,39,38,37,29,31,38,27,38,38,37,34,42,54,50,50,229,268,256,217,226,221,179,179,170,148,148,80,64,62,1,10,7,18,{"v":1622,"d":"1,622"},98,107,743,23,null,null,{"v":3124,"d":"3,124"},334,243,597,{"v":1278,"d":"1,278"},672]
["040520","AREQUIPA","AREQUIPA","CAYLLOMA","MAJES",{"v":79005,"d":"79,005"},967,983,981,{"v":1203,"d":"1,203"},{"v":1208,"d":"1,208"},{"v":1307,"d":"1,307"},{"v":1320,"d":"1,320"},{"v":1428,"d":"1,428"},{"v":1232,"d":"1,232"},{"v":1223,"d":"1,223"},{"v":1147,"d":"1,147"},{"v":1171,"d":"1,171"},{"v":1155,"d":"1,155"},{"v":1146,"d":"1,146"},{"v":1250,"d":"1,250"},{"v":1129,"d":"1,129"},{"v":1338,"d":"1,338"},{"v":1305,"d":"1,305"},{"v":1251,"d":"1,251"},{"v":1164,"d":"1,164"},{"v":5619,"d":"5,619"},{"v":6563,"d":"6,563"},{"v":6722,"d":"6,722"},{"v":6517,"d":"6,517"},{"v":6147,"d":"6,147"},{"v":5619,"d":"5,619"},{"v":4635,"d":"4,635"},{"v":4013,"d":"4,013"},{"v":3138,"d":"3,138"},{"v":2264,"d":"2,264"},{"v":1747,"d":"1,747"},{"v":1123,"d":"1,123"},559,431,78,488,479,{"v":1026,"d":"1,026"},{"v":40040,"d":"40,040"},{"v":2929,"d":"2,929"},{"v":3041,"d":"3,041"},{"v":19254,"d":"19,254"},{"v":2206,"d":"2,206"},null,null,{"v":79005,"d":"79,005"},{"v":14170,"d":"14,170"},{"v":7323,"d":"7,323"},{"v":14597,"d":"14,597"},{"v":33653,"d":"33,653"},{"v":9262,"d":"9,262"}]
["040601","AREQUIPA","AREQUIPA","CONDESUYOS","CHUQUIBAMBA",{"v":3511,"d":"3,511"},30,34,40,31,37,44,47,51,54,57,55,52,56,47,66,76,62,65,62,49,256,249,210,172,217,206,182,191,161,151,170,114,96,121,1,15,15,32,{"v":1798,"d":"1,798"},141,138,676,63,null,null,{"v":3511,"d":"3,511"},532,372,616,{"v":1178,"d":"1,178"},813]
["040602","AREQUIPA","AREQUIPA","CONDESUYOS","ANDARAY",739,0,2,2,5,3,4,5,2,6,7,6,4,4,9,2,8,5,11,5,12,36,62,43,60,39,58,48,46,55,39,57,29,24,41,0,0,0,0,376,13,18,151,1,null,null,739,46,39,115,294,245]
["040603","AREQUIPA","AREQUIPA","CONDESUYOS","CAYARANI",{"v":3293,"d":"3,293"},23,20,27,36,44,39,52,53,52,57,50,61,44,70,61,88,80,75,70,71,321,272,240,203,184,200,148,199,131,113,73,47,44,45,1,9,14,24,{"v":1704,"d":"1,704"},154,208,722,28,null,null,{"v":3293,"d":"3,293"},514,418,734,{"v":1174,"d":"1,174"},453]
["040604","AREQUIPA","AREQUIPA","CONDESUYOS","CHICHAS",789,3,4,6,4,4,3,8,7,6,6,8,8,11,8,8,9,11,12,5,11,32,38,40,35,34,50,61,62,49,58,38,49,38,63,2,3,0,3,432,25,27,121,5,null,null,789,67,59,86,282,295]
["040605","AREQUIPA","AREQUIPA","CONDESUYOS","IRAY",764,5,7,7,5,11,7,9,6,9,5,9,10,9,9,4,4,11,13,6,5,40,44,41,33,42,42,59,54,52,47,35,40,35,49,0,3,2,5,407,21,21,128,6,null,null,764,90,50,95,271,258]
["040606","AREQUIPA","AREQUIPA","CONDESUYOS","RIO GRANDE",{"v":4058,"d":"4,058"},55,73,79,61,39,52,56,57,47,48,29,39,58,40,59,58,86,71,39,47,230,286,247,303,296,293,271,269,215,173,129,99,74,80,3,24,31,58,{"v":2151,"d":"2,151"},123,155,873,132,null,null,{"v":4058,"d":"4,058"},635,372,602,{"v":1679,"d":"1,679"},770]
["040607","AREQUIPA","AREQUIPA","CONDESUYOS","SALAMANCA",486,7,5,5,5,5,4,4,3,5,3,5,5,5,5,2,4,7,8,5,6,29,23,24,24,25,29,34,37,28,31,28,28,27,21,1,6,1,7,255,9,15,69,16,null,null,486,56,31,63,173,163]
["040608","AREQUIPA","AREQUIPA","CONDESUYOS","YANAQUIHUA",{"v":4267,"d":"4,267"},48,48,46,74,50,52,37,33,43,53,52,60,44,30,53,65,68,89,70,43,254,344,279,312,329,302,265,262,216,179,127,109,103,128,4,25,23,51,{"v":2304,"d":"2,304"},126,198,922,119,null,null,{"v":4267,"d":"4,267"},596,349,711,{"v":1749,"d":"1,749"},862]
["040701","AREQUIPA","AREQUIPA","ISLAY","MOLLENDO",{"v":28448,"d":"28,448"},219,263,238,292,324,316,379,428,386,385,329,347,382,353,419,395,429,403,402,386,{"v":1909,"d":"1,909"},{"v":2009,"d":"2,009"},{"v":1905,"d":"1,905"},{"v":1813,"d":"1,813"},{"v":2009,"d":"2,009"},{"v":2045,"d":"2,045"},{"v":1865,"d":"1,865"},{"v":1771,"d":"1,771"},{"v":1579,"d":"1,579"},{"v":1315,"d":"1,315"},{"v":1160,"d":"1,160"},876,606,511,16,100,119,232,{"v":14600,"d":"14,600"},936,{"v":1044,"d":"1,044"},{"v":6041,"d":"6,041"},604,null,null,{"v":28448,"d":"28,448"},{"v":3906,"d":"3,906"},{"v":2381,"d":"2,381"},{"v":4706,"d":"4,706"},{"v":11408,"d":"11,408"},{"v":6047,"d":"6,047"}]
["040702","AREQUIPA","AREQUIPA","ISLAY","COCACHACRA",{"v":9232,"d":"9,232"},88,80,104,97,97,99,97,115,134,97,108,89,83,119,111,130,110,126,120,126,583,690,700,701,671,641,644,670,513,447,304,224,151,163,5,50,38,94,{"v":4855,"d":"4,855"},273,330,{"v":2111,"d":"2,111"},170,null,null,{"v":9232,"d":"9,232"},{"v":1205,"d":"1,205"},679,{"v":1519,"d":"1,519"},{"v":4027,"d":"4,027"},{"v":1802,"d":"1,802"}]
["040703","AREQUIPA","AREQUIPA","ISLAY","DEAN VALDIVIA",{"v":7797,"d":"7,797"},55,75,81,99,101,98,114,106,93,106,81,85,122,83,105,120,133,104,108,107,570,647,668,550,576,513,464,461,390,311,238,171,124,138,6,34,21,58,{"v":4008,"d":"4,008"},237,298,{"v":1827,"d":"1,827"},73,null,null,{"v":7797,"d":"7,797"},{"v":1094,"d":"1,094"},667,{"v":1432,"d":"1,432"},{"v":3232,"d":"3,232"},{"v":1372,"d":"1,372"}]
["040704","AREQUIPA","AREQUIPA","ISLAY","ISLAY",{"v":5470,"d":"5,470"},62,80,80,85,85,94,97,85,81,93,70,95,71,80,66,84,109,104,95,79,376,438,423,415,404,406,344,295,215,181,134,90,22,32,6,27,35,66,{"v":2824,"d":"2,824"},189,257,{"v":1306,"d":"1,306"},201,null,null,{"v":5470,"d":"5,470"},{"v":1007,"d":"1,007"},514,988,{"v":2287,"d":"2,287"},674]
["040705","AREQUIPA","AREQUIPA","ISLAY","MEJIA",{"v":1462,"d":"1,462"},4,7,7,17,13,14,13,15,14,16,22,11,9,13,14,8,11,12,16,17,95,99,99,108,116,95,108,119,123,68,70,44,35,30,0,1,3,4,791,38,27,352,6,null,null,{"v":1462,"d":"1,462"},153,67,227,645,370]
["040706","AREQUIPA","AREQUIPA","ISLAY","PUNTA DE BOMBON",{"v":7187,"d":"7,187"},65,65,74,87,76,105,85,83,90,75,77,117,81,83,78,116,100,111,99,92,470,537,505,524,488,467,461,446,428,363,268,195,116,160,3,36,29,69,{"v":3751,"d":"3,751"},233,274,{"v":1562,"d":"1,562"},179,null,null,{"v":7187,"d":"7,187"},999,569,{"v":1198,"d":"1,198"},{"v":2891,"d":"2,891"},{"v":1530,"d":"1,530"}]
["040801","AREQUIPA","AREQUIPA","LA UNION","COTAHUASI",{"v":3087,"d":"3,087"},54,30,33,40,48,49,45,44,40,43,62,40,61,53,43,55,73,58,70,58,231,192,153,170,183,176,158,169,152,111,109,91,81,112,4,26,28,57,{"v":1573,"d":"1,573"},130,170,569,100,null,null,{"v":3087,"d":"3,087"},528,343,551,{"v":1009,"d":"1,009"},656]
["040802","AREQUIPA","AREQUIPA","LA UNION","ALCA",{"v":1827,"d":"1,827"},23,17,25,27,32,27,26,33,35,33,29,30,18,20,32,35,35,42,41,33,148,112,104,87,86,99,101,111,94,76,57,66,46,47,2,10,13,25,932,71,103,308,63,null,null,{"v":1827,"d":"1,827"},337,182,334,588,386]
["040803","AREQUIPA","AREQUIPA","LA UNION","CHARCANA",714,8,6,12,11,9,9,14,15,8,16,10,13,13,10,11,12,13,17,13,4,42,48,39,38,38,46,39,42,27,32,32,31,17,19,1,6,2,8,379,40,36,118,10,null,null,714,131,76,107,242,158]
["040804","AREQUIPA","AREQUIPA","LA UNION","HUAYNACOTAS",{"v":2092,"d":"2,092"},20,20,35,30,37,36,40,33,37,36,30,44,34,34,35,43,45,46,39,33,183,143,102,97,120,127,119,121,80,82,65,53,40,53,0,9,11,22,{"v":1086,"d":"1,086"},88,107,392,65,null,null,{"v":2092,"d":"2,092"},398,237,398,686,373]
["040805","AREQUIPA","AREQUIPA","LA UNION","PAMPAMARCA",{"v":1306,"d":"1,306"},13,71,94,22,13,15,10,16,15,21,14,19,23,16,27,25,23,30,30,17,97,57,73,65,73,66,59,57,51,66,43,35,22,28,0,8,5,13,679,62,64,205,15,null,null,{"v":1306,"d":"1,306"},323,144,201,393,245]
["040806","AREQUIPA","AREQUIPA","LA UNION","PUYCA",{"v":2545,"d":"2,545"},28,25,24,32,32,30,44,58,54,51,49,62,64,62,49,77,67,66,53,43,211,146,153,118,140,128,137,132,115,86,82,59,40,28,0,13,15,30,{"v":1313,"d":"1,313"},146,160,446,48,null,null,{"v":2545,"d":"2,545"},489,385,453,808,410]
["040807","AREQUIPA","AREQUIPA","LA UNION","QUECHUALLA",435,2,0,3,1,4,2,2,2,5,4,1,1,1,1,1,2,2,2,5,2,10,29,45,33,27,31,27,41,40,37,20,19,14,19,0,1,1,2,221,4,8,90,3,null,null,435,27,9,46,204,149]
["040808","AREQUIPA","AREQUIPA","LA UNION","SAYLA",348,9,3,10,3,3,2,2,5,3,3,2,2,8,6,5,5,10,9,7,8,18,21,21,19,18,22,13,23,12,23,16,9,6,22,1,6,3,9,199,14,27,60,19,null,null,348,47,43,54,116,88]
["040809","AREQUIPA","AREQUIPA","LA UNION","TAURIA",525,4,8,2,19,21,8,7,4,11,1,6,5,10,1,5,6,12,11,3,12,29,27,39,38,35,18,12,26,28,14,27,28,21,27,0,2,2,4,265,22,28,77,12,null,null,525,96,45,71,168,145]
["040810","AREQUIPA","AREQUIPA","LA UNION","TOMEPAMPA",717,9,4,4,7,5,8,10,4,11,5,7,9,9,14,9,8,15,15,9,10,49,41,47,31,43,46,56,37,44,42,30,30,23,26,2,5,4,9,374,25,28,135,11,null,null,717,83,70,109,260,195]
["040811","AREQUIPA","AREQUIPA","LA UNION","TORO",591,3,3,4,1,3,5,4,3,3,8,10,3,2,3,8,4,7,11,5,11,31,35,24,30,29,46,46,48,37,26,26,30,39,43,0,1,2,3,322,15,21,102,4,null,null,591,50,35,82,223,201]
[]
[]
["FUENTE: BOLETIN DEMOGRAFICO Nº 25, 26, 39 / RENIEC / Padrón Nominal/ CNV"]
["La población de 0-5 años corresponden al reporte de la poblacion del Padrón Nominal con corte al 31/12/2025"]
["OFICINA DE GESTION DE LA INFORMACION - MINISTERIO DE SALUD"]

{"sheet":"EESS","index":3,"n_rows":382,"n_cols":60,"rows_kept":382,"merged":[[5,43,5,45],[5,46,6,46],[5,47,6,47],[5,48,5,50],[5,51,6,51]]}
[]
[]
[]
["POBLACION ESTIMADA POR EDADES SIMPLES Y GRUPOS DE EDAD, SEGÚN DEPARTAMENTO, PROVINCIA Y DISTRITO. 2026"]
["* Actualizado con datos INEI y el Padrón Nominal"]
["POBLACION 2026",{"$nulls":8},"POBLACION TOTAL, POR EDADS SIMPLES",{"$nulls":19},"POBLACIÓN TOTAL,  POR GRUPOS QUINQUEN ALES DE EDAD",{"$nulls":13},"EDADES ESPECIALES",null,null,"NACIMIENTOS VIVOS","POBLACION FEMENINA TOTAL","POBLACION FEMENINA",null,null,"GESTANTES  ESPERADAS"]
["UBIGEO","DIRESA","DEPARTAMENTO","PROVINCIA","DISTRITO",{"$nulls":3},"Total","0",1,2,3,4,5,6,7,8,9,10,11,12,13,14,15,16,17,18,19,"20-24","25-29","30-34","35-39","40-44","45-49","50-54","55-59","60-64","65-69","70-74","75-79","80-84","85-+","28 DIAS","0-5 MESES","6-11 MESES",null,null,"10 - 14","15- 19","20- 49",{"$nulls":3},"TOTAL","NIÑO","Adolescente","Joven","Adulto","Adulto Mayor"]
["000000","PERU","PERU","PERU","PERU",{"$nulls":3},{"v":1655634,"d":"1,655,634"},{"v":15712,"d":"15,712"},{"v":16435,"d":"16,435"},{"v":16469,"d":"16,469"},{"v":17838,"d":"17,838"},{"v":18010,"d":"18,010"},{"v":21120,"d":"21,120"},{"v":26285,"d":"26,285"},{"v":26908,"d":"26,908"},{"v":26517,"d":"26,517"},{"v":25193,"d":"25,193"},{"v":23455,"d":"23,455"},{"v":23754,"d":"23,754"},{"v":24541,"d":"24,541"},{"v":23426,"d":"23,426"},{"v":23835,"d":"23,835"},{"v":25279,"d":"25,279"},{"v":25532,"d":"25,532"},{"v":25380,"d":"25,380"},{"v":24489,"d":"24,489"},{"v":23987,"d":"23,987"},{"v":121156,"d":"121,156"},{"v":135081,"d":"135,081"},{"v":135252,"d":"135,252"},{"v":122328,"d":"122,328"},{"v":120811,"d":"120,811"},{"v":112552,"d":"112,552"},{"v":98537,"d":"98,537"},{"v":90673,"d":"90,673"},{"v":76289,"d":"76,289"},{"v":60761,"d":"60,761"},{"v":48658,"d":"48,658"},{"v":34917,"d":"34,917"},{"v":22143,"d":"22,143"},{"v":22311,"d":"22,311"},{"v":1178,"d":"1,178"},{"v":7853,"d":"7,853"},{"v":7859,"d":"7,859"},{"v":16644,"d":"16,644"},{"v":840625,"d":"840,625"},{"v":59071,"d":"59,071"},{"v":62354,"d":"62,354"},{"v":379482,"d":"379,482"},{"v":32018,"d":"32,018"},null,null,{"v":1655634,"d":"1,655,634"},{"v":257696,"d":"257,696"},{"v":147993,"d":"147,993"},{"v":304713,"d":"304,713"},{"v":680153,"d":"680,153"},{"v":265079,"d":"265,079"}]
["040101","AREQUIPA","AREQUIPA","AREQUIPA","AREQUIPA",{"$nulls":3},{"v":60452,"d":"60,452"},485,534,526,484,527,685,635,684,684,632,555,581,604,596,667,660,646,639,601,610,{"v":3343,"d":"3,343"},{"v":3607,"d":"3,607"},{"v":3923,"d":"3,923"},{"v":3575,"d":"3,575"},{"v":3925,"d":"3,925"},{"v":4241,"d":"4,241"},{"v":4357,"d":"4,357"},{"v":4524,"d":"4,524"},{"v":4341,"d":"4,341"},{"v":3657,"d":"3,657"},{"v":3149,"d":"3,149"},{"v":2346,"d":"2,346"},{"v":1639,"d":"1,639"},{"v":1790,"d":"1,790"},36,243,242,514,{"v":30549,"d":"30,549"},{"v":1410,"d":"1,410"},{"v":1509,"d":"1,509"},{"v":11197,"d":"11,197"},930,null,null,{"v":60452,"d":"60,452"},{"v":7012,"d":"7,012"},{"v":3812,"d":"3,812"},{"v":8161,"d":"8,161"},{"v":24545,"d":"24,545"},{"v":16922,"d":"16,922"}]
[{"$nulls":5},7397,"INSTITUTO REGIONAL DE ENFERMEDADES NEOPLASICAS",0,0,0,0,0,0,0,0,0,0,0,0,0,0,0,0,0,0,0,0,0,0,0,0,0,0,0,0,0,0,0,0,0,0,0,0,0,0,0,0,0,0,0,0,0,null,null,0,0,0,0,0,0]
[{"$nulls":5},1232,"HOSPITAL GOYENECHE",0,0,0,0,0,0,0,0,0,0,0,0,0,0,0,0,0,0,0,0,0,0,0,0,0,0,0,0,0,0,0,0,0,0,0,0,0,0,0,0,0,0,0,0,0,null,null,0,0,0,0,0,0]
[{"$nulls":5},1231,"HOSPITAL REGIONAL HONORIO DELGADO ESPINOZA",0,0,0,0,0,0,0,0,0,0,0,0,0,0,0,0,0,0,0,0,0,0,0,0,0,0,0,0,0,0,0,0,0,0,0,0,0,0,0,0,0,0,0,0,0,null,null,0,0,0,0,0,0]
[{"$nulls":5},1291,"CENTRO DE SALUD ALTO SELVA ALEGRE",20,{"v":12092,"d":"12,092"},97,106,106,96,107,137,127,136,136,128,111,117,120,120,135,132,130,127,121,122,667,723,783,715,785,849,873,904,869,733,629,470,327,358,8,47,50,102,{"v":6109,"d":"6,109"},282,301,{"v":2241,"d":"2,241"},186,null,null,{"v":12092,"d":"12,092"},{"v":1404,"d":"1,404"},764,{"v":1633,"d":"1,633"},{"v":4909,"d":"4,909"},{"v":3386,"d":"3,386"}]
[{"$nulls":5},1294,"CENTRO DE SALUD MARIANO MELGAR",20,{"v":12090,"d":"12,090"},97,107,105,97,105,137,127,137,137,126,111,116,121,119,133,132,129,128,120,122,669,721,785,715,785,848,871,905,868,731,630,469,328,358,7,49,48,103,{"v":6110,"d":"6,110"},282,302,{"v":2239,"d":"2,239"},186,null,null,{"v":12090,"d":"12,090"},{"v":1402,"d":"1,402"},762,{"v":1632,"d":"1,632"},{"v":4909,"d":"4,909"},{"v":3384,"d":"3,384"}]
[{"$nulls":5},1293,"CENTRO DE SALUD MIRAFLORES",20,{"v":12090,"d":"12,090"},97,107,105,97,105,137,127,137,137,126,111,116,121,119,133,132,129,128,120,122,669,721,785,715,785,848,871,905,868,731,630,469,328,358,7,49,48,103,{"v":6110,"d":"6,110"},282,302,{"v":2239,"d":"2,239"},186,null,null,{"v":12090,"d":"12,090"},{"v":1402,"d":"1,402"},762,{"v":1632,"d":"1,632"},{"v":4909,"d":"4,909"},{"v":3384,"d":"3,384"}]
[{"$nulls":5},1233,"CENTRO DE SALUD YANAHUARA",20,{"v":12090,"d":"12,090"},97,107,105,97,105,137,127,137,137,126,111,116,121,119,133,132,129,128,120,122,669,721,785,715,785,848,871,905,868,731,630,469,328,358,7,49,48,103,{"v":6110,"d":"6,110"},282,302,{"v":2239,"d":"2,239"},186,null,null,{"v":12090,"d":"12,090"},{"v":1402,"d":"1,402"},762,{"v":1632,"d":"1,632"},{"v":4909,"d":"4,909"},{"v":3384,"d":"3,384"}]
[{"$nulls":5},1263,"PUESTO DE SALUD 13 DE ENERO (VRH)",20,{"v":12090,"d":"12,090"},97,107,105,97,105,137,127,137,137,126,111,116,121,119,133,132,129,128,120,122,669,721,785,715,785,848,871,905,868,731,630,469,328,358,7,49,48,103,{"v":6110,"d":"6,110"},282,302,{"v":2239,"d":"2,239"},186,null,null,{"v":12090,"d":"12,090"},{"v":1402,"d":"1,402"},762,{"v":1632,"d":"1,632"},{"v":4909,"d":"4,909"},{"v":3384,"d":"3,384"}]
["040102","AREQUIPA","AREQUIPA","AREQUIPA","ALTO SELVA ALEGRE",{"$nulls":3},{"v":96079,"d":"96,079"},901,945,918,898,{"v":1041,"d":"1,041"},{"v":1320,"d":"1,320"},{"v":1513,"d":"1,513"},{"v":1571,"d":"1,571"},{"v":1551,"d":"1,551"},{"v":1460,"d":"1,460"},{"v":1313,"d":"1,313"},{"v":1371,"d":"1,371"},{"v":1410,"d":"1,410"},{"v":1396,"d":"1,396"},{"v":1400,"d":"1,400"},{"v":1362,"d":"1,362"},{"v":1431,"d":"1,431"},{"v":1397,"d":"1,397"},{"v":1296,"d":"1,296"},{"v":1403,"d":"1,403"},{"v":7375,"d":"7,375"},{"v":8682,"d":"8,682"},{"v":8480,"d":"8,480"},{"v":7119,"d":"7,119"},{"v":6809,"d":"6,809"},{"v":6135,"d":"6,135"},{"v":5637,"d":"5,637"},{"v":5394,"d":"5,394"},{"v":4753,"d":"4,753"},{"v":3417,"d":"3,417"},{"v":2450,"d":"2,450"},{"v":1643,"d":"1,643"},{"v":1087,"d":"1,087"},{"v":1201,"d":"1,201"},71,462,439,955,{"v":48662,"d":"48,662"},{"v":3310,"d":"3,310"},{"v":3346,"d":"3,346"},{"v":22546,"d":"22,546"},{"v":1526,"d":"1,526"},null,null,{"v":96079,"d":"96,079"},{"v":14802,"d":"14,802"},{"v":8396,"d":"8,396"},{"v":18756,"d":"18,756"},{"v":39574,"d":"39,574"},{"v":14551,"d":"14,551"}]
[{"$nulls":5},1291,"CENTRO DE SALUD ALTO SELVA ALEGRE",25,{"v":24020,"d":"24,020"},225,236,230,225,260,330,378,393,388,365,328,343,353,349,350,341,358,349,324,351,{"v":1844,"d":"1,844"},{"v":2171,"d":"2,171"},{"v":2120,"d":"2,120"},{"v":1780,"d":"1,780"},{"v":1702,"d":"1,702"},{"v":1534,"d":"1,534"},{"v":1409,"d":"1,409"},{"v":1349,"d":"1,349"},{"v":1188,"d":"1,188"},854,613,411,272,300,18,116,110,239,{"v":12166,"d":"12,166"},828,837,{"v":5637,"d":"5,637"},382,null,null,{"v":24020,"d":"24,020"},{"v":3701,"d":"3,701"},{"v":2099,"d":"2,099"},{"v":4689,"d":"4,689"},{"v":9894,"d":"9,894"},{"v":3638,"d":"3,638"}]
[{"$nulls":5},1300,"APURIMAC",11,{"v":10569,"d":"10,569"},99,104,101,99,115,145,166,173,171,161,144,151,155,154,154,150,157,154,143,154,811,955,933,783,749,675,620,593,523,376,270,181,120,132,8,51,48,105,{"v":5353,"d":"5,353"},364,368,{"v":2480,"d":"2,480"},168,null,null,{"v":10569,"d":"10,569"},{"v":1628,"d":"1,628"},924,{"v":2063,"d":"2,063"},{"v":4353,"d":"4,353"},{"v":1601,"d":"1,601"}]
[{"$nulls":5},1302,"INDEPENDENCIA",26,{"v":24980,"d":"24,980"},235,246,238,232,270,344,394,408,403,379,342,356,366,362,364,354,372,362,336,366,{"v":1917,"d":"1,917"},{"v":2257,"d":"2,257"},{"v":2204,"d":"2,204"},{"v":1851,"d":"1,851"},{"v":1771,"d":"1,771"},{"v":1594,"d":"1,594"},{"v":1466,"d":"1,466"},{"v":1403,"d":"1,403"},{"v":1237,"d":"1,237"},888,636,427,282,313,18,120,114,247,{"v":12652,"d":"12,652"},860,869,{"v":5861,"d":"5,861"},396,null,null,{"v":24980,"d":"24,980"},{"v":3849,"d":"3,849"},{"v":2182,"d":"2,182"},{"v":4876,"d":"4,876"},{"v":10289,"d":"10,289"},{"v":3783,"d":"3,783"}]
[{"$nulls":5},1301,"LEONES DEL MISTI",10,{"v":9608,"d":"9,608"},90,95,92,90,104,132,151,157,155,146,131,137,141,140,140,136,143,140,130,140,738,868,848,712,681,614,564,539,475,342,245,164,109,120,7,46,44,96,{"v":4866,"d":"4,866"},331,335,{"v":2255,"d":"2,255"},153,null,null,{"v":9608,"d":"9,608"},{"v":1480,"d":"1,480"},840,{"v":1876,"d":"1,876"},{"v":3957,"d":"3,957"},{"v":1455,"d":"1,455"}]
[{"$nulls":5},1303,"SAN JUAN BAUTISTA",16,{"v":15373,"d":"15,373"},144,151,147,144,167,211,242,251,248,234,210,219,226,223,224,218,229,224,207,224,{"v":1180,"d":"1,180"},{"v":1389,"d":"1,389"},{"v":1357,"d":"1,357"},{"v":1139,"d":"1,139"},{"v":1089,"d":"1,089"},982,902,863,760,547,392,263,174,192,11,74,70,153,{"v":7786,"d":"7,786"},530,535,{"v":3607,"d":"3,607"},244,null,null,{"v":15373,"d":"15,373"},{"v":2368,"d":"2,368"},{"v":1343,"d":"1,343"},{"v":3001,"d":"3,001"},{"v":6332,"d":"6,332"},{"v":2328,"d":"2,328"}]
[{"$nulls":5},1304,"HEROES DEL CENEPA",12,{"v":11529,"d":"11,529"},108,113,110,108,125,158,182,189,186,175,158,165,169,168,168,163,172,168,156,168,885,{"v":1042,"d":"1,042"},{"v":1018,"d":"1,018"},854,817,736,676,647,570,410,294,197,130,144,9,55,53,115,{"v":5839,"d":"5,839"},397,402,{"v":2706,"d":"2,706"},183,null,null,{"v":11529,"d":"11,529"},{"v":1776,"d":"1,776"},{"v":1008,"d":"1,008"},{"v":2251,"d":"2,251"},{"v":4749,"d":"4,749"},{"v":1746,"d":"1,746"}]
["040103","AREQUIPA","AREQUIPA","AREQUIPA","CAYMA",{"$nulls":3},{"v":114207,"d":"114,207"},{"v":1041,"d":"1,041"},{"v":1078,"d":"1,078"},{"v":1246,"d":"1,246"},{"v":1407,"d":"1,407"},{"v":1302,"d":"1,302"},{"v":1490,"d":"1,490"},{"v":1999,"d":"1,999"},{"v":1959,"d":"1,959"},{"v":1934,"d":"1,934"},{"v":1803,"d":"1,803"},{"v":1700,"d":"1,700"},{"v":1687,"d":"1,687"},{"v":1800,"d":"1,800"},{"v":1646,"d":"1,646"},{"v":1606,"d":"1,606"},{"v":1801,"d":"1,801"},{"v":1618,"d":"1,618"},{"v":1704,"d":"1,704"},{"v":1695,"d":"1,695"},{"v":1612,"d":"1,612"},{"v":8563,"d":"8,563"},{"v":9779,"d":"9,779"},{"v":10331,"d":"10,331"},{"v":8933,"d":"8,933"},{"v":8223,"d":"8,223"},{"v":7371,"d":"7,371"},{"v":6420,"d":"6,420"},{"v":5869,"d":"5,869"},{"v":5057,"d":"5,057"},{"v":3940,"d":"3,940"},{"v":3031,"d":"3,031"},{"v":2125,"d":"2,125"},{"v":1185,"d":"1,185"},{"v":1252,"d":"1,252"},80,550,491,{"v":1104,"d":"1,104"},{"v":58226,"d":"58,226"},{"v":4132,"d":"4,132"},{"v":4117,"d":"4,117"},{"v":26975,"d":"26,975"},{"v":2718,"d":"2,718"},null,null,{"v":114207,"d":"114,207"},{"v":18646,"d":"18,646"},{"v":10175,"d":"10,175"},{"v":21649,"d":"21,649"},{"v":47147,"d":"47,147"},{"v":16590,"d":"16,590"}]
[{"$nulls":5},1234,"CENTRO DE SALUD FRANCISCO BOLOGNESI",16,{"v":18273,"d":"18,273"},167,172,199,225,208,238,320,313,309,288,272,270,288,263,257,288,259,273,271,258,{"v":1370,"d":"1,370"},{"v":1565,"d":"1,565"},{"v":1653,"d":"1,653"},{"v":1429,"d":"1,429"},{"v":1316,"d":"1,316"},{"v":1179,"d":"1,179"},{"v":1027,"d":"1,027"},939,809,630,485,340,190,200,13,88,79,177,{"v":9316,"d":"9,316"},661,659,{"v":4316,"d":"4,316"},435,null,null,{"v":18273,"d":"18,273"},{"v":2983,"d":"2,983"},{"v":1628,"d":"1,628"},{"v":3464,"d":"3,464"},{"v":7544,"d":"7,544"},{"v":2654,"d":"2,654"}]
[{"$nulls":5},1244,"PUESTO DE SALUD LA TOMILLA",8,{"v":9137,"d":"9,137"},83,86,100,113,104,119,160,157,155,144,136,135,144,132,128,144,129,136,136,129,685,782,826,715,658,590,514,470,405,315,242,170,95,100,6,44,39,88,{"v":4658,"d":"4,658"},331,329,{"v":2158,"d":"2,158"},217,null,null,{"v":9137,"d":"9,137"},{"v":1492,"d":"1,492"},814,{"v":1732,"d":"1,732"},{"v":3772,"d":"3,772"},{"v":1327,"d":"1,327"}]
[{"$nulls":5},1235,"BUENOS AIRES DE CAYMA",20,{"v":22841,"d":"22,841"},208,216,249,281,260,298,400,392,387,361,340,337,360,329,321,360,324,341,339,322,{"v":1713,"d":"1,713"},{"v":1956,"d":"1,956"},{"v":2066,"d":"2,066"},{"v":1787,"d":"1,787"},{"v":1645,"d":"1,645"},{"v":1474,"d":"1,474"},{"v":1284,"d":"1,284"},{"v":1174,"d":"1,174"},{"v":1011,"d":"1,011"},788,606,425,237,250,16,110,98,221,{"v":11645,"d":"11,645"},826,823,{"v":5395,"d":"5,395"},544,null,null,{"v":22841,"d":"22,841"},{"v":3729,"d":"3,729"},{"v":2035,"d":"2,035"},{"v":4330,"d":"4,330"},{"v":9429,"d":"9,429"},{"v":3318,"d":"3,318"}]
[{"$nulls":5},1245,"SAN JOSE",20,{"v":22841,"d":"22,841"},208,216,249,281,260,298,400,392,387,361,340,337,360,329,321,360,324,341,339,322,{"v":1713,"d":"1,713"},{"v":1956,"d":"1,956"},{"v":2066,"d":"2,066"},{"v":1787,"d":"1,787"},{"v":1645,"d":"1,645"},{"v":1474,"d":"1,474"},{"v":1284,"d":"1,284"},{"v":1174,"d":"1,174"},{"v":1011,"d":"1,011"},788,606,425,237,250,16,110,98,221,{"v":11645,"d":"11,645"},826,823,{"v":5395,"d":"5,395"},544,null,null,{"v":22841,"d":"22,841"},{"v":3729,"d":"3,729"},{"v":2035,"d":"2,035"},{"v":4330,"d":"4,330"},{"v":9429,"d":"9,429"},{"v":3318,"d":"3,318"}]
[{"$nulls":5},1246,"DEAN VALDIVIA",15,{"v":17131,"d":"17,131"},156,162,187,211,195,224,300,294,290,270,255,253,270,247,241,270,243,256,254,242,{"v":1284,"d":"1,284"},{"v":1467,"d":"1,467"},{"v":1550,"d":"1,550"},{"v":1340,"d":"1,340"},{"v":1233,"d":"1,233"},{"v":1106,"d":"1,106"},963,880,759,591,455,319,178,188,12,83,74,166,{"v":8734,"d":"8,734"},620,618,{"v":4046,"d":"4,046"},408,null,null,{"v":17131,"d":"17,131"},{"v":2797,"d":"2,797"},{"v":1526,"d":"1,526"},{"v":3247,"d":"3,247"},{"v":7072,"d":"7,072"},{"v":2489,"d":"2,489"}]
[{"$nulls":5},6890,"PUESTO DE SALUD RAFAEL BELAUNDE",21,{"v":23984,"d":"23,984"},219,226,262,296,275,313,419,411,406,379,357,355,378,346,338,379,339,357,356,339,{"v":1798,"d":"1,798"},{"v":2053,"d":"2,053"},{"v":2170,"d":"2,170"},{"v":1875,"d":"1,875"},{"v":1726,"d":"1,726"},{"v":1548,"d":"1,548"},{"v":1348,"d":"1,348"},{"v":1232,"d":"1,232"},{"v":1062,"d":"1,062"},828,637,446,248,264,17,115,103,231,{"v":12228,"d":"12,228"},868,865,{"v":5665,"d":"5,665"},570,null,null,{"v":23984,"d":"23,984"},{"v":3916,"d":"3,916"},{"v":2137,"d":"2,137"},{"v":4546,"d":"4,546"},{"v":9901,"d":"9,901"},{"v":3484,"d":"3,484"}]
["040104","AREQUIPA","AREQUIPA","AREQUIPA","CERRO COLORADO",{"$nulls":3},{"v":231952,"d":"231,952"},{"v":2541,"d":"2,541"},{"v":2644,"d":"2,644"},{"v":2171,"d":"2,171"},{"v":2376,"d":"2,376"},{"v":2701,"d":"2,701"},{"v":3144,"d":"3,144"},{"v":4467,"d":"4,467"},{"v":4593,"d":"4,593"},{"v":4529,"d":"4,529"},{"v":4279,"d":"4,279"},{"v":3870,"d":"3,870"},{"v":3730,"d":"3,730"},{"v":3894,"d":"3,894"},{"v":3610,"d":"3,610"},{"v":3583,"d":"3,583"},{"v":3864,"d":"3,864"},{"v":3718,"d":"3,718"},{"v":3841,"d":"3,841"},{"v":3724,"d":"3,724"},{"v":3755,"d":"3,755"},{"v":18888,"d":"18,888"},{"v":20454,"d":"20,454"},{"v":20368,"d":"20,368"},{"v":17961,"d":"17,961"},{"v":17656,"d":"17,656"},{"v":15322,"d":"15,322"},{"v":12443,"d":"12,443"},{"v":10625,"d":"10,625"},{"v":8060,"d":"8,060"},{"v":6393,"d":"6,393"},{"v":5225,"d":"5,225"},{"v":3401,"d":"3,401"},{"v":2135,"d":"2,135"},{"v":1987,"d":"1,987"},180,{"v":1279,"d":"1,279"},{"v":1262,"d":"1,262"},{"v":2694,"d":"2,694"},{"v":113748,"d":"113,748"},{"v":8847,"d":"8,847"},{"v":8982,"d":"8,982"},{"v":54679,"d":"54,679"},{"v":4148,"d":"4,148"},null,null,{"v":231952,"d":"231,952"},{"v":41045,"d":"41,045"},{"v":22510,"d":"22,510"},{"v":46821,"d":"46,821"},{"v":94375,"d":"94,375"},{"v":27201,"d":"27,201"}]
[{"$nulls":5},1236,"CERRO COLORADO",11,{"v":25515,"d":"25,515"},280,291,239,261,297,346,491,505,498,471,426,410,428,397,394,425,409,423,410,413,{"v":2078,"d":"2,078"},{"v":2250,"d":"2,250"},{"v":2240,"d":"2,240"},{"v":1976,"d":"1,976"},{"v":1942,"d":"1,942"},{"v":1685,"d":"1,685"},{"v":1369,"d":"1,369"},{"v":1169,"d":"1,169"},887,703,575,374,235,219,20,141,139,296,{"v":12512,"d":"12,512"},973,988,{"v":6015,"d":"6,015"},456,null,null,{"v":25515,"d":"25,515"},{"v":4515,"d":"4,515"},{"v":2476,"d":"2,476"},{"v":5150,"d":"5,150"},{"v":10381,"d":"10,381"},{"v":2992,"d":"2,992"}]
[{"$nulls":5},1248,"ALTO LIBERTAD",9,{"v":20876,"d":"20,876"},229,238,195,214,243,283,402,413,408,385,348,336,350,325,322,348,335,346,335,338,{"v":1700,"d":"1,700"},{"v":1841,"d":"1,841"},{"v":1833,"d":"1,833"},{"v":1616,"d":"1,616"},{"v":1589,"d":"1,589"},{"v":1379,"d":"1,379"},{"v":1120,"d":"1,120"},956,725,575,470,306,192,179,16,115,114,242,{"v":10237,"d":"10,237"},796,808,{"v":4921,"d":"4,921"},373,null,null,{"v":20876,"d":"20,876"},{"v":3694,"d":"3,694"},{"v":2026,"d":"2,026"},{"v":4214,"d":"4,214"},{"v":8494,"d":"8,494"},{"v":2448,"d":"2,448"}]
[{"$nulls":5},1238,"CENTRO DE SALUD MARISCAL CASTILLA",8,{"v":18556,"d":"18,556"},203,212,174,190,216,252,357,367,362,342,310,298,312,289,287,309,297,307,298,300,{"v":1511,"d":"1,511"},{"v":1636,"d":"1,636"},{"v":1629,"d":"1,629"},{"v":1437,"d":"1,437"},{"v":1412,"d":"1,412"},{"v":1226,"d":"1,226"},995,850,645,511,418,272,171,159,14,102,101,216,{"v":9100,"d":"9,100"},708,719,{"v":4374,"d":"4,374"},332,null,null,{"v":18556,"d":"18,556"},{"v":3284,"d":"3,284"},{"v":1801,"d":"1,801"},{"v":3746,"d":"3,746"},{"v":7550,"d":"7,550"},{"v":2176,"d":"2,176"}]
[{"$nulls":5},1249,"CENTRO DE SALUD SEMI RURAL PACHACUTEC",8,{"v":18556,"d":"18,556"},203,212,174,190,216,252,357,367,362,342,310,298,312,289,287,309,297,307,298,300,{"v":1511,"d":"1,511"},{"v":1636,"d":"1,636"},{"v":1629,"d":"1,629"},{"v":1437,"d":"1,437"},{"v":1412,"d":"1,412"},{"v":1226,"d":"1,226"},995,850,645,511,418,272,171,159,14,102,101,216,{"v":9100,"d":"9,100"},708,719,{"v":4374,"d":"4,374"},332,null,null,{"v":18556,"d":"18,556"},{"v":3284,"d":"3,284"},{"v":1801,"d":"1,801"},{"v":3746,"d":"3,746"},{"v":7550,"d":"7,550"},{"v":2176,"d":"2,176"}]
[{"$nulls":5},1250,"PUESTO DE SALUD JOSE SANTOS ATAHUALPA",3,{"v":6959,"d":"6,959"},76,79,65,71,81,94,134,138,136,128,116,112,117,108,107,116,112,115,112,113,567,614,611,539,530,460,373,319,242,192,157,102,64,60,5,38,38,81,{"v":3412,"d":"3,412"},265,269,{"v":1640,"d":"1,640"},124,null,null,{"v":6959,"d":"6,959"},{"v":1231,"d":"1,231"},675,{"v":1405,"d":"1,405"},{"v":2831,"d":"2,831"},816]
[{"$nulls":5},1252,"PUESTO DE SALUD EL CURAL",1,{"v":2320,"d":"2,320"},25,26,22,24,27,31,45,46,45,43,39,37,39,36,36,39,37,38,37,38,189,205,204,180,177,153,124,106,81,64,52,34,21,20,2,13,13,27,{"v":1137,"d":"1,137"},88,90,547,41,null,null,{"v":2320,"d":"2,320"},410,225,468,944,272]
[{"$nulls":5},1237,"MARITZA CAMPOS DIAZ - ZAMACOLA",13,{"v":30154,"d":"30,154"},330,344,282,309,351,409,581,597,589,556,503,485,506,469,466,502,483,499,484,488,{"v":2455,"d":"2,455"},{"v":2659,"d":"2,659"},{"v":2648,"d":"2,648"},{"v":2335,"d":"2,335"},{"v":2295,"d":"2,295"},{"v":1992,"d":"1,992"},{"v":1618,"d":"1,618"},{"v":1381,"d":"1,381"},{"v":1048,"d":"1,048"},831,679,442,278,258,23,166,164,350,{"v":14787,"d":"14,787"},{"v":1150,"d":"1,150"},{"v":1168,"d":"1,168"},{"v":7108,"d":"7,108"},539,null,null,{"v":30154,"d":"30,154"},{"v":5336,"d":"5,336"},{"v":2926,"d":"2,926"},{"v":6087,"d":"6,087"},{"v":12269,"d":"12,269"},{"v":3536,"d":"3,536"}]
[{"$nulls":5},1251,"PUESTO DE SALUD NAZARENO",17,{"v":39432,"d":"39,432"},432,449,369,404,459,534,759,781,770,727,658,634,662,614,609,657,632,653,633,638,{"v":3211,"d":"3,211"},{"v":3477,"d":"3,477"},{"v":3463,"d":"3,463"},{"v":3053,"d":"3,053"},{"v":3002,"d":"3,002"},{"v":2605,"d":"2,605"},{"v":2115,"d":"2,115"},{"v":1806,"d":"1,806"},{"v":1370,"d":"1,370"},{"v":1087,"d":"1,087"},888,578,363,338,31,217,215,458,{"v":19337,"d":"19,337"},{"v":1504,"d":"1,504"},{"v":1527,"d":"1,527"},{"v":9295,"d":"9,295"},705,null,null,{"v":39432,"d":"39,432"},{"v":6978,"d":"6,978"},{"v":3827,"d":"3,827"},{"v":7960,"d":"7,960"},{"v":16044,"d":"16,044"},{"v":4624,"d":"4,624"}]
[{"$nulls":5},1247,"PUESTO DE SALUD CIUDAD MUNICIPAL",19,{"v":44069,"d":"44,069"},483,502,412,452,514,597,850,874,861,814,734,710,740,686,681,734,707,730,707,714,{"v":3588,"d":"3,588"},{"v":3886,"d":"3,886"},{"v":3871,"d":"3,871"},{"v":3412,"d":"3,412"},{"v":3355,"d":"3,355"},{"v":2911,"d":"2,911"},{"v":2365,"d":"2,365"},{"v":2019,"d":"2,019"},{"v":1530,"d":"1,530"},{"v":1216,"d":"1,216"},993,647,405,376,35,244,238,512,{"v":21614,"d":"21,614"},{"v":1682,"d":"1,682"},{"v":1706,"d":"1,706"},{"v":10390,"d":"10,390"},790,null,null,{"v":44069,"d":"44,069"},{"v":7798,"d":"7,798"},{"v":4277,"d":"4,277"},{"v":8895,"d":"8,895"},{"v":17931,"d":"17,931"},{"v":5169,"d":"5,169"}]
[{"$nulls":5},11023,"PUESTO DE SALUD PERUARBO",11,{"v":25515,"d":"25,515"},280,291,239,261,297,346,491,505,498,471,426,410,428,397,394,425,409,423,410,413,{"v":2078,"d":"2,078"},{"v":2250,"d":"2,250"},{"v":2240,"d":"2,240"},{"v":1976,"d":"1,976"},{"v":1942,"d":"1,942"},{"v":1685,"d":"1,685"},{"v":1369,"d":"1,369"},{"v":1169,"d":"1,169"},887,703,575,374,235,219,20,141,139,296,{"v":12512,"d":"12,512"},973,988,{"v":6015,"d":"6,015"},456,null,null,{"v":25515,"d":"25,515"},{"v":4515,"d":"4,515"},{"v":2476,"d":"2,476"},{"v":5150,"d":"5,150"},{"v":10381,"d":"10,381"},{"v":2992,"d":"2,992"}]
["040105","AREQUIPA","AREQUIPA","AREQUIPA","CHARACATO",{"$nulls":3},{"v":19439,"d":"19,439"},151,172,140,199,163,195,380,338,279,279,291,270,309,266,307,291,298,265,289,348,{"v":1475,"d":"1,475"},{"v":1502,"d":"1,502"},{"v":1528,"d":"1,528"},{"v":1501,"d":"1,501"},{"v":1574,"d":"1,574"},{"v":1429,"d":"1,429"},{"v":1157,"d":"1,157"},{"v":1044,"d":"1,044"},834,711,556,419,262,217,6,74,77,160,{"v":9773,"d":"9,773"},700,732,{"v":4571,"d":"4,571"},385,null,null,{"v":19439,"d":"19,439"},{"v":2857,"d":"2,857"},{"v":1736,"d":"1,736"},{"v":3614,"d":"3,614"},{"v":8233,"d":"8,233"},{"v":2999,"d":"2,999"}]
[{"$nulls":5},1261,"CENTRO DE SALUD DE CHARACATO",100,{"v":19439,"d":"19,439"},151,172,140,199,163,195,380,338,279,279,291,270,309,266,307,291,298,265,289,348,{"v":1475,"d":"1,475"},{"v":1502,"d":"1,502"},{"v":1528,"d":"1,528"},{"v":1501,"d":"1,501"},{"v":1574,"d":"1,574"},{"v":1429,"d":"1,429"},{"v":1157,"d":"1,157"},{"v":1044,"d":"1,044"},834,711,556,419,262,217,6,74,77,160,{"v":9773,"d":"9,773"},700,732,{"v":4571,"d":"4,571"},385,null,null,{"v":19439,"d":"19,439"},{"v":2857,"d":"2,857"},{"v":1736,"d":"1,736"},{"v":3614,"d":"3,614"},{"v":8233,"d":"8,233"},{"v":2999,"d":"2,999"}]
["040106","AREQUIPA","AREQUIPA","AREQUIPA","CHIGUATA",{"$nulls":3},{"v":3638,"d":"3,638"},61,50,45,52,53,69,48,57,53,47,39,59,30,30,53,52,28,45,46,41,240,270,307,267,249,231,222,205,164,165,141,89,63,67,6,24,37,64,{"v":1899,"d":"1,899"},106,109,854,83,null,null,{"v":3638,"d":"3,638"},633,238,597,{"v":1481,"d":"1,481"},689]
[{"$nulls":5},1299,"CENTRO DE SALUD CHIGUATA",80,{"v":2910,"d":"2,910"},49,40,36,42,42,55,38,46,42,38,31,47,24,24,42,42,22,36,37,33,192,216,246,214,199,185,178,164,131,132,113,71,50,54,5,19,30,51,{"v":1519,"d":"1,519"},85,87,683,66,null,null,{"v":2910,"d":"2,910"},506,190,478,{"v":1185,"d":"1,185"},551]
[{"$nulls":5},1320,"PUESTO DE SALUD ARENALES",20,728,12,10,9,10,11,14,10,11,11,9,8,12,6,6,11,10,6,9,9,8,48,54,61,53,50,46,44,41,33,33,28,18,13,13,1,5,7,13,380,21,22,171,17,null,null,728,127,48,119,296,138]
["040107","AREQUIPA","AREQUIPA","AREQUIPA","JACOBO HUNTER",{"$nulls":3},{"v":56949,"d":"56,949"},525,512,515,590,590,722,986,954,935,906,812,835,847,875,724,842,878,885,788,772,{"v":4225,"d":"4,225"},{"v":4698,"d":"4,698"},{"v":4542,"d":"4,542"},{"v":4346,"d":"4,346"},{"v":4338,"d":"4,338"},{"v":4005,"d":"4,005"},{"v":3460,"d":"3,460"},{"v":3103,"d":"3,103"},{"v":2512,"d":"2,512"},{"v":2063,"d":"2,063"},{"v":1596,"d":"1,596"},{"v":1177,"d":"1,177"},695,696,37,243,282,557,{"v":29068,"d":"29,068"},{"v":2031,"d":"2,031"},{"v":2122,"d":"2,122"},{"v":13178,"d":"13,178"},835,null,null,{"v":56949,"d":"56,949"},{"v":8882,"d":"8,882"},{"v":5051,"d":"5,051"},{"v":10483,"d":"10,483"},{"v":23794,"d":"23,794"},{"v":8739,"d":"8,739"}]
[{"$nulls":5},1259,"CENTRO DE SALUD JAVIER LLOSA GARCIA -  HUNTER",33,{"v":18794,"d":"18,794"},173,169,171,195,195,238,324,315,308,298,268,275,279,288,239,278,290,290,260,255,{"v":1394,"d":"1,394"},{"v":1549,"d":"1,549"},{"v":1499,"d":"1,499"},{"v":1434,"d":"1,434"},{"v":1432,"d":"1,432"},{"v":1322,"d":"1,322"},{"v":1142,"d":"1,142"},{"v":1026,"d":"1,026"},829,681,526,388,228,229,12,81,94,183,{"v":9593,"d":"9,593"},670,700,{"v":4349,"d":"4,349"},275,null,null,{"v":18794,"d":"18,794"},{"v":2932,"d":"2,932"},{"v":1666,"d":"1,666"},{"v":3461,"d":"3,461"},{"v":7853,"d":"7,853"},{"v":2883,"d":"2,883"}]
[{"$nulls":5},1273,"PUESTO DE SALUD DANIEL ALCIDES CARRION",15,{"v":8542,"d":"8,542"},79,77,77,89,89,108,148,143,140,136,122,125,127,131,109,126,132,133,118,116,634,705,681,652,651,601,519,465,377,309,239,177,104,104,6,36,42,84,{"v":4360,"d":"4,360"},305,318,{"v":1977,"d":"1,977"},125,null,null,{"v":8542,"d":"8,542"},{"v":1332,"d":"1,332"},758,{"v":1572,"d":"1,572"},{"v":3569,"d":"3,569"},{"v":1311,"d":"1,311"}]
[{"$nulls":5},1274,"PUESTO DE SALUD PAMPAS DEL CUZCO",16,{"v":9112,"d":"9,112"},84,82,82,94,94,116,158,153,150,145,130,134,136,140,116,135,140,142,126,124,676,752,727,695,694,641,554,496,402,330,255,188,111,111,6,39,45,89,{"v":4651,"d":"4,651"},325,340,{"v":2108,"d":"2,108"},134,null,null,{"v":9112,"d":"9,112"},{"v":1421,"d":"1,421"},808,{"v":1677,"d":"1,677"},{"v":3807,"d":"3,807"},{"v":1398,"d":"1,398"}]
[{"$nulls":5},1275,"PUESTO DE SALUD CHILPINILLA",9,{"v":5125,"d":"5,125"},47,46,46,53,53,65,89,86,84,82,73,75,76,79,65,76,79,80,71,69,380,423,409,391,390,360,311,279,226,186,144,106,63,63,3,22,25,50,{"v":2616,"d":"2,616"},183,191,{"v":1186,"d":"1,186"},75,null,null,{"v":5125,"d":"5,125"},799,455,943,{"v":2141,"d":"2,141"},787]
[{"$nulls":5},1276,"CENTRO DE SALUD CAMINOS DEL INCA",10,{"v":5695,"d":"5,695"},53,51,52,59,59,72,99,95,94,91,81,84,85,88,72,84,88,89,79,77,423,470,454,435,434,401,346,310,251,206,160,118,70,70,4,24,28,56,{"v":2907,"d":"2,907"},203,212,{"v":1318,"d":"1,318"},84,null,null,{"v":5695,"d":"5,695"},888,505,{"v":1048,"d":"1,048"},{"v":2379,"d":"2,379"},874]
[{"$nulls":5},1277,"ALTO ALIANZA",8,{"v":4556,"d":"4,556"},42,41,41,47,47,58,79,76,75,72,65,67,68,70,58,67,70,71,63,62,338,376,363,348,347,320,277,248,201,165,128,94,56,56,3,19,23,45,{"v":2325,"d":"2,325"},162,170,{"v":1054,"d":"1,054"},67,null,null,{"v":4556,"d":"4,556"},711,404,839,{"v":1904,"d":"1,904"},699]
[{"$nulls":5},1279,"PUESTO DE SALUD UPIS PAISAJISTA",9,{"v":5125,"d":"5,125"},47,46,46,53,53,65,89,86,84,82,73,75,76,79,65,76,79,80,71,69,380,423,409,391,390,360,311,279,226,186,144,106,63,63,3,22,25,50,{"v":2616,"d":"2,616"},183,191,{"v":1186,"d":"1,186"},75,null,null,{"v":5125,"d":"5,125"},799,455,943,{"v":2141,"d":"2,141"},787]
["040108","AREQUIPA","AREQUIPA","AREQUIPA","LA JOYA",{"$nulls":3},{"v":44121,"d":"44,121"},452,521,544,607,605,641,689,626,793,815,693,699,771,672,767,778,810,797,812,772,{"v":3652,"d":"3,652"},{"v":4011,"d":"4,011"},{"v":3597,"d":"3,597"},{"v":3351,"d":"3,351"},{"v":2976,"d":"2,976"},{"v":2852,"d":"2,852"},{"v":2251,"d":"2,251"},{"v":2060,"d":"2,060"},{"v":1677,"d":"1,677"},{"v":1370,"d":"1,370"},931,703,437,389,30,214,238,480,{"v":22678,"d":"22,678"},{"v":1878,"d":"1,878"},{"v":2040,"d":"2,040"},{"v":10601,"d":"10,601"},{"v":1173,"d":"1,173"},null,null,{"v":44121,"d":"44,121"},{"v":7685,"d":"7,685"},{"v":4595,"d":"4,595"},{"v":9247,"d":"9,247"},{"v":17087,"d":"17,087"},{"v":5507,"d":"5,507"}]
[{"$nulls":5},1322,"LA JOYA",20,{"v":8824,"d":"8,824"},90,104,109,121,121,128,138,125,159,163,139,140,154,134,153,156,162,159,162,154,730,802,719,670,595,570,450,412,335,274,186,141,87,78,6,43,48,96,{"v":4536,"d":"4,536"},376,408,{"v":2120,"d":"2,120"},235,null,null,{"v":8824,"d":"8,824"},{"v":1537,"d":"1,537"},919,{"v":1849,"d":"1,849"},{"v":3417,"d":"3,417"},{"v":1101,"d":"1,101"}]
[{"$nulls":5},1327,"PUESTO DE SALUD CERRITO BUENA VISTA",14,{"v":6177,"d":"6,177"},63,73,76,85,85,90,96,88,111,114,97,98,108,94,107,109,113,112,114,108,511,562,504,469,417,399,315,288,235,192,130,98,61,54,4,30,33,67,{"v":3175,"d":"3,175"},263,286,{"v":1484,"d":"1,484"},164,null,null,{"v":6177,"d":"6,177"},{"v":1076,"d":"1,076"},643,{"v":1295,"d":"1,295"},{"v":2392,"d":"2,392"},771]
[{"$nulls":5},1330,"EL CRUCE - TRIUNFO",27,{"v":11913,"d":"11,913"},121,141,147,166,164,174,187,169,212,220,185,188,208,182,208,210,218,214,218,209,985,{"v":1082,"d":"1,082"},970,903,803,769,606,556,453,369,251,191,118,106,7,57,64,130,{"v":6123,"d":"6,123"},507,551,{"v":2863,"d":"2,863"},317,null,null,{"v":11913,"d":"11,913"},{"v":2075,"d":"2,075"},{"v":1240,"d":"1,240"},{"v":2498,"d":"2,498"},{"v":4615,"d":"4,615"},{"v":1489,"d":"1,489"}]
[{"$nulls":5},1328,"LOS MEDANOS",5,{"v":2206,"d":"2,206"},23,26,27,30,30,32,34,31,40,41,35,35,39,34,38,39,41,40,41,39,183,201,180,168,149,143,113,103,84,69,47,35,22,19,2,11,12,24,{"v":1134,"d":"1,134"},94,102,530,59,null,null,{"v":2206,"d":"2,206"},384,230,462,854,275]
[{"$nulls":5},1329,"BENITO LAZO",5,{"v":2206,"d":"2,206"},23,26,27,30,30,32,34,31,40,41,35,35,39,34,38,39,41,40,41,39,183,201,180,168,149,143,113,103,84,69,47,35,22,19,2,11,12,24,{"v":1134,"d":"1,134"},94,102,530,59,null,null,{"v":2206,"d":"2,206"},384,230,462,854,275]
[{"$nulls":5},1323,"SAN ISIDRO",13,{"v":5736,"d":"5,736"},59,68,71,79,79,83,90,81,103,106,90,91,100,87,100,101,105,104,106,100,475,521,468,436,387,371,293,268,218,178,121,91,57,51,4,28,31,62,{"v":2948,"d":"2,948"},244,265,{"v":1378,"d":"1,378"},152,null,null,{"v":5736,"d":"5,736"},999,597,{"v":1202,"d":"1,202"},{"v":2221,"d":"2,221"},716]
[{"$nulls":5},1333,"SAN JOSE",3,{"v":1324,"d":"1,324"},14,16,16,18,18,19,21,19,24,24,21,21,23,20,23,23,24,24,24,23,110,120,108,101,89,86,68,62,50,41,28,21,13,12,1,6,7,14,680,56,61,318,35,null,null,{"v":1324,"d":"1,324"},231,138,277,513,165]
[{"$nulls":5},1332,"PUESTO DE SALUD SAN CAMILO 6",6,{"v":2647,"d":"2,647"},27,31,33,36,36,38,41,38,48,49,42,42,46,40,46,47,49,48,49,46,219,241,216,201,179,171,135,124,101,82,56,42,26,23,2,13,14,29,{"v":1361,"d":"1,361"},113,122,636,70,null,null,{"v":2647,"d":"2,647"},461,276,555,{"v":1025,"d":"1,025"},330]
[{"$nulls":5},1331,"LA CANO",7,{"v":3088,"d":"3,088"},32,36,38,42,42,45,48,44,56,57,49,49,54,47,54,54,57,56,57,54,256,281,252,235,208,200,158,144,117,96,65,49,31,27,2,15,17,34,{"v":1587,"d":"1,587"},131,143,742,82,null,null,{"v":3088,"d":"3,088"},538,322,647,{"v":1196,"d":"1,196"},385]
["040109","AREQUIPA","AREQUIPA","AREQUIPA","MARIANO MELGAR",{"$nulls":3},{"v":71738,"d":"71,738"},674,710,720,742,750,862,{"v":1092,"d":"1,092"},{"v":1064,"d":"1,064"},{"v":1114,"d":"1,114"},{"v":1068,"d":"1,068"},952,944,{"v":1036,"d":"1,036"},{"v":1002,"d":"1,002"},{"v":1037,"d":"1,037"},{"v":1072,"d":"1,072"},{"v":1085,"d":"1,085"},{"v":1009,"d":"1,009"},{"v":1012,"d":"1,012"},{"v":1036,"d":"1,036"},{"v":5179,"d":"5,179"},{"v":5837,"d":"5,837"},{"v":5855,"d":"5,855"},{"v":5043,"d":"5,043"},{"v":5155,"d":"5,155"},{"v":4964,"d":"4,964"},{"v":4486,"d":"4,486"},{"v":4134,"d":"4,134"},{"v":3545,"d":"3,545"},{"v":2781,"d":"2,781"},{"v":2224,"d":"2,224"},{"v":1510,"d":"1,510"},988,{"v":1056,"d":"1,056"},48,328,346,714,{"v":36477,"d":"36,477"},{"v":2461,"d":"2,461"},{"v":2607,"d":"2,607"},{"v":16159,"d":"16,159"},{"v":1796,"d":"1,796"},null,null,{"v":71738,"d":"71,738"},{"v":10692,"d":"10,692"},{"v":6241,"d":"6,241"},{"v":13064,"d":"13,064"},{"v":29637,"d":"29,637"},{"v":12104,"d":"12,104"}]
[{"$nulls":5},1294,"CENTRO DE SALUD MARIANO MELGAR",30,{"v":21520,"d":"21,520"},202,213,216,224,225,260,329,319,334,319,287,283,311,302,312,323,325,302,305,311,{"v":1553,"d":"1,553"},{"v":1752,"d":"1,752"},{"v":1756,"d":"1,756"},{"v":1512,"d":"1,512"},{"v":1546,"d":"1,546"},{"v":1489,"d":"1,489"},{"v":1346,"d":"1,346"},{"v":1240,"d":"1,240"},{"v":1063,"d":"1,063"},835,667,453,295,317,13,97,104,214,{"v":10944,"d":"10,944"},739,783,{"v":4847,"d":"4,847"},539,null,null,{"v":21520,"d":"21,520"},{"v":3209,"d":"3,209"},{"v":1873,"d":"1,873"},{"v":3919,"d":"3,919"},{"v":8892,"d":"8,892"},{"v":3631,"d":"3,631"}]
[{"$nulls":5},1308,"PUESTO DE SALUD ATALAYA",20,{"v":14348,"d":"14,348"},135,142,144,148,150,172,218,213,223,214,190,189,207,200,207,214,217,202,202,207,{"v":1036,"d":"1,036"},{"v":1167,"d":"1,167"},{"v":1171,"d":"1,171"},{"v":1009,"d":"1,009"},{"v":1031,"d":"1,031"},993,897,827,709,556,445,302,198,211,10,66,69,143,{"v":7295,"d":"7,295"},492,521,{"v":3232,"d":"3,232"},359,null,null,{"v":14348,"d":"14,348"},{"v":2138,"d":"2,138"},{"v":1248,"d":"1,248"},{"v":2613,"d":"2,613"},{"v":5927,"d":"5,927"},{"v":2421,"d":"2,421"}]
[{"$nulls":5},1295,"CENTRO DE SALUD GENERALISIMO SAN MARTIN",20,{"v":14348,"d":"14,348"},135,142,144,148,150,172,218,213,223,214,190,189,207,200,207,214,217,202,202,207,{"v":1036,"d":"1,036"},{"v":1167,"d":"1,167"},{"v":1171,"d":"1,171"},{"v":1009,"d":"1,009"},{"v":1031,"d":"1,031"},993,897,827,709,556,445,302,198,211,10,66,69,143,{"v":7295,"d":"7,295"},492,521,{"v":3232,"d":"3,232"},359,null,null,{"v":14348,"d":"14,348"},{"v":2138,"d":"2,138"},{"v":1248,"d":"1,248"},{"v":2613,"d":"2,613"},{"v":5927,"d":"5,927"},{"v":2421,"d":"2,421"}]
[{"$nulls":5},1309,"JERUSALEN",20,{"v":14348,"d":"14,348"},135,142,144,148,150,172,218,213,223,214,190,189,207,200,207,214,217,202,202,207,{"v":1036,"d":"1,036"},{"v":1167,"d":"1,167"},{"v":1171,"d":"1,171"},{"v":1009,"d":"1,009"},{"v":1031,"d":"1,031"},993,897,827,709,556,445,302,198,211,10,66,69,143,{"v":7295,"d":"7,295"},492,521,{"v":3232,"d":"3,232"},359,null,null,{"v":14348,"d":"14,348"},{"v":2138,"d":"2,138"},{"v":1248,"d":"1,248"},{"v":2613,"d":"2,613"},{"v":5927,"d":"5,927"},{"v":2421,"d":"2,421"}]
[{"$nulls":5},7743,"PUESTO DE SALUD SANTA ROSA",0,0,0,0,0,0,0,0,0,0,0,0,0,0,0,0,0,0,0,0,0,0,0,0,0,0,0,0,0,0,0,0,0,0,0,0,0,0,0,0,0,0,0,0,0,null,null,0,0,0,0,0,0]
[{"$nulls":5},7722,"EL MIRADOR",10,{"v":7174,"d":"7,174"},67,71,72,74,75,86,109,106,111,107,95,94,104,100,104,107,109,101,101,104,518,584,586,504,516,496,449,413,355,278,222,151,99,106,5,33,35,71,{"v":3648,"d":"3,648"},246,261,{"v":1616,"d":"1,616"},180,null,null,{"v":7174,"d":"7,174"},{"v":1069,"d":"1,069"},624,{"v":1306,"d":"1,306"},{"v":2964,"d":"2,964"},{"v":1210,"d":"1,210"}]
["040110","AREQUIPA","AREQUIPA","AREQUIPA","MIRAFLORES",{"$nulls":3},{"v":70554,"d":"70,554"},598,609,637,744,695,833,{"v":1020,"d":"1,020"},{"v":1058,"d":"1,058"},{"v":1122,"d":"1,122"},975,{"v":1009,"d":"1,009"},923,925,905,905,923,992,947,956,{"v":1003,"d":"1,003"},{"v":5196,"d":"5,196"},{"v":5784,"d":"5,784"},{"v":5752,"d":"5,752"},{"v":5057,"d":"5,057"},{"v":5308,"d":"5,308"},{"v":5077,"d":"5,077"},{"v":4563,"d":"4,563"},{"v":4074,"d":"4,074"},{"v":3518,"d":"3,518"},{"v":2686,"d":"2,686"},{"v":2141,"d":"2,141"},{"v":1523,"d":"1,523"},993,{"v":1103,"d":"1,103"},53,309,289,634,{"v":36130,"d":"36,130"},{"v":2366,"d":"2,366"},{"v":2480,"d":"2,480"},{"v":16332,"d":"16,332"},{"v":1007,"d":"1,007"},null,null,{"v":70554,"d":"70,554"},{"v":10223,"d":"10,223"},{"v":5597,"d":"5,597"},{"v":12939,"d":"12,939"},{"v":29831,"d":"29,831"},{"v":11964,"d":"11,964"}]
[{"$nulls":5},1293,"CENTRO DE SALUD MIRAFLORES",34,{"v":23988,"d":"23,988"},203,207,217,253,236,283,347,360,381,332,343,314,315,308,308,314,337,322,325,341,{"v":1767,"d":"1,767"},{"v":1967,"d":"1,967"},{"v":1956,"d":"1,956"},{"v":1719,"d":"1,719"},{"v":1805,"d":"1,805"},{"v":1726,"d":"1,726"},{"v":1551,"d":"1,551"},{"v":1385,"d":"1,385"},{"v":1196,"d":"1,196"},913,728,518,338,375,18,105,98,216,{"v":12284,"d":"12,284"},804,843,{"v":5553,"d":"5,553"},342,null,null,{"v":23988,"d":"23,988"},{"v":3476,"d":"3,476"},{"v":1903,"d":"1,903"},{"v":4399,"d":"4,399"},{"v":10143,"d":"10,143"},{"v":4068,"d":"4,068"}]
[{"$nulls":5},1292,"CENTRO DE SALUD EDIFICADORES MISTI",40,{"v":28223,"d":"28,223"},239,243,254,297,277,333,407,422,449,389,403,369,369,362,362,369,398,378,383,402,{"v":2077,"d":"2,077"},{"v":2313,"d":"2,313"},{"v":2301,"d":"2,301"},{"v":2022,"d":"2,022"},{"v":2122,"d":"2,122"},{"v":2031,"d":"2,031"},{"v":1826,"d":"1,826"},{"v":1630,"d":"1,630"},{"v":1408,"d":"1,408"},{"v":1074,"d":"1,074"},857,609,398,442,22,123,116,253,{"v":14453,"d":"14,453"},947,993,{"v":6532,"d":"6,532"},402,null,null,{"v":28223,"d":"28,223"},{"v":4089,"d":"4,089"},{"v":2238,"d":"2,238"},{"v":5176,"d":"5,176"},{"v":11933,"d":"11,933"},{"v":4786,"d":"4,786"}]
[{"$nulls":5},1306,"CENTRO DE SALUD PORVENIR-MIRAFLORES",10,{"v":7055,"d":"7,055"},60,61,64,74,70,83,102,106,112,98,101,92,93,91,91,92,99,95,96,100,520,578,575,506,531,508,456,407,352,269,214,152,99,110,5,31,29,63,{"v":3613,"d":"3,613"},237,248,{"v":1633,"d":"1,633"},101,null,null,{"v":7055,"d":"7,055"},{"v":1022,"d":"1,022"},560,{"v":1294,"d":"1,294"},{"v":2983,"d":"2,983"},{"v":1196,"d":"1,196"}]
[{"$nulls":5},1307,"CENTRO DE SALUD MATEO PUMACAHUA",8,{"v":5644,"d":"5,644"},48,49,51,60,56,67,82,85,90,78,81,74,74,72,72,74,79,76,76,80,416,463,460,405,425,406,365,326,281,215,171,122,79,88,4,25,23,51,{"v":2890,"d":"2,890"},189,198,{"v":1307,"d":"1,307"},81,null,null,{"v":5644,"d":"5,644"},818,448,{"v":1035,"d":"1,035"},{"v":2386,"d":"2,386"},957]
[{"$nulls":5},1305,"PUESTO DE SALUD TOMASA T. COMDEMAYTA",8,{"v":5644,"d":"5,644"},48,49,51,60,56,67,82,85,90,78,81,74,74,72,72,74,79,76,76,80,416,463,460,405,425,406,365,326,281,215,171,122,79,88,4,25,23,51,{"v":2890,"d":"2,890"},189,198,{"v":1307,"d":"1,307"},81,null,null,{"v":5644,"d":"5,644"},818,448,{"v":1035,"d":"1,035"},{"v":2386,"d":"2,386"},957]
["040111","AREQUIPA","AREQUIPA","AREQUIPA","MOLLEBAYA",{"$nulls":3},{"v":8652,"d":"8,652"},78,75,56,84,59,75,116,179,164,133,93,115,111,131,128,135,134,121,136,89,513,719,901,779,718,681,417,438,400,296,244,167,83,84,3,33,45,83,{"v":4341,"d":"4,341"},289,301,{"v":2241,"d":"2,241"},182,null,null,{"v":8652,"d":"8,652"},{"v":1227,"d":"1,227"},760,{"v":1457,"d":"1,457"},{"v":3934,"d":"3,934"},{"v":1274,"d":"1,274"}]
[{"$nulls":5},1285,"PUESTO DE SALUD MOLLEBAYA",30,{"v":2596,"d":"2,596"},23,23,17,25,18,23,35,54,49,40,28,35,33,39,38,41,40,36,41,27,154,216,270,234,215,204,125,131,120,89,73,50,25,25,1,10,14,25,{"v":1302,"d":"1,302"},87,90,672,55,null,null,{"v":2596,"d":"2,596"},368,228,437,{"v":1180,"d":"1,180"},382]
[{"$nulls":5},11677,"PUESTO DE SALUD MACHAHUAYA",70,{"v":6056,"d":"6,056"},55,52,39,59,41,52,81,125,115,93,65,80,78,92,90,94,94,85,95,62,359,503,631,545,503,477,292,307,280,207,171,117,58,59,2,23,31,58,{"v":3039,"d":"3,039"},202,211,{"v":1569,"d":"1,569"},127,null,null,{"v":6056,"d":"6,056"},859,532,{"v":1020,"d":"1,020"},{"v":2754,"d":"2,754"},892]
["040112","AREQUIPA","AREQUIPA","AREQUIPA","PAUCARPATA",{"$nulls":3},{"v":142213,"d":"142,213"},{"v":1413,"d":"1,413"},{"v":1537,"d":"1,537"},{"v":1639,"d":"1,639"},{"v":1708,"d":"1,708"},{"v":1594,"d":"1,594"},{"v":1783,"d":"1,783"},{"v":2294,"d":"2,294"},{"v":2369,"d":"2,369"},{"v":2302,"d":"2,302"},{"v":2164,"d":"2,164"},{"v":2103,"d":"2,103"},{"v":2111,"d":"2,111"},{"v":2121,"d":"2,121"},{"v":2031,"d":"2,031"},{"v":2164,"d":"2,164"},{"v":2231,"d":"2,231"},{"v":2264,"d":"2,264"},{"v":2159,"d":"2,159"},{"v":2114,"d":"2,114"},{"v":2059,"d":"2,059"},{"v":10384,"d":"10,384"},{"v":11335,"d":"11,335"},{"v":11184,"d":"11,184"},{"v":10225,"d":"10,225"},{"v":10689,"d":"10,689"},{"v":10163,"d":"10,163"},{"v":8859,"d":"8,859"},{"v":7370,"d":"7,370"},{"v":5830,"d":"5,830"},{"v":4867,"d":"4,867"},{"v":4122,"d":"4,122"},{"v":3229,"d":"3,229"},{"v":1978,"d":"1,978"},{"v":1818,"d":"1,818"},117,708,705,{"v":1498,"d":"1,498"},{"v":72897,"d":"72,897"},{"v":5257,"d":"5,257"},{"v":5512,"d":"5,512"},{"v":32524,"d":"32,524"},{"v":2212,"d":"2,212"},null,null,{"v":142213,"d":"142,213"},{"v":23017,"d":"23,017"},{"v":12970,"d":"12,970"},{"v":25892,"d":"25,892"},{"v":58490,"d":"58,490"},{"v":21844,"d":"21,844"}]
[{"$nulls":5},1298,"CENTRO DE SALUD 15 DE AGOSTO",11,{"v":15643,"d":"15,643"},155,168,180,186,172,195,250,258,254,240,233,232,233,226,240,248,250,236,233,226,{"v":1142,"d":"1,142"},{"v":1247,"d":"1,247"},{"v":1230,"d":"1,230"},{"v":1123,"d":"1,123"},{"v":1176,"d":"1,176"},{"v":1119,"d":"1,119"},974,809,643,535,452,356,219,202,14,76,79,164,{"v":8017,"d":"8,017"},577,607,{"v":3578,"d":"3,578"},243,null,null,{"v":15643,"d":"15,643"},{"v":2533,"d":"2,533"},{"v":1425,"d":"1,425"},{"v":2850,"d":"2,850"},{"v":6435,"d":"6,435"},{"v":2402,"d":"2,402"}]
[{"$nulls":5},1316,"PUESTO DE SALUD MIGUEL GRAU  MODULO A",8,{"v":11377,"d":"11,377"},113,123,131,137,128,143,184,190,184,173,168,169,170,162,173,178,181,173,169,165,831,907,895,818,855,813,709,590,466,389,330,258,158,145,9,57,56,120,{"v":5832,"d":"5,832"},421,441,{"v":2602,"d":"2,602"},177,null,null,{"v":11377,"d":"11,377"},{"v":1841,"d":"1,841"},{"v":1038,"d":"1,038"},{"v":2071,"d":"2,071"},{"v":4679,"d":"4,679"},{"v":1748,"d":"1,748"}]
[{"$nulls":5},1317,"CENTRO DE SALUD MIGUEL GRAU  B",7,{"v":9955,"d":"9,955"},99,108,115,120,112,125,161,166,161,151,147,148,148,142,151,156,158,151,148,144,727,793,783,716,748,711,620,516,408,341,289,226,138,127,8,50,49,105,{"v":5103,"d":"5,103"},368,386,{"v":2277,"d":"2,277"},155,null,null,{"v":9955,"d":"9,955"},{"v":1611,"d":"1,611"},908,{"v":1812,"d":"1,812"},{"v":4094,"d":"4,094"},{"v":1529,"d":"1,529"}]
[{"$nulls":5},1318,"PUESTO DE SALUD MIGUEL GRAU  MODULO C-D",7.5,{"v":10666,"d":"10,666"},106,115,123,128,120,134,172,178,173,162,158,158,159,152,162,167,170,162,159,154,779,850,839,767,802,762,664,553,437,365,309,242,148,136,9,53,53,112,{"v":5467,"d":"5,467"},394,413,{"v":2439,"d":"2,439"},166,null,null,{"v":10666,"d":"10,666"},{"v":1726,"d":"1,726"},973,{"v":1942,"d":"1,942"},{"v":4387,"d":"4,387"},{"v":1638,"d":"1,638"}]
[{"$nulls":5},1296,"CENTRO DE SALUD  AMPLIACIÓN PAUCARPATA",10,{"v":14221,"d":"14,221"},141,154,164,171,159,178,229,237,230,216,210,211,212,203,216,223,226,216,211,206,{"v":1038,"d":"1,038"},{"v":1134,"d":"1,134"},{"v":1118,"d":"1,118"},{"v":1023,"d":"1,023"},{"v":1069,"d":"1,069"},{"v":1016,"d":"1,016"},886,737,583,487,412,323,198,182,12,71,71,150,{"v":7290,"d":"7,290"},526,551,{"v":3252,"d":"3,252"},221,null,null,{"v":14221,"d":"14,221"},{"v":2302,"d":"2,302"},{"v":1297,"d":"1,297"},{"v":2589,"d":"2,589"},{"v":5849,"d":"5,849"},{"v":2184,"d":"2,184"}]
[{"$nulls":5},1310,"CENTRO DE SALUD MANUEL PRADO",8,{"v":11377,"d":"11,377"},113,123,131,137,128,143,184,190,184,173,168,169,170,162,173,178,181,173,169,165,831,907,895,818,855,813,709,590,466,389,330,258,158,145,9,57,56,120,{"v":5832,"d":"5,832"},421,441,{"v":2602,"d":"2,602"},177,null,null,{"v":11377,"d":"11,377"},{"v":1841,"d":"1,841"},{"v":1038,"d":"1,038"},{"v":2071,"d":"2,071"},{"v":4679,"d":"4,679"},{"v":1748,"d":"1,748"}]
[{"$nulls":5},1313,"CENTRO DE SALUD NUEVA ALBORADA",8,{"v":11377,"d":"11,377"},113,123,131,137,128,143,184,190,184,173,168,169,170,162,173,178,181,173,169,165,831,907,895,818,855,813,709,590,466,389,330,258,158,145,9,57,56,120,{"v":5832,"d":"5,832"},421,441,{"v":2602,"d":"2,602"},177,null,null,{"v":11377,"d":"11,377"},{"v":1841,"d":"1,841"},{"v":1038,"d":"1,038"},{"v":2071,"d":"2,071"},{"v":4679,"d":"4,679"},{"v":1748,"d":"1,748"}]
[{"$nulls":5},1315,"CENTRO DE SALUD CAMPO MARTE",7,{"v":9955,"d":"9,955"},99,108,115,120,112,125,161,166,161,151,147,148,148,142,151,156,158,151,148,144,727,793,783,716,748,711,620,516,408,341,289,226,138,127,8,50,49,105,{"v":5103,"d":"5,103"},368,386,{"v":2277,"d":"2,277"},155,null,null,{"v":9955,"d":"9,955"},{"v":1611,"d":"1,611"},908,{"v":1812,"d":"1,812"},{"v":4094,"d":"4,094"},{"v":1529,"d":"1,529"}]
[{"$nulls":5},1297,"CENTRO DE SALUD CIUDAD BLANCA",10,{"v":14221,"d":"14,221"},141,154,164,171,159,178,229,237,230,216,210,211,212,203,216,223,226,216,211,206,{"v":1038,"d":"1,038"},{"v":1134,"d":"1,134"},{"v":1118,"d":"1,118"},{"v":1023,"d":"1,023"},{"v":1069,"d":"1,069"},{"v":1016,"d":"1,016"},886,737,583,487,412,323,198,182,12,71,71,150,{"v":7290,"d":"7,290"},526,551,{"v":3252,"d":"3,252"},221,null,null,{"v":14221,"d":"14,221"},{"v":2302,"d":"2,302"},{"v":1297,"d":"1,297"},{"v":2589,"d":"2,589"},{"v":5849,"d":"5,849"},{"v":2184,"d":"2,184"}]
[{"$nulls":5},1314,"SAN JUAN DE CIUDAD BLANCA",8,{"v":11377,"d":"11,377"},113,123,131,137,128,143,184,190,184,173,168,169,170,162,173,178,181,173,169,165,831,907,895,818,855,813,709,590,466,389,330,258,158,145,9,57,56,120,{"v":5832,"d":"5,832"},421,441,{"v":2602,"d":"2,602"},177,null,null,{"v":11377,"d":"11,377"},{"v":1841,"d":"1,841"},{"v":1038,"d":"1,038"},{"v":2071,"d":"2,071"},{"v":4679,"d":"4,679"},{"v":1748,"d":"1,748"}]
[{"$nulls":5},1311,"ALTO JESUS",4,{"v":5689,"d":"5,689"},57,61,66,68,64,71,92,95,92,87,84,84,85,81,87,89,91,86,85,82,415,453,447,409,428,407,354,295,233,195,165,129,79,73,5,28,28,60,{"v":2916,"d":"2,916"},210,220,{"v":1301,"d":"1,301"},88,null,null,{"v":5689,"d":"5,689"},921,519,{"v":1036,"d":"1,036"},{"v":2340,"d":"2,340"},874]
[{"$nulls":5},1312,"ISRAEL",6,{"v":8533,"d":"8,533"},85,92,98,102,96,107,138,142,138,130,126,127,127,122,130,134,136,130,127,124,623,680,671,614,641,610,532,442,350,292,247,194,119,109,7,42,42,90,{"v":4374,"d":"4,374"},315,331,{"v":1951,"d":"1,951"},133,null,null,{"v":8533,"d":"8,533"},{"v":1381,"d":"1,381"},778,{"v":1554,"d":"1,554"},{"v":3509,"d":"3,509"},{"v":1311,"d":"1,311"}]
[{"$nulls":5},7744,"P.S. VILLA JESUS",5.5,{"v":7822,"d":"7,822"},78,85,90,94,88,98,126,130,127,119,116,116,117,112,119,123,125,119,116,113,571,623,615,562,588,559,487,405,321,268,227,178,109,100,6,39,39,82,{"v":4009,"d":"4,009"},289,303,{"v":1789,"d":"1,789"},122,null,null,{"v":7822,"d":"7,822"},{"v":1266,"d":"1,266"},713,{"v":1424,"d":"1,424"},{"v":3217,"d":"3,217"},{"v":1201,"d":"1,201"}]
["040113","AREQUIPA","AREQUIPA","AREQUIPA","POCSI",{"$nulls":3},519,8,6,4,5,2,9,2,2,2,2,2,2,4,4,3,3,3,3,5,5,25,41,45,33,39,42,39,38,35,27,24,19,21,15,1,2,6,8,270,7,7,117,12,null,null,519,46,20,76,236,141]
[{"$nulls":5},1288,"PUESTO DE SALUD POCSI",56,291,4,3,2,3,1,5,1,1,1,1,1,1,2,2,2,2,2,2,3,3,14,23,25,18,22,24,22,21,20,15,13,11,12,8,1,1,3,4,151,4,4,66,7,null,null,291,26,11,43,132,79]
[{"$nulls":5},1289,"PUESTO DE SALUD PIACA",44,228,4,3,2,2,1,4,1,1,1,1,1,1,2,2,1,1,1,1,2,2,11,18,20,15,17,18,17,17,15,12,11,8,9,7,0,1,3,4,119,3,3,51,5,null,null,228,20,9,33,104,62]
["040114","AREQUIPA","AREQUIPA","AREQUIPA","POLOBAYA",{"$nulls":3},879,9,14,5,12,12,18,3,5,6,7,6,8,13,8,7,7,8,5,7,19,54,64,66,55,54,51,54,73,66,56,43,20,22,22,0,4,5,9,452,20,22,179,31,null,null,879,105,48,144,353,229]
[{"$nulls":5},1262,"PUESTO DE SALUD POLOBAYA",100,879,9,14,5,12,12,18,3,5,6,7,6,8,13,8,7,7,8,5,7,19,54,64,66,55,54,51,54,73,66,56,43,20,22,22,0,4,5,9,452,20,22,179,31,null,null,879,105,48,144,353,229]
["040115","AREQUIPA","AREQUIPA","AREQUIPA","QUEQUEÑA",{"$nulls":3},{"v":8714,"d":"8,714"},33,31,34,43,53,43,113,110,67,95,88,95,111,68,81,104,94,97,119,91,401,586,843,906,727,709,679,593,541,361,288,238,137,135,1,14,19,35,{"v":4314,"d":"4,314"},207,251,{"v":2166,"d":"2,166"},65,null,null,{"v":8714,"d":"8,714"},805,555,{"v":1197,"d":"1,197"},{"v":4457,"d":"4,457"},{"v":1700,"d":"1,700"}]
[{"$nulls":5},1286,"PUESTO DE SALUD QUEQUEÑA",100,{"v":8714,"d":"8,714"},33,31,34,43,53,43,113,110,67,95,88,95,111,68,81,104,94,97,119,91,401,586,843,906,727,709,679,593,541,361,288,238,137,135,1,14,19,35,{"v":4314,"d":"4,314"},207,251,{"v":2166,"d":"2,166"},65,null,null,{"v":8714,"d":"8,714"},805,555,{"v":1197,"d":"1,197"},{"v":4457,"d":"4,457"},{"v":1700,"d":"1,700"}]
["040116","AREQUIPA","AREQUIPA","AREQUIPA","SABANDIA",{"$nulls":3},{"v":5167,"d":"5,167"},49,56,68,61,98,93,76,72,89,63,61,70,74,64,68,75,70,64,67,61,344,403,369,403,388,366,309,266,220,194,190,131,104,81,1,20,29,52,{"v":2634,"d":"2,634"},167,170,{"v":1168,"d":"1,168"},61,null,null,{"v":5167,"d":"5,167"},856,415,875,{"v":2101,"d":"2,101"},920]
[{"$nulls":5},1284,"PUESTO DE SALUD LEOPOLDO RONDON - SABANDIA",100,{"v":5167,"d":"5,167"},49,56,68,61,98,93,76,72,89,63,61,70,74,64,68,75,70,64,67,61,344,403,369,403,388,366,309,266,220,194,190,131,104,81,1,20,29,52,{"v":2634,"d":"2,634"},167,170,{"v":1168,"d":"1,168"},61,null,null,{"v":5167,"d":"5,167"},856,415,875,{"v":2101,"d":"2,101"},920]
["040117","AREQUIPA","AREQUIPA","AREQUIPA","SACHACA",{"$nulls":3},{"v":31356,"d":"31,356"},329,311,337,342,361,440,508,525,499,465,379,446,466,470,450,479,456,478,453,450,{"v":2298,"d":"2,298"},{"v":2323,"d":"2,323"},{"v":2420,"d":"2,420"},{"v":2189,"d":"2,189"},{"v":2283,"d":"2,283"},{"v":2135,"d":"2,135"},{"v":1859,"d":"1,859"},{"v":1708,"d":"1,708"},{"v":1479,"d":"1,479"},{"v":1302,"d":"1,302"},{"v":1045,"d":"1,045"},759,463,449,23,166,163,348,{"v":15963,"d":"15,963"},{"v":1073,"d":"1,073"},{"v":1169,"d":"1,169"},{"v":6894,"d":"6,894"},700,null,null,{"v":31356,"d":"31,356"},{"v":4942,"d":"4,942"},{"v":2799,"d":"2,799"},{"v":5524,"d":"5,524"},{"v":12594,"d":"12,594"},{"v":5497,"d":"5,497"}]
[{"$nulls":5},1282,"PUESTO DE SALUD SACHACA",65,{"v":20381,"d":"20,381"},214,202,219,222,235,286,330,341,324,302,246,290,303,305,292,311,296,311,294,292,{"v":1494,"d":"1,494"},{"v":1510,"d":"1,510"},{"v":1573,"d":"1,573"},{"v":1423,"d":"1,423"},{"v":1484,"d":"1,484"},{"v":1388,"d":"1,388"},{"v":1208,"d":"1,208"},{"v":1110,"d":"1,110"},961,846,679,493,301,292,15,108,106,226,{"v":10376,"d":"10,376"},697,760,{"v":4481,"d":"4,481"},455,null,null,{"v":20381,"d":"20,381"},{"v":3212,"d":"3,212"},{"v":1819,"d":"1,819"},{"v":3591,"d":"3,591"},{"v":8186,"d":"8,186"},{"v":3573,"d":"3,573"}]
[{"$nulls":5},1283,"PUESTO DE SALUD PAMPA DE CAMARONES",35,{"v":10975,"d":"10,975"},115,109,118,120,126,154,178,184,175,163,133,156,163,165,158,168,160,167,159,158,804,813,847,766,799,747,651,598,518,456,366,266,162,157,8,58,57,122,{"v":5587,"d":"5,587"},376,409,{"v":2413,"d":"2,413"},245,null,null,{"v":10975,"d":"10,975"},{"v":1730,"d":"1,730"},980,{"v":1933,"d":"1,933"},{"v":4408,"d":"4,408"},{"v":1924,"d":"1,924"}]
["040118","AREQUIPA","AREQUIPA","AREQUIPA","SAN JUAN DE SIGUAS",{"$nulls":3},593,4,5,4,10,11,9,4,7,4,6,9,9,9,3,3,3,11,5,7,6,40,43,47,36,43,33,47,46,36,37,24,14,7,11,0,2,2,4,333,22,18,135,9,null,null,593,82,34,96,252,129]
[{"$nulls":5},1339,"PUESTO DE SALUD SAN JUAN DE SIGUAS - TAMBILLO",100,593,4,5,4,10,11,9,4,7,4,6,9,9,9,3,3,3,11,5,7,6,40,43,47,36,43,33,47,46,36,37,24,14,7,11,0,2,2,4,333,22,18,135,9,null,null,593,82,34,96,252,129]
["040119","AREQUIPA","AREQUIPA","AREQUIPA","SAN JUAN DE TARUCANI",{"$nulls":3},{"v":1363,"d":"1,363"},14,16,16,27,17,27,7,10,9,9,10,6,6,21,6,17,9,15,13,13,69,98,97,108,128,104,96,106,82,64,47,35,31,30,2,5,9,15,715,23,34,337,20,null,null,{"v":1363,"d":"1,363"},168,74,193,639,289]
[{"$nulls":5},1319,"PUESTO DE SALUD SAN JUAN DE TARUCANI",80,{"v":1090,"d":"1,090"},11,13,13,22,14,22,6,8,7,7,8,5,5,17,5,14,7,12,10,10,55,78,78,86,102,83,77,85,66,51,38,28,25,24,2,4,7,12,572,18,27,270,16,null,null,{"v":1090,"d":"1,090"},134,59,154,511,231]
[{"$nulls":5},1321,"PUESTO DE SALUD SALINAS HUITO",20,273,3,3,3,5,3,5,1,2,2,2,2,1,1,4,1,3,2,3,3,3,14,20,19,22,26,21,19,21,16,13,9,7,6,6,0,1,2,3,143,5,7,67,4,null,null,273,34,15,39,128,58]
["040120","AREQUIPA","AREQUIPA","AREQUIPA","SANTA ISABEL DE SIGUAS",{"$nulls":3},705,6,9,2,6,4,13,10,11,9,6,10,10,9,12,2,10,10,15,6,9,52,48,53,35,37,46,52,46,46,38,26,23,18,16,0,6,0,6,379,29,25,147,7,null,null,705,96,58,115,269,167]
[{"$nulls":5},1336,"SANTA ISABEL DE SIGUAS",74,521,4,7,2,4,2,9,8,9,7,4,8,8,7,8,2,8,8,11,4,7,38,36,39,25,27,34,38,34,34,28,20,17,14,12,0,4,0,4,281,21,19,109,5,null,null,521,72,42,85,199,123]
[{"$nulls":5},1378,"PUESTO DE SALUD SONDOR",13,92,1,1,0,1,1,2,1,1,1,1,1,1,1,2,0,1,1,2,1,1,7,6,7,5,5,6,7,6,6,5,3,3,2,2,0,1,0,1,49,4,3,19,1,null,null,92,12,8,15,35,22]
[{"$nulls":5},1337,"PUESTO DE SALUD PITAY",13,92,1,1,0,1,1,2,1,1,1,1,1,1,1,2,0,1,1,2,1,1,7,6,7,5,5,6,7,6,6,5,3,3,2,2,0,1,0,1,49,4,3,19,1,null,null,92,12,8,15,35,22]
["040121","AREQUIPA","AREQUIPA","AREQUIPA","SANTA RITA DE SIGUAS",{"$nulls":3},{"v":8708,"d":"8,708"},83,72,89,96,111,110,165,176,140,139,142,138,145,147,132,163,129,130,137,157,713,887,912,791,682,504,395,385,314,177,147,97,58,45,6,40,43,88,{"v":4473,"d":"4,473"},359,371,{"v":2317,"d":"2,317"},155,null,null,{"v":8708,"d":"8,708"},{"v":1461,"d":"1,461"},846,{"v":1894,"d":"1,894"},{"v":3669,"d":"3,669"},838]
[{"$nulls":5},1335,"CENTRO  DE SALUD SANTA RITA DE SIGUAS",100,{"v":8708,"d":"8,708"},83,72,89,96,111,110,165,176,140,139,142,138,145,147,132,163,129,130,137,157,713,887,912,791,682,504,395,385,314,177,147,97,58,45,6,40,43,88,{"v":4473,"d":"4,473"},359,371,{"v":2317,"d":"2,317"},155,null,null,{"v":8708,"d":"8,708"},{"v":1461,"d":"1,461"},846,{"v":1894,"d":"1,894"},{"v":3669,"d":"3,669"},838]
["040122","AREQUIPA","AREQUIPA","AREQUIPA","SOCABAYA",{"$nulls":3},{"v":91133,"d":"91,133"},722,680,728,649,766,946,{"v":1400,"d":"1,400"},{"v":1467,"d":"1,467"},{"v":1472,"d":"1,472"},{"v":1476,"d":"1,476"},{"v":1247,"d":"1,247"},{"v":1386,"d":"1,386"},{"v":1366,"d":"1,366"},{"v":1404,"d":"1,404"},{"v":1281,"d":"1,281"},{"v":1393,"d":"1,393"},{"v":1500,"d":"1,500"},{"v":1395,"d":"1,395"},{"v":1449,"d":"1,449"},{"v":1419,"d":"1,419"},{"v":7238,"d":"7,238"},{"v":7799,"d":"7,799"},{"v":7445,"d":"7,445"},{"v":6681,"d":"6,681"},{"v":6788,"d":"6,788"},{"v":6350,"d":"6,350"},{"v":5375,"d":"5,375"},{"v":4965,"d":"4,965"},{"v":4280,"d":"4,280"},{"v":3579,"d":"3,579"},{"v":2610,"d":"2,610"},{"v":1828,"d":"1,828"},{"v":1052,"d":"1,052"},997,55,382,340,766,{"v":46099,"d":"46,099"},{"v":3376,"d":"3,376"},{"v":3535,"d":"3,535"},{"v":21293,"d":"21,293"},{"v":1514,"d":"1,514"},null,null,{"v":91133,"d":"91,133"},{"v":12939,"d":"12,939"},{"v":8339,"d":"8,339"},{"v":17905,"d":"17,905"},{"v":37604,"d":"37,604"},{"v":14346,"d":"14,346"}]
[{"$nulls":5},1258,"CENTRO DE SALUD SAN MARTIN DE SOCABAYA",21,{"v":19138,"d":"19,138"},151,142,153,136,160,199,294,308,309,310,261,291,286,295,269,292,315,293,304,298,{"v":1520,"d":"1,520"},{"v":1637,"d":"1,637"},{"v":1564,"d":"1,564"},{"v":1403,"d":"1,403"},{"v":1425,"d":"1,425"},{"v":1333,"d":"1,333"},{"v":1128,"d":"1,128"},{"v":1043,"d":"1,043"},898,751,547,384,222,208,11,81,72,160,{"v":9680,"d":"9,680"},709,742,{"v":4471,"d":"4,471"},318,null,null,{"v":19138,"d":"19,138"},{"v":2717,"d":"2,717"},{"v":1751,"d":"1,751"},{"v":3760,"d":"3,760"},{"v":7897,"d":"7,897"},{"v":3013,"d":"3,013"}]
[{"$nulls":5},1269,"PUESTO DE SALUD CIUDAD MI TRABAJO",16,{"v":14581,"d":"14,581"},116,109,116,104,123,151,224,235,236,236,200,222,219,225,205,223,240,223,232,227,{"v":1158,"d":"1,158"},{"v":1248,"d":"1,248"},{"v":1191,"d":"1,191"},{"v":1069,"d":"1,069"},{"v":1086,"d":"1,086"},{"v":1016,"d":"1,016"},860,794,685,573,418,292,168,160,9,61,54,123,{"v":7376,"d":"7,376"},540,566,{"v":3407,"d":"3,407"},242,null,null,{"v":14581,"d":"14,581"},{"v":2070,"d":"2,070"},{"v":1334,"d":"1,334"},{"v":2865,"d":"2,865"},{"v":6017,"d":"6,017"},{"v":2295,"d":"2,295"}]
[{"$nulls":5},1270,"PUESTO DE SALUD LARA",16,{"v":14581,"d":"14,581"},116,109,116,104,123,151,224,235,236,236,200,222,219,225,205,223,240,223,232,227,{"v":1158,"d":"1,158"},{"v":1248,"d":"1,248"},{"v":1191,"d":"1,191"},{"v":1069,"d":"1,069"},{"v":1086,"d":"1,086"},{"v":1016,"d":"1,016"},860,794,685,573,418,292,168,160,9,61,54,123,{"v":7376,"d":"7,376"},540,566,{"v":3407,"d":"3,407"},242,null,null,{"v":14581,"d":"14,581"},{"v":2070,"d":"2,070"},{"v":1334,"d":"1,334"},{"v":2865,"d":"2,865"},{"v":6017,"d":"6,017"},{"v":2295,"d":"2,295"}]
[{"$nulls":5},1271,"CENTRO DE SALUD SAN FERNANDO",6,{"v":5468,"d":"5,468"},43,41,44,39,46,57,84,88,88,89,75,83,82,84,77,84,90,84,87,85,434,468,447,401,407,381,323,298,257,215,157,110,63,60,3,23,20,46,{"v":2766,"d":"2,766"},203,212,{"v":1278,"d":"1,278"},91,null,null,{"v":5468,"d":"5,468"},776,500,{"v":1074,"d":"1,074"},{"v":2256,"d":"2,256"},861]
[{"$nulls":5},1272,"PUESTO DE SALUD SALAVERRY",12,{"v":10936,"d":"10,936"},87,82,87,78,92,114,168,176,177,177,150,166,164,168,154,167,180,167,174,170,869,936,893,802,815,762,645,596,514,429,313,219,126,120,7,46,41,92,{"v":5532,"d":"5,532"},405,424,{"v":2555,"d":"2,555"},182,null,null,{"v":10936,"d":"10,936"},{"v":1553,"d":"1,553"},{"v":1001,"d":"1,001"},{"v":2149,"d":"2,149"},{"v":4512,"d":"4,512"},{"v":1722,"d":"1,722"}]
[{"$nulls":5},1268,"CENTRO DE SALUD 4 DE OCTUBRE",20,{"v":18227,"d":"18,227"},144,136,146,130,153,189,280,293,294,295,249,277,273,281,256,279,300,279,290,284,{"v":1448,"d":"1,448"},{"v":1560,"d":"1,560"},{"v":1489,"d":"1,489"},{"v":1336,"d":"1,336"},{"v":1358,"d":"1,358"},{"v":1270,"d":"1,270"},{"v":1075,"d":"1,075"},993,856,716,522,366,210,199,11,76,68,153,{"v":9220,"d":"9,220"},675,707,{"v":4259,"d":"4,259"},303,null,null,{"v":18227,"d":"18,227"},{"v":2588,"d":"2,588"},{"v":1668,"d":"1,668"},{"v":3581,"d":"3,581"},{"v":7521,"d":"7,521"},{"v":2869,"d":"2,869"}]
[{"$nulls":5},23338,"PUESTO DE SALUD HORACIO ZEBALLOS GÁMEZ",9,{"v":8202,"d":"8,202"},65,61,66,58,69,85,126,132,132,133,112,125,123,126,115,125,135,126,130,128,651,702,670,601,611,572,484,447,385,322,235,165,95,90,5,34,31,69,{"v":4149,"d":"4,149"},304,318,{"v":1916,"d":"1,916"},136,null,null,{"v":8202,"d":"8,202"},{"v":1165,"d":"1,165"},751,{"v":1611,"d":"1,611"},{"v":3384,"d":"3,384"},{"v":1291,"d":"1,291"}]
["040123","AREQUIPA","AREQUIPA","AREQUIPA","TIABAYA",{"$nulls":3},{"v":19046,"d":"19,046"},233,225,266,243,229,297,293,358,286,278,229,258,298,245,269,264,257,292,241,267,{"v":1382,"d":"1,382"},{"v":1626,"d":"1,626"},{"v":1620,"d":"1,620"},{"v":1469,"d":"1,469"},{"v":1435,"d":"1,435"},{"v":1260,"d":"1,260"},{"v":1050,"d":"1,050"},995,813,645,526,398,245,254,20,110,123,247,{"v":9838,"d":"9,838"},664,699,{"v":4414,"d":"4,414"},435,null,null,{"v":19046,"d":"19,046"},{"v":3195,"d":"3,195"},{"v":1625,"d":"1,625"},{"v":3516,"d":"3,516"},{"v":7829,"d":"7,829"},{"v":2881,"d":"2,881"}]
[{"$nulls":5},1260,"CENTRO DE SALUD TIABAYA",100,{"v":19046,"d":"19,046"},233,225,266,243,229,297,293,358,286,278,229,258,298,245,269,264,257,292,241,267,{"v":1382,"d":"1,382"},{"v":1626,"d":"1,626"},{"v":1620,"d":"1,620"},{"v":1469,"d":"1,469"},{"v":1435,"d":"1,435"},{"v":1260,"d":"1,260"},{"v":1050,"d":"1,050"},995,813,645,526,398,245,254,20,110,123,247,{"v":9838,"d":"9,838"},664,699,{"v":4414,"d":"4,414"},435,null,null,{"v":19046,"d":"19,046"},{"v":3195,"d":"3,195"},{"v":1625,"d":"1,625"},{"v":3516,"d":"3,516"},{"v":7829,"d":"7,829"},{"v":2881,"d":"2,881"}]
["040124","AREQUIPA","AREQUIPA","AREQUIPA","UCHUMAYO",{"$nulls":3},{"v":18741,"d":"18,741"},182,203,215,229,197,252,305,293,276,254,248,251,286,242,230,258,260,249,266,251,{"v":1212,"d":"1,212"},{"v":1631,"d":"1,631"},{"v":1660,"d":"1,660"},{"v":1627,"d":"1,627"},{"v":1608,"d":"1,608"},{"v":1361,"d":"1,361"},{"v":1099,"d":"1,099"},{"v":1008,"d":"1,008"},832,672,459,314,185,126,8,73,109,193,{"v":9878,"d":"9,878"},690,691,{"v":4667,"d":"4,667"},551,null,null,{"v":18741,"d":"18,741"},{"v":2905,"d":"2,905"},{"v":1525,"d":"1,525"},{"v":3360,"d":"3,360"},{"v":8363,"d":"8,363"},{"v":2588,"d":"2,588"}]
[{"$nulls":5},1280,"CERRO VERDE",43.5,{"v":8153,"d":"8,153"},79,89,93,99,85,109,132,128,120,111,108,109,125,106,100,112,113,109,115,109,527,710,722,707,700,592,478,439,362,293,199,136,81,55,4,32,48,84,{"v":4297,"d":"4,297"},300,300,{"v":2030,"d":"2,030"},239,null,null,{"v":8153,"d":"8,153"},{"v":1263,"d":"1,263"},664,{"v":1461,"d":"1,461"},{"v":3638,"d":"3,638"},{"v":1126,"d":"1,126"}]
[{"$nulls":5},1281,"CONGATA",43.5,{"v":8152,"d":"8,152"},79,88,94,100,86,110,133,127,120,110,108,109,124,105,100,112,113,108,116,109,527,709,722,708,699,592,478,438,362,292,200,137,80,55,3,32,47,84,{"v":4297,"d":"4,297"},300,301,{"v":2030,"d":"2,030"},240,null,null,{"v":8152,"d":"8,152"},{"v":1264,"d":"1,264"},663,{"v":1462,"d":"1,462"},{"v":3638,"d":"3,638"},{"v":1126,"d":"1,126"}]
[{"$nulls":5},1290,"UCHUMAYO",13,{"v":2436,"d":"2,436"},24,26,28,30,26,33,40,38,36,33,32,33,37,31,30,34,34,32,35,33,158,212,216,212,209,177,143,131,108,87,60,41,24,16,1,9,14,25,{"v":1284,"d":"1,284"},90,90,607,72,null,null,{"v":2436,"d":"2,436"},378,198,437,{"v":1087,"d":"1,087"},336]
["040125","AREQUIPA","AREQUIPA","AREQUIPA","VITOR",{"$nulls":3},{"v":5439,"d":"5,439"},41,35,49,36,38,36,60,87,70,73,62,67,72,97,77,97,92,103,98,93,420,464,434,419,384,332,306,329,289,235,175,105,83,81,3,21,20,43,{"v":2820,"d":"2,820"},207,260,{"v":1307,"d":"1,307"},101,null,null,{"v":5439,"d":"5,439"},654,538,{"v":1075,"d":"1,075"},{"v":2204,"d":"2,204"},968]
[{"$nulls":5},1324,"CENTRO DE SALUD VITOR",80,{"v":4351,"d":"4,351"},33,28,39,29,30,29,48,70,56,58,50,54,58,78,62,78,74,82,78,74,336,371,347,335,307,266,245,263,231,188,140,84,66,65,2,17,16,34,{"v":2256,"d":"2,256"},166,208,{"v":1046,"d":"1,046"},81,null,null,{"v":4351,"d":"4,351"},523,430,860,{"v":1763,"d":"1,763"},774]
[{"$nulls":5},1334,"PUESTO DE SALUD YURAMAYO",20,{"v":1088,"d":"1,088"},8,7,10,7,8,7,12,17,14,15,12,13,14,19,15,19,18,21,20,19,84,93,87,84,77,66,61,66,58,47,35,21,17,16,1,4,4,9,564,41,52,261,20,null,null,{"v":1088,"d":"1,088"},131,108,215,441,194]
["040126","AREQUIPA","AREQUIPA","AREQUIPA","YANAHUARA",{"$nulls":3},{"v":30442,"d":"30,442"},320,286,181,228,304,417,386,369,403,417,366,331,352,342,340,331,365,328,360,369,{"v":1676,"d":"1,676"},{"v":1923,"d":"1,923"},{"v":2069,"d":"2,069"},{"v":1938,"d":"1,938"},{"v":2067,"d":"2,067"},{"v":2197,"d":"2,197"},{"v":2067,"d":"2,067"},{"v":1998,"d":"1,998"},{"v":1911,"d":"1,911"},{"v":1633,"d":"1,633"},{"v":1439,"d":"1,439"},{"v":1105,"d":"1,105"},760,864,22,165,155,339,{"v":15020,"d":"15,020"},752,767,{"v":5869,"d":"5,869"},576,null,null,{"v":30442,"d":"30,442"},{"v":4008,"d":"4,008"},{"v":2058,"d":"2,058"},{"v":4328,"d":"4,328"},{"v":12336,"d":"12,336"},{"v":7712,"d":"7,712"}]
[{"$nulls":5},1233,"CENTRO DE SALUD YANAHUARA",38,{"v":11568,"d":"11,568"},122,109,69,87,116,158,147,140,153,158,139,126,134,130,129,126,139,125,137,140,637,731,786,736,785,835,785,759,726,621,547,420,289,328,8,63,59,129,{"v":5708,"d":"5,708"},286,291,{"v":2230,"d":"2,230"},219,null,null,{"v":11568,"d":"11,568"},{"v":1523,"d":"1,523"},782,{"v":1645,"d":"1,645"},{"v":4688,"d":"4,688"},{"v":2931,"d":"2,931"}]
[{"$nulls":5},1241,"PUESTO DE SALUD SUMBAY - CHASQUIPAMPA",4,{"v":1218,"d":"1,218"},13,11,7,9,12,17,15,15,16,17,15,13,14,14,14,13,15,13,14,15,67,77,83,78,83,88,83,80,76,65,58,44,30,35,1,7,6,14,601,30,31,235,23,null,null,{"v":1218,"d":"1,218"},160,82,173,493,308]
[{"$nulls":6},"NO MINSA",58,{"v":17656,"d":"17,656"},185,166,105,132,176,242,224,214,234,242,212,192,204,198,197,192,211,190,209,214,972,{"v":1115,"d":"1,115"},{"v":1200,"d":"1,200"},{"v":1124,"d":"1,124"},{"v":1199,"d":"1,199"},{"v":1274,"d":"1,274"},{"v":1199,"d":"1,199"},{"v":1159,"d":"1,159"},{"v":1109,"d":"1,109"},947,834,641,441,501,13,95,90,196,{"v":8711,"d":"8,711"},436,445,{"v":3404,"d":"3,404"},334,null,null,{"v":17656,"d":"17,656"},{"v":2325,"d":"2,325"},{"v":1194,"d":"1,194"},{"v":2510,"d":"2,510"},{"v":7155,"d":"7,155"},{"v":4473,"d":"4,473"}]
["040127","AREQUIPA","AREQUIPA","AREQUIPA","YARABAMBA",{"$nulls":3},{"v":1986,"d":"1,986"},42,36,46,42,33,36,15,21,17,14,16,18,13,16,11,20,16,17,28,19,116,167,196,155,155,163,122,117,97,70,63,35,25,29,4,20,22,44,{"v":1094,"d":"1,094"},46,55,515,90,null,null,{"v":1986,"d":"1,986"},336,93,330,908,319]
[{"$nulls":5},1287,"PUESTO DE SALUD YARABAMBA",100,{"v":1986,"d":"1,986"},42,36,46,42,33,36,15,21,17,14,16,18,13,16,11,20,16,17,28,19,116,167,196,155,155,163,122,117,97,70,63,35,25,29,4,20,22,44,{"v":1094,"d":"1,094"},46,55,515,90,null,null,{"v":1986,"d":"1,986"},336,93,330,908,319]
["040128","AREQUIPA","AREQUIPA","AREQUIPA","YURA",{"$nulls":3},{"v":47948,"d":"47,948"},575,582,569,614,625,798,997,927,909,779,808,782,771,773,733,780,701,792,861,763,{"v":3942,"d":"3,942"},{"v":4609,"d":"4,609"},{"v":4675,"d":"4,675"},{"v":3908,"d":"3,908"},{"v":3348,"d":"3,348"},{"v":2871,"d":"2,871"},{"v":2358,"d":"2,358"},{"v":2097,"d":"2,097"},{"v":1631,"d":"1,631"},{"v":1309,"d":"1,309"},910,575,307,269,60,281,294,609,{"v":24138,"d":"24,138"},{"v":1903,"d":"1,903"},{"v":1942,"d":"1,942"},{"v":12022,"d":"12,022"},{"v":1234,"d":"1,234"},null,null,{"v":47948,"d":"47,948"},{"v":8965,"d":"8,965"},{"v":4550,"d":"4,550"},{"v":10175,"d":"10,175"},{"v":19257,"d":"19,257"},{"v":5001,"d":"5,001"}]
[{"$nulls":5},1253,"CENTRO DE SALUD CIUDAD DE DIOS",85,{"v":40756,"d":"40,756"},489,495,484,522,531,678,847,788,773,662,687,665,655,657,623,663,596,673,732,649,{"v":3351,"d":"3,351"},{"v":3918,"d":"3,918"},{"v":3974,"d":"3,974"},{"v":3322,"d":"3,322"},{"v":2846,"d":"2,846"},{"v":2440,"d":"2,440"},{"v":2004,"d":"2,004"},{"v":1782,"d":"1,782"},{"v":1386,"d":"1,386"},{"v":1113,"d":"1,113"},773,489,261,229,51,239,250,518,{"v":20517,"d":"20,517"},{"v":1618,"d":"1,618"},{"v":1651,"d":"1,651"},{"v":10219,"d":"10,219"},{"v":1049,"d":"1,049"},null,null,{"v":40756,"d":"40,756"},{"v":7620,"d":"7,620"},{"v":3867,"d":"3,867"},{"v":8649,"d":"8,649"},{"v":16368,"d":"16,368"},{"v":4251,"d":"4,251"}]
[{"$nulls":5},1254,"PUESTO DE SALUD YURA",15,{"v":7192,"d":"7,192"},86,87,85,92,94,120,150,139,136,117,121,117,116,116,110,117,105,119,129,114,591,691,701,586,502,431,354,315,245,196,137,86,46,40,9,42,44,91,{"v":3621,"d":"3,621"},285,291,{"v":1803,"d":"1,803"},185,null,null,{"v":7192,"d":"7,192"},{"v":1345,"d":"1,345"},683,{"v":1526,"d":"1,526"},{"v":2889,"d":"2,889"},750]
["040129","AREQUIPA","AREQUIPA","AREQUIPA","JOSE LUIS BUSTAMANTE Y RIVERO",{"$nulls":3},{"v":90468,"d":"90,468"},642,716,703,784,751,953,{"v":1238,"d":"1,238"},{"v":1294,"d":"1,294"},{"v":1326,"d":"1,326"},{"v":1218,"d":"1,218"},{"v":1134,"d":"1,134"},{"v":1143,"d":"1,143"},{"v":1260,"d":"1,260"},{"v":1076,"d":"1,076"},{"v":1234,"d":"1,234"},{"v":1250,"d":"1,250"},{"v":1247,"d":"1,247"},{"v":1277,"d":"1,277"},{"v":1234,"d":"1,234"},{"v":1246,"d":"1,246"},{"v":6506,"d":"6,506"},{"v":7118,"d":"7,118"},{"v":7317,"d":"7,317"},{"v":6478,"d":"6,478"},{"v":6738,"d":"6,738"},{"v":6326,"d":"6,326"},{"v":5602,"d":"5,602"},{"v":5117,"d":"5,117"},{"v":4525,"d":"4,525"},{"v":3744,"d":"3,744"},{"v":3433,"d":"3,433"},{"v":2627,"d":"2,627"},{"v":1657,"d":"1,657"},{"v":1554,"d":"1,554"},44,313,329,681,{"v":45908,"d":"45,908"},{"v":2846,"d":"2,846"},{"v":3105,"d":"3,105"},{"v":20175,"d":"20,175"},{"v":1764,"d":"1,764"},null,null,{"v":90468,"d":"90,468"},{"v":11902,"d":"11,902"},{"v":7344,"d":"7,344"},{"v":16104,"d":"16,104"},{"v":37578,"d":"37,578"},{"v":17540,"d":"17,540"}]
[{"$nulls":5},1257,"VICTOR RAUL HINOJOSA",57,{"v":51566,"d":"51,566"},366,408,401,447,428,544,706,738,755,694,647,652,719,613,704,712,710,727,704,710,{"v":3708,"d":"3,708"},{"v":4057,"d":"4,057"},{"v":4171,"d":"4,171"},{"v":3692,"d":"3,692"},{"v":3841,"d":"3,841"},{"v":3605,"d":"3,605"},{"v":3194,"d":"3,194"},{"v":2917,"d":"2,917"},{"v":2578,"d":"2,578"},{"v":2135,"d":"2,135"},{"v":1957,"d":"1,957"},{"v":1497,"d":"1,497"},944,886,26,179,187,389,{"v":26167,"d":"26,167"},{"v":1622,"d":"1,622"},{"v":1769,"d":"1,769"},{"v":11499,"d":"11,499"},{"v":1006,"d":"1,006"},null,null,{"v":51566,"d":"51,566"},{"v":6785,"d":"6,785"},{"v":4187,"d":"4,187"},{"v":9179,"d":"9,179"},{"v":21419,"d":"21,419"},{"v":9997,"d":"9,997"}]
[{"$nulls":5},1263,"PUESTO DE SALUD 13 DE ENERO",19,{"v":17189,"d":"17,189"},122,136,134,149,143,181,235,246,252,231,215,217,239,204,234,238,237,243,234,237,{"v":1236,"d":"1,236"},{"v":1352,"d":"1,352"},{"v":1390,"d":"1,390"},{"v":1231,"d":"1,231"},{"v":1280,"d":"1,280"},{"v":1202,"d":"1,202"},{"v":1064,"d":"1,064"},972,860,711,652,499,315,295,8,59,63,129,{"v":8723,"d":"8,723"},541,590,{"v":3833,"d":"3,833"},335,null,null,{"v":17189,"d":"17,189"},{"v":2261,"d":"2,261"},{"v":1395,"d":"1,395"},{"v":3060,"d":"3,060"},{"v":7140,"d":"7,140"},{"v":3333,"d":"3,333"}]
[{"$nulls":5},1264,"CENTRO DE SALUD LAS ESMERALDAS",14,{"v":12666,"d":"12,666"},90,100,98,110,105,133,173,181,186,171,159,160,176,151,173,175,175,179,173,174,911,997,{"v":1024,"d":"1,024"},907,943,886,784,716,634,524,481,368,232,218,6,44,46,95,{"v":6427,"d":"6,427"},398,435,{"v":2825,"d":"2,825"},247,null,null,{"v":12666,"d":"12,666"},{"v":1666,"d":"1,666"},{"v":1028,"d":"1,028"},{"v":2255,"d":"2,255"},{"v":5261,"d":"5,261"},{"v":2456,"d":"2,456"}]
[{"$nulls":5},1267,"CERRO JULI",10,{"v":9047,"d":"9,047"},64,72,70,78,75,95,124,129,133,122,113,114,126,108,123,125,125,128,123,125,651,712,732,648,674,633,560,512,453,374,343,263,166,155,4,31,33,68,{"v":4591,"d":"4,591"},285,311,{"v":2018,"d":"2,018"},176,null,null,{"v":9047,"d":"9,047"},{"v":1190,"d":"1,190"},734,{"v":1610,"d":"1,610"},{"v":3758,"d":"3,758"},{"v":1754,"d":"1,754"}]
[{"$nulls":5},1266,"FELIX NAQUIRA VILDOSO",0,0,0,0,0,0,0,0,0,0,0,0,0,0,0,0,0,0,0,0,0,0,0,0,0,0,0,0,0,0,0,0,0,0,0,0,0,0,0,0,0,0,0,0,0,null,null,0,0,0,0,0,0]
[{"$nulls":5},1265,"HUGO LUMBRERAS CRUZ",0,0,0,0,0,0,0,0,0,0,0,0,0,0,0,0,0,0,0,0,0,0,0,0,0,0,0,0,0,0,0,0,0,0,0,0,0,0,0,0,0,0,0,0,0,null,null,0,0,0,0,0,0]
["040201","AREQUIPA","AREQUIPA","CAMANA","CAMANA",{"$nulls":3},{"v":15591,"d":"15,591"},133,157,100,82,36,19,224,252,260,217,252,203,238,238,257,297,257,282,248,254,{"v":1252,"d":"1,252"},{"v":1213,"d":"1,213"},{"v":1172,"d":"1,172"},954,954,{"v":1020,"d":"1,020"},{"v":1006,"d":"1,006"},957,923,675,549,388,275,247,13,69,64,141,{"v":8067,"d":"8,067"},592,705,{"v":3384,"d":"3,384"},263,null,null,{"v":15591,"d":"15,591"},{"v":1935,"d":"1,935"},{"v":1569,"d":"1,569"},{"v":2967,"d":"2,967"},{"v":6063,"d":"6,063"},{"v":3057,"d":"3,057"}]
[{"$nulls":5},1344,"HOSPITAL DE CAMANA",100,{"v":15591,"d":"15,591"},133,157,100,82,36,19,224,252,260,217,252,203,238,238,257,297,257,282,248,254,{"v":1252,"d":"1,252"},{"v":1213,"d":"1,213"},{"v":1172,"d":"1,172"},954,954,{"v":1020,"d":"1,020"},{"v":1006,"d":"1,006"},957,923,675,549,388,275,247,13,69,64,141,{"v":8067,"d":"8,067"},592,705,{"v":3384,"d":"3,384"},263,null,null,{"v":15591,"d":"15,591"},{"v":1935,"d":"1,935"},{"v":1569,"d":"1,569"},{"v":2967,"d":"2,967"},{"v":6063,"d":"6,063"},{"v":3057,"d":"3,057"}]
["040202","AREQUIPA","AREQUIPA","CAMANA","JOSE MARIA QUIMPER",{"$nulls":3},{"v":5930,"d":"5,930"},57,54,77,68,48,80,86,123,115,80,76,89,94,71,95,92,91,74,80,74,372,491,455,439,400,365,330,363,355,293,182,119,75,67,4,33,24,61,{"v":2977,"d":"2,977"},220,217,{"v":1300,"d":"1,300"},124,null,null,{"v":5930,"d":"5,930"},953,517,{"v":1017,"d":"1,017"},{"v":2352,"d":"2,352"},{"v":1091,"d":"1,091"}]
[{"$nulls":5},1355,"EL CARDO",10,593,6,5,8,7,5,8,9,12,12,8,8,9,9,7,10,9,9,7,8,7,37,49,46,44,40,37,33,36,36,29,18,12,8,7,0,3,2,6,298,22,22,130,12,null,null,593,95,52,102,235,109]
[{"$nulls":5},1354,"PUESTO DE SALUD LUIS FERNANDEZ CORTEGANA - HUACAPUY",45,{"v":2668,"d":"2,668"},25,25,34,30,21,36,38,56,51,36,34,40,43,32,42,42,41,34,36,34,168,221,204,197,180,164,148,164,159,132,82,53,33,30,2,15,11,28,{"v":1339,"d":"1,339"},99,97,585,56,null,null,{"v":2668,"d":"2,668"},429,232,457,{"v":1059,"d":"1,059"},491]
[{"$nulls":5},1356,"PUESTO DE SALUD EL PUENTE",45,{"v":2669,"d":"2,669"},26,24,35,31,22,36,39,55,52,36,34,40,42,32,43,41,41,33,36,33,167,221,205,198,180,164,149,163,160,132,82,54,34,30,2,15,11,27,{"v":1340,"d":"1,340"},99,98,585,56,null,null,{"v":2669,"d":"2,669"},429,233,458,{"v":1058,"d":"1,058"},491]
["040203","AREQUIPA","AREQUIPA","CAMANA","MARIANO NICOLAS VALCARCEL",{"$nulls":3},{"v":9441,"d":"9,441"},156,152,151,152,180,162,168,130,96,149,134,174,162,133,103,108,113,106,80,46,369,679,{"v":1101,"d":"1,101"},{"v":1030,"d":"1,030"},836,727,608,617,371,222,107,53,44,22,9,76,80,166,{"v":4739,"d":"4,739"},412,241,{"v":2588,"d":"2,588"},195,null,null,{"v":9441,"d":"9,441"},{"v":1804,"d":"1,804"},725,{"v":1174,"d":"1,174"},{"v":4919,"d":"4,919"},819]
[{"$nulls":5},1365,"PUESTO DE SALUD URASQUI",15,{"v":1416,"d":"1,416"},23,23,23,23,27,24,25,20,14,22,20,26,24,20,15,16,17,16,12,7,55,102,165,155,125,109,91,93,56,33,16,8,7,3,1,11,12,25,711,62,36,388,29,null,null,{"v":1416,"d":"1,416"},271,109,176,738,123]
[{"$nulls":5},18691,"PUESTO DE SALUD SECOCHA",75,{"v":7081,"d":"7,081"},117,114,113,114,135,122,126,97,72,112,101,131,122,100,78,81,85,79,60,34,277,509,826,772,627,545,456,462,278,167,80,40,33,17,7,57,60,124,{"v":3554,"d":"3,554"},309,181,{"v":1941,"d":"1,941"},146,null,null,{"v":7081,"d":"7,081"},{"v":1353,"d":"1,353"},543,881,{"v":3689,"d":"3,689"},614]
[{"$nulls":5},1366,"LA EUGENIA",10,944,16,15,15,15,18,16,17,13,10,15,13,17,16,13,10,11,11,11,8,5,37,68,110,103,84,73,61,62,37,22,11,5,4,2,1,8,8,17,474,41,24,259,20,null,null,944,180,73,117,492,82]
["040204","AREQUIPA","AREQUIPA","CAMANA","MARISCAL CACERES",{"$nulls":3},{"v":8409,"d":"8,409"},60,90,103,82,78,108,115,117,128,110,99,110,94,116,128,126,125,132,132,108,508,732,682,654,638,624,581,507,437,338,237,134,95,81,1,30,30,64,{"v":4269,"d":"4,269"},260,319,{"v":2016,"d":"2,016"},176,null,null,{"v":8409,"d":"8,409"},{"v":1200,"d":"1,200"},721,{"v":1480,"d":"1,480"},{"v":3686,"d":"3,686"},{"v":1322,"d":"1,322"}]
[{"$nulls":5},1345,"CENTRO DE SALUD SAN JOSE",20,{"v":1682,"d":"1,682"},12,18,21,16,16,22,23,23,26,22,20,22,19,23,26,25,25,26,26,22,102,146,136,131,128,125,116,101,87,68,47,27,19,16,0,6,6,13,854,52,64,403,35,null,null,{"v":1682,"d":"1,682"},240,144,296,737,264]
[{"$nulls":5},1353,"CENTRO DE SALUD PUCCHUN",80,{"v":6727,"d":"6,727"},48,72,82,66,62,86,92,94,102,88,79,88,75,93,102,101,100,106,106,86,406,586,546,523,510,499,465,406,350,270,190,107,76,65,1,24,24,51,{"v":3415,"d":"3,415"},208,255,{"v":1613,"d":"1,613"},141,null,null,{"v":6727,"d":"6,727"},960,577,{"v":1184,"d":"1,184"},{"v":2949,"d":"2,949"},{"v":1058,"d":"1,058"}]
["040205","AREQUIPA","AREQUIPA","CAMANA","NICOLAS DE PIEROLA",{"$nulls":3},{"v":9284,"d":"9,284"},69,73,91,93,81,121,129,168,154,139,117,147,153,165,134,144,155,141,149,137,620,695,721,678,651,621,594,577,507,371,284,197,110,98,6,30,39,73,{"v":4723,"d":"4,723"},348,357,{"v":2108,"d":"2,108"},153,null,null,{"v":9284,"d":"9,284"},{"v":1382,"d":"1,382"},892,{"v":1601,"d":"1,601"},{"v":3842,"d":"3,842"},{"v":1567,"d":"1,567"}]
[{"$nulls":5},1347,"CENTRO DE SALUD SAN GREGORIO",65,{"v":6034,"d":"6,034"},45,48,59,60,52,79,83,110,100,90,76,95,100,108,87,93,101,91,97,89,403,452,469,440,423,404,386,375,330,242,184,128,72,64,4,19,25,48,{"v":3070,"d":"3,070"},226,232,{"v":1370,"d":"1,370"},100,null,null,{"v":6034,"d":"6,034"},898,580,{"v":1041,"d":"1,041"},{"v":2497,"d":"2,497"},{"v":1019,"d":"1,019"}]
[{"$nulls":5},1360,"PUESTO DE SALUD HACIENDA DEL MEDIO",33,{"v":3064,"d":"3,064"},23,24,30,31,27,40,43,55,51,46,39,49,50,54,44,48,51,47,49,45,205,229,238,224,215,205,196,190,167,122,94,65,36,32,2,10,13,24,{"v":1559,"d":"1,559"},115,118,696,50,null,null,{"v":3064,"d":"3,064"},456,294,528,{"v":1268,"d":"1,268"},517]
[{"$nulls":5},1361,"SONAY",2,186,1,1,2,2,2,2,3,3,3,3,2,3,3,3,3,3,3,3,3,3,12,14,14,14,13,12,12,12,10,7,6,4,2,2,0,1,1,1,94,7,7,42,3,null,null,186,28,18,32,77,31]
["040206","AREQUIPA","AREQUIPA","CAMANA","OCOÑA",{"$nulls":3},{"v":4869,"d":"4,869"},38,41,52,48,47,67,70,75,65,46,48,55,53,66,70,78,72,95,62,57,281,368,295,320,345,319,343,336,324,245,207,121,81,79,3,16,22,40,{"v":2546,"d":"2,546"},158,199,{"v":1062,"d":"1,062"},106,null,null,{"v":4869,"d":"4,869"},652,434,768,{"v":1958,"d":"1,958"},{"v":1057,"d":"1,057"}]
[{"$nulls":5},1348,"CENTRO DE SALUD OCOÑA",78,{"v":3798,"d":"3,798"},29,32,40,38,37,52,54,59,50,36,38,43,41,51,54,61,56,74,49,44,219,287,230,250,269,249,268,262,252,191,162,95,63,61,3,13,17,31,{"v":1986,"d":"1,986"},123,155,829,83,null,null,{"v":3798,"d":"3,798"},508,339,599,{"v":1527,"d":"1,527"},824]
[{"$nulls":5},1363,"LA PLANCHADA",15,730,6,6,8,7,7,10,11,11,10,7,7,8,8,10,11,12,11,14,9,9,42,55,44,48,52,48,51,50,49,37,31,18,12,12,0,2,3,6,382,24,30,159,16,null,null,730,98,65,115,294,159]
[{"$nulls":5},1364,"PESCADORES",7,341,3,3,4,3,3,5,5,5,5,3,3,4,4,5,5,5,5,7,4,4,20,26,21,22,24,22,24,24,23,17,14,8,6,6,0,1,2,3,178,11,14,74,7,null,null,341,46,30,54,137,74]
["040207","AREQUIPA","AREQUIPA","CAMANA","QUILCA",{"$nulls":3},{"v":1441,"d":"1,441"},9,8,11,17,15,13,23,18,12,21,15,23,9,18,27,20,23,22,12,17,72,102,119,121,110,102,98,85,111,60,54,33,20,21,1,4,5,9,767,56,56,351,22,null,null,{"v":1441,"d":"1,441"},185,119,203,635,299]
[{"$nulls":5},1362,"PUESTO DE SALUD QUILCA",100,{"v":1441,"d":"1,441"},9,8,11,17,15,13,23,18,12,21,15,23,9,18,27,20,23,22,12,17,72,102,119,121,110,102,98,85,111,60,54,33,20,21,1,4,5,9,767,56,56,351,22,null,null,{"v":1441,"d":"1,441"},185,119,203,635,299]
["040208","AREQUIPA","AREQUIPA","CAMANA","SAMUEL PASTOR",{"$nulls":3},{"v":18401,"d":"18,401"},176,184,195,256,250,305,333,325,324,288,275,311,315,270,281,310,314,308,306,274,{"v":1388,"d":"1,388"},{"v":1546,"d":"1,546"},{"v":1465,"d":"1,465"},{"v":1384,"d":"1,384"},{"v":1286,"d":"1,286"},{"v":1217,"d":"1,217"},{"v":1120,"d":"1,120"},990,847,578,401,264,155,160,14,89,87,187,{"v":9391,"d":"9,391"},731,750,{"v":4330,"d":"4,330"},319,null,null,{"v":18401,"d":"18,401"},{"v":3222,"d":"3,222"},{"v":1798,"d":"1,798"},{"v":3514,"d":"3,514"},{"v":7462,"d":"7,462"},{"v":2405,"d":"2,405"}]
[{"$nulls":5},1346,"LA PAMPA",33,{"v":6072,"d":"6,072"},58,61,64,84,83,101,110,107,107,95,91,103,104,89,93,102,104,102,101,90,458,510,483,457,424,402,370,327,280,191,132,87,51,53,5,29,29,62,{"v":3099,"d":"3,099"},241,248,{"v":1429,"d":"1,429"},105,null,null,{"v":6072,"d":"6,072"},{"v":1063,"d":"1,063"},593,{"v":1160,"d":"1,160"},{"v":2462,"d":"2,462"},794]
[{"$nulls":5},1357,"EL CARMEN-CAMANA",36,{"v":6625,"d":"6,625"},64,65,71,93,88,109,120,117,116,104,99,112,114,97,101,112,113,111,110,99,500,557,528,497,463,437,402,355,305,208,145,95,56,57,5,32,31,67,{"v":3380,"d":"3,380"},263,268,{"v":1558,"d":"1,558"},115,null,null,{"v":6625,"d":"6,625"},{"v":1160,"d":"1,160"},647,{"v":1265,"d":"1,265"},{"v":2687,"d":"2,687"},865]
[{"$nulls":5},1359,"JUAN PABLO VIZCARDO GUZMAN",13,{"v":2392,"d":"2,392"},23,24,25,33,33,40,43,42,42,37,36,40,41,35,37,40,41,40,40,36,180,201,190,180,167,158,146,129,110,75,52,34,20,21,2,12,11,24,{"v":1221,"d":"1,221"},95,98,563,41,null,null,{"v":2392,"d":"2,392"},419,234,457,970,313]
[{"$nulls":5},1358,"PUESTO DE SALUD LA PUNTA",3,552,5,6,6,8,8,9,10,10,10,9,8,9,9,8,8,9,9,9,9,8,42,46,44,42,39,37,34,30,25,17,12,8,5,5,0,3,3,6,282,22,23,130,10,null,null,552,97,54,105,224,72]
[{"$nulls":5},7723,"PUESTO DE SALUD SOLIDARIDAD",15,{"v":2760,"d":"2,760"},26,28,29,38,38,46,50,49,49,43,41,47,47,41,42,47,47,46,46,41,208,232,220,208,193,183,168,149,127,87,60,40,23,24,2,13,13,28,{"v":1409,"d":"1,409"},110,113,650,48,null,null,{"v":2760,"d":"2,760"},483,270,527,{"v":1119,"d":"1,119"},361]
["040301","AREQUIPA","AREQUIPA","CARAVELI","CARAVELI",{"$nulls":3},{"v":5400,"d":"5,400"},86,82,98,88,76,73,89,83,68,65,88,46,81,68,59,86,104,89,108,100,453,482,404,349,306,324,325,270,232,184,132,104,98,100,9,50,36,91,{"v":2751,"d":"2,751"},170,246,{"v":1224,"d":"1,224"},156,null,null,{"v":5400,"d":"5,400"},942,487,{"v":1143,"d":"1,143"},{"v":1978,"d":"1,978"},850]
[{"$nulls":5},1351,"CENTRO DE SALUD CARAVELI",100,{"v":5400,"d":"5,400"},86,82,98,88,76,73,89,83,68,65,88,46,81,68,59,86,104,89,108,100,453,482,404,349,306,324,325,270,232,184,132,104,98,100,9,50,36,91,{"v":2751,"d":"2,751"},170,246,{"v":1224,"d":"1,224"},156,null,null,{"v":5400,"d":"5,400"},942,487,{"v":1143,"d":"1,143"},{"v":1978,"d":"1,978"},850]
["040302","AREQUIPA","AREQUIPA","CARAVELI","ACARI",{"$nulls":3},{"v":6580,"d":"6,580"},45,43,40,63,55,60,83,107,82,105,119,110,118,126,94,126,136,130,102,80,422,402,368,415,404,431,425,407,378,298,281,241,121,163,5,19,26,48,{"v":3317,"d":"3,317"},286,285,{"v":1288,"d":"1,288"},81,null,null,{"v":6580,"d":"6,580"},912,730,{"v":1006,"d":"1,006"},{"v":2450,"d":"2,450"},{"v":1482,"d":"1,482"}]
[{"$nulls":5},1352,"CENTRO DE SALUD ACARI",100,{"v":6580,"d":"6,580"},45,43,40,63,55,60,83,107,82,105,119,110,118,126,94,126,136,130,102,80,422,402,368,415,404,431,425,407,378,298,281,241,121,163,5,19,26,48,{"v":3317,"d":"3,317"},286,285,{"v":1288,"d":"1,288"},81,null,null,{"v":6580,"d":"6,580"},912,730,{"v":1006,"d":"1,006"},{"v":2450,"d":"2,450"},{"v":1482,"d":"1,482"}]
["040303","AREQUIPA","AREQUIPA","CARAVELI","ATICO",{"$nulls":3},{"v":6658,"d":"6,658"},47,60,74,77,57,78,118,92,98,97,110,113,74,109,122,115,125,110,111,87,404,498,559,519,487,497,445,388,293,259,165,135,78,57,2,27,20,50,{"v":3427,"d":"3,427"},264,278,{"v":1574,"d":"1,574"},59,null,null,{"v":6658,"d":"6,658"},{"v":1021,"d":"1,021"},655,{"v":1100,"d":"1,100"},{"v":2895,"d":"2,895"},987]
[{"$nulls":5},1349,"CENTRO DE SALUD ATICO",100,{"v":6658,"d":"6,658"},47,60,74,77,57,78,118,92,98,97,110,113,74,109,122,115,125,110,111,87,404,498,559,519,487,497,445,388,293,259,165,135,78,57,2,27,20,50,{"v":3427,"d":"3,427"},264,278,{"v":1574,"d":"1,574"},59,null,null,{"v":6658,"d":"6,658"},{"v":1021,"d":"1,021"},655,{"v":1100,"d":"1,100"},{"v":2895,"d":"2,895"},987]
["040304","AREQUIPA","AREQUIPA","CARAVELI","ATIQUIPA",{"$nulls":3},739,8,8,4,11,6,13,3,7,11,12,14,8,14,8,6,8,11,9,11,8,46,74,61,51,60,32,48,49,47,21,34,15,11,10,1,3,5,8,389,30,29,172,11,null,null,739,105,56,139,301,138]
[{"$nulls":5},1369,"PUESTO DE SALUD ATIQUIPA",75,554,6,6,3,8,4,10,2,5,8,9,10,6,10,6,4,6,8,7,8,6,34,55,46,38,45,24,36,37,35,16,25,11,8,7,1,2,4,6,292,22,22,129,8,null,null,554,79,42,104,226,103]
[{"$nulls":5},1368,"PUESTO DE SALUD SANTA ROSA",25,185,2,2,1,3,2,3,1,2,3,3,4,2,4,2,2,2,3,2,3,2,12,19,15,13,15,8,12,12,12,5,9,4,3,3,0,1,1,2,97,8,7,43,3,null,null,185,26,14,35,75,35]
["040305","AREQUIPA","AREQUIPA","CARAVELI","BELLA UNION",{"$nulls":3},{"v":3560,"d":"3,560"},31,51,33,46,45,41,58,48,50,46,30,50,48,52,33,56,75,52,55,53,232,281,251,272,265,269,211,205,177,121,125,91,54,53,3,13,18,33,{"v":1816,"d":"1,816"},107,160,837,78,null,null,{"v":3560,"d":"3,560"},529,316,621,{"v":1473,"d":"1,473"},621]
[{"$nulls":5},1374,"PUESTO DE SALUD BELLA UNION",100,{"v":3560,"d":"3,560"},31,51,33,46,45,41,58,48,50,46,30,50,48,52,33,56,75,52,55,53,232,281,251,272,265,269,211,205,177,121,125,91,54,53,3,13,18,33,{"v":1816,"d":"1,816"},107,160,837,78,null,null,{"v":3560,"d":"3,560"},529,316,621,{"v":1473,"d":"1,473"},621]
["040306","AREQUIPA","AREQUIPA","CARAVELI","CAHUACHO",{"$nulls":3},{"v":1365,"d":"1,365"},4,7,8,11,33,9,10,10,26,17,16,16,28,23,17,23,16,22,26,26,69,92,78,72,89,74,84,79,63,67,68,57,51,74,1,2,2,4,719,58,63,242,6,null,null,{"v":1365,"d":"1,365"},167,129,213,476,380]
[{"$nulls":5},1377,"PUESTO DE SALUD CAHUACHO",31,423,1,2,2,3,10,3,3,3,8,5,5,5,9,7,5,7,5,7,8,8,21,29,24,22,28,23,26,24,20,21,21,18,16,23,0,1,1,1,223,18,20,75,2,null,null,423,52,40,66,148,118]
[{"$nulls":5},1338,"PUESTO DE SALUD SONDOR - CARAVELI",33,450,1,2,3,4,11,3,3,3,9,6,5,5,9,8,6,8,5,7,9,9,23,30,26,24,29,24,28,26,21,22,22,19,17,24,0,1,1,1,237,19,21,80,2,null,null,450,55,43,70,157,125]
[{"$nulls":5},1379,"PUESTO DE SALUD AYROCA",36,492,2,3,3,4,12,3,4,4,9,6,6,6,10,8,6,8,6,8,9,9,25,33,28,26,32,27,30,29,22,24,25,20,18,27,1,0,0,2,259,21,22,87,2,null,null,492,60,46,77,171,137]
["040307","AREQUIPA","AREQUIPA","CARAVELI","CHALA",{"$nulls":3},{"v":11388,"d":"11,388"},149,145,171,178,158,191,230,236,265,221,236,194,169,155,214,225,229,207,169,167,757,853,945,977,835,741,615,528,429,316,203,117,77,86,13,77,72,158,{"v":5819,"d":"5,819"},460,515,{"v":2805,"d":"2,805"},378,null,null,{"v":11388,"d":"11,388"},{"v":2374,"d":"2,374"},{"v":1199,"d":"1,199"},{"v":1946,"d":"1,946"},{"v":4641,"d":"4,641"},{"v":1228,"d":"1,228"}]
[{"$nulls":5},1350,"CENTRO DE SALUD CHALA",100,{"v":11388,"d":"11,388"},149,145,171,178,158,191,230,236,265,221,236,194,169,155,214,225,229,207,169,167,757,853,945,977,835,741,615,528,429,316,203,117,77,86,13,77,72,158,{"v":5819,"d":"5,819"},460,515,{"v":2805,"d":"2,805"},378,null,null,{"v":11388,"d":"11,388"},{"v":2374,"d":"2,374"},{"v":1199,"d":"1,199"},{"v":1946,"d":"1,946"},{"v":4641,"d":"4,641"},{"v":1228,"d":"1,228"}]
["040308","AREQUIPA","AREQUIPA","CARAVELI","CHAPARRA",{"$nulls":3},{"v":3742,"d":"3,742"},34,39,37,57,49,61,52,54,45,48,62,76,55,47,84,82,68,76,48,39,197,207,321,336,335,268,231,259,134,108,104,42,41,46,2,21,13,36,{"v":2029,"d":"2,029"},204,210,868,63,null,null,{"v":3742,"d":"3,742"},614,412,491,{"v":1750,"d":"1,750"},475]
[{"$nulls":5},1370,"PUESTO DE SALUD CHAPARRA",80,{"v":2994,"d":"2,994"},27,31,30,46,39,49,42,43,36,38,50,61,44,38,67,66,54,61,38,31,158,166,257,269,268,214,185,207,107,86,83,34,33,37,2,17,10,29,{"v":1623,"d":"1,623"},163,168,694,50,null,null,{"v":2994,"d":"2,994"},491,330,393,{"v":1400,"d":"1,400"},380]
[{"$nulls":5},1371,"PUESTO DE SALUD ACHANIZO",20,748,7,8,7,11,10,12,10,11,9,10,12,15,11,9,17,16,14,15,10,8,39,41,64,67,67,54,46,52,27,22,21,8,8,9,0,4,3,7,406,41,42,174,13,null,null,748,123,82,98,350,95]
["040309","AREQUIPA","AREQUIPA","CARAVELI","HUANUHUANU",{"$nulls":3},{"v":3453,"d":"3,453"},35,39,33,48,44,54,42,47,37,59,43,65,51,92,84,63,62,57,46,47,198,261,357,313,253,273,225,178,145,79,48,15,21,39,4,15,20,37,{"v":1938,"d":"1,938"},221,164,914,107,null,null,{"v":3453,"d":"3,453"},546,409,552,{"v":1599,"d":"1,599"},347]
[{"$nulls":5},25072,"PUESTO DE SALUD MOLLEHUACA",20,691,7,8,7,10,9,11,8,9,7,12,9,13,10,18,17,13,12,11,9,9,40,52,71,63,51,55,45,36,29,16,10,3,4,8,1,3,4,7,388,44,33,183,21,null,null,691,109,82,110,320,69]
[{"$nulls":5},1367,"PUESTO DE SALUD TOCOTA",80,{"v":2762,"d":"2,762"},28,31,26,38,35,43,34,38,30,47,34,52,41,74,67,50,50,46,37,38,158,209,286,250,202,218,180,142,116,63,38,12,17,31,3,12,16,30,{"v":1550,"d":"1,550"},177,131,731,86,null,null,{"v":2762,"d":"2,762"},437,327,442,{"v":1279,"d":"1,279"},278]
["040310","AREQUIPA","AREQUIPA","CARAVELI","JAQUI",{"$nulls":3},{"v":1968,"d":"1,968"},23,15,21,17,19,28,29,28,29,25,24,45,40,30,35,40,35,33,32,24,108,145,122,102,119,133,133,136,127,100,63,39,34,35,0,10,13,24,{"v":1030,"d":"1,030"},92,93,384,62,null,null,{"v":1968,"d":"1,968"},303,213,309,745,398]
[{"$nulls":5},1373,"PUESTO DE SALUD JAQUI",100,{"v":1968,"d":"1,968"},23,15,21,17,19,28,29,28,29,25,24,45,40,30,35,40,35,33,32,24,108,145,122,102,119,133,133,136,127,100,63,39,34,35,0,10,13,24,{"v":1030,"d":"1,030"},92,93,384,62,null,null,{"v":1968,"d":"1,968"},303,213,309,745,398]
["040311","AREQUIPA","AREQUIPA","CARAVELI","LOMAS",{"$nulls":3},{"v":1735,"d":"1,735"},18,16,19,28,23,18,23,18,26,39,23,19,26,21,26,25,26,22,17,18,119,139,140,133,134,135,107,112,103,61,48,32,10,11,3,10,8,19,914,61,62,421,45,null,null,{"v":1735,"d":"1,735"},270,146,293,761,265]
[{"$nulls":5},1376,"PUESTO DE SALUD LOMAS",100,{"v":1735,"d":"1,735"},18,16,19,28,23,18,23,18,26,39,23,19,26,21,26,25,26,22,17,18,119,139,140,133,134,135,107,112,103,61,48,32,10,11,3,10,8,19,914,61,62,421,45,null,null,{"v":1735,"d":"1,735"},270,146,293,761,265]
["040312","AREQUIPA","AREQUIPA","CARAVELI","QUICACHA",{"$nulls":3},{"v":2388,"d":"2,388"},25,18,19,29,22,40,42,38,35,40,45,51,38,51,39,55,51,53,37,42,178,159,159,160,136,145,131,130,111,90,66,50,38,65,2,14,11,27,{"v":1228,"d":"1,228"},135,121,469,43,null,null,{"v":2388,"d":"2,388"},404,287,416,861,420]
[{"$nulls":5},1372,"PUESTO DE SALUD QUICACHA",100,{"v":2388,"d":"2,388"},25,18,19,29,22,40,42,38,35,40,45,51,38,51,39,55,51,53,37,42,178,159,159,160,136,145,131,130,111,90,66,50,38,65,2,14,11,27,{"v":1228,"d":"1,228"},135,121,469,43,null,null,{"v":2388,"d":"2,388"},404,287,416,861,420]
["040313","AREQUIPA","AREQUIPA","CARAVELI","YAUCA",{"$nulls":3},{"v":2807,"d":"2,807"},18,24,29,32,17,23,38,42,42,56,40,42,56,29,51,42,47,36,29,32,167,215,169,157,187,187,175,216,198,126,111,72,40,62,0,8,10,19,{"v":1402,"d":"1,402"},120,82,591,53,null,null,{"v":2807,"d":"2,807"},403,261,443,{"v":1091,"d":"1,091"},609]
[{"$nulls":5},1375,"PUESTO DE SALUD YAUCA",100,{"v":2807,"d":"2,807"},18,24,29,32,17,23,38,42,42,56,40,42,56,29,51,42,47,36,29,32,167,215,169,157,187,187,175,216,198,126,111,72,40,62,0,8,10,19,{"v":1402,"d":"1,402"},120,82,591,53,null,null,{"v":2807,"d":"2,807"},403,261,443,{"v":1091,"d":"1,091"},609]
["040401","AREQUIPA","AREQUIPA","CASTILLA","APLAO",{"$nulls":3},{"v":10434,"d":"10,434"},103,106,112,114,117,144,135,134,140,120,131,168,207,134,170,147,201,194,158,159,746,817,743,664,658,688,651,674,528,443,357,265,143,163,5,49,54,109,{"v":5344,"d":"5,344"},397,463,{"v":2299,"d":"2,299"},269,null,null,{"v":10434,"d":"10,434"},{"v":1524,"d":"1,524"},{"v":1053,"d":"1,053"},{"v":1880,"d":"1,880"},{"v":4078,"d":"4,078"},{"v":1899,"d":"1,899"}]
[{"$nulls":5},1382,"HOSPITAL APLAO",48,{"v":5009,"d":"5,009"},50,51,53,55,55,70,64,65,68,58,62,81,100,65,81,70,97,93,76,76,357,391,357,320,316,331,312,324,253,213,171,126,69,79,2,24,27,52,{"v":2566,"d":"2,566"},190,223,{"v":1103,"d":"1,103"},130,null,null,{"v":5009,"d":"5,009"},733,506,902,{"v":1957,"d":"1,957"},911]
[{"$nulls":5},1393,"PUESTO DE SALUD ACOY",5,522,5,5,6,6,6,7,7,7,7,6,7,8,10,7,9,7,10,10,8,8,37,41,37,33,33,34,33,34,26,22,18,13,7,8,0,2,3,5,267,20,23,115,13,null,null,522,76,53,94,204,95]
[{"$nulls":5},1396,"PUESTO DE SALUD EL CASTILLO",10,{"v":1043,"d":"1,043"},10,11,11,11,12,14,14,13,14,12,13,17,21,13,17,15,20,19,16,16,75,82,74,66,66,69,65,67,53,44,36,27,14,16,1,5,5,11,534,40,46,230,27,null,null,{"v":1043,"d":"1,043"},152,105,188,408,190]
[{"$nulls":5},1395,"CENTRO DE SALUD LA REAL",21,{"v":2191,"d":"2,191"},22,22,24,24,25,30,28,28,29,25,28,35,43,28,36,31,42,41,33,33,157,172,156,139,138,144,137,142,111,93,75,56,30,34,1,10,11,23,{"v":1122,"d":"1,122"},83,97,483,56,null,null,{"v":2191,"d":"2,191"},320,221,395,856,399]
[{"$nulls":5},1394,"PUESTO DE SALUD HUATIAPILLA",10,{"v":1043,"d":"1,043"},10,11,11,11,12,14,14,13,14,12,13,17,21,13,17,15,20,19,16,16,75,82,74,66,66,69,65,67,53,44,36,27,14,16,1,5,5,11,534,40,46,230,27,null,null,{"v":1043,"d":"1,043"},152,105,188,408,190]
[{"$nulls":5},1397,"PUESTO DE SALUD LA CENTRAL",6,626,6,6,7,7,7,9,8,8,8,7,8,10,12,8,10,9,12,12,9,10,45,49,45,40,39,41,39,40,32,27,21,16,9,10,0,3,3,7,321,24,28,138,16,null,null,626,91,63,113,245,114]
["040402","AREQUIPA","AREQUIPA","CASTILLA","ANDAGUA",{"$nulls":3},982,11,11,7,8,10,12,12,12,8,12,12,11,11,14,13,7,20,12,12,10,76,54,52,53,61,64,66,63,64,53,51,45,20,35,1,5,6,12,522,35,32,180,22,null,null,982,126,77,152,359,268]
[{"$nulls":5},1387,"CENTRO DE SALUD ANDAGUA",83,815,9,9,6,7,8,10,10,10,7,10,10,9,9,12,11,6,17,10,10,8,63,45,43,44,51,53,55,52,53,44,42,37,17,29,1,4,5,10,433,29,27,149,18,null,null,815,105,64,126,298,222]
[{"$nulls":5},1408,"PUESTO DE SALUD SOPORO",17,167,2,2,1,1,2,2,2,2,1,2,2,2,2,2,2,1,3,2,2,2,13,9,9,9,10,11,11,11,11,9,9,8,3,6,0,1,1,2,89,6,5,31,4,null,null,167,21,13,26,61,46]
["040403","AREQUIPA","AREQUIPA","CASTILLA","AYO",{"$nulls":3},372,1,2,2,2,6,3,2,2,2,1,0,6,1,1,2,1,3,3,1,3,7,15,21,27,25,21,33,25,30,30,18,30,16,30,0,1,0,1,199,7,3,56,3,null,null,372,29,11,26,152,154]
[{"$nulls":5},1404,"PUESTO DE SALUD AYO",100,372,1,2,2,2,6,3,2,2,2,1,0,6,1,1,2,1,3,3,1,3,7,15,21,27,25,21,33,25,30,30,18,30,16,30,0,1,0,1,199,7,3,56,3,null,null,372,29,11,26,152,154]
["040404","AREQUIPA","AREQUIPA","CASTILLA","CHACHAS",{"$nulls":3},{"v":1806,"d":"1,806"},16,13,26,26,31,31,23,26,29,30,45,27,30,25,37,47,29,39,24,25,138,136,144,127,90,100,86,112,89,62,41,36,26,40,4,13,3,17,995,96,97,376,21,null,null,{"v":1806,"d":"1,806"},323,207,323,659,294]
[{"$nulls":5},1442,"PUESTO DE SALUD TOLCONI",63,{"v":1138,"d":"1,138"},10,8,16,16,20,20,14,16,18,19,28,17,19,16,23,30,18,25,15,16,87,86,91,80,57,63,54,71,56,39,26,23,16,25,3,8,2,11,627,60,61,237,13,null,null,{"v":1138,"d":"1,138"},203,130,203,415,185]
[{"$nulls":5},1405,"CHACHAS",37,668,6,5,10,10,11,11,9,10,11,11,17,10,11,9,14,17,11,14,9,9,51,50,53,47,33,37,32,41,33,23,15,13,10,15,1,5,1,6,368,36,36,139,8,null,null,668,120,77,120,244,109]
["040405","AREQUIPA","AREQUIPA","CASTILLA","CHILCAYMARCA",{"$nulls":3},{"v":1144,"d":"1,144"},5,13,15,14,10,12,18,17,18,21,17,26,6,13,9,25,19,26,19,8,69,93,97,100,103,88,71,56,54,38,24,15,14,11,0,3,2,5,593,33,56,282,6,null,null,{"v":1144,"d":"1,144"},186,98,189,515,156]
[{"$nulls":5},1406,"PUESTO DE SALUD CHAPACOCO",30,343,2,4,5,4,3,4,5,5,5,6,5,8,2,4,3,8,6,8,6,2,21,28,29,30,31,26,21,17,16,11,7,5,4,3,0,1,1,2,178,10,17,85,2,null,null,343,56,29,57,155,47]
[{"$nulls":5},14382,"PUESTO DE SALUD CHILCAYMARCA",70,801,3,9,10,10,7,8,13,12,13,15,12,18,4,9,6,17,13,18,13,6,48,65,68,70,72,62,50,39,38,27,17,10,10,8,0,2,1,3,415,23,39,197,4,null,null,801,130,69,132,360,109]
["040406","AREQUIPA","AREQUIPA","CASTILLA","CHOCO",{"$nulls":3},808,7,2,7,13,4,5,7,8,6,5,5,11,5,10,10,7,13,5,12,12,41,35,51,49,65,59,53,46,53,50,40,47,27,38,0,3,4,7,465,31,29,156,11,null,null,808,80,50,100,323,255]
[{"$nulls":5},1441,"PUESTO DE SALUD CHOCO",100,808,7,2,7,13,4,5,7,8,6,5,5,11,5,10,10,7,13,5,12,12,41,35,51,49,65,59,53,46,53,50,40,47,27,38,0,3,4,7,465,31,29,156,11,null,null,808,80,50,100,323,255]
["040407","AREQUIPA","AREQUIPA","CASTILLA","HUANCARQUI",{"$nulls":3},{"v":1718,"d":"1,718"},12,16,19,15,13,27,16,14,18,19,19,5,21,13,25,23,16,24,13,17,91,102,145,120,128,120,129,128,120,84,80,51,33,42,2,6,6,12,921,44,51,365,23,null,null,{"v":1718,"d":"1,718"},193,122,223,770,410]
[{"$nulls":5},1384,"CENTRO DE SALUD HUANCARQUI",100,{"v":1718,"d":"1,718"},12,16,19,15,13,27,16,14,18,19,19,5,21,13,25,23,16,24,13,17,91,102,145,120,128,120,129,128,120,84,80,51,33,42,2,6,6,12,921,44,51,365,23,null,null,{"v":1718,"d":"1,718"},193,122,223,770,410]
["040408","AREQUIPA","AREQUIPA","CASTILLA","MACHAGUAY",{"$nulls":3},470,4,3,7,3,4,2,2,4,2,5,2,9,3,5,7,5,7,9,6,9,25,19,18,15,24,29,34,35,37,19,39,21,24,33,0,3,1,4,259,17,18,72,5,null,null,470,47,36,59,155,173]
[{"$nulls":5},1402,"PUESTO DE SALUD MACHAGUAY",100,470,4,3,7,3,4,2,2,4,2,5,2,9,3,5,7,5,7,9,6,9,25,19,18,15,24,29,34,35,37,19,39,21,24,33,0,3,1,4,259,17,18,72,5,null,null,470,47,36,59,155,173]
["040409","AREQUIPA","AREQUIPA","CASTILLA","ORCOPAMPA",{"$nulls":3},{"v":9035,"d":"9,035"},32,49,56,77,51,86,151,172,202,191,191,191,160,189,203,267,229,264,177,134,748,721,683,691,630,530,425,457,345,254,209,121,75,74,0,17,15,34,{"v":4591,"d":"4,591"},480,548,{"v":2033,"d":"2,033"},121,null,null,{"v":9035,"d":"9,035"},{"v":1449,"d":"1,449"},{"v":1312,"d":"1,312"},{"v":1780,"d":"1,780"},{"v":3416,"d":"3,416"},{"v":1078,"d":"1,078"}]
[{"$nulls":5},1407,"CENTRO DE SALUD ORCOPAMPA",100,{"v":9035,"d":"9,035"},32,49,56,77,51,86,151,172,202,191,191,191,160,189,203,267,229,264,177,134,748,721,683,691,630,530,425,457,345,254,209,121,75,74,0,17,15,34,{"v":4591,"d":"4,591"},480,548,{"v":2033,"d":"2,033"},121,null,null,{"v":9035,"d":"9,035"},{"v":1449,"d":"1,449"},{"v":1312,"d":"1,312"},{"v":1780,"d":"1,780"},{"v":3416,"d":"3,416"},{"v":1078,"d":"1,078"}]
["040410","AREQUIPA","AREQUIPA","CASTILLA","PAMPACOLCA",{"$nulls":3},{"v":2119,"d":"2,119"},10,17,20,15,30,32,25,22,35,26,32,34,34,30,32,43,40,43,26,37,149,116,102,86,103,125,125,161,112,94,76,105,88,94,0,4,6,10,{"v":1096,"d":"1,096"},80,103,337,13,null,null,{"v":2119,"d":"2,119"},298,222,328,702,569]
[{"$nulls":5},1385,"CENTRO DE SALUD PAMPACOLCA",80,{"v":1695,"d":"1,695"},8,14,16,12,24,25,20,17,28,21,25,27,27,24,25,35,32,35,21,30,119,93,82,69,83,100,100,129,90,75,61,84,70,75,0,4,5,8,876,64,83,270,10,null,null,{"v":1695,"d":"1,695"},238,177,263,562,455]
[{"$nulls":5},1398,"PUESTO DE SALUD SAN ANTONIO",12,254,1,2,2,2,4,4,3,3,4,3,4,4,4,4,4,5,5,5,3,4,18,14,12,10,12,15,15,19,13,11,9,13,11,11,0,0,1,1,132,10,12,40,2,null,null,254,36,27,39,84,68]
[{"$nulls":5},1399,"PUESTO DE SALUD PISCOPAMPA",8,170,1,1,2,1,2,3,2,2,3,2,3,3,3,2,3,3,3,3,2,3,12,9,8,7,8,10,10,13,9,8,6,8,7,8,0,0,0,1,88,6,8,27,1,null,null,170,24,18,26,56,46]
["040411","AREQUIPA","AREQUIPA","CASTILLA","TIPAN",{"$nulls":3},451,5,2,1,4,3,1,5,6,3,3,2,5,3,7,4,6,3,8,9,10,22,19,22,17,26,23,24,39,36,29,28,36,10,30,0,2,3,5,238,12,21,61,9,null,null,451,40,31,60,151,169]
[{"$nulls":5},1400,"PUESTO DE SALUD TIPAN",43,194,2,1,0,2,1,0,2,3,1,1,1,2,1,3,2,3,1,3,4,4,9,8,9,7,11,10,10,17,15,12,12,15,4,13,0,1,1,2,102,5,9,26,4,null,null,194,17,13,26,65,73]
[{"$nulls":5},1401,"PUESTO DE SALUD TAGRE",57,257,3,1,1,2,2,1,3,3,2,2,1,3,2,4,2,3,2,5,5,6,13,11,13,10,15,13,14,22,21,17,16,21,6,17,0,1,2,3,136,7,12,35,5,null,null,257,23,18,34,86,96]
["040412","AREQUIPA","AREQUIPA","CASTILLA","UÑON",{"$nulls":3},296,3,1,2,2,2,2,5,0,3,5,0,2,0,2,6,2,2,2,0,4,9,23,18,17,20,24,23,18,28,21,17,12,10,11,0,0,3,3,162,6,7,57,6,null,null,296,27,14,36,120,99]
[{"$nulls":5},1403,"PUESTO DE SALUD UÑON",100,296,3,1,2,2,2,2,5,0,3,5,0,2,0,2,6,2,2,2,0,4,9,23,18,17,20,24,23,18,28,21,17,12,10,11,0,0,3,3,162,6,7,57,6,null,null,296,27,14,36,120,99]
["040413","AREQUIPA","AREQUIPA","CASTILLA","URACA",{"$nulls":3},{"v":6548,"d":"6,548"},48,53,55,73,71,66,82,90,83,84,90,75,84,84,78,120,128,103,90,107,447,525,441,457,468,431,428,425,368,280,234,156,107,117,2,21,27,51,{"v":3388,"d":"3,388"},224,301,{"v":1446,"d":"1,446"},98,null,null,{"v":6548,"d":"6,548"},870,597,{"v":1169,"d":"1,169"},{"v":2650,"d":"2,650"},{"v":1262,"d":"1,262"}]
[{"$nulls":5},1383,"CENTRO DE SALUD CORIRE",70,{"v":4583,"d":"4,583"},33,38,38,51,49,46,57,63,58,59,63,52,59,59,55,84,90,73,63,74,312,367,309,319,328,302,300,297,258,196,164,109,74,82,2,14,19,36,{"v":2371,"d":"2,371"},157,211,{"v":1011,"d":"1,011"},68,null,null,{"v":4583,"d":"4,583"},609,417,818,{"v":1855,"d":"1,855"},884]
[{"$nulls":5},1390,"PUESTO DE SALUD TORAN",12,786,6,6,7,9,9,8,10,11,10,10,11,9,10,10,9,14,15,12,11,13,54,63,53,55,56,52,51,51,44,34,28,19,13,14,0,3,3,6,407,27,36,174,12,null,null,786,104,72,140,318,151]
[{"$nulls":5},1391,"PUESTO DE SALUD EL PEDREGAL",8,524,4,4,4,6,6,5,7,7,7,7,7,6,7,7,6,10,10,8,7,9,36,42,35,37,37,34,34,34,29,22,19,12,9,9,0,2,2,4,271,18,24,116,8,null,null,524,70,48,94,212,101]
[{"$nulls":5},1392,"PUESTO DE SALUD ESCALERILLAS",10,655,5,5,6,7,7,7,8,9,8,8,9,8,8,8,8,12,13,10,9,11,45,53,44,46,47,43,43,43,37,28,23,16,11,12,0,2,3,5,339,22,30,145,10,null,null,655,87,60,117,265,126]
["040414","AREQUIPA","AREQUIPA","CASTILLA","VIRACO",{"$nulls":3},{"v":1528,"d":"1,528"},9,6,12,13,18,13,18,17,14,15,9,17,25,17,17,17,22,30,18,17,84,87,70,63,91,95,95,95,114,106,86,83,63,72,2,5,4,9,800,55,64,247,12,null,null,{"v":1528,"d":"1,528"},161,128,206,509,524]
[{"$nulls":5},1386,"CENTRO DE SALUD VIRACO",90,{"v":1375,"d":"1,375"},8,5,11,12,16,12,16,15,13,13,8,15,22,15,15,15,20,27,16,15,76,78,63,57,82,85,85,85,103,95,77,75,57,65,2,4,4,8,720,49,58,222,11,null,null,{"v":1375,"d":"1,375"},145,115,185,458,472]
[{"$nulls":5},6766,"PUESTO DE SALUD HUAMI",10,153,1,1,1,1,2,1,2,2,1,2,1,2,3,2,2,2,2,3,2,2,8,9,7,6,9,10,10,10,11,11,9,8,6,7,0,1,0,1,80,6,6,25,1,null,null,153,16,13,21,51,52]
["040501","AREQUIPA","AREQUIPA","CAYLLOMA","CHIVAY",{"$nulls":3},{"v":7927,"d":"7,927"},50,49,52,98,52,85,137,142,145,139,144,121,170,148,124,172,177,165,164,139,752,704,641,534,475,436,355,429,317,217,201,189,90,114,2,27,23,53,{"v":4035,"d":"4,035"},343,398,{"v":1807,"d":"1,807"},88,null,null,{"v":7927,"d":"7,927"},{"v":1214,"d":"1,214"},956,{"v":1759,"d":"1,759"},{"v":2870,"d":"2,870"},{"v":1128,"d":"1,128"}]
[{"$nulls":5},1419,"CENTRO DE SALUD CHIVAY",90,{"v":7134,"d":"7,134"},45,44,47,88,47,76,123,128,130,125,130,109,153,133,112,155,159,148,148,125,677,634,577,481,427,392,319,386,285,195,181,170,81,103,2,24,21,48,{"v":3631,"d":"3,631"},309,358,{"v":1626,"d":"1,626"},79,null,null,{"v":7134,"d":"7,134"},{"v":1093,"d":"1,093"},860,{"v":1583,"d":"1,583"},{"v":2583,"d":"2,583"},{"v":1015,"d":"1,015"}]
[{"$nulls":5},1423,"PUESTO DE SALUD CANOCOTA",10,793,5,5,5,10,5,9,14,14,15,14,14,12,17,15,12,17,18,17,16,14,75,70,64,53,48,44,36,43,32,22,20,19,9,11,0,3,2,5,404,34,40,181,9,null,null,793,121,96,176,287,113]
["040502","AREQUIPA","AREQUIPA","CAYLLOMA","ACHOMA",{"$nulls":3},{"v":1214,"d":"1,214"},5,5,8,13,12,7,12,11,9,5,7,9,11,11,11,15,10,15,8,21,82,101,77,59,82,96,90,99,85,59,55,44,40,40,1,4,1,5,652,26,40,253,7,null,null,{"v":1214,"d":"1,214"},103,73,212,503,323]
[{"$nulls":5},1429,"PUESTO DE SALUD ACHOMA",100,{"v":1214,"d":"1,214"},5,5,8,13,12,7,12,11,9,5,7,9,11,11,11,15,10,15,8,21,82,101,77,59,82,96,90,99,85,59,55,44,40,40,1,4,1,5,652,26,40,253,7,null,null,{"v":1214,"d":"1,214"},103,73,212,503,323]
["040503","AREQUIPA","AREQUIPA","CAYLLOMA","CABANACONDE",{"$nulls":3},{"v":2958,"d":"2,958"},14,12,15,19,20,29,41,32,25,22,27,29,29,41,37,33,58,42,38,33,187,213,183,156,192,194,211,265,169,162,124,97,99,110,1,5,9,14,{"v":1500,"d":"1,500"},77,105,555,30,null,null,{"v":2958,"d":"2,958"},285,240,471,{"v":1201,"d":"1,201"},761]
[{"$nulls":5},1420,"CABANACONDE",80,{"v":2366,"d":"2,366"},11,10,12,15,16,23,33,26,20,18,22,23,23,33,30,26,46,34,30,26,150,170,146,125,154,155,169,212,135,130,99,78,79,88,1,4,7,11,{"v":1200,"d":"1,200"},62,84,444,24,null,null,{"v":2366,"d":"2,366"},228,192,377,961,609]
[{"$nulls":5},1432,"PUESTO DE SALUD PINCHOLLO",20,592,3,2,3,4,4,6,8,6,5,4,5,6,6,8,7,7,12,8,8,7,37,43,37,31,38,39,42,53,34,32,25,19,20,22,0,1,2,3,300,15,21,111,6,null,null,592,57,48,94,240,152]
["040504","AREQUIPA","AREQUIPA","CAYLLOMA","CALLALLI",{"$nulls":3},{"v":2195,"d":"2,195"},11,8,19,17,17,25,25,17,21,28,23,34,17,32,9,23,29,19,26,21,146,175,154,135,121,166,172,172,148,121,107,67,40,50,2,4,7,11,{"v":1156,"d":"1,156"},61,72,452,14,null,null,{"v":2195,"d":"2,195"},245,129,368,920,533]
[{"$nulls":5},1421,"CENTRO DE SALUD CALLALLI",100,{"v":2195,"d":"2,195"},11,8,19,17,17,25,25,17,21,28,23,34,17,32,9,23,29,19,26,21,146,175,154,135,121,166,172,172,148,121,107,67,40,50,2,4,7,11,{"v":1156,"d":"1,156"},61,72,452,14,null,null,{"v":2195,"d":"2,195"},245,129,368,920,533]
["040505","AREQUIPA","AREQUIPA","CAYLLOMA","CAYLLOMA",{"$nulls":3},{"v":5321,"d":"5,321"},34,38,37,60,67,60,63,82,96,95,96,102,108,82,98,112,100,114,112,84,475,470,378,373,341,312,282,286,245,183,135,97,57,47,1,10,24,36,{"v":2792,"d":"2,792"},269,273,{"v":1218,"d":"1,218"},65,null,null,{"v":5321,"d":"5,321"},830,614,{"v":1141,"d":"1,141"},{"v":1972,"d":"1,972"},764]
[{"$nulls":5},1422,"CENTRO DE SALUD CAYLLOMA",77,{"v":4097,"d":"4,097"},26,29,28,46,52,46,49,63,74,73,74,79,83,63,75,86,77,88,86,65,366,362,291,287,263,240,217,220,189,141,104,75,44,36,1,8,18,28,{"v":2150,"d":"2,150"},207,210,938,50,null,null,{"v":4097,"d":"4,097"},639,473,879,{"v":1518,"d":"1,518"},588]
[{"$nulls":5},1418,"PUESTO DE SALUD JACHAÑA",23,{"v":1224,"d":"1,224"},8,9,9,14,15,14,14,19,22,22,22,23,25,19,23,26,23,26,26,19,109,108,87,86,78,72,65,66,56,42,31,22,13,11,0,2,6,8,642,62,63,280,15,null,null,{"v":1224,"d":"1,224"},191,141,262,454,176]
["040506","AREQUIPA","AREQUIPA","CAYLLOMA","COPORAQUE",{"$nulls":3},{"v":1547,"d":"1,547"},12,18,9,15,10,16,25,23,17,17,16,14,6,14,11,20,22,16,18,22,85,116,98,119,151,101,94,92,98,74,66,52,38,42,1,2,10,12,769,30,48,342,38,null,null,{"v":1547,"d":"1,547"},192,89,241,655,370]
[{"$nulls":5},1424,"PUESTO DE SALUD COPORAQUE",100,{"v":1547,"d":"1,547"},12,18,9,15,10,16,25,23,17,17,16,14,6,14,11,20,22,16,18,22,85,116,98,119,151,101,94,92,98,74,66,52,38,42,1,2,10,12,769,30,48,342,38,null,null,{"v":1547,"d":"1,547"},192,89,241,655,370]
["040507","AREQUIPA","AREQUIPA","CAYLLOMA","HUAMBO",{"$nulls":3},955,4,6,9,5,8,6,9,9,2,4,13,9,8,8,13,12,21,21,11,6,56,60,56,45,58,49,66,73,52,84,50,41,42,39,0,4,0,4,520,32,44,165,6,null,null,955,84,83,133,347,308]
[{"$nulls":5},1433,"PUESTO DE SALUD HUAMBO",100,955,4,6,9,5,8,6,9,9,2,4,13,9,8,8,13,12,21,21,11,6,56,60,56,45,58,49,66,73,52,84,50,41,42,39,0,4,0,4,520,32,44,165,6,null,null,955,84,83,133,347,308]
["040508","AREQUIPA","AREQUIPA","CAYLLOMA","HUANCA",{"$nulls":3},{"v":1493,"d":"1,493"},8,12,11,12,14,10,7,7,8,9,11,9,7,15,9,8,18,20,13,21,74,84,79,89,109,120,117,109,121,96,87,66,52,61,0,6,2,8,810,28,47,278,10,null,null,{"v":1493,"d":"1,493"},118,77,192,623,483]
[{"$nulls":5},1239,"PUESTO DE SALUD HUANCA",100,{"v":1493,"d":"1,493"},8,12,11,12,14,10,7,7,8,9,11,9,7,15,9,8,18,20,13,21,74,84,79,89,109,120,117,109,121,96,87,66,52,61,0,6,2,8,810,28,47,278,10,null,null,{"v":1493,"d":"1,493"},118,77,192,623,483]
["040509","AREQUIPA","AREQUIPA","CAYLLOMA","ICHUPAMPA",{"$nulls":3},966,5,3,5,12,7,14,9,10,13,7,7,15,16,7,16,9,13,16,3,14,54,72,83,65,61,64,59,64,56,60,47,34,24,22,1,1,4,5,514,32,26,217,7,null,null,966,107,77,143,396,243]
[{"$nulls":5},1425,"PUESTO DE SALUD ICHUPAMPA",100,966,5,3,5,12,7,14,9,10,13,7,7,15,16,7,16,9,13,16,3,14,54,72,83,65,61,64,59,64,56,60,47,34,24,22,1,1,4,5,514,32,26,217,7,null,null,966,107,77,143,396,243]
["040510","AREQUIPA","AREQUIPA","CAYLLOMA","LARI",{"$nulls":3},{"v":1332,"d":"1,332"},6,12,12,15,11,14,14,16,7,16,21,21,13,23,18,23,24,20,25,22,100,110,107,66,86,90,83,82,71,62,38,35,42,27,0,3,3,6,714,55,62,286,22,null,null,{"v":1332,"d":"1,332"},165,121,257,514,275]
[{"$nulls":5},1426,"PUESTO DE SALUD LARI",100,{"v":1332,"d":"1,332"},6,12,12,15,11,14,14,16,7,16,21,21,13,23,18,23,24,20,25,22,100,110,107,66,86,90,83,82,71,62,38,35,42,27,0,3,3,6,714,55,62,286,22,null,null,{"v":1332,"d":"1,332"},165,121,257,514,275]
["040511","AREQUIPA","AREQUIPA","CAYLLOMA","LLUTA",{"$nulls":3},{"v":1271,"d":"1,271"},6,7,13,18,8,10,4,8,14,4,12,16,18,16,7,22,12,22,22,9,62,59,71,77,85,94,90,99,82,62,79,67,46,50,1,5,1,6,732,39,60,241,25,null,null,{"v":1271,"d":"1,271"},120,97,152,516,386]
[{"$nulls":5},1255,"PUESTO DE SALUD LLUTA",60,763,4,4,8,11,5,6,2,5,9,2,7,9,11,9,4,13,7,13,13,5,37,35,43,46,51,56,54,59,49,37,48,41,27,29,1,3,1,4,440,23,36,145,15,null,null,763,72,59,91,309,231]
[{"$nulls":5},1256,"PUESTO DE SALUD TAYA",23,292,1,2,3,4,2,2,1,2,3,1,3,4,4,4,2,5,3,5,5,2,14,14,16,18,20,22,21,23,19,14,18,15,11,12,0,1,0,1,168,9,14,55,6,null,null,292,28,22,35,119,89]
[{"$nulls":5},1340,"PUESTO DE SALUD QUERQUE",17,216,1,1,2,3,1,2,1,1,2,1,2,3,3,3,1,4,2,4,4,2,11,10,12,13,14,16,15,17,14,11,13,11,8,9,0,1,0,1,124,7,10,41,4,null,null,216,20,16,26,88,66]
["040512","AREQUIPA","AREQUIPA","CAYLLOMA","MACA",{"$nulls":3},{"v":1058,"d":"1,058"},6,6,3,4,8,3,6,12,11,6,12,2,12,9,1,14,12,16,7,16,64,68,55,80,82,85,73,72,57,68,51,68,30,39,0,5,1,6,555,15,30,217,9,null,null,{"v":1058,"d":"1,058"},79,64,155,447,313]
[{"$nulls":5},1430,"PUESTO DE SALUD MACA",100,{"v":1058,"d":"1,058"},6,6,3,4,8,3,6,12,11,6,12,2,12,9,1,14,12,16,7,16,64,68,55,80,82,85,73,72,57,68,51,68,30,39,0,5,1,6,555,15,30,217,9,null,null,{"v":1058,"d":"1,058"},79,64,155,447,313]
["040513","AREQUIPA","AREQUIPA","CAYLLOMA","MADRIGAL",{"$nulls":3},929,2,5,3,5,3,3,4,5,5,4,3,3,9,11,10,8,15,12,8,10,57,53,50,62,55,72,56,61,78,68,56,54,35,44,0,1,1,2,485,21,35,164,4,null,null,929,45,65,128,356,335]
[{"$nulls":5},1427,"PUESTO DE SALUD MADRIGAL",100,929,2,5,3,5,3,3,4,5,5,4,3,3,9,11,10,8,15,12,8,10,57,53,50,62,55,72,56,61,78,68,56,54,35,44,0,1,1,2,485,21,35,164,4,null,null,929,45,65,128,356,335]
["040514","AREQUIPA","AREQUIPA","CAYLLOMA","SAN ANTONIO DE CHUCA",{"$nulls":3},{"v":1184,"d":"1,184"},13,12,12,11,13,11,17,18,16,17,27,25,10,11,12,19,26,29,23,13,75,76,65,80,80,76,76,85,71,49,54,31,17,14,1,8,5,13,605,41,56,244,28,null,null,{"v":1184,"d":"1,184"},192,107,187,462,236]
[{"$nulls":5},1242,"PUESTO DE SALUD IMATA",60,710,8,7,7,7,8,7,10,11,10,10,16,15,6,7,7,11,16,17,14,8,45,46,39,48,48,46,46,51,43,29,32,19,10,8,1,5,3,8,363,25,34,146,17,null,null,710,115,64,112,277,142]
[{"$nulls":5},1243,"PUESTO DE SALUD PILLONES",40,474,5,5,5,4,5,4,7,7,6,7,11,10,4,4,5,8,10,12,9,5,30,30,26,32,32,30,30,34,28,20,22,12,7,6,0,3,2,5,242,16,22,98,11,null,null,474,77,43,75,185,94]
["040515","AREQUIPA","AREQUIPA","CAYLLOMA","SIBAYO",{"$nulls":3},{"v":1111,"d":"1,111"},3,5,12,8,3,10,5,15,7,14,15,13,15,15,1,23,20,18,14,13,88,87,86,76,83,95,60,67,66,48,44,41,19,22,0,2,1,3,572,23,41,262,5,null,null,{"v":1111,"d":"1,111"},110,92,202,467,240]
[{"$nulls":5},1435,"PUESTO DE SALUD SANTA ROSA DE SIBAYO",100,{"v":1111,"d":"1,111"},3,5,12,8,3,10,5,15,7,14,15,13,15,15,1,23,20,18,14,13,88,87,86,76,83,95,60,67,66,48,44,41,19,22,0,2,1,3,572,23,41,262,5,null,null,{"v":1111,"d":"1,111"},110,92,202,467,240]
["040516","AREQUIPA","AREQUIPA","CAYLLOMA","TAPAY",{"$nulls":3},{"v":1024,"d":"1,024"},1,2,4,8,9,9,10,8,10,7,6,9,11,8,15,10,15,11,11,12,50,73,69,85,78,70,56,67,70,65,60,39,37,29,0,1,0,1,582,31,41,225,2,null,null,{"v":1024,"d":"1,024"},83,70,146,425,300]
[{"$nulls":5},1434,"PUESTO DE SALUD TAPAY",100,{"v":1024,"d":"1,024"},1,2,4,8,9,9,10,8,10,7,6,9,11,8,15,10,15,11,11,12,50,73,69,85,78,70,56,67,70,65,60,39,37,29,0,1,0,1,582,31,41,225,2,null,null,{"v":1024,"d":"1,024"},83,70,146,425,300]
["040517","AREQUIPA","AREQUIPA","CAYLLOMA","TISCO",{"$nulls":3},{"v":2179,"d":"2,179"},6,10,12,16,14,14,27,23,25,24,25,19,32,36,34,40,34,46,43,28,182,158,134,125,149,147,146,160,127,93,81,87,44,38,0,3,3,6,{"v":1185,"d":"1,185"},76,102,470,19,null,null,{"v":2179,"d":"2,179"},215,222,411,861,470]
[{"$nulls":5},1438,"PUESTO DE SALUD TISCO",39,850,3,4,5,6,6,6,11,8,10,9,10,7,12,14,13,15,13,18,17,11,71,62,52,49,58,58,57,63,50,37,32,34,17,15,0,1,1,3,463,30,40,183,7,null,null,850,83,87,160,335,183]
[{"$nulls":5},1431,"PUESTO DE SALUD COTACOTA",37,806,2,4,4,6,5,5,10,9,9,9,9,7,12,13,13,15,13,17,16,10,67,58,50,46,55,54,54,59,47,34,30,32,16,14,0,1,1,2,438,28,38,174,7,null,null,806,80,82,152,319,174]
[{"$nulls":5},6891,"PUESTO DE SALUD TARUCAMARCA",24,523,1,2,3,4,3,3,6,6,6,6,6,5,8,9,8,10,8,11,10,7,44,38,32,30,36,35,35,38,30,22,19,21,11,9,0,1,1,1,284,18,24,113,5,null,null,523,52,53,99,207,113]
["040518","AREQUIPA","AREQUIPA","CAYLLOMA","TUTI",{"$nulls":3},{"v":1090,"d":"1,090"},6,7,9,9,6,10,18,16,8,13,16,16,15,2,9,13,25,16,20,27,84,78,77,79,82,71,57,60,55,43,62,42,19,20,1,5,1,6,579,30,41,252,18,null,null,{"v":1090,"d":"1,090"},134,80,209,426,241]
[{"$nulls":5},1436,"PUESTO DE SALUD TUTI",100,{"v":1090,"d":"1,090"},6,7,9,9,6,10,18,16,8,13,16,16,15,2,9,13,25,16,20,27,84,78,77,79,82,71,57,60,55,43,62,42,19,20,1,5,1,6,579,30,41,252,18,null,null,{"v":1090,"d":"1,090"},134,80,209,426,241]
["040519","AREQUIPA","AREQUIPA","CAYLLOMA","YANQUE",{"$nulls":3},{"v":3124,"d":"3,124"},17,15,21,19,23,39,38,37,29,31,38,27,38,38,37,34,42,54,50,50,229,268,256,217,226,221,179,179,170,148,148,80,64,62,1,10,7,18,{"v":1622,"d":"1,622"},98,107,743,23,null,null,{"v":3124,"d":"3,124"},334,243,597,{"v":1278,"d":"1,278"},672]
[{"$nulls":5},1428,"PUESTO DE SALUD YANQUE",54,{"v":1687,"d":"1,687"},9,8,11,10,12,21,21,20,16,17,21,15,21,21,20,18,23,29,27,27,124,145,138,117,122,119,97,97,92,80,80,43,35,33,1,5,4,10,876,53,58,401,12,null,null,{"v":1687,"d":"1,687"},180,131,322,690,363]
[{"$nulls":5},1437,"PUESTO DE SALUD CHALHUANCA",46,{"v":1437,"d":"1,437"},8,7,10,9,11,18,17,17,13,14,17,12,17,17,17,16,19,25,23,23,105,123,118,100,104,102,82,82,78,68,68,37,29,29,0,5,3,8,746,45,49,342,11,null,null,{"v":1437,"d":"1,437"},154,112,275,588,309]
["040520","AREQUIPA","AREQUIPA","CAYLLOMA","MAJES",{"$nulls":3},{"v":79005,"d":"79,005"},967,983,981,{"v":1203,"d":"1,203"},{"v":1208,"d":"1,208"},{"v":1307,"d":"1,307"},{"v":1320,"d":"1,320"},{"v":1428,"d":"1,428"},{"v":1232,"d":"1,232"},{"v":1223,"d":"1,223"},{"v":1147,"d":"1,147"},{"v":1171,"d":"1,171"},{"v":1155,"d":"1,155"},{"v":1146,"d":"1,146"},{"v":1250,"d":"1,250"},{"v":1129,"d":"1,129"},{"v":1338,"d":"1,338"},{"v":1305,"d":"1,305"},{"v":1251,"d":"1,251"},{"v":1164,"d":"1,164"},{"v":5619,"d":"5,619"},{"v":6563,"d":"6,563"},{"v":6722,"d":"6,722"},{"v":6517,"d":"6,517"},{"v":6147,"d":"6,147"},{"v":5619,"d":"5,619"},{"v":4635,"d":"4,635"},{"v":4013,"d":"4,013"},{"v":3138,"d":"3,138"},{"v":2264,"d":"2,264"},{"v":1747,"d":"1,747"},{"v":1123,"d":"1,123"},559,431,78,488,479,{"v":1026,"d":"1,026"},{"v":40040,"d":"40,040"},{"v":2929,"d":"2,929"},{"v":3041,"d":"3,041"},{"v":19254,"d":"19,254"},{"v":2206,"d":"2,206"},null,null,{"v":79005,"d":"79,005"},{"v":14170,"d":"14,170"},{"v":7323,"d":"7,323"},{"v":14597,"d":"14,597"},{"v":33653,"d":"33,653"},{"v":9262,"d":"9,262"}]
[{"$nulls":5},16721,"HOSPITAL CENTRAL DE MAJES ING. ANGEL GABRIEL CHURA GALLEGOS",0,0,0,0,0,0,0,0,0,0,0,0,0,0,0,0,0,0,0,0,0,0,0,0,0,0,0,0,0,0,0,0,0,0,0,0,0,0,0,0,0,0,0,0,0,null,null,0,0,0,0,0,0]
[{"$nulls":5},1326,"CENTRO DE SALUD LA COLINA",41,{"v":32392,"d":"32,392"},396,403,402,493,495,536,541,585,505,501,470,480,474,470,513,463,549,535,513,477,{"v":2304,"d":"2,304"},{"v":2691,"d":"2,691"},{"v":2756,"d":"2,756"},{"v":2672,"d":"2,672"},{"v":2520,"d":"2,520"},{"v":2304,"d":"2,304"},{"v":1900,"d":"1,900"},{"v":1645,"d":"1,645"},{"v":1287,"d":"1,287"},928,716,460,229,177,32,200,196,421,{"v":16416,"d":"16,416"},{"v":1201,"d":"1,201"},{"v":1247,"d":"1,247"},{"v":7894,"d":"7,894"},904,null,null,{"v":32392,"d":"32,392"},{"v":5810,"d":"5,810"},{"v":3002,"d":"3,002"},{"v":5985,"d":"5,985"},{"v":13798,"d":"13,798"},{"v":3797,"d":"3,797"}]
[{"$nulls":5},1325,"CENTRO DE SALUD  SANDRITA PEREZ EL PEDREGAL",46,{"v":36343,"d":"36,343"},445,452,451,554,556,602,608,657,567,563,528,539,531,527,574,519,615,601,575,536,{"v":2585,"d":"2,585"},{"v":3019,"d":"3,019"},{"v":3092,"d":"3,092"},{"v":2998,"d":"2,998"},{"v":2828,"d":"2,828"},{"v":2585,"d":"2,585"},{"v":2133,"d":"2,133"},{"v":1846,"d":"1,846"},{"v":1443,"d":"1,443"},{"v":1042,"d":"1,042"},804,517,257,198,36,225,220,471,{"v":18419,"d":"18,419"},{"v":1347,"d":"1,347"},{"v":1399,"d":"1,399"},{"v":8857,"d":"8,857"},{"v":1016,"d":"1,016"},null,null,{"v":36343,"d":"36,343"},{"v":6518,"d":"6,518"},{"v":3369,"d":"3,369"},{"v":6714,"d":"6,714"},{"v":15480,"d":"15,480"},{"v":4261,"d":"4,261"}]
[{"$nulls":5},1341,"ASENTAMIENTO B-1",7,{"v":5530,"d":"5,530"},68,69,69,84,85,91,92,100,86,86,80,82,81,80,88,79,94,91,88,81,393,459,471,456,430,393,324,281,220,158,122,79,39,30,5,34,34,72,{"v":2803,"d":"2,803"},205,213,{"v":1348,"d":"1,348"},154,null,null,{"v":5530,"d":"5,530"},992,513,{"v":1022,"d":"1,022"},{"v":2356,"d":"2,356"},648]
[{"$nulls":5},1342,"PUESTO DE SALUD  B-2",6,{"v":4740,"d":"4,740"},58,59,59,72,72,78,79,86,74,73,69,70,69,69,75,68,80,78,75,70,337,394,403,391,369,337,278,241,188,136,105,67,34,26,5,29,29,62,{"v":2402,"d":"2,402"},176,182,{"v":1155,"d":"1,155"},132,null,null,{"v":4740,"d":"4,740"},850,439,876,{"v":2019,"d":"2,019"},556]
["040601","AREQUIPA","AREQUIPA","CONDESUYOS","CHUQUIBAMBA",{"$nulls":3},{"v":3511,"d":"3,511"},30,34,40,31,37,44,47,51,54,57,55,52,56,47,66,76,62,65,62,49,256,249,210,172,217,206,182,191,161,151,170,114,96,121,1,15,15,32,{"v":1798,"d":"1,798"},141,138,676,63,null,null,{"v":3511,"d":"3,511"},532,372,616,{"v":1178,"d":"1,178"},813]
[{"$nulls":5},1388,"CENTRO DE SALUD CHUQUIBAMBA",100,{"v":3511,"d":"3,511"},30,34,40,31,37,44,47,51,54,57,55,52,56,47,66,76,62,65,62,49,256,249,210,172,217,206,182,191,161,151,170,114,96,121,1,15,15,32,{"v":1798,"d":"1,798"},141,138,676,63,null,null,{"v":3511,"d":"3,511"},532,372,616,{"v":1178,"d":"1,178"},813]
["040602","AREQUIPA","AREQUIPA","CONDESUYOS","ANDARAY",{"$nulls":3},739,0,2,2,5,3,4,5,2,6,7,6,4,4,9,2,8,5,11,5,12,36,62,43,60,39,58,48,46,55,39,57,29,24,41,0,0,0,0,376,13,18,151,1,null,null,739,46,39,115,294,245]
[{"$nulls":5},1415,"PUESTO DE SALUD ANDARAY",100,739,0,2,2,5,3,4,5,2,6,7,6,4,4,9,2,8,5,11,5,12,36,62,43,60,39,58,48,46,55,39,57,29,24,41,0,0,0,0,376,13,18,151,1,null,null,739,46,39,115,294,245]
["040603","AREQUIPA","AREQUIPA","CONDESUYOS","CAYARANI",{"$nulls":3},{"v":3293,"d":"3,293"},23,20,27,36,44,39,52,53,52,57,50,61,44,70,61,88,80,75,70,71,321,272,240,203,184,200,148,199,131,113,73,47,44,45,1,9,14,24,{"v":1704,"d":"1,704"},154,208,722,28,null,null,{"v":3293,"d":"3,293"},514,418,734,{"v":1174,"d":"1,174"},453]
[{"$nulls":5},1440,"CENTRO DE SALUD CAYARANI",80,{"v":2634,"d":"2,634"},18,16,22,29,35,31,42,42,42,46,40,49,35,56,49,70,64,60,56,57,257,218,192,162,147,160,118,159,105,90,58,38,35,36,1,7,11,19,{"v":1363,"d":"1,363"},123,166,578,22,null,null,{"v":2634,"d":"2,634"},411,334,587,939,362]
[{"$nulls":5},7407,"PUESTO DE SALUD ARCATA",20,659,5,4,5,7,9,8,10,11,10,11,10,12,9,14,12,18,16,15,14,14,64,54,48,41,37,40,30,40,26,23,15,9,9,9,0,2,3,5,341,31,42,144,6,null,null,659,103,84,147,235,91]
["040604","AREQUIPA","AREQUIPA","CONDESUYOS","CHICHAS",{"$nulls":3},789,3,4,6,4,4,3,8,7,6,6,8,8,11,8,8,9,11,12,5,11,32,38,40,35,34,50,61,62,49,58,38,49,38,63,2,3,0,3,432,25,27,121,5,null,null,789,67,59,86,282,295]
[{"$nulls":5},1410,"PUESTO DE SALUD CHICHAS",30,237,1,1,2,1,1,1,2,2,2,2,2,2,3,2,2,3,3,4,2,3,10,11,12,11,10,15,18,19,15,17,11,15,11,19,1,1,0,1,130,8,8,36,2,null,null,237,20,18,26,85,89]
[{"$nulls":5},1411,"PUESTO DE SALUD YACHANGUILLO",30,237,1,1,2,1,1,1,2,2,2,2,2,2,3,2,2,3,3,4,2,3,10,11,12,11,10,15,18,19,15,17,11,15,11,19,1,1,0,1,130,8,8,36,2,null,null,237,20,18,26,85,89]
[{"$nulls":5},1416,"YANQUE",40,315,1,2,2,2,2,1,4,3,2,2,4,4,5,4,4,3,5,4,1,5,12,16,16,13,14,20,25,24,19,24,16,19,16,25,0,1,0,1,172,9,11,49,1,null,null,315,27,23,34,112,117]
["040605","AREQUIPA","AREQUIPA","CONDESUYOS","IRAY",{"$nulls":3},764,5,7,7,5,11,7,9,6,9,5,9,10,9,9,4,4,11,13,6,5,40,44,41,33,42,42,59,54,52,47,35,40,35,49,0,3,2,5,407,21,21,128,6,null,null,764,90,50,95,271,258]
[{"$nulls":5},1409,"IRAY",100,764,5,7,7,5,11,7,9,6,9,5,9,10,9,9,4,4,11,13,6,5,40,44,41,33,42,42,59,54,52,47,35,40,35,49,0,3,2,5,407,21,21,128,6,null,null,764,90,50,95,271,258]
["040606","AREQUIPA","AREQUIPA","CONDESUYOS","RIO GRANDE",{"$nulls":3},{"v":4058,"d":"4,058"},55,73,79,61,39,52,56,57,47,48,29,39,58,40,59,58,86,71,39,47,230,286,247,303,296,293,271,269,215,173,129,99,74,80,3,24,31,58,{"v":2151,"d":"2,151"},123,155,873,132,null,null,{"v":4058,"d":"4,058"},635,372,602,{"v":1679,"d":"1,679"},770]
[{"$nulls":5},1380,"IQUIPI",88,{"v":3571,"d":"3,571"},48,64,70,54,34,46,49,50,41,42,26,34,51,35,52,51,76,62,34,41,202,252,217,267,260,258,238,237,189,152,114,87,65,70,3,21,27,51,{"v":1893,"d":"1,893"},108,136,768,116,null,null,{"v":3571,"d":"3,571"},559,327,530,{"v":1478,"d":"1,478"},678]
[{"$nulls":5},1381,"PUESTO DE SALUD PIUCA",12,487,7,9,9,7,5,6,7,7,6,6,3,5,7,5,7,7,10,9,5,6,28,34,30,36,36,35,33,32,26,21,15,12,9,10,0,3,4,7,258,15,19,105,16,null,null,487,76,45,72,201,92]
["040607","AREQUIPA","AREQUIPA","CONDESUYOS","SALAMANCA",{"$nulls":3},486,7,5,5,5,5,4,4,3,5,3,5,5,5,5,2,4,7,8,5,6,29,23,24,24,25,29,34,37,28,31,28,28,27,21,1,6,1,7,255,9,15,69,16,null,null,486,56,31,63,173,163]
[{"$nulls":5},1412,"PUESTO DE SALUD SALAMANCA",70,340,5,3,3,3,3,3,3,2,3,2,3,3,3,3,1,3,5,6,3,4,20,16,17,17,17,20,24,26,20,22,20,20,19,15,1,4,1,5,178,6,10,48,11,null,null,340,39,22,44,121,114]
[{"$nulls":5},1413,"PUESTO DE SALUD PUCUNCHO",30,146,2,2,2,2,2,1,1,1,2,1,2,2,2,2,1,1,2,2,2,2,9,7,7,7,8,9,10,11,8,9,8,8,8,6,0,2,0,2,77,3,5,21,5,null,null,146,17,9,19,52,49]
["040608","AREQUIPA","AREQUIPA","CONDESUYOS","YANAQUIHUA",{"$nulls":3},{"v":4267,"d":"4,267"},48,48,46,74,50,52,37,33,43,53,52,60,44,30,53,65,68,89,70,43,254,344,279,312,329,302,265,262,216,179,127,109,103,128,4,25,23,51,{"v":2304,"d":"2,304"},126,198,922,119,null,null,{"v":4267,"d":"4,267"},596,349,711,{"v":1749,"d":"1,749"},862]
[{"$nulls":5},1389,"CENTRO DE SALUD YANAQUIHUA",51,{"v":2176,"d":"2,176"},24,24,23,38,25,27,19,17,22,27,27,31,22,15,27,33,35,45,36,22,130,175,142,159,168,154,135,134,110,91,65,56,53,65,2,13,12,26,{"v":1175,"d":"1,175"},64,101,470,61,null,null,{"v":2176,"d":"2,176"},304,178,363,892,440]
[{"$nulls":5},1414,"PUESTO DE SALUD ISPACAS",49,{"v":2091,"d":"2,091"},24,24,23,36,25,25,18,16,21,26,25,29,22,15,26,32,33,44,34,21,124,169,137,153,161,148,130,128,106,88,62,53,50,63,2,12,11,25,{"v":1129,"d":"1,129"},62,97,452,58,null,null,{"v":2091,"d":"2,091"},292,171,348,857,422]
["040701","AREQUIPA","AREQUIPA","ISLAY","MOLLENDO",{"$nulls":3},{"v":28448,"d":"28,448"},219,263,238,292,324,316,379,428,386,385,329,347,382,353,419,395,429,403,402,386,{"v":1909,"d":"1,909"},{"v":2009,"d":"2,009"},{"v":1905,"d":"1,905"},{"v":1813,"d":"1,813"},{"v":2009,"d":"2,009"},{"v":2045,"d":"2,045"},{"v":1865,"d":"1,865"},{"v":1771,"d":"1,771"},{"v":1579,"d":"1,579"},{"v":1315,"d":"1,315"},{"v":1160,"d":"1,160"},876,606,511,16,100,119,232,{"v":14600,"d":"14,600"},936,{"v":1044,"d":"1,044"},{"v":6041,"d":"6,041"},604,null,null,{"v":28448,"d":"28,448"},{"v":3906,"d":"3,906"},{"v":2381,"d":"2,381"},{"v":4706,"d":"4,706"},{"v":11408,"d":"11,408"},{"v":6047,"d":"6,047"}]
[{"$nulls":5},1444,"CENTRO DE SALUD ALTO INCLAN",42,{"v":11948,"d":"11,948"},92,110,100,123,136,133,159,180,162,162,138,146,160,148,176,166,180,169,169,162,802,844,800,761,844,859,783,744,663,552,487,368,255,215,7,42,50,97,{"v":6132,"d":"6,132"},393,438,{"v":2537,"d":"2,537"},254,null,null,{"v":11948,"d":"11,948"},{"v":1641,"d":"1,641"},{"v":1000,"d":"1,000"},{"v":1977,"d":"1,977"},{"v":4791,"d":"4,791"},{"v":2540,"d":"2,540"}]
[{"$nulls":5},13295,"HOSPITAL II MANUEL DE TORRES MUÑOZ -  MOLLENDO",46,{"v":13086,"d":"13,086"},101,121,109,134,149,145,175,197,178,177,152,159,176,163,193,182,198,186,185,178,878,924,876,834,924,941,858,814,727,605,534,403,278,235,7,46,55,107,{"v":6716,"d":"6,716"},431,481,{"v":2779,"d":"2,779"},278,null,null,{"v":13086,"d":"13,086"},{"v":1796,"d":"1,796"},{"v":1095,"d":"1,095"},{"v":2164,"d":"2,164"},{"v":5248,"d":"5,248"},{"v":2781,"d":"2,781"}]
[{"$nulls":5},1447,"PUESTO DE SALUD VILLA LOURDES",12,{"v":3414,"d":"3,414"},26,32,29,35,39,38,45,51,46,46,39,42,46,42,50,47,51,48,48,46,229,241,229,218,241,245,224,213,189,158,139,105,73,61,2,12,14,28,{"v":1752,"d":"1,752"},112,125,725,72,null,null,{"v":3414,"d":"3,414"},469,286,565,{"v":1369,"d":"1,369"},726]
["040702","AREQUIPA","AREQUIPA","ISLAY","COCACHACRA",{"$nulls":3},{"v":9232,"d":"9,232"},88,80,104,97,97,99,97,115,134,97,108,89,83,119,111,130,110,126,120,126,583,690,700,701,671,641,644,670,513,447,304,224,151,163,5,50,38,94,{"v":4855,"d":"4,855"},273,330,{"v":2111,"d":"2,111"},170,null,null,{"v":9232,"d":"9,232"},{"v":1205,"d":"1,205"},679,{"v":1519,"d":"1,519"},{"v":4027,"d":"4,027"},{"v":1802,"d":"1,802"}]
[{"$nulls":5},1445,"CENTRO DE SALUD COCACHACRA",74,{"v":6832,"d":"6,832"},65,59,77,71,71,73,71,85,99,71,81,66,61,88,82,96,82,92,89,92,431,510,518,519,497,474,476,496,379,330,225,167,112,120,4,37,28,69,{"v":3593,"d":"3,593"},203,244,{"v":1562,"d":"1,562"},126,null,null,{"v":6832,"d":"6,832"},892,502,{"v":1124,"d":"1,124"},{"v":2979,"d":"2,979"},{"v":1334,"d":"1,334"}]
[{"$nulls":5},1453,"PUESTO DE SALUD EL TORO",2,185,2,2,2,2,2,2,2,2,3,2,2,2,2,2,2,3,2,3,2,3,12,14,14,14,13,13,13,13,10,9,6,4,3,3,0,1,1,2,97,5,7,42,3,null,null,185,24,14,30,81,36]
[{"$nulls":5},1452,"PUESTO DE SALUD EL FISCAL",6,554,5,5,6,6,6,6,6,7,8,6,6,5,5,7,7,8,7,8,7,8,35,41,42,42,40,38,39,40,31,27,18,13,9,10,0,3,2,6,291,16,20,127,10,null,null,554,72,41,91,242,108]
[{"$nulls":5},1454,"PUESTO DE SALUD LA PASCANA",4,369,4,3,4,4,4,4,4,5,5,4,4,4,3,5,4,5,4,5,5,5,23,28,28,28,27,26,26,27,21,18,12,9,6,7,0,2,2,4,194,11,13,84,7,null,null,369,48,27,61,161,72]
[{"$nulls":5},1343,"SAN CAMILO 7",14,{"v":1292,"d":"1,292"},12,11,15,14,14,14,14,16,19,14,15,12,12,17,16,18,15,18,17,18,82,97,98,98,94,90,90,94,72,63,43,31,21,23,1,7,5,13,680,38,46,296,24,null,null,{"v":1292,"d":"1,292"},169,95,213,564,252]
["040703","AREQUIPA","AREQUIPA","ISLAY","DEAN VALDIVIA",{"$nulls":3},{"v":7797,"d":"7,797"},55,75,81,99,101,98,114,106,93,106,81,85,122,83,105,120,133,104,108,107,570,647,668,550,576,513,464,461,390,311,238,171,124,138,6,34,21,58,{"v":4008,"d":"4,008"},237,298,{"v":1827,"d":"1,827"},73,null,null,{"v":7797,"d":"7,797"},{"v":1094,"d":"1,094"},667,{"v":1432,"d":"1,432"},{"v":3232,"d":"3,232"},{"v":1372,"d":"1,372"}]
[{"$nulls":5},1451,"PUESTO DE SALUD EL ARENAL",32,{"v":2495,"d":"2,495"},18,24,26,32,32,31,36,34,30,34,26,27,39,27,34,38,43,33,35,34,182,207,214,176,184,164,148,148,125,100,76,55,40,44,2,11,7,19,{"v":1283,"d":"1,283"},76,95,585,23,null,null,{"v":2495,"d":"2,495"},350,213,458,{"v":1034,"d":"1,034"},439]
[{"$nulls":5},1449,"CENTRO DE SALUD LA CURVA",53,{"v":4132,"d":"4,132"},29,40,43,52,54,52,61,56,49,56,43,45,65,44,55,64,70,55,57,57,302,343,354,291,306,272,246,244,206,164,126,90,65,73,3,18,11,30,{"v":2124,"d":"2,124"},125,158,968,39,null,null,{"v":4132,"d":"4,132"},580,354,759,{"v":1713,"d":"1,713"},727]
[{"$nulls":5},1450,"PUESTO DE SALUD ALTO ENSENADA",15,{"v":1170,"d":"1,170"},8,11,12,15,15,15,17,16,14,16,12,13,18,12,16,18,20,16,16,16,86,97,100,83,86,77,70,69,59,47,36,26,19,21,1,5,3,9,601,36,45,274,11,null,null,{"v":1170,"d":"1,170"},164,100,215,485,206]
["040704","AREQUIPA","AREQUIPA","ISLAY","ISLAY",{"$nulls":3},{"v":5470,"d":"5,470"},62,80,80,85,85,94,97,85,81,93,70,95,71,80,66,84,109,104,95,79,376,438,423,415,404,406,344,295,215,181,134,90,22,32,6,27,35,66,{"v":2824,"d":"2,824"},189,257,{"v":1306,"d":"1,306"},201,null,null,{"v":5470,"d":"5,470"},{"v":1007,"d":"1,007"},514,988,{"v":2287,"d":"2,287"},674]
[{"$nulls":5},1443,"CENTRO DE SALUD MATARANI",100,{"v":5470,"d":"5,470"},62,80,80,85,85,94,97,85,81,93,70,95,71,80,66,84,109,104,95,79,376,438,423,415,404,406,344,295,215,181,134,90,22,32,6,27,35,66,{"v":2824,"d":"2,824"},189,257,{"v":1306,"d":"1,306"},201,null,null,{"v":5470,"d":"5,470"},{"v":1007,"d":"1,007"},514,988,{"v":2287,"d":"2,287"},674]
["040705","AREQUIPA","AREQUIPA","ISLAY","MEJIA",{"$nulls":3},{"v":1462,"d":"1,462"},4,7,7,17,13,14,13,15,14,16,22,11,9,13,14,8,11,12,16,17,95,99,99,108,116,95,108,119,123,68,70,44,35,30,0,1,3,4,791,38,27,352,6,null,null,{"v":1462,"d":"1,462"},153,67,227,645,370]
[{"$nulls":5},1448,"PUESTO DE SALUD MEJIA",100,{"v":1462,"d":"1,462"},4,7,7,17,13,14,13,15,14,16,22,11,9,13,14,8,11,12,16,17,95,99,99,108,116,95,108,119,123,68,70,44,35,30,0,1,3,4,791,38,27,352,6,null,null,{"v":1462,"d":"1,462"},153,67,227,645,370]
["040706","AREQUIPA","AREQUIPA","ISLAY","PUNTA DE BOMBON",{"$nulls":3},{"v":7187,"d":"7,187"},65,65,74,87,76,105,85,83,90,75,77,117,81,83,78,116,100,111,99,92,470,537,505,524,488,467,461,446,428,363,268,195,116,160,3,36,29,69,{"v":3751,"d":"3,751"},233,274,{"v":1562,"d":"1,562"},179,null,null,{"v":7187,"d":"7,187"},999,569,{"v":1198,"d":"1,198"},{"v":2891,"d":"2,891"},{"v":1530,"d":"1,530"}]
[{"$nulls":5},1446,"CENTRO DE SALUD LA PUNTA",100,{"v":7187,"d":"7,187"},65,65,74,87,76,105,85,83,90,75,77,117,81,83,78,116,100,111,99,92,470,537,505,524,488,467,461,446,428,363,268,195,116,160,3,36,29,69,{"v":3751,"d":"3,751"},233,274,{"v":1562,"d":"1,562"},179,null,null,{"v":7187,"d":"7,187"},999,569,{"v":1198,"d":"1,198"},{"v":2891,"d":"2,891"},{"v":1530,"d":"1,530"}]
["040801","AREQUIPA","AREQUIPA","LA UNION","COTAHUASI",{"$nulls":3},{"v":3087,"d":"3,087"},54,30,33,40,48,49,45,44,40,43,62,40,61,53,43,55,73,58,70,58,231,192,153,170,183,176,158,169,152,111,109,91,81,112,4,26,28,57,{"v":1573,"d":"1,573"},130,170,569,100,null,null,{"v":3087,"d":"3,087"},528,343,551,{"v":1009,"d":"1,009"},656]
[{"$nulls":5},1455,"CENTRO DE SALUD COTAHUASI",100,{"v":3087,"d":"3,087"},54,30,33,40,48,49,45,44,40,43,62,40,61,53,43,55,73,58,70,58,231,192,153,170,183,176,158,169,152,111,109,91,81,112,4,26,28,57,{"v":1573,"d":"1,573"},130,170,569,100,null,null,{"v":3087,"d":"3,087"},528,343,551,{"v":1009,"d":"1,009"},656]
["040802","AREQUIPA","AREQUIPA","LA UNION","ALCA",{"$nulls":3},{"v":1827,"d":"1,827"},23,17,25,27,32,27,26,33,35,33,29,30,18,20,32,35,35,42,41,33,148,112,104,87,86,99,101,111,94,76,57,66,46,47,2,10,13,25,932,71,103,308,63,null,null,{"v":1827,"d":"1,827"},337,182,334,588,386]
[{"$nulls":5},1464,"CENTRO DE SALUD ALCA",100,{"v":1827,"d":"1,827"},23,17,25,27,32,27,26,33,35,33,29,30,18,20,32,35,35,42,41,33,148,112,104,87,86,99,101,111,94,76,57,66,46,47,2,10,13,25,932,71,103,308,63,null,null,{"v":1827,"d":"1,827"},337,182,334,588,386]
["040803","AREQUIPA","AREQUIPA","LA UNION","CHARCANA",{"$nulls":3},714,8,6,12,11,9,9,14,15,8,16,10,13,13,10,11,12,13,17,13,4,42,48,39,38,38,46,39,42,27,32,32,31,17,19,1,6,2,8,379,40,36,118,10,null,null,714,131,76,107,242,158]
[{"$nulls":5},1467,"PUESTO DE SALUD CHARCANA",68,486,5,4,8,7,6,6,10,10,5,11,7,9,9,7,7,8,9,12,9,3,29,33,27,26,26,31,27,29,18,22,22,21,12,13,1,4,1,5,258,27,24,80,7,null,null,486,89,52,73,165,107]
[{"$nulls":5},1466,"PUESTO DE SALUD ANDAMARCA",32,228,3,2,4,4,3,3,4,5,3,5,3,4,4,3,4,4,4,5,4,1,13,15,12,12,12,15,12,13,9,10,10,10,5,6,0,2,1,3,121,13,12,38,3,null,null,228,42,24,34,77,51]
["040804","AREQUIPA","AREQUIPA","LA UNION","HUAYNACOTAS",{"$nulls":3},{"v":2092,"d":"2,092"},20,20,35,30,37,36,40,33,37,36,30,44,34,34,35,43,45,46,39,33,183,143,102,97,120,127,119,121,80,82,65,53,40,53,0,9,11,22,{"v":1086,"d":"1,086"},88,107,392,65,null,null,{"v":2092,"d":"2,092"},398,237,398,686,373]
[{"$nulls":5},1463,"PUESTO DE SALUD HUAYNACOTAS",61,{"v":1276,"d":"1,276"},12,12,22,19,22,22,25,20,22,22,19,27,21,21,22,26,28,28,24,20,112,87,63,60,73,77,73,74,49,50,39,32,25,32,0,5,7,13,663,54,66,239,39,null,null,{"v":1276,"d":"1,276"},242,144,242,419,228]
[{"$nulls":5},7265,"PUESTO DE SALUD HUARCAYA",21,439,4,4,7,6,8,8,8,7,8,8,6,9,7,7,7,9,9,10,8,7,38,30,21,20,25,27,25,25,17,17,14,11,8,11,0,2,2,5,228,18,22,82,14,null,null,439,84,50,84,144,78]
[{"$nulls":5},1461,"PUESTO DE SALUD TAURISMA",18,377,4,4,6,5,7,6,7,6,7,6,5,8,6,6,6,8,8,8,7,6,33,26,18,17,22,23,21,22,14,15,12,10,7,10,0,2,2,4,195,16,19,71,12,null,null,377,72,43,72,123,67]
["040805","AREQUIPA","AREQUIPA","LA UNION","PAMPAMARCA",{"$nulls":3},{"v":1306,"d":"1,306"},13,71,94,22,13,15,10,16,15,21,14,19,23,16,27,25,23,30,30,17,97,57,73,65,73,66,59,57,51,66,43,35,22,28,0,8,5,13,679,62,64,205,15,null,null,{"v":1306,"d":"1,306"},323,144,201,393,245]
[{"$nulls":5},1462,"PUESTO DE SALUD PAMPAMARCA",67,875,9,47,63,15,9,10,6,11,10,14,9,13,16,11,18,16,16,20,20,11,65,38,49,43,49,44,39,38,34,44,29,24,15,19,0,6,3,9,455,42,42,137,10,null,null,875,217,96,135,263,164]
[{"$nulls":5},1460,"PUESTO DE SALUD MUNGUI",18,235,2,13,17,4,2,3,2,3,3,4,3,3,4,3,5,5,4,5,5,3,17,10,13,12,13,12,11,10,9,12,8,6,4,5,0,1,1,2,122,11,12,37,3,null,null,235,58,26,36,71,44]
[{"$nulls":5},1459,"PUESTO DE SALUD HUARHUA",15,196,2,11,14,3,2,2,2,2,2,3,2,3,3,2,4,4,3,5,5,3,15,9,11,10,11,10,9,9,8,10,6,5,3,4,0,1,1,2,102,9,10,31,2,null,null,196,48,22,30,59,37]
["040806","AREQUIPA","AREQUIPA","LA UNION","PUYCA",{"$nulls":3},{"v":2545,"d":"2,545"},28,25,24,32,32,30,44,58,54,51,49,62,64,62,49,77,67,66,53,43,211,146,153,118,140,128,137,132,115,86,82,59,40,28,0,13,15,30,{"v":1313,"d":"1,313"},146,160,446,48,null,null,{"v":2545,"d":"2,545"},489,385,453,808,410]
[{"$nulls":5},1465,"PUESTO DE SALUD PUYCA",73,{"v":1858,"d":"1,858"},20,18,18,23,23,22,32,42,39,37,36,45,47,45,36,56,49,48,39,31,154,107,112,86,102,93,100,96,84,63,60,43,29,20,0,9,11,22,958,107,117,326,35,null,null,{"v":1858,"d":"1,858"},357,281,331,590,299]
[{"$nulls":5},1471,"PUESTO DE SALUD CHURCA",27,687,8,7,6,9,9,8,12,16,15,14,13,17,17,17,13,21,18,18,14,12,57,39,41,32,38,35,37,36,31,23,22,16,11,8,0,4,4,8,355,39,43,120,13,null,null,687,132,104,122,218,111]
["040807","AREQUIPA","AREQUIPA","LA UNION","QUECHUALLA",{"$nulls":3},435,2,0,3,1,4,2,2,2,5,4,1,1,1,1,1,2,2,2,5,2,10,29,45,33,27,31,27,41,40,37,20,19,14,19,0,1,1,2,221,4,8,90,3,null,null,435,27,9,46,204,149]
[{"$nulls":5},1468,"PUESTO DE SALUD VELINGA",100,435,2,0,3,1,4,2,2,2,5,4,1,1,1,1,1,2,2,2,5,2,10,29,45,33,27,31,27,41,40,37,20,19,14,19,0,1,1,2,221,4,8,90,3,null,null,435,27,9,46,204,149]
["040808","AREQUIPA","AREQUIPA","LA UNION","SAYLA",{"$nulls":3},348,9,3,10,3,3,2,2,5,3,3,2,2,8,6,5,5,10,9,7,8,18,21,21,19,18,22,13,23,12,23,16,9,6,22,1,6,3,9,199,14,27,60,19,null,null,348,47,43,54,116,88]
[{"$nulls":5},1469,"PUESTO DE SALUD SAYLA",100,348,9,3,10,3,3,2,2,5,3,3,2,2,8,6,5,5,10,9,7,8,18,21,21,19,18,22,13,23,12,23,16,9,6,22,1,6,3,9,199,14,27,60,19,null,null,348,47,43,54,116,88]
["040809","AREQUIPA","AREQUIPA","LA UNION","TAURIA",{"$nulls":3},525,4,8,2,19,21,8,7,4,11,1,6,5,10,1,5,6,12,11,3,12,29,27,39,38,35,18,12,26,28,14,27,28,21,27,0,2,2,4,265,22,28,77,12,null,null,525,96,45,71,168,145]
[{"$nulls":5},1470,"PUESTO DE SALUD TAURIA",100,525,4,8,2,19,21,8,7,4,11,1,6,5,10,1,5,6,12,11,3,12,29,27,39,38,35,18,12,26,28,14,27,28,21,27,0,2,2,4,265,22,28,77,12,null,null,525,96,45,71,168,145]
["040810","AREQUIPA","AREQUIPA","LA UNION","TOMEPAMPA",{"$nulls":3},717,9,4,4,7,5,8,10,4,11,5,7,9,9,14,9,8,15,15,9,10,49,41,47,31,43,46,56,37,44,42,30,30,23,26,2,5,4,9,374,25,28,135,11,null,null,717,83,70,109,260,195]
[{"$nulls":5},1456,"PUESTO DE SALUD TOMEPAMPA",100,717,9,4,4,7,5,8,10,4,11,5,7,9,9,14,9,8,15,15,9,10,49,41,47,31,43,46,56,37,44,42,30,30,23,26,2,5,4,9,374,25,28,135,11,null,null,717,83,70,109,260,195]
["040811","AREQUIPA","AREQUIPA","LA UNION","TORO",{"$nulls":3},591,3,3,4,1,3,5,4,3,3,8,10,3,2,3,8,4,7,11,5,11,31,35,24,30,29,46,46,48,37,26,26,30,39,43,0,1,2,3,322,15,21,102,4,null,null,591,50,35,82,223,201]
[{"$nulls":5},1457,"PUESTO DE SALUD TORO",51,301,2,2,2,1,2,3,2,2,2,4,5,2,1,2,4,2,4,6,3,6,16,18,12,15,15,23,23,24,19,13,13,15,20,22,0,1,1,2,164,8,11,52,2,null,null,301,26,18,42,114,103]
[{"$nulls":5},1458,"PUESTO DE SALUD CASPI",49,290,1,1,2,0,1,2,2,1,1,4,5,1,1,1,4,2,3,5,2,5,15,17,12,15,14,23,23,24,18,13,13,15,19,21,0,0,1,1,158,7,10,50,2,null,null,290,25,17,40,109,98]
[]
["FUENTE: BOLETIN DEMOGRAFICO Nº 25, 26, 39 / RENIEC / Padrón Nominal/ CNV"]
["La población de 0-5 años corresponden al reporte de la poblacion del Padrón Nominal con corte al 31/12/2025"]
["OFICINA DE GESTION DE LA INFORMACION - MINISTERIO DE SALUD"]

{"sheet":"RED DE SALUD AREQUIPA CAYLLOMA","index":4,"n_rows":245,"n_cols":60,"rows_kept":245,"merged":[[5,43,5,45],[5,46,6,46],[5,47,6,47],[5,48,5,50],[5,51,6,51]]}
[]
[]
[]
["POBLACION ESTIMADA POR EDADES SIMPLES Y GRUPOS DE EDAD, SEGÚN DEPARTAMENTO, PROVINCIA Y DISTRITO. 2026"]
["* Actualizado con datos INEI y el Padrón Nominal"]
["POBLACION 2026",{"$nulls":8},"POBLACION TOTAL, POR EDADS SIMPLES",{"$nulls":19},"POBLACIÓN TOTAL,  POR GRUPOS QUINQUEN ALES DE EDAD",{"$nulls":13},"EDADES ESPECIALES",null,null,"NACIMIENTOS VIVOS","POBLACION FEMENINA TOTAL","POBLACION FEMENINA",null,null,"GESTANTES  ESPERADAS"]
["UBIGEO","DIRESA","DEPARTAMENTO","PROVINCIA","DISTRITO",{"$nulls":3},"Total","0",1,2,3,4,5,6,7,8,9,10,11,12,13,14,15,16,17,18,19,"20-24","25-29","30-34","35-39","40-44","45-49","50-54","55-59","60-64","65-69","70-74","75-79","80-84","85-+","28 DIAS","0-5 MESES","6-11 MESES",null,null,"10 - 14","15- 19","20- 49",{"$nulls":3},"TOTAL","NIÑO","Adolescente","Joven","Adulto","Adulto Mayor"]
["000000","PERU","PERU","PERU","PERU",{"$nulls":3},{"v":1655634,"d":"1,655,634"},{"v":15712,"d":"15,712"},{"v":16435,"d":"16,435"},{"v":16469,"d":"16,469"},{"v":17838,"d":"17,838"},{"v":18010,"d":"18,010"},{"v":21120,"d":"21,120"},{"v":26285,"d":"26,285"},{"v":26908,"d":"26,908"},{"v":26517,"d":"26,517"},{"v":25193,"d":"25,193"},{"v":23455,"d":"23,455"},{"v":23754,"d":"23,754"},{"v":24541,"d":"24,541"},{"v":23426,"d":"23,426"},{"v":23835,"d":"23,835"},{"v":25279,"d":"25,279"},{"v":25532,"d":"25,532"},{"v":25380,"d":"25,380"},{"v":24489,"d":"24,489"},{"v":23987,"d":"23,987"},{"v":121156,"d":"121,156"},{"v":135081,"d":"135,081"},{"v":135252,"d":"135,252"},{"v":122328,"d":"122,328"},{"v":120811,"d":"120,811"},{"v":112552,"d":"112,552"},{"v":98537,"d":"98,537"},{"v":90673,"d":"90,673"},{"v":76289,"d":"76,289"},{"v":60761,"d":"60,761"},{"v":48658,"d":"48,658"},{"v":34917,"d":"34,917"},{"v":22143,"d":"22,143"},{"v":22311,"d":"22,311"},{"v":1178,"d":"1,178"},{"v":7853,"d":"7,853"},{"v":7859,"d":"7,859"},{"v":16644,"d":"16,644"},{"v":840625,"d":"840,625"},{"v":59071,"d":"59,071"},{"v":62354,"d":"62,354"},{"v":379482,"d":"379,482"},{"v":32018,"d":"32,018"},null,null,{"v":1655634,"d":"1,655,634"},{"v":257696,"d":"257,696"},{"v":147993,"d":"147,993"},{"v":304713,"d":"304,713"},{"v":680153,"d":"680,153"},{"v":265079,"d":"265,079"}]
["040101","AREQUIPA","AREQUIPA","AREQUIPA","AREQUIPA",{"$nulls":3},{"v":60452,"d":"60,452"},485,534,526,484,527,685,635,684,684,632,555,581,604,596,667,660,646,639,601,610,{"v":3343,"d":"3,343"},{"v":3607,"d":"3,607"},{"v":3923,"d":"3,923"},{"v":3575,"d":"3,575"},{"v":3925,"d":"3,925"},{"v":4241,"d":"4,241"},{"v":4357,"d":"4,357"},{"v":4524,"d":"4,524"},{"v":4341,"d":"4,341"},{"v":3657,"d":"3,657"},{"v":3149,"d":"3,149"},{"v":2346,"d":"2,346"},{"v":1639,"d":"1,639"},{"v":1790,"d":"1,790"},36,243,242,514,{"v":30549,"d":"30,549"},{"v":1410,"d":"1,410"},{"v":1509,"d":"1,509"},{"v":11197,"d":"11,197"},930,null,null,{"v":60452,"d":"60,452"},{"v":7012,"d":"7,012"},{"v":3812,"d":"3,812"},{"v":8161,"d":"8,161"},{"v":24545,"d":"24,545"},{"v":16922,"d":"16,922"}]
[{"$nulls":5},7397,"INSTITUTO REGIONAL DE ENFERMEDADES NEOPLASICAS",0,0,0,0,0,0,0,0,0,0,0,0,0,0,0,0,0,0,0,0,0,0,0,0,0,0,0,0,0,0,0,0,0,0,0,0,0,0,0,0,0,0,0,0,0,null,null,0,0,0,0,0,0]
[{"$nulls":5},1232,"HOSPITAL GOYENECHE",0,0,0,0,0,0,0,0,0,0,0,0,0,0,0,0,0,0,0,0,0,0,0,0,0,0,0,0,0,0,0,0,0,0,0,0,0,0,0,0,0,0,0,0,0,null,null,0,0,0,0,0,0]
[{"$nulls":5},1231,"HOSPITAL REGIONAL HONORIO DELGADO ESPINOZA",0,0,0,0,0,0,0,0,0,0,0,0,0,0,0,0,0,0,0,0,0,0,0,0,0,0,0,0,0,0,0,0,0,0,0,0,0,0,0,0,0,0,0,0,0,null,null,0,0,0,0,0,0]
[{"$nulls":5},1291,"CENTRO DE SALUD ALTO SELVA ALEGRE",20,{"v":12092,"d":"12,092"},97,106,106,96,107,137,127,136,136,128,111,117,120,120,135,132,130,127,121,122,667,723,783,715,785,849,873,904,869,733,629,470,327,358,8,47,50,102,{"v":6109,"d":"6,109"},282,301,{"v":2241,"d":"2,241"},186,null,null,{"v":12092,"d":"12,092"},{"v":1404,"d":"1,404"},764,{"v":1633,"d":"1,633"},{"v":4909,"d":"4,909"},{"v":3386,"d":"3,386"}]
[{"$nulls":5},1294,"CENTRO DE SALUD MARIANO MELGAR",20,{"v":12090,"d":"12,090"},97,107,105,97,105,137,127,137,137,126,111,116,121,119,133,132,129,128,120,122,669,721,785,715,785,848,871,905,868,731,630,469,328,358,7,49,48,103,{"v":6110,"d":"6,110"},282,302,{"v":2239,"d":"2,239"},186,null,null,{"v":12090,"d":"12,090"},{"v":1402,"d":"1,402"},762,{"v":1632,"d":"1,632"},{"v":4909,"d":"4,909"},{"v":3384,"d":"3,384"}]
[{"$nulls":5},1293,"CENTRO DE SALUD MIRAFLORES",20,{"v":12090,"d":"12,090"},97,107,105,97,105,137,127,137,137,126,111,116,121,119,133,132,129,128,120,122,669,721,785,715,785,848,871,905,868,731,630,469,328,358,7,49,48,103,{"v":6110,"d":"6,110"},282,302,{"v":2239,"d":"2,239"},186,null,null,{"v":12090,"d":"12,090"},{"v":1402,"d":"1,402"},762,{"v":1632,"d":"1,632"},{"v":4909,"d":"4,909"},{"v":3384,"d":"3,384"}]
[{"$nulls":5},1233,"CENTRO DE SALUD YANAHUARA",20,{"v":12090,"d":"12,090"},97,107,105,97,105,137,127,137,137,126,111,116,121,119,133,132,129,128,120,122,669,721,785,715,785,848,871,905,868,731,630,469,328,358,7,49,48,103,{"v":6110,"d":"6,110"},282,302,{"v":2239,"d":"2,239"},186,null,null,{"v":12090,"d":"12,090"},{"v":1402,"d":"1,402"},762,{"v":1632,"d":"1,632"},{"v":4909,"d":"4,909"},{"v":3384,"d":"3,384"}]
[{"$nulls":5},1263,"PUESTO DE SALUD 13 DE ENERO (VRH)",20,{"v":12090,"d":"12,090"},97,107,105,97,105,137,127,137,137,126,111,116,121,119,133,132,129,128,120,122,669,721,785,715,785,848,871,905,868,731,630,469,328,358,7,49,48,103,{"v":6110,"d":"6,110"},282,302,{"v":2239,"d":"2,239"},186,null,null,{"v":12090,"d":"12,090"},{"v":1402,"d":"1,402"},762,{"v":1632,"d":"1,632"},{"v":4909,"d":"4,909"},{"v":3384,"d":"3,384"}]
[]
[{"$nulls":6},"RED DE SALUD AREQUIPA CAYLLOMA",null,{"$f":"+I21+I33+I43+I51+I59+I65+I71+I76+I83+I90+I96+I107+I119+I128+I133+I139+I147+I154+I161+I169+I176+I188+I198+I205+I212+I222+I230+I238","v":{"v":1329507,"d":"1,329,507"}},{"$f":"+J21+J33+J43+J51+J59+J65+J71+J76+J83+J90+J96+J107+J119+J128+J133+J139+J147+J154+J161+J169+J176+J188+J198+J205+J212+J222+J230+J238","v":{"v":12770,"d":"12,770"}},{"$f":"+K21+K33+K43+K51+K59+K65+K71+K76+K83+K90+K96+K107+K119+K128+K133+K139+K147+K154+K161+K169+K176+K188+K198+K205+K212+K222+K230+K238","v":{"v":13226,"d":"13,226"}},{"$f":"+L21+L33+L43+L51+L59+L65+L71+L76+L83+L90+L96+L107+L119+L128+L133+L139+L147+L154+L161+L169+L176+L188+L198+L205+L212+L222+L230+L238","v":{"v":13154,"d":"13,154"}},{"$f":"+M21+M33+M43+M51+M59+M65+M71+M76+M83+M90+M96+M107+M119+M128+M133+M139+M147+M154+M161+M169+M176+M188+M198+M205+M212+M222+M230+M238","v":{"v":14348,"d":"14,348"}},{"$f":"+N21+N33+N43+N51+N59+N65+N71+N76+N83+N90+N96+N107+N119+N128+N133+N139+N147+N154+N161+N169+N176+N188+N198+N205+N212+N222+N230+N238","v":{"v":14584,"d":"14,584"}},{"$f":"+O21+O33+O43+O51+O59+O65+O71+O76+O83+O90+O96+O107+O119+O128+O133+O139+O147+O154+O161+O169+O176+O188+O198+O205+O212+O222+O230+O238","v":{"v":17149,"d":"17,149"}},{"$f":"+P21+P33+P43+P51+P59+P65+P71+P76+P83+P90+P96+P107+P119+P128+P133+P139+P147+P154+P161+P169+P176+P188+P198+P205+P212+P222+P230+P238","v":{"v":21840,"d":"21,840"}},{"$f":"+Q21+Q33+Q43+Q51+Q59+Q65+Q71+Q76+Q83+Q90+Q96+Q107+Q119+Q128+Q133+Q139+Q147+Q154+Q161+Q169+Q176+Q188+Q198+Q205+Q212+Q222+Q230+Q238","v":{"v":22300,"d":"22,300"}},{"$f":"+R21+R33+R43+R51+R59+R65+R71+R76+R83+R90+R96+R107+R119+R128+R133+R139+R147+R154+R161+R169+R176+R188+R198+R205+R212+R222+R230+R238","v":{"v":21921,"d":"21,921"}},{"$f":"+S21+S33+S43+S51+S59+S65+S71+S76+S83+S90+S96+S107+S119+S128+S133+S139+S147+S154+S161+S169+S176+S188+S198+S205+S212+S222+S230+S238","v":{"v":20768,"d":"20,768"}},{"$f":"+T21+T33+T43+T51+T59+T65+T71+T76+T83+T90+T96+T107+T119+T128+T133+T139+T147+T154+T161+T169+T176+T188+T198+T205+T212+T222+T230+T238","v":{"v":19244,"d":"19,244"}},{"$f":"+U21+U33+U43+U51+U59+U65+U71+U76+U83+U90+U96+U107+U119+U128+U133+U139+U147+U154+U161+U169+U176+U188+U198+U205+U212+U222+U230+U238","v":{"v":19337,"d":"19,337"}},{"$f":"+V21+V33+V43+V51+V59+V65+V71+V76+V83+V90+V96+V107+V119+V128+V133+V139+V147+V154+V161+V169+V176+V188+V198+V205+V212+V222+V230+V238","v":{"v":20085,"d":"20,085"}},{"$f":"+W21+W33+W43+W51+W59+W65+W71+W76+W83+W90+W96+W107+W119+W128+W133+W139+W147+W154+W161+W169+W176+W188+W198+W205+W212+W222+W230+W238","v":{"v":19144,"d":"19,144"}},{"$f":"+X21+X33+X43+X51+X59+X65+X71+X76+X83+X90+X96+X107+X119+X128+X133+X139+X147+X154+X161+X169+X176+X188+X198+X205+X212+X222+X230+X238","v":{"v":19236,"d":"19,236"}},{"$f":"+Y21+Y33+Y43+Y51+Y59+Y65+Y71+Y76+Y83+Y90+Y96+Y107+Y119+Y128+Y133+Y139+Y147+Y154+Y161+Y169+Y176+Y188+Y198+Y205+Y212+Y222+Y230+Y238","v":{"v":20295,"d":"20,295"}},{"$f":"+Z21+Z33+Z43+Z51+Z59+Z65+Z71+Z76+Z83+Z90+Z96+Z107+Z119+Z128+Z133+Z139+Z147+Z154+Z161+Z169+Z176+Z188+Z198+Z205+Z212+Z222+Z230+Z238","v":{"v":20410,"d":"20,410"}},{"$f":"+AA21+AA33+AA43+AA51+AA59+AA65+AA71+AA76+AA83+AA90+AA96+AA107+AA119+AA128+AA133+AA139+AA147+AA154+AA161+AA169+AA176+AA188+AA198+AA205+AA212+AA222+AA230+AA238","v":{"v":20345,"d":"20,345"}},{"$f":"+AB21+AB33+AB43+AB51+AB59+AB65+AB71+AB76+AB83+AB90+AB96+AB107+AB119+AB128+AB133+AB139+AB147+AB154+AB161+AB169+AB176+AB188+AB198+AB205+AB212+AB222+AB230+AB238","v":{"v":19991,"d":"19,991"}},{"$f":"+AC21+AC33+AC43+AC51+AC59+AC65+AC71+AC76+AC83+AC90+AC96+AC107+AC119+AC128+AC133+AC139+AC147+AC154+AC161+AC169+AC176+AC188+AC198+AC205+AC212+AC222+AC230+AC238","v":{"v":19756,"d":"19,756"}},{"$f":"+AD21+AD33+AD43+AD51+AD59+AD65+AD71+AD76+AD83+AD90+AD96+AD107+AD119+AD128+AD133+AD139+AD147+AD154+AD161+AD169+AD176+AD188+AD198+AD205+AD212+AD222+AD230+AD238","v":{"v":100258,"d":"100,258"}},{"$f":"+AE21+AE33+AE43+AE51+AE59+AE65+AE71+AE76+AE83+AE90+AE96+AE107+AE119+AE128+AE133+AE139+AE147+AE154+AE161+AE169+AE176+AE188+AE198+AE205+AE212+AE222+AE230+AE238","v":{"v":111864,"d":"111,864"}},{"$f":"+AF21+AF33+AF43+AF51+AF59+AF65+AF71+AF76+AF83+AF90+AF96+AF107+AF119+AF128+AF133+AF139+AF147+AF154+AF161+AF169+AF176+AF188+AF198+AF205+AF212+AF222+AF230+AF238","v":{"v":111834,"d":"111,834"}},{"$f":"+AG21+AG33+AG43+AG51+AG59+AG65+AG71+AG76+AG83+AG90+AG96+AG107+AG119+AG128+AG133+AG139+AG147+AG154+AG161+AG169+AG176+AG188+AG198+AG205+AG212+AG222+AG230+AG238","v":{"v":100158,"d":"100,158"}},{"$f":"+AH21+AH33+AH43+AH51+AH59+AH65+AH71+AH76+AH83+AH90+AH96+AH107+AH119+AH128+AH133+AH139+AH147+AH154+AH161+AH169+AH176+AH188+AH198+AH205+AH212+AH222+AH230+AH238","v":{"v":98543,"d":"98,543"}},{"$f":"+AI21+AI33+AI43+AI51+AI59+AI65+AI71+AI76+AI83+AI90+AI96+AI107+AI119+AI128+AI133+AI139+AI147+AI154+AI161+AI169+AI176+AI188+AI198+AI205+AI212+AI222+AI230+AI238","v":{"v":90396,"d":"90,396"}},{"$f":"+AJ21+AJ33+AJ43+AJ51+AJ59+AJ65+AJ71+AJ76+AJ83+AJ90+AJ96+AJ107+AJ119+AJ128+AJ133+AJ139+AJ147+AJ154+AJ161+AJ169+AJ176+AJ188+AJ198+AJ205+AJ212+AJ222+AJ230+AJ238","v":{"v":77527,"d":"77,527"}},{"$f":"+AK21+AK33+AK43+AK51+AK59+AK65+AK71+AK76+AK83+AK90+AK96+AK107+AK119+AK128+AK133+AK139+AK147+AK154+AK161+AK169+AK176+AK188+AK198+AK205+AK212+AK222+AK230+AK238","v":{"v":69988,"d":"69,988"}},{"$f":"+AL21+AL33+AL43+AL51+AL59+AL65+AL71+AL76+AL83+AL90+AL96+AL107+AL119+AL128+AL133+AL139+AL147+AL154+AL161+AL169+AL176+AL188+AL198+AL205+AL212+AL222+AL230+AL238","v":{"v":58026,"d":"58,026"}},{"$f":"+AM21+AM33+AM43+AM51+AM59+AM65+AM71+AM76+AM83+AM90+AM96+AM107+AM119+AM128+AM133+AM139+AM147+AM154+AM161+AM169+AM176+AM188+AM198+AM205+AM212+AM222+AM230+AM238","v":{"v":46176,"d":"46,176"}},{"$f":"+AN21+AN33+AN43+AN51+AN59+AN65+AN71+AN76+AN83+AN90+AN96+AN107+AN119+AN128+AN133+AN139+AN147+AN154+AN161+AN169+AN176+AN188+AN198+AN205+AN212+AN222+AN230+AN238","v":{"v":36750,"d":"36,750"}},{"$f":"+AO21+AO33+AO43+AO51+AO59+AO65+AO71+AO76+AO83+AO90+AO96+AO107+AO119+AO128+AO133+AO139+AO147+AO154+AO161+AO169+AO176+AO188+AO198+AO205+AO212+AO222+AO230+AO238","v":{"v":26170,"d":"26,170"}},{"$f":"+AP21+AP33+AP43+AP51+AP59+AP65+AP71+AP76+AP83+AP90+AP96+AP107+AP119+AP128+AP133+AP139+AP147+AP154+AP161+AP169+AP176+AP188+AP198+AP205+AP212+AP222+AP230+AP238","v":{"v":16142,"d":"16,142"}},{"$f":"+AQ21+AQ33+AQ43+AQ51+AQ59+AQ65+AQ71+AQ76+AQ83+AQ90+AQ96+AQ107+AQ119+AQ128+AQ133+AQ139+AQ147+AQ154+AQ161+AQ169+AQ176+AQ188+AQ198+AQ205+AQ212+AQ222+AQ230+AQ238","v":{"v":15779,"d":"15,779"}},{"$f":"+AR21+AR33+AR43+AR51+AR59+AR65+AR71+AR76+AR83+AR90+AR96+AR107+AR119+AR128+AR133+AR139+AR147+AR154+AR161+AR169+AR176+AR188+AR198+AR205+AR212+AR222+AR230+AR238","v":964},{"$f":"+AS21+AS33+AS43+AS51+AS59+AS65+AS71+AS76+AS83+AS90+AS96+AS107+AS119+AS128+AS133+AS139+AS147+AS154+AS161+AS169+AS176+AS188+AS198+AS205+AS212+AS222+AS230+AS238","v":{"v":6374,"d":"6,374"}},{"$f":"+AT21+AT33+AT43+AT51+AT59+AT65+AT71+AT76+AT83+AT90+AT96+AT107+AT119+AT128+AT133+AT139+AT147+AT154+AT161+AT169+AT176+AT188+AT198+AT205+AT212+AT222+AT230+AT238","v":{"v":6396,"d":"6,396"}},{"$f":"+AU21+AU33+AU43+AU51+AU59+AU65+AU71+AU76+AU83+AU90+AU96+AU107+AU119+AU128+AU133+AU139+AU147+AU154+AU161+AU169+AU176+AU188+AU198+AU205+AU212+AU222+AU230+AU238","v":{"v":13530,"d":"13,530"}},{"$f":"+AV21+AV33+AV43+AV51+AV59+AV65+AV71+AV76+AV83+AV90+AV96+AV107+AV119+AV128+AV133+AV139+AV147+AV154+AV161+AV169+AV176+AV188+AV198+AV205+AV212+AV222+AV230+AV238","v":{"v":673411,"d":"673,411"}},{"$f":"+AW21+AW33+AW43+AW51+AW59+AW65+AW71+AW76+AW83+AW90+AW96+AW107+AW119+AW128+AW133+AW139+AW147+AW154+AW161+AW169+AW176+AW188+AW198+AW205+AW212+AW222+AW230+AW238","v":{"v":47871,"d":"47,871"}},{"$f":"+AX21+AX33+AX43+AX51+AX59+AX65+AX71+AX76+AX83+AX90+AX96+AX107+AX119+AX128+AX133+AX139+AX147+AX154+AX161+AX169+AX176+AX188+AX198+AX205+AX212+AX222+AX230+AX238","v":{"v":50037,"d":"50,037"}},{"$f":"+AY21+AY33+AY43+AY51+AY59+AY65+AY71+AY76+AY83+AY90+AY96+AY107+AY119+AY128+AY133+AY139+AY147+AY154+AY161+AY169+AY176+AY188+AY198+AY205+AY212+AY222+AY230+AY238","v":{"v":310034,"d":"310,034"}},{"$f":"+AZ21+AZ33+AZ43+AZ51+AZ59+AZ65+AZ71+AZ76+AZ83+AZ90+AZ96+AZ107+AZ119+AZ128+AZ133+AZ139+AZ147+AZ154+AZ161+AZ169+AZ176+AZ188+AZ198+AZ205+AZ212+AZ222+AZ230+AZ238","v":{"v":25758,"d":"25,758"}},null,null,{"$f":"+BC21+BC33+BC43+BC51+BC59+BC65+BC71+BC76+BC83+BC90+BC96+BC107+BC119+BC128+BC133+BC139+BC147+BC154+BC161+BC169+BC176+BC188+BC198+BC205+BC212+BC222+BC230+BC238","v":{"v":1329507,"d":"1,329,507"}},{"$f":"+BD21+BD33+BD43+BD51+BD59+BD65+BD71+BD76+BD83+BD90+BD96+BD107+BD119+BD128+BD133+BD139+BD147+BD154+BD161+BD169+BD176+BD188+BD198+BD205+BD212+BD222+BD230+BD238","v":{"v":210640,"d":"210,640"}},{"$f":"+BE21+BE33+BE43+BE51+BE59+BE65+BE71+BE76+BE83+BE90+BE96+BE107+BE119+BE128+BE133+BE139+BE147+BE154+BE161+BE169+BE176+BE188+BE198+BE205+BE212+BE222+BE230+BE238","v":{"v":119511,"d":"119,511"}},{"$f":"+BF21+BF33+BF43+BF51+BF59+BF65+BF71+BF76+BF83+BF90+BF96+BF107+BF119+BF128+BF133+BF139+BF147+BF154+BF161+BF169+BF176+BF188+BF198+BF205+BF212+BF222+BF230+BF238","v":{"v":251867,"d":"251,867"}},{"$f":"+BG21+BG33+BG43+BG51+BG59+BG65+BG71+BG76+BG83+BG90+BG96+BG107+BG119+BG128+BG133+BG139+BG147+BG154+BG161+BG169+BG176+BG188+BG198+BG205+BG212+BG222+BG230+BG238","v":{"v":548445,"d":"548,445"}},{"$f":"+BH21+BH33+BH43+BH51+BH59+BH65+BH71+BH76+BH83+BH90+BH96+BH107+BH119+BH128+BH133+BH139+BH147+BH154+BH161+BH169+BH176+BH188+BH198+BH205+BH212+BH222+BH230+BH238","v":{"v":199042,"d":"199,042"}}]
[]
[{"$nulls":6},"MR CHIVAY",null,{"$f":"SUM(I22:I30)","v":{"v":16660,"d":"16,660"}},{"$f":"SUM(J22:J30)","v":95},106,103,172,115,163,228,239,223,211,231,200,258,244,211,279,296,289,260,271,{"v":1318,"d":"1,318"},{"v":1369,"d":"1,369"},{"v":1249,"d":"1,249"},{"v":1102,"d":"1,102"},{"v":1114,"d":"1,114"},{"v":1063,"d":"1,063"},907,996,854,688,594,519,334,361,6,48,47,99,{"v":8600,"d":"8,600"},575,697,{"v":3687,"d":"3,687"},187,null,null,{"$f":"SUM(BC22:BC30)","v":{"v":16660,"d":"16,660"}},{"$f":"SUM(BD22:BD30)","v":{"v":2085,"d":"2,085"}},{"$f":"SUM(BE22:BE30)","v":{"v":1576,"d":"1,576"}},{"$f":"SUM(BF22:BF30)","v":{"v":3217,"d":"3,217"}},{"$f":"SUM(BG22:BG30)","v":{"v":6431,"d":"6,431"}},{"$f":"SUM(BH22:BH30)","v":{"v":3350,"d":"3,350"}}]
["040502","AREQUIPA","AREQUIPA","CAYLLOMA","CHIVAY",1419,"CENTRO DE SALUD CHIVAY",90,{"v":7134,"d":"7,134"},45,44,47,88,47,76,123,128,130,125,130,109,153,133,112,155,159,148,148,125,677,634,577,481,427,392,319,386,285,195,181,170,81,103,2,24,21,48,{"v":3631,"d":"3,631"},309,358,{"v":1626,"d":"1,626"},79,null,null,{"v":7134,"d":"7,134"},{"v":1093,"d":"1,093"},860,{"v":1583,"d":"1,583"},{"v":2583,"d":"2,583"},{"v":1015,"d":"1,015"}]
[{"$nulls":5},1423,"PUESTO DE SALUD CANOCOTA",10,793,5,5,5,10,5,9,14,14,15,14,14,12,17,15,12,17,18,17,16,14,75,70,64,53,48,44,36,43,32,22,20,19,9,11,0,3,2,5,404,34,40,181,9,null,null,793,121,96,176,287,113]
["040503","AREQUIPA","AREQUIPA","CAYLLOMA","ACHOMA",1429,"PUESTO DE SALUD ACHOMA",100,{"v":1214,"d":"1,214"},5,5,8,13,12,7,12,11,9,5,7,9,11,11,11,15,10,15,8,21,82,101,77,59,82,96,90,99,85,59,55,44,40,40,1,4,1,5,652,26,40,253,7,null,null,{"v":1214,"d":"1,214"},103,73,212,503,323]
["040507","AREQUIPA","AREQUIPA","CAYLLOMA","COPORAQUE",1424,"PUESTO DE SALUD COPORAQUE",100,{"v":1547,"d":"1,547"},12,18,9,15,10,16,25,23,17,17,16,14,6,14,11,20,22,16,18,22,85,116,98,119,151,101,94,92,98,74,66,52,38,42,1,2,10,12,769,30,48,342,38,null,null,{"v":1547,"d":"1,547"},192,89,241,655,370]
["040510","AREQUIPA","AREQUIPA","CAYLLOMA","ICHUPAMPA",1425,"PUESTO DE SALUD ICHUPAMPA",100,966,5,3,5,12,7,14,9,10,13,7,7,15,16,7,16,9,13,16,3,14,54,72,83,65,61,64,59,64,56,60,47,34,24,22,1,1,4,5,514,32,26,217,7,null,null,966,107,77,143,396,243]
["040511","AREQUIPA","AREQUIPA","CAYLLOMA","LARI",1426,"PUESTO DE SALUD LARI",100,{"v":1332,"d":"1,332"},6,12,12,15,11,14,14,16,7,16,21,21,13,23,18,23,24,20,25,22,100,110,107,66,86,90,83,82,71,62,38,35,42,27,0,3,3,6,714,55,62,286,22,null,null,{"v":1332,"d":"1,332"},165,121,257,514,275]
["040513","AREQUIPA","AREQUIPA","CAYLLOMA","MACA",1430,"PUESTO DE SALUD MACA",100,{"v":1058,"d":"1,058"},6,6,3,4,8,3,6,12,11,6,12,2,12,9,1,14,12,16,7,16,64,68,55,80,82,85,73,72,57,68,51,68,30,39,0,5,1,6,555,15,30,217,9,null,null,{"v":1058,"d":"1,058"},79,64,155,447,313]
["040514","AREQUIPA","AREQUIPA","CAYLLOMA","MADRIGAL",1427,"PUESTO DE SALUD MADRIGAL",100,929,2,5,3,5,3,3,4,5,5,4,3,3,9,11,10,8,15,12,8,10,57,53,50,62,55,72,56,61,78,68,56,54,35,44,0,1,1,2,485,21,35,164,4,null,null,929,45,65,128,356,335]
["040520","AREQUIPA","AREQUIPA","CAYLLOMA","YANQUE",1428,"PUESTO DE SALUD YANQUE",54,{"v":1687,"d":"1,687"},9,8,11,10,12,21,21,20,16,17,21,15,21,21,20,18,23,29,27,27,124,145,138,117,122,119,97,97,92,80,80,43,35,33,1,5,4,10,876,53,58,401,12,null,null,{"v":1687,"d":"1,687"},180,131,322,690,363]
[]
[]
[{"$nulls":6},"MR CALLALLI",null,{"$f":"SUM(I34:I40)","v":{"v":8012,"d":"8,012"}},{"$f":"SUM(J34:J40)","v":34},37,62,59,51,77,92,88,74,93,96,94,96,102,70,115,127,124,126,112,605,621,569,515,539,581,517,541,474,373,362,274,151,159,3,19,15,34,{"v":4238,"d":"4,238"},235,305,{"v":1778,"d":"1,778"},67,null,null,{"$f":"SUM(BC34:BC40)","v":{"v":8012,"d":"8,012"}},{"$f":"SUM(BD34:BD40)","v":858},{"$f":"SUM(BE34:BE40)","v":635},{"$f":"SUM(BF34:BF40)","v":{"v":1465,"d":"1,465"}},{"$f":"SUM(BG34:BG40)","v":{"v":3262,"d":"3,262"}},{"$f":"SUM(BH34:BH40)","v":{"v":1793,"d":"1,793"}}]
["040505","AREQUIPA","AREQUIPA","CAYLLOMA","CALLALLI",1421,"CENTRO DE SALUD CALLALLI",100,{"v":2195,"d":"2,195"},11,8,19,17,17,25,25,17,21,28,23,34,17,32,9,23,29,19,26,21,146,175,154,135,121,166,172,172,148,121,107,67,40,50,2,4,7,11,{"v":1156,"d":"1,156"},61,72,452,14,null,null,{"v":2195,"d":"2,195"},245,129,368,920,533]
["040518","AREQUIPA","AREQUIPA","CAYLLOMA","TISCO",1438,"PUESTO DE SALUD TISCO",39,850,3,4,5,6,6,6,11,8,10,9,10,7,12,14,13,15,13,18,17,11,71,62,52,49,58,58,57,63,50,37,32,34,17,15,0,1,1,3,463,30,40,183,7,null,null,850,83,87,160,335,183]
[{"$nulls":5},1431,"PUESTO DE SALUD COTACOTA",37,806,2,4,4,6,5,5,10,9,9,9,9,7,12,13,13,15,13,17,16,10,67,58,50,46,55,54,54,59,47,34,30,32,16,14,0,1,1,2,438,28,38,174,7,null,null,806,80,82,152,319,174]
[{"$nulls":5},6891,"PUESTO DE SALUD TARUCAMARCA",24,523,1,2,3,4,3,3,6,6,6,6,6,5,8,9,8,10,8,11,10,7,44,38,32,30,36,35,35,38,30,22,19,21,11,9,0,1,1,1,284,18,24,113,5,null,null,523,52,53,99,207,113]
["040516","AREQUIPA","AREQUIPA","CAYLLOMA","SIBAYO",1435,"PUESTO DE SALUD SANTA ROSA DE SIBAYO",100,{"v":1111,"d":"1,111"},3,5,12,8,3,10,5,15,7,14,15,13,15,15,1,23,20,18,14,13,88,87,86,76,83,95,60,67,66,48,44,41,19,22,0,2,1,3,572,23,41,262,5,null,null,{"v":1111,"d":"1,111"},110,92,202,467,240]
["040519","AREQUIPA","AREQUIPA","CAYLLOMA","TUTI",1436,"PUESTO DE SALUD TUTI",100,{"v":1090,"d":"1,090"},6,7,9,9,6,10,18,16,8,13,16,16,15,2,9,13,25,16,20,27,84,78,77,79,82,71,57,60,55,43,62,42,19,20,1,5,1,6,579,30,41,252,18,null,null,{"v":1090,"d":"1,090"},134,80,209,426,241]
["040520","AREQUIPA","AREQUIPA","CAYLLOMA","YANQUE",1437,"PUESTO DE SALUD CHALHUANCA",46,{"v":1437,"d":"1,437"},8,7,10,9,11,18,17,17,13,14,17,12,17,17,17,16,19,25,23,23,105,123,118,100,104,102,82,82,78,68,68,37,29,29,0,5,3,8,746,45,49,342,11,null,null,{"v":1437,"d":"1,437"},154,112,275,588,309]
[]
[]
[{"$nulls":6},"MR CABANACONDE",null,{"$f":"SUM(I44:I48)","v":{"v":5745,"d":"5,745"}},{"$f":"SUM(J44:J48)","v":26},22,35,45,41,49,67,57,43,38,51,58,53,67,75,62,107,79,72,63,334,381,359,335,393,372,386,451,344,361,274,224,205,216,1,13,13,26,{"v":3067,"d":"3,067"},171,219,{"v":1101,"d":"1,101"},49,null,null,{"$f":"SUM(BC44:BC48)","v":{"v":5745,"d":"5,745"}},{"$f":"SUM(BD44:BD48)","v":532},{"$f":"SUM(BE44:BE48)","v":443},{"$f":"SUM(BF44:BF48)","v":850},{"$f":"SUM(BG44:BG48)","v":{"v":2296,"d":"2,296"}},{"$f":"SUM(BH44:BH48)","v":{"v":1624,"d":"1,624"}}]
["040504","AREQUIPA","AREQUIPA","CAYLLOMA","CABANACONDE",1420,"CABANACONDE",80,{"v":2366,"d":"2,366"},11,10,12,15,16,23,33,26,20,18,22,23,23,33,30,26,46,34,30,26,150,170,146,125,154,155,169,212,135,130,99,78,79,88,1,4,7,11,{"v":1200,"d":"1,200"},62,84,444,24,null,null,{"v":2366,"d":"2,366"},228,192,377,961,609]
[{"$nulls":5},1432,"PUESTO DE SALUD PINCHOLLO",20,592,3,2,3,4,4,6,8,6,5,4,5,6,6,8,7,7,12,8,8,7,37,43,37,31,38,39,42,53,34,32,25,19,20,22,0,1,2,3,300,15,21,111,6,null,null,592,57,48,94,240,152]
["040508","AREQUIPA","AREQUIPA","CAYLLOMA","HUAMBO",1433,"PUESTO DE SALUD HUAMBO",100,955,4,6,9,5,8,6,9,9,2,4,13,9,8,8,13,12,21,21,11,6,56,60,56,45,58,49,66,73,52,84,50,41,42,39,0,4,0,4,520,32,44,165,6,null,null,955,84,83,133,347,308]
["040517","AREQUIPA","AREQUIPA","CAYLLOMA","TAPAY",1434,"PUESTO DE SALUD TAPAY",100,{"v":1024,"d":"1,024"},1,2,4,8,9,9,10,8,10,7,6,9,11,8,15,10,15,11,11,12,50,73,69,85,78,70,56,67,70,65,60,39,37,29,0,1,0,1,582,31,41,225,2,null,null,{"v":1024,"d":"1,024"},83,70,146,425,300]
["040407","AREQUIPA","AREQUIPA","CASTILLA","CHOCO",1441,"PUESTO DE SALUD CHOCO",100,808,7,2,7,13,4,5,7,8,6,5,5,11,5,10,10,7,13,5,12,12,41,35,51,49,65,59,53,46,53,50,40,47,27,38,0,3,4,7,465,31,29,156,11,null,null,808,80,50,100,323,255]
[]
[]
[{"$nulls":6},"MR CAYLLOMA",null,{"$f":"SUM(I52:I56)","v":{"v":9752,"d":"9,752"}},{"$f":"SUM(J52:J56)","v":67},66,80,112,131,119,129,151,166,171,174,180,171,168,182,230,198,214,197,171,883,828,709,656,582,575,484,556,432,335,234,167,117,117,5,27,40,71,{"v":5123,"d":"5,123"},483,542,{"v":2177,"d":"2,177"},106,null,null,{"$f":"SUM(BC52:BC56)","v":{"v":9752,"d":"9,752"}},{"$f":"SUM(BD52:BD56)","v":{"v":1547,"d":"1,547"}},{"$f":"SUM(BE52:BE56)","v":{"v":1162,"d":"1,162"}},{"$f":"SUM(BF52:BF56)","v":{"v":2078,"d":"2,078"}},{"$f":"SUM(BG52:BG56)","v":{"v":3561,"d":"3,561"}},{"$f":"SUM(BH52:BH56)","v":{"v":1402,"d":"1,402"}}]
["040506","AREQUIPA","AREQUIPA","CAYLLOMA","CAYLLOMA",1422,"CENTRO DE SALUD CAYLLOMA",77,{"v":4097,"d":"4,097"},26,29,28,46,52,46,49,63,74,73,74,79,83,63,75,86,77,88,86,65,366,362,291,287,263,240,217,220,189,141,104,75,44,36,1,8,18,28,{"v":2150,"d":"2,150"},207,210,938,50,null,null,{"v":4097,"d":"4,097"},639,473,879,{"v":1518,"d":"1,518"},588]
[{"$nulls":5},1418,"PUESTO DE SALUD JACHAÑA",23,{"v":1224,"d":"1,224"},8,9,9,14,15,14,14,19,22,22,22,23,25,19,23,26,23,26,26,19,109,108,87,86,78,72,65,66,56,42,31,22,13,11,0,2,6,8,642,62,63,280,15,null,null,{"v":1224,"d":"1,224"},191,141,262,454,176]
["040604","AREQUIPA","AREQUIPA","CONDESUYOS","CAYARANI",1440,"CENTRO DE SALUD CAYARANI",80,{"v":2634,"d":"2,634"},18,16,22,29,35,31,42,42,42,46,40,49,35,56,49,70,64,60,56,57,257,218,192,162,147,160,118,159,105,90,58,38,35,36,1,7,11,19,{"v":1363,"d":"1,363"},123,166,578,22,null,null,{"v":2634,"d":"2,634"},411,334,587,939,362]
[{"$nulls":5},7407,"PUESTO DE SALUD ARCATA",20,659,5,4,5,7,9,8,10,11,10,11,10,12,9,14,12,18,16,15,14,14,64,54,48,41,37,40,30,40,26,23,15,9,9,9,0,2,3,5,341,31,42,144,6,null,null,659,103,84,147,235,91]
["040405","AREQUIPA","AREQUIPA","CASTILLA","CHACHAS",1442,"PUESTO DE SALUD TOLCONI",63,{"v":1138,"d":"1,138"},10,8,16,16,20,20,14,16,18,19,28,17,19,16,23,30,18,25,15,16,87,86,91,80,57,63,54,71,56,39,26,23,16,25,3,8,2,11,627,60,61,237,13,null,null,{"v":1138,"d":"1,138"},203,130,203,415,185]
[]
[]
[{"$nulls":6},"MR BUENOS AIRES DE CAYMA",null,{"$f":"SUM(I60:I62)","v":{"v":51394,"d":"51,394"}},{"$f":"SUM(J60:J62)","v":469},484,561,634,587,670,899,881,870,811,765,760,810,741,723,811,727,766,763,726,{"v":3853,"d":"3,853"},{"v":4400,"d":"4,400"},{"v":4649,"d":"4,649"},{"v":4019,"d":"4,019"},{"v":3700,"d":"3,700"},{"v":3317,"d":"3,317"},{"v":2889,"d":"2,889"},{"v":2641,"d":"2,641"},{"v":2276,"d":"2,276"},{"v":1773,"d":"1,773"},{"v":1364,"d":"1,364"},956,533,564,36,247,221,496,{"v":26202,"d":"26,202"},{"v":1860,"d":"1,860"},{"v":1853,"d":"1,853"},{"v":12139,"d":"12,139"},{"v":1222,"d":"1,222"},null,null,{"$f":"SUM(BC60:BC62)","v":{"v":51394,"d":"51,394"}},{"$f":"SUM(BD60:BD62)","v":{"v":8391,"d":"8,391"}},{"$f":"SUM(BE60:BE62)","v":{"v":4579,"d":"4,579"}},{"$f":"SUM(BF60:BF62)","v":{"v":9742,"d":"9,742"}},{"$f":"SUM(BG60:BG62)","v":{"v":21217,"d":"21,217"}},{"$f":"SUM(BH60:BH62)","v":{"v":7465,"d":"7,465"}}]
["040104","AREQUIPA","AREQUIPA","AREQUIPA","CAYMA",1234,"CENTRO DE SALUD FRANCISCO BOLOGNESI",16,{"v":18273,"d":"18,273"},167,172,199,225,208,238,320,313,309,288,272,270,288,263,257,288,259,273,271,258,{"v":1370,"d":"1,370"},{"v":1565,"d":"1,565"},{"v":1653,"d":"1,653"},{"v":1429,"d":"1,429"},{"v":1316,"d":"1,316"},{"v":1179,"d":"1,179"},{"v":1027,"d":"1,027"},939,809,630,485,340,190,200,13,88,79,177,{"v":9316,"d":"9,316"},661,659,{"v":4316,"d":"4,316"},435,null,null,{"v":18273,"d":"18,273"},{"v":2983,"d":"2,983"},{"v":1628,"d":"1,628"},{"v":3464,"d":"3,464"},{"v":7544,"d":"7,544"},{"v":2654,"d":"2,654"}]
[{"$nulls":5},1244,"PUESTO DE SALUD LA TOMILLA",8,{"v":9137,"d":"9,137"},83,86,100,113,104,119,160,157,155,144,136,135,144,132,128,144,129,136,136,129,685,782,826,715,658,590,514,470,405,315,242,170,95,100,6,44,39,88,{"v":4658,"d":"4,658"},331,329,{"v":2158,"d":"2,158"},217,null,null,{"v":9137,"d":"9,137"},{"v":1492,"d":"1,492"},814,{"v":1732,"d":"1,732"},{"v":3772,"d":"3,772"},{"v":1327,"d":"1,327"}]
[{"$nulls":5},6890,"PUESTO DE SALUD RAFAEL BELAUNDE",21,{"v":23984,"d":"23,984"},219,226,262,296,275,313,419,411,406,379,357,355,378,346,338,379,339,357,356,339,{"v":1798,"d":"1,798"},{"v":2053,"d":"2,053"},{"v":2170,"d":"2,170"},{"v":1875,"d":"1,875"},{"v":1726,"d":"1,726"},{"v":1548,"d":"1,548"},{"v":1348,"d":"1,348"},{"v":1232,"d":"1,232"},{"v":1062,"d":"1,062"},828,637,446,248,264,17,115,103,231,{"v":12228,"d":"12,228"},868,865,{"v":5665,"d":"5,665"},570,null,null,{"v":23984,"d":"23,984"},{"v":3916,"d":"3,916"},{"v":2137,"d":"2,137"},{"v":4546,"d":"4,546"},{"v":9901,"d":"9,901"},{"v":3484,"d":"3,484"}]
[]
[]
[{"$nulls":6},"MR FRANCISCO BOLOGNESI",null,{"$f":"SUM(I66:I68)","v":{"v":62813,"d":"62,813"}},{"$f":"SUM(J66:J68)","v":572},594,685,773,715,820,{"v":1100,"d":"1,100"},{"v":1078,"d":"1,078"},{"v":1064,"d":"1,064"},992,935,927,990,905,883,990,891,938,932,886,{"v":4710,"d":"4,710"},{"v":5379,"d":"5,379"},{"v":5682,"d":"5,682"},{"v":4914,"d":"4,914"},{"v":4523,"d":"4,523"},{"v":4054,"d":"4,054"},{"v":3531,"d":"3,531"},{"v":3228,"d":"3,228"},{"v":2781,"d":"2,781"},{"v":2167,"d":"2,167"},{"v":1667,"d":"1,667"},{"v":1169,"d":"1,169"},652,688,44,303,270,608,{"v":32024,"d":"32,024"},{"v":2272,"d":"2,272"},{"v":2264,"d":"2,264"},{"v":14836,"d":"14,836"},{"v":1496,"d":"1,496"},null,null,{"$f":"SUM(BC66:BC68)","v":{"v":62813,"d":"62,813"}},{"$f":"SUM(BD66:BD68)","v":{"v":10255,"d":"10,255"}},{"$f":"SUM(BE66:BE68)","v":{"v":5596,"d":"5,596"}},{"$f":"SUM(BF66:BF68)","v":{"v":11907,"d":"11,907"}},{"$f":"SUM(BG66:BG68)","v":{"v":25930,"d":"25,930"}},{"$f":"SUM(BH66:BH68)","v":{"v":9125,"d":"9,125"}}]
["040104","AREQUIPA","AREQUIPA","AREQUIPA","CAYMA",1235,"BUENOS AIRES DE CAYMA",20,{"v":22841,"d":"22,841"},208,216,249,281,260,298,400,392,387,361,340,337,360,329,321,360,324,341,339,322,{"v":1713,"d":"1,713"},{"v":1956,"d":"1,956"},{"v":2066,"d":"2,066"},{"v":1787,"d":"1,787"},{"v":1645,"d":"1,645"},{"v":1474,"d":"1,474"},{"v":1284,"d":"1,284"},{"v":1174,"d":"1,174"},{"v":1011,"d":"1,011"},788,606,425,237,250,16,110,98,221,{"v":11645,"d":"11,645"},826,823,{"v":5395,"d":"5,395"},544,null,null,{"v":22841,"d":"22,841"},{"v":3729,"d":"3,729"},{"v":2035,"d":"2,035"},{"v":4330,"d":"4,330"},{"v":9429,"d":"9,429"},{"v":3318,"d":"3,318"}]
[{"$nulls":5},1245,"SAN JOSE",20,{"v":22841,"d":"22,841"},208,216,249,281,260,298,400,392,387,361,340,337,360,329,321,360,324,341,339,322,{"v":1713,"d":"1,713"},{"v":1956,"d":"1,956"},{"v":2066,"d":"2,066"},{"v":1787,"d":"1,787"},{"v":1645,"d":"1,645"},{"v":1474,"d":"1,474"},{"v":1284,"d":"1,284"},{"v":1174,"d":"1,174"},{"v":1011,"d":"1,011"},788,606,425,237,250,16,110,98,221,{"v":11645,"d":"11,645"},826,823,{"v":5395,"d":"5,395"},544,null,null,{"v":22841,"d":"22,841"},{"v":3729,"d":"3,729"},{"v":2035,"d":"2,035"},{"v":4330,"d":"4,330"},{"v":9429,"d":"9,429"},{"v":3318,"d":"3,318"}]
[{"$nulls":5},1246,"DEAN VALDIVIA",15,{"v":17131,"d":"17,131"},156,162,187,211,195,224,300,294,290,270,255,253,270,247,241,270,243,256,254,242,{"v":1284,"d":"1,284"},{"v":1467,"d":"1,467"},{"v":1550,"d":"1,550"},{"v":1340,"d":"1,340"},{"v":1233,"d":"1,233"},{"v":1106,"d":"1,106"},963,880,759,591,455,319,178,188,12,83,74,166,{"v":8734,"d":"8,734"},620,618,{"v":4046,"d":"4,046"},408,null,null,{"v":17131,"d":"17,131"},{"v":2797,"d":"2,797"},{"v":1526,"d":"1,526"},{"v":3247,"d":"3,247"},{"v":7072,"d":"7,072"},{"v":2489,"d":"2,489"}]
[]
[]
[{"$nulls":6},"MR CERRO COLORADO",null,{"$f":"SUM(I72:I73)","v":{"v":46391,"d":"46,391"}},{"$f":"SUM(J72:J73)","v":509},529,434,475,540,629,893,918,906,856,774,746,778,722,716,773,744,769,745,751,{"v":3778,"d":"3,778"},{"v":4091,"d":"4,091"},{"v":4073,"d":"4,073"},{"v":3592,"d":"3,592"},{"v":3531,"d":"3,531"},{"v":3064,"d":"3,064"},{"v":2489,"d":"2,489"},{"v":2125,"d":"2,125"},{"v":1612,"d":"1,612"},{"v":1278,"d":"1,278"},{"v":1045,"d":"1,045"},680,427,398,36,256,253,538,{"v":22749,"d":"22,749"},{"v":1769,"d":"1,769"},{"v":1796,"d":"1,796"},{"v":10936,"d":"10,936"},829,null,null,{"$f":"SUM(BC72:BC73)","v":{"v":46391,"d":"46,391"}},{"$f":"SUM(BD72:BD73)","v":{"v":8209,"d":"8,209"}},{"$f":"SUM(BE72:BE73)","v":{"v":4502,"d":"4,502"}},{"$f":"SUM(BF72:BF73)","v":{"v":9364,"d":"9,364"}},{"$f":"SUM(BG72:BG73)","v":{"v":18875,"d":"18,875"}},{"$f":"SUM(BH72:BH73)","v":{"v":5440,"d":"5,440"}}]
["040105","AREQUIPA","AREQUIPA","AREQUIPA","CERRO COLORADO",1236,"CERRO COLORADO",11,{"v":25515,"d":"25,515"},280,291,239,261,297,346,491,505,498,471,426,410,428,397,394,425,409,423,410,413,{"v":2078,"d":"2,078"},{"v":2250,"d":"2,250"},{"v":2240,"d":"2,240"},{"v":1976,"d":"1,976"},{"v":1942,"d":"1,942"},{"v":1685,"d":"1,685"},{"v":1369,"d":"1,369"},{"v":1169,"d":"1,169"},887,703,575,374,235,219,20,141,139,296,{"v":12512,"d":"12,512"},973,988,{"v":6015,"d":"6,015"},456,null,null,{"v":25515,"d":"25,515"},{"v":4515,"d":"4,515"},{"v":2476,"d":"2,476"},{"v":5150,"d":"5,150"},{"v":10381,"d":"10,381"},{"v":2992,"d":"2,992"}]
[{"$nulls":5},1248,"ALTO LIBERTAD",9,{"v":20876,"d":"20,876"},229,238,195,214,243,283,402,413,408,385,348,336,350,325,322,348,335,346,335,338,{"v":1700,"d":"1,700"},{"v":1841,"d":"1,841"},{"v":1833,"d":"1,833"},{"v":1616,"d":"1,616"},{"v":1589,"d":"1,589"},{"v":1379,"d":"1,379"},{"v":1120,"d":"1,120"},956,725,575,470,306,192,179,16,115,114,242,{"v":10237,"d":"10,237"},796,808,{"v":4921,"d":"4,921"},373,null,null,{"v":20876,"d":"20,876"},{"v":3694,"d":"3,694"},{"v":2026,"d":"2,026"},{"v":4214,"d":"4,214"},{"v":8494,"d":"8,494"},{"v":2448,"d":"2,448"}]
[]
[]
[{"$nulls":6},"MR MARISCAL CASTILLA",null,{"$f":"SUM(I77:I80)","v":{"v":46391,"d":"46,391"}},{"$f":"SUM(J77:J80)","v":507},529,435,475,540,629,893,918,905,855,775,745,780,722,717,773,743,767,745,751,{"v":3778,"d":"3,778"},{"v":4091,"d":"4,091"},{"v":4073,"d":"4,073"},{"v":3593,"d":"3,593"},{"v":3531,"d":"3,531"},{"v":3065,"d":"3,065"},{"v":2487,"d":"2,487"},{"v":2125,"d":"2,125"},{"v":1613,"d":"1,613"},{"v":1278,"d":"1,278"},{"v":1045,"d":"1,045"},680,427,398,35,255,253,540,{"v":22749,"d":"22,749"},{"v":1769,"d":"1,769"},{"v":1797,"d":"1,797"},{"v":10935,"d":"10,935"},829,null,null,{"$f":"SUM(BC77:BC80)","v":{"v":46391,"d":"46,391"}},{"$f":"SUM(BD77:BD80)","v":{"v":8209,"d":"8,209"}},{"$f":"SUM(BE77:BE80)","v":{"v":4502,"d":"4,502"}},{"$f":"SUM(BF77:BF80)","v":{"v":9365,"d":"9,365"}},{"$f":"SUM(BG77:BG80)","v":{"v":18875,"d":"18,875"}},{"$f":"SUM(BH77:BH80)","v":{"v":5440,"d":"5,440"}}]
["040105","AREQUIPA","AREQUIPA","AREQUIPA","CERRO COLORADO",1238,"CENTRO DE SALUD MARISCAL CASTILLA",8,{"v":18556,"d":"18,556"},203,212,174,190,216,252,357,367,362,342,310,298,312,289,287,309,297,307,298,300,{"v":1511,"d":"1,511"},{"v":1636,"d":"1,636"},{"v":1629,"d":"1,629"},{"v":1437,"d":"1,437"},{"v":1412,"d":"1,412"},{"v":1226,"d":"1,226"},995,850,645,511,418,272,171,159,14,102,101,216,{"v":9100,"d":"9,100"},708,719,{"v":4374,"d":"4,374"},332,null,null,{"v":18556,"d":"18,556"},{"v":3284,"d":"3,284"},{"v":1801,"d":"1,801"},{"v":3746,"d":"3,746"},{"v":7550,"d":"7,550"},{"v":2176,"d":"2,176"}]
[{"$nulls":5},1249,"CENTRO DE SALUD SEMI RURAL PACHACUTEC",8,{"v":18556,"d":"18,556"},203,212,174,190,216,252,357,367,362,342,310,298,312,289,287,309,297,307,298,300,{"v":1511,"d":"1,511"},{"v":1636,"d":"1,636"},{"v":1629,"d":"1,629"},{"v":1437,"d":"1,437"},{"v":1412,"d":"1,412"},{"v":1226,"d":"1,226"},995,850,645,511,418,272,171,159,14,102,101,216,{"v":9100,"d":"9,100"},708,719,{"v":4374,"d":"4,374"},332,null,null,{"v":18556,"d":"18,556"},{"v":3284,"d":"3,284"},{"v":1801,"d":"1,801"},{"v":3746,"d":"3,746"},{"v":7550,"d":"7,550"},{"v":2176,"d":"2,176"}]
[{"$nulls":5},1250,"PUESTO DE SALUD JOSE SANTOS ATAHUALPA",3,{"v":6959,"d":"6,959"},76,79,65,71,81,94,134,138,136,128,116,112,117,108,107,116,112,115,112,113,567,614,611,539,530,460,373,319,242,192,157,102,64,60,5,38,38,81,{"v":3412,"d":"3,412"},265,269,{"v":1640,"d":"1,640"},124,null,null,{"v":6959,"d":"6,959"},{"v":1231,"d":"1,231"},675,{"v":1405,"d":"1,405"},{"v":2831,"d":"2,831"},816]
[{"$nulls":5},1252,"PUESTO DE SALUD EL CURAL",1,{"v":2320,"d":"2,320"},25,26,22,24,27,31,45,46,45,43,39,37,39,36,36,39,37,38,37,38,189,205,204,180,177,153,124,106,81,64,52,34,21,20,2,13,13,27,{"v":1137,"d":"1,137"},88,90,547,41,null,null,{"v":2320,"d":"2,320"},410,225,468,944,272]
[]
[]
[{"$nulls":6},"MR MARITZA CAMPOS ZAAMCOLA",null,{"$f":"SUM(I84:I87)","v":{"v":139170,"d":"139,170"}},{"$f":"SUM(J84:J87)","v":{"v":1525,"d":"1,525"}},{"v":1586,"d":"1,586"},{"v":1302,"d":"1,302"},{"v":1426,"d":"1,426"},{"v":1621,"d":"1,621"},{"v":1886,"d":"1,886"},{"v":2681,"d":"2,681"},{"v":2757,"d":"2,757"},{"v":2718,"d":"2,718"},{"v":2568,"d":"2,568"},{"v":2321,"d":"2,321"},{"v":2239,"d":"2,239"},{"v":2336,"d":"2,336"},{"v":2166,"d":"2,166"},{"v":2150,"d":"2,150"},{"v":2318,"d":"2,318"},{"v":2231,"d":"2,231"},{"v":2305,"d":"2,305"},{"v":2234,"d":"2,234"},{"v":2253,"d":"2,253"},{"v":11332,"d":"11,332"},{"v":12272,"d":"12,272"},{"v":12222,"d":"12,222"},{"v":10776,"d":"10,776"},{"v":10594,"d":"10,594"},{"v":9193,"d":"9,193"},{"v":7467,"d":"7,467"},{"v":6375,"d":"6,375"},{"v":4835,"d":"4,835"},{"v":3837,"d":"3,837"},{"v":3135,"d":"3,135"},{"v":2041,"d":"2,041"},{"v":1281,"d":"1,281"},{"v":1191,"d":"1,191"},109,768,756,{"v":1616,"d":"1,616"},{"v":68250,"d":"68,250"},{"v":5309,"d":"5,309"},{"v":5389,"d":"5,389"},{"v":32808,"d":"32,808"},{"v":2490,"d":"2,490"},null,null,{"$f":"SUM(BC84:BC87)","v":{"v":139170,"d":"139,170"}},{"$f":"SUM(BD84:BD87)","v":{"v":24627,"d":"24,627"}},{"$f":"SUM(BE84:BE87)","v":{"v":13506,"d":"13,506"}},{"$f":"SUM(BF84:BF87)","v":{"v":28092,"d":"28,092"}},{"$f":"SUM(BG84:BG87)","v":{"v":56625,"d":"56,625"}},{"$f":"SUM(BH84:BH87)","v":{"v":16321,"d":"16,321"}}]
["040105","AREQUIPA","AREQUIPA","AREQUIPA","CERRO COLORADO",1237,"MARITZA CAMPOS DIAZ - ZAMACOLA",13,{"v":30154,"d":"30,154"},330,344,282,309,351,409,581,597,589,556,503,485,506,469,466,502,483,499,484,488,{"v":2455,"d":"2,455"},{"v":2659,"d":"2,659"},{"v":2648,"d":"2,648"},{"v":2335,"d":"2,335"},{"v":2295,"d":"2,295"},{"v":1992,"d":"1,992"},{"v":1618,"d":"1,618"},{"v":1381,"d":"1,381"},{"v":1048,"d":"1,048"},831,679,442,278,258,23,166,164,350,{"v":14787,"d":"14,787"},{"v":1150,"d":"1,150"},{"v":1168,"d":"1,168"},{"v":7108,"d":"7,108"},539,null,null,{"v":30154,"d":"30,154"},{"v":5336,"d":"5,336"},{"v":2926,"d":"2,926"},{"v":6087,"d":"6,087"},{"v":12269,"d":"12,269"},{"v":3536,"d":"3,536"}]
[{"$nulls":5},1251,"PUESTO DE SALUD NAZARENO",17,{"v":39432,"d":"39,432"},432,449,369,404,459,534,759,781,770,727,658,634,662,614,609,657,632,653,633,638,{"v":3211,"d":"3,211"},{"v":3477,"d":"3,477"},{"v":3463,"d":"3,463"},{"v":3053,"d":"3,053"},{"v":3002,"d":"3,002"},{"v":2605,"d":"2,605"},{"v":2115,"d":"2,115"},{"v":1806,"d":"1,806"},{"v":1370,"d":"1,370"},{"v":1087,"d":"1,087"},888,578,363,338,31,217,215,458,{"v":19337,"d":"19,337"},{"v":1504,"d":"1,504"},{"v":1527,"d":"1,527"},{"v":9295,"d":"9,295"},705,null,null,{"v":39432,"d":"39,432"},{"v":6978,"d":"6,978"},{"v":3827,"d":"3,827"},{"v":7960,"d":"7,960"},{"v":16044,"d":"16,044"},{"v":4624,"d":"4,624"}]
[{"$nulls":5},1247,"PUESTO DE SALUD CIUDAD MUNICIPAL",19,{"v":44069,"d":"44,069"},483,502,412,452,514,597,850,874,861,814,734,710,740,686,681,734,707,730,707,714,{"v":3588,"d":"3,588"},{"v":3886,"d":"3,886"},{"v":3871,"d":"3,871"},{"v":3412,"d":"3,412"},{"v":3355,"d":"3,355"},{"v":2911,"d":"2,911"},{"v":2365,"d":"2,365"},{"v":2019,"d":"2,019"},{"v":1530,"d":"1,530"},{"v":1216,"d":"1,216"},993,647,405,376,35,244,238,512,{"v":21614,"d":"21,614"},{"v":1682,"d":"1,682"},{"v":1706,"d":"1,706"},{"v":10390,"d":"10,390"},790,null,null,{"v":44069,"d":"44,069"},{"v":7798,"d":"7,798"},{"v":4277,"d":"4,277"},{"v":8895,"d":"8,895"},{"v":17931,"d":"17,931"},{"v":5169,"d":"5,169"}]
[{"$nulls":5},11023,"PUESTO DE SALUD PERUARBO",11,{"v":25515,"d":"25,515"},280,291,239,261,297,346,491,505,498,471,426,410,428,397,394,425,409,423,410,413,{"v":2078,"d":"2,078"},{"v":2250,"d":"2,250"},{"v":2240,"d":"2,240"},{"v":1976,"d":"1,976"},{"v":1942,"d":"1,942"},{"v":1685,"d":"1,685"},{"v":1369,"d":"1,369"},{"v":1169,"d":"1,169"},887,703,575,374,235,219,20,141,139,296,{"v":12512,"d":"12,512"},973,988,{"v":6015,"d":"6,015"},456,null,null,{"v":25515,"d":"25,515"},{"v":4515,"d":"4,515"},{"v":2476,"d":"2,476"},{"v":5150,"d":"5,150"},{"v":10381,"d":"10,381"},{"v":2992,"d":"2,992"}]
[]
[]
[{"$nulls":6},"MR YANAHUARA",null,{"$f":"SUM(I91:I93)","v":{"v":42924,"d":"42,924"}},{"$f":"SUM(J91:J93)","v":451},420,406,429,477,598,655,665,652,623,518,572,600,600,579,605,595,603,590,590,{"v":2935,"d":"2,935"},{"v":3054,"d":"3,054"},{"v":3206,"d":"3,206"},{"v":2925,"d":"2,925"},{"v":3068,"d":"3,068"},{"v":2970,"d":"2,970"},{"v":2644,"d":"2,644"},{"v":2467,"d":"2,467"},{"v":2205,"d":"2,205"},{"v":1923,"d":"1,923"},{"v":1592,"d":"1,592"},{"v":1179,"d":"1,179"},752,777,31,229,222,477,{"v":21671,"d":"21,671"},{"v":1359,"d":"1,359"},{"v":1460,"d":"1,460"},{"v":9124,"d":"9,124"},919,null,null,{"$f":"SUM(BC91:BC93)","v":{"v":42924,"d":"42,924"}},{"$f":"SUM(BD91:BD93)","v":{"v":6465,"d":"6,465"}},{"$f":"SUM(BE91:BE93)","v":{"v":3581,"d":"3,581"}},{"$f":"SUM(BF91:BF93)","v":{"v":7169,"d":"7,169"}},{"$f":"SUM(BG91:BG93)","v":{"v":17282,"d":"17,282"}},{"$f":"SUM(BH91:BH93)","v":{"v":8428,"d":"8,428"}}]
["040127","AREQUIPA","AREQUIPA","AREQUIPA","YANAHUARA",1233,"CENTRO DE SALUD YANAHUARA",38,{"v":11568,"d":"11,568"},122,109,69,87,116,158,147,140,153,158,139,126,134,130,129,126,139,125,137,140,637,731,786,736,785,835,785,759,726,621,547,420,289,328,8,63,59,129,{"v":5708,"d":"5,708"},286,291,{"v":2230,"d":"2,230"},219,null,null,{"v":11568,"d":"11,568"},{"v":1523,"d":"1,523"},782,{"v":1645,"d":"1,645"},{"v":4688,"d":"4,688"},{"v":2931,"d":"2,931"}]
["040118","AREQUIPA","AREQUIPA","AREQUIPA","SACHACA",1282,"PUESTO DE SALUD SACHACA",65,{"v":20381,"d":"20,381"},214,202,219,222,235,286,330,341,324,302,246,290,303,305,292,311,296,311,294,292,{"v":1494,"d":"1,494"},{"v":1510,"d":"1,510"},{"v":1573,"d":"1,573"},{"v":1423,"d":"1,423"},{"v":1484,"d":"1,484"},{"v":1388,"d":"1,388"},{"v":1208,"d":"1,208"},{"v":1110,"d":"1,110"},961,846,679,493,301,292,15,108,106,226,{"v":10376,"d":"10,376"},697,760,{"v":4481,"d":"4,481"},455,null,null,{"v":20381,"d":"20,381"},{"v":3212,"d":"3,212"},{"v":1819,"d":"1,819"},{"v":3591,"d":"3,591"},{"v":8186,"d":"8,186"},{"v":3573,"d":"3,573"}]
[{"$nulls":5},1283,"PUESTO DE SALUD PAMPA DE CAMARONES",35,{"v":10975,"d":"10,975"},115,109,118,120,126,154,178,184,175,163,133,156,163,165,158,168,160,167,159,158,804,813,847,766,799,747,651,598,518,456,366,266,162,157,8,58,57,122,{"v":5587,"d":"5,587"},376,409,{"v":2413,"d":"2,413"},245,null,null,{"v":10975,"d":"10,975"},{"v":1730,"d":"1,730"},980,{"v":1933,"d":"1,933"},{"v":4408,"d":"4,408"},{"v":1924,"d":"1,924"}]
[]
[]
[{"$nulls":6},"MR CUIDAD DE DIOS",null,{"$f":"SUM(I97:I104)","v":{"v":52898,"d":"52,898"}},{"$f":"SUM(J97:J104)","v":614},623,610,661,671,844,{"v":1039,"d":"1,039"},974,961,825,871,842,817,826,774,838,770,872,929,819,{"v":4209,"d":"4,209"},{"v":4895,"d":"4,895"},{"v":4961,"d":"4,961"},{"v":4219,"d":"4,219"},{"v":3691,"d":"3,691"},{"v":3233,"d":"3,233"},{"v":2709,"d":"2,709"},{"v":2453,"d":"2,453"},{"v":1967,"d":"1,967"},{"v":1570,"d":"1,570"},{"v":1175,"d":"1,175"},772,444,420,63,306,308,649,{"v":26762,"d":"26,762"},{"v":2034,"d":"2,034"},{"v":2126,"d":"2,126"},{"v":12979,"d":"12,979"},{"v":1316,"d":"1,316"},null,null,{"$f":"SUM(BC97:BC104)","v":{"v":52898,"d":"52,898"}},{"$f":"SUM(BD97:BD104)","v":{"v":9535,"d":"9,535"}},{"$f":"SUM(BE97:BE104)","v":{"v":4897,"d":"4,897"}},{"$f":"SUM(BF97:BF104)","v":{"v":10853,"d":"10,853"}},{"$f":"SUM(BG97:BG104)","v":{"v":21263,"d":"21,263"}},{"$f":"SUM(BH97:BH104)","v":{"v":6348,"d":"6,348"}}]
["040129","AREQUIPA","AREQUIPA","AREQUIPA","YURA",1253,"CENTRO DE SALUD CIUDAD DE DIOS",85,{"v":40756,"d":"40,756"},489,495,484,522,531,678,847,788,773,662,687,665,655,657,623,663,596,673,732,649,{"v":3351,"d":"3,351"},{"v":3918,"d":"3,918"},{"v":3974,"d":"3,974"},{"v":3322,"d":"3,322"},{"v":2846,"d":"2,846"},{"v":2440,"d":"2,440"},{"v":2004,"d":"2,004"},{"v":1782,"d":"1,782"},{"v":1386,"d":"1,386"},{"v":1113,"d":"1,113"},773,489,261,229,51,239,250,518,{"v":20517,"d":"20,517"},{"v":1618,"d":"1,618"},{"v":1651,"d":"1,651"},{"v":10219,"d":"10,219"},{"v":1049,"d":"1,049"},null,null,{"v":40756,"d":"40,756"},{"v":7620,"d":"7,620"},{"v":3867,"d":"3,867"},{"v":8649,"d":"8,649"},{"v":16368,"d":"16,368"},{"v":4251,"d":"4,251"}]
[{"$nulls":5},1254,"PUESTO DE SALUD YURA",15,{"v":7192,"d":"7,192"},86,87,85,92,94,120,150,139,136,117,121,117,116,116,110,117,105,119,129,114,591,691,701,586,502,431,354,315,245,196,137,86,46,40,9,42,44,91,{"v":3621,"d":"3,621"},285,291,{"v":1803,"d":"1,803"},185,null,null,{"v":7192,"d":"7,192"},{"v":1345,"d":"1,345"},683,{"v":1526,"d":"1,526"},{"v":2889,"d":"2,889"},750]
["040126","AREQUIPA","AREQUIPA","AREQUIPA","YANAHUARA",1241,"PUESTO DE SALUD SUMBAY - CHASQUIPAMPA",4,{"v":1218,"d":"1,218"},13,11,7,9,12,17,15,15,16,17,15,13,14,14,14,13,15,13,14,15,67,77,83,78,83,88,83,80,76,65,58,44,30,35,1,7,6,14,601,30,31,235,23,null,null,{"v":1218,"d":"1,218"},160,82,173,493,308]
["040509","AREQUIPA","AREQUIPA","CAYLLOMA","HUANCA",1239,"PUESTO DE SALUD HUANCA",100,{"v":1493,"d":"1,493"},8,12,11,12,14,10,7,7,8,9,11,9,7,15,9,8,18,20,13,21,74,84,79,89,109,120,117,109,121,96,87,66,52,61,0,6,2,8,810,28,47,278,10,null,null,{"v":1493,"d":"1,493"},118,77,192,623,483]
["040512","AREQUIPA","AREQUIPA","CAYLLOMA","LLUTA",1255,"PUESTO DE SALUD LLUTA",60,763,4,4,8,11,5,6,2,5,9,2,7,9,11,9,4,13,7,13,13,5,37,35,43,46,51,56,54,59,49,37,48,41,27,29,1,3,1,4,440,23,36,145,15,null,null,763,72,59,91,309,231]
[{"$nulls":5},1256,"PUESTO DE SALUD TAYA",23,292,1,2,3,4,2,2,1,2,3,1,3,4,4,4,2,5,3,5,5,2,14,14,16,18,20,22,21,23,19,14,18,15,11,12,0,1,0,1,168,9,14,55,6,null,null,292,28,22,35,119,89]
["040515","AREQUIPA","AREQUIPA","CAYLLOMA","SAN ANTONIO DE CHUCA",1242,"PUESTO DE SALUD IMATA",60,710,8,7,7,7,8,7,10,11,10,10,16,15,6,7,7,11,16,17,14,8,45,46,39,48,48,46,46,51,43,29,32,19,10,8,1,5,3,8,363,25,34,146,17,null,null,710,115,64,112,277,142]
[{"$nulls":5},1243,"PUESTO DE SALUD PILLONES",40,474,5,5,5,4,5,4,7,7,6,7,11,10,4,4,5,8,10,12,9,5,30,30,26,32,32,30,30,34,28,20,22,12,7,6,0,3,2,5,242,16,22,98,11,null,null,474,77,43,75,185,94]
[]
[]
[{"$nulls":6},"MR SANDRITA PERES PEDREGAL",null,{"$f":"SUM(I108:I116)","v":{"v":80519,"d":"80,519"}},{"$f":"SUM(J108:J116)","v":978},{"$f":"SUM(K108:K116)","v":998},{"$f":"SUM(L108:L116)","v":989},{"$f":"SUM(M108:M116)","v":{"v":1222,"d":"1,222"}},{"$f":"SUM(N108:N116)","v":{"v":1224,"d":"1,224"}},{"$f":"SUM(O108:O116)","v":{"v":1331,"d":"1,331"}},{"$f":"SUM(P108:P116)","v":{"v":1335,"d":"1,335"}},{"$f":"SUM(Q108:Q116)","v":{"v":1447,"d":"1,447"}},{"$f":"SUM(R108:R116)","v":{"v":1247,"d":"1,247"}},{"$f":"SUM(S108:S116)","v":{"v":1236,"d":"1,236"}},{"$f":"SUM(T108:T116)","v":{"v":1168,"d":"1,168"}},{"$f":"SUM(U108:U116)","v":{"v":1193,"d":"1,193"}},{"$f":"SUM(V108:V116)","v":{"v":1176,"d":"1,176"}},{"$f":"SUM(W108:W116)","v":{"v":1164,"d":"1,164"}},{"$f":"SUM(X108:X116)","v":{"v":1256,"d":"1,256"}},{"$f":"SUM(Y108:Y116)","v":{"v":1146,"d":"1,146"}},{"$f":"SUM(Z108:Z116)","v":{"v":1361,"d":"1,361"}},{"$f":"SUM(AA108:AA116)","v":{"v":1329,"d":"1,329"}},{"$f":"SUM(AB108:AB116)","v":{"v":1268,"d":"1,268"}},{"$f":"SUM(AC108:AC116)","v":{"v":1181,"d":"1,181"}},{"$f":"SUM(AD108:AD116)","v":{"v":5722,"d":"5,722"}},{"$f":"SUM(AE108:AE116)","v":{"v":6664,"d":"6,664"}},{"$f":"SUM(AF108:AF116)","v":{"v":6834,"d":"6,834"}},{"$f":"SUM(AG108:AG116)","v":{"v":6601,"d":"6,601"}},{"$f":"SUM(AH108:AH116)","v":{"v":6241,"d":"6,241"}},{"$f":"SUM(AI108:AI116)","v":{"v":5714,"d":"5,714"}},{"$f":"SUM(AJ108:AJ116)","v":{"v":4749,"d":"4,749"}},{"$f":"SUM(AK108:AK116)","v":{"v":4122,"d":"4,122"}},{"$f":"SUM(AL108:AL116)","v":{"v":3234,"d":"3,234"}},{"$f":"SUM(AM108:AM116)","v":{"v":2350,"d":"2,350"}},{"$f":"SUM(AN108:AN116)","v":{"v":1810,"d":"1,810"}},{"$f":"SUM(AO108:AO116)","v":{"v":1171,"d":"1,171"}},{"$f":"SUM(AP108:AP116)","v":592},{"$f":"SUM(AQ108:AQ116)","v":467},{"$f":"SUM(AR108:AR116)","v":78},{"$f":"SUM(AS108:AS116)","v":497},{"$f":"SUM(AT108:AT116)","v":481},{"$f":"SUM(AU108:AU116)","v":{"v":1037,"d":"1,037"}},{"$f":"SUM(AV108:AV116)","v":{"v":40876,"d":"40,876"}},{"$f":"SUM(AW108:AW116)","v":{"v":2987,"d":"2,987"}},{"$f":"SUM(AX108:AX116)","v":{"v":3094,"d":"3,094"}},{"$f":"SUM(AY108:AY116)","v":{"v":19577,"d":"19,577"}},{"$f":"SUM(AZ108:AZ116)","v":{"v":2226,"d":"2,226"}},null,null,{"$f":"SUM(BC108:BC116)","v":{"v":80519,"d":"80,519"}},{"v":14368,"d":"14,368"},{"v":7431,"d":"7,431"},{"v":14834,"d":"14,834"},{"v":34262,"d":"34,262"},{"$f":"SUM(BH108:BH116)","v":{"v":9624,"d":"9,624"}}]
["040521","AREQUIPA","AREQUIPA","CAYLLOMA","MAJES",1325,"CENTRO DE SALUD  SANDRITA PEREZ EL PEDREGAL",46,{"v":36343,"d":"36,343"},445,452,451,554,556,602,608,657,567,563,528,539,531,527,574,519,615,601,575,536,{"v":2585,"d":"2,585"},{"v":3019,"d":"3,019"},{"v":3092,"d":"3,092"},{"v":2998,"d":"2,998"},{"v":2828,"d":"2,828"},{"v":2585,"d":"2,585"},{"v":2133,"d":"2,133"},{"v":1846,"d":"1,846"},{"v":1443,"d":"1,443"},{"v":1042,"d":"1,042"},804,517,257,198,36,225,220,471,{"v":18419,"d":"18,419"},{"v":1347,"d":"1,347"},{"v":1399,"d":"1,399"},{"v":8857,"d":"8,857"},{"v":1016,"d":"1,016"},null,null,{"v":36343,"d":"36,343"},{"v":6518,"d":"6,518"},{"v":3369,"d":"3,369"},{"v":6714,"d":"6,714"},{"v":15480,"d":"15,480"},{"v":4261,"d":"4,261"}]
[{"$nulls":5},1326,"CENTRO DE SALUD LA COLINA",41,{"v":32392,"d":"32,392"},396,403,402,493,495,536,541,585,505,501,470,480,474,470,513,463,549,535,513,477,{"v":2304,"d":"2,304"},{"v":2691,"d":"2,691"},{"v":2756,"d":"2,756"},{"v":2672,"d":"2,672"},{"v":2520,"d":"2,520"},{"v":2304,"d":"2,304"},{"v":1900,"d":"1,900"},{"v":1645,"d":"1,645"},{"v":1287,"d":"1,287"},928,716,460,229,177,32,200,196,421,{"v":16416,"d":"16,416"},{"v":1201,"d":"1,201"},{"v":1247,"d":"1,247"},{"v":7894,"d":"7,894"},904,null,null,{"v":32392,"d":"32,392"},{"v":5810,"d":"5,810"},{"v":3002,"d":"3,002"},{"v":5985,"d":"5,985"},{"v":13798,"d":"13,798"},{"v":3797,"d":"3,797"}]
[{"$nulls":5},1341,"ASENTAMIENTO B-1",7,{"v":5530,"d":"5,530"},68,69,69,84,85,91,92,100,86,86,80,82,81,80,88,79,94,91,88,81,393,459,471,456,430,393,324,281,220,158,122,79,39,30,5,34,34,72,{"v":2803,"d":"2,803"},205,213,{"v":1348,"d":"1,348"},154,null,null,{"v":5530,"d":"5,530"},992,513,{"v":1022,"d":"1,022"},{"v":2356,"d":"2,356"},648]
[{"$nulls":5},1342,"PUESTO DE SALUD  B-2",6,{"v":4740,"d":"4,740"},58,59,59,72,72,78,79,86,74,73,69,70,69,69,75,68,80,78,75,70,337,394,403,391,369,337,278,241,188,136,105,67,34,26,5,29,29,62,{"v":2402,"d":"2,402"},176,182,{"v":1155,"d":"1,155"},132,null,null,{"v":4740,"d":"4,740"},850,439,876,{"v":2019,"d":"2,019"},556]
["040511","AREQUIPA","AREQUIPA","CAYLLOMA","LLUTA",1340,"PUESTO DE SALUD QUERQUE",17,216,1,1,2,3,1,2,1,1,2,1,2,3,3,3,1,4,2,4,4,2,11,10,12,13,14,16,15,17,14,11,13,11,8,9,0,1,0,1,124,7,10,41,4,null,null,216,20,16,26,88,66]
["040121","AREQUIPA","AREQUIPA","AREQUIPA","SANTA ISABEL DE SIGUAS",1336,"SANTA ISABEL DE SIGUAS",74,521,4,7,2,4,2,9,8,9,7,4,8,8,7,8,2,8,8,11,4,7,38,36,39,25,27,34,38,34,34,28,20,17,14,12,0,4,0,4,281,21,19,109,5,null,null,521,72,42,85,199,123]
[{"$nulls":5},1378,"PUESTO DE SALUD SONDOR",13,92,1,1,0,1,1,2,1,1,1,1,1,1,1,2,0,1,1,2,1,1,7,6,7,5,5,6,7,6,6,5,3,3,2,2,0,1,0,1,49,4,3,19,1,null,null,92,12,8,15,35,22]
[{"$nulls":5},1337,"PUESTO DE SALUD PITAY",13,92,1,1,0,1,1,2,1,1,1,1,1,1,1,2,0,1,1,2,1,1,7,6,7,5,5,6,7,6,6,5,3,3,2,2,0,1,0,1,49,4,3,19,1,null,null,92,12,8,15,35,22]
["040119","AREQUIPA","AREQUIPA","AREQUIPA","SAN JUAN DE SIGUAS",1339,"PUESTO DE SALUD SAN JUAN DE SIGUAS - TAMBILLO",100,593,4,5,4,10,11,9,4,7,4,6,9,9,9,3,3,3,11,5,7,6,40,43,47,36,43,33,47,46,36,37,24,14,7,11,0,2,2,4,333,22,18,135,9,null,null,593,82,34,96,252,129]
[]
[]
[{"$nulls":6},"MR ALTO SELVA ALEGRE",null,{"$f":"SUM(I120:I125)","v":{"v":96079,"d":"96,079"}},{"$f":"SUM(J120:J125)","v":901},945,918,898,{"v":1041,"d":"1,041"},{"v":1320,"d":"1,320"},{"v":1513,"d":"1,513"},{"v":1571,"d":"1,571"},{"v":1551,"d":"1,551"},{"v":1460,"d":"1,460"},{"v":1313,"d":"1,313"},{"v":1371,"d":"1,371"},{"v":1410,"d":"1,410"},{"v":1396,"d":"1,396"},{"v":1400,"d":"1,400"},{"v":1362,"d":"1,362"},{"v":1431,"d":"1,431"},{"v":1397,"d":"1,397"},{"v":1296,"d":"1,296"},{"v":1403,"d":"1,403"},{"v":7375,"d":"7,375"},{"v":8682,"d":"8,682"},{"v":8480,"d":"8,480"},{"v":7119,"d":"7,119"},{"v":6809,"d":"6,809"},{"v":6135,"d":"6,135"},{"v":5637,"d":"5,637"},{"v":5394,"d":"5,394"},{"v":4753,"d":"4,753"},{"v":3417,"d":"3,417"},{"v":2450,"d":"2,450"},{"v":1643,"d":"1,643"},{"v":1087,"d":"1,087"},{"v":1201,"d":"1,201"},71,462,439,955,{"v":48662,"d":"48,662"},{"v":3310,"d":"3,310"},{"v":3346,"d":"3,346"},{"v":22546,"d":"22,546"},{"v":1526,"d":"1,526"},null,null,{"$f":"SUM(BC120:BC125)","v":{"v":96079,"d":"96,079"}},{"$f":"SUM(BD120:BD125)","v":{"v":14802,"d":"14,802"}},{"$f":"SUM(BE120:BE125)","v":{"v":8396,"d":"8,396"}},{"$f":"SUM(BF120:BF125)","v":{"v":18756,"d":"18,756"}},{"$f":"SUM(BG120:BG125)","v":{"v":39574,"d":"39,574"}},{"$f":"SUM(BH120:BH125)","v":{"v":14551,"d":"14,551"}}]
["040103","AREQUIPA","AREQUIPA","AREQUIPA","ALTO SELVA ALEGRE",1291,"CENTRO DE SALUD ALTO SELVA ALEGRE",25,{"v":24020,"d":"24,020"},225,236,230,225,260,330,378,393,388,365,328,343,353,349,350,341,358,349,324,351,{"v":1844,"d":"1,844"},{"v":2171,"d":"2,171"},{"v":2120,"d":"2,120"},{"v":1780,"d":"1,780"},{"v":1702,"d":"1,702"},{"v":1534,"d":"1,534"},{"v":1409,"d":"1,409"},{"v":1349,"d":"1,349"},{"v":1188,"d":"1,188"},854,613,411,272,300,18,116,110,239,{"v":12166,"d":"12,166"},828,837,{"v":5637,"d":"5,637"},382,null,null,{"v":24020,"d":"24,020"},{"v":3701,"d":"3,701"},{"v":2099,"d":"2,099"},{"v":4689,"d":"4,689"},{"v":9894,"d":"9,894"},{"v":3638,"d":"3,638"}]
[{"$nulls":5},1300,"APURIMAC",11,{"v":10569,"d":"10,569"},99,104,101,99,115,145,166,173,171,161,144,151,155,154,154,150,157,154,143,154,811,955,933,783,749,675,620,593,523,376,270,181,120,132,8,51,48,105,{"v":5353,"d":"5,353"},364,368,{"v":2480,"d":"2,480"},168,null,null,{"v":10569,"d":"10,569"},{"v":1628,"d":"1,628"},924,{"v":2063,"d":"2,063"},{"v":4353,"d":"4,353"},{"v":1601,"d":"1,601"}]
[{"$nulls":5},1302,"INDEPENDENCIA",26,{"v":24980,"d":"24,980"},235,246,238,232,270,344,394,408,403,379,342,356,366,362,364,354,372,362,336,366,{"v":1917,"d":"1,917"},{"v":2257,"d":"2,257"},{"v":2204,"d":"2,204"},{"v":1851,"d":"1,851"},{"v":1771,"d":"1,771"},{"v":1594,"d":"1,594"},{"v":1466,"d":"1,466"},{"v":1403,"d":"1,403"},{"v":1237,"d":"1,237"},888,636,427,282,313,18,120,114,247,{"v":12652,"d":"12,652"},860,869,{"v":5861,"d":"5,861"},396,null,null,{"v":24980,"d":"24,980"},{"v":3849,"d":"3,849"},{"v":2182,"d":"2,182"},{"v":4876,"d":"4,876"},{"v":10289,"d":"10,289"},{"v":3783,"d":"3,783"}]
[{"$nulls":5},1301,"LEONES DEL MISTI",10,{"v":9608,"d":"9,608"},90,95,92,90,104,132,151,157,155,146,131,137,141,140,140,136,143,140,130,140,738,868,848,712,681,614,564,539,475,342,245,164,109,120,7,46,44,96,{"v":4866,"d":"4,866"},331,335,{"v":2255,"d":"2,255"},153,null,null,{"v":9608,"d":"9,608"},{"v":1480,"d":"1,480"},840,{"v":1876,"d":"1,876"},{"v":3957,"d":"3,957"},{"v":1455,"d":"1,455"}]
[{"$nulls":5},1303,"SAN JUAN BAUTISTA",16,{"v":15373,"d":"15,373"},144,151,147,144,167,211,242,251,248,234,210,219,226,223,224,218,229,224,207,224,{"v":1180,"d":"1,180"},{"v":1389,"d":"1,389"},{"v":1357,"d":"1,357"},{"v":1139,"d":"1,139"},{"v":1089,"d":"1,089"},982,902,863,760,547,392,263,174,192,11,74,70,153,{"v":7786,"d":"7,786"},530,535,{"v":3607,"d":"3,607"},244,null,null,{"v":15373,"d":"15,373"},{"v":2368,"d":"2,368"},{"v":1343,"d":"1,343"},{"v":3001,"d":"3,001"},{"v":6332,"d":"6,332"},{"v":2328,"d":"2,328"}]
[{"$nulls":5},1304,"HEROES DEL CENEPA",12,{"v":11529,"d":"11,529"},108,113,110,108,125,158,182,189,186,175,158,165,169,168,168,163,172,168,156,168,885,{"v":1042,"d":"1,042"},{"v":1018,"d":"1,018"},854,817,736,676,647,570,410,294,197,130,144,9,55,53,115,{"v":5839,"d":"5,839"},397,402,{"v":2706,"d":"2,706"},183,null,null,{"v":11529,"d":"11,529"},{"v":1776,"d":"1,776"},{"v":1008,"d":"1,008"},{"v":2251,"d":"2,251"},{"v":4749,"d":"4,749"},{"v":1746,"d":"1,746"}]
[]
[]
[{"$nulls":6},"MR MARIANO MELGAR",null,{"$f":"SUM(I129:I130)","v":{"v":35868,"d":"35,868"}},337,355,360,372,375,432,547,532,557,533,477,472,518,502,519,537,542,504,507,518,{"v":2589,"d":"2,589"},{"v":2919,"d":"2,919"},{"v":2927,"d":"2,927"},{"v":2521,"d":"2,521"},{"v":2577,"d":"2,577"},{"v":2482,"d":"2,482"},{"v":2243,"d":"2,243"},{"v":2067,"d":"2,067"},{"v":1772,"d":"1,772"},{"v":1391,"d":"1,391"},{"v":1112,"d":"1,112"},755,493,528,23,163,173,357,{"v":18239,"d":"18,239"},{"v":1231,"d":"1,231"},{"v":1304,"d":"1,304"},{"v":8079,"d":"8,079"},{"$f":"SUM(AZ129:AZ130)","v":898},null,null,{"$f":"SUM(BC129:BC130)","v":{"v":35868,"d":"35,868"}},{"$f":"SUM(BD129:BD130)","v":{"v":5347,"d":"5,347"}},{"v":3121,"d":"3,121"},{"v":6532,"d":"6,532"},{"v":14819,"d":"14,819"},{"v":6052,"d":"6,052"}]
["040110","AREQUIPA","AREQUIPA","AREQUIPA","MARIANO MELGAR",1294,"CENTRO DE SALUD MARIANO MELGAR",30,{"v":21520,"d":"21,520"},202,213,216,224,225,260,329,319,334,319,287,283,311,302,312,323,325,302,305,311,{"v":1553,"d":"1,553"},{"v":1752,"d":"1,752"},{"v":1756,"d":"1,756"},{"v":1512,"d":"1,512"},{"v":1546,"d":"1,546"},{"v":1489,"d":"1,489"},{"v":1346,"d":"1,346"},{"v":1240,"d":"1,240"},{"v":1063,"d":"1,063"},835,667,453,295,317,13,97,104,214,{"v":10944,"d":"10,944"},739,783,{"v":4847,"d":"4,847"},539,null,null,{"v":21520,"d":"21,520"},{"v":3209,"d":"3,209"},{"v":1873,"d":"1,873"},{"v":3919,"d":"3,919"},{"v":8892,"d":"8,892"},{"v":3631,"d":"3,631"}]
[{"$nulls":5},1308,"PUESTO DE SALUD ATALAYA",20,{"v":14348,"d":"14,348"},135,142,144,148,150,172,218,213,223,214,190,189,207,200,207,214,217,202,202,207,{"v":1036,"d":"1,036"},{"v":1167,"d":"1,167"},{"v":1171,"d":"1,171"},{"v":1009,"d":"1,009"},{"v":1031,"d":"1,031"},993,897,827,709,556,445,302,198,211,10,66,69,143,{"v":7295,"d":"7,295"},492,521,{"v":3232,"d":"3,232"},359,null,null,{"v":14348,"d":"14,348"},{"v":2138,"d":"2,138"},{"v":1248,"d":"1,248"},{"v":2613,"d":"2,613"},{"v":5927,"d":"5,927"},{"v":2421,"d":"2,421"}]
[]
[]
[{"$nulls":6},"MR GENERALISIMO SAN MARTIN",null,{"$f":"SUM(I134:I136)","v":{"v":35870,"d":"35,870"}},{"$f":"SUM(J134:J136)","v":337},355,360,370,375,430,545,532,557,535,475,472,518,500,518,535,543,505,505,518,{"v":2590,"d":"2,590"},{"v":2918,"d":"2,918"},{"v":2928,"d":"2,928"},{"v":2522,"d":"2,522"},{"v":2578,"d":"2,578"},{"v":2482,"d":"2,482"},{"v":2243,"d":"2,243"},{"v":2067,"d":"2,067"},{"v":1773,"d":"1,773"},{"v":1390,"d":"1,390"},{"v":1112,"d":"1,112"},755,495,528,25,165,173,357,{"v":18238,"d":"18,238"},{"v":1230,"d":"1,230"},{"v":1303,"d":"1,303"},{"v":8080,"d":"8,080"},898,null,null,{"$f":"SUM(BC134:BC136)","v":{"v":35870,"d":"35,870"}},{"$f":"SUM(BD134:BD136)","v":{"v":5345,"d":"5,345"}},{"$f":"SUM(BE134:BE136)","v":{"v":3120,"d":"3,120"}},{"$f":"SUM(BF134:BF136)","v":{"v":6532,"d":"6,532"}},{"$f":"SUM(BG134:BG136)","v":{"v":14818,"d":"14,818"}},{"$f":"SUM(BH134:BH136)","v":{"v":6052,"d":"6,052"}}]
["040110","AREQUIPA","AREQUIPA","AREQUIPA","MARIANO MELGAR",1295,"CENTRO DE SALUD GENERALISIMO SAN MARTIN",20,{"v":14348,"d":"14,348"},135,142,144,148,150,172,218,213,223,214,190,189,207,200,207,214,217,202,202,207,{"v":1036,"d":"1,036"},{"v":1167,"d":"1,167"},{"v":1171,"d":"1,171"},{"v":1009,"d":"1,009"},{"v":1031,"d":"1,031"},993,897,827,709,556,445,302,198,211,10,66,69,143,{"v":7295,"d":"7,295"},492,521,{"v":3232,"d":"3,232"},359,null,null,{"v":14348,"d":"14,348"},{"v":2138,"d":"2,138"},{"v":1248,"d":"1,248"},{"v":2613,"d":"2,613"},{"v":5927,"d":"5,927"},{"v":2421,"d":"2,421"}]
[{"$nulls":5},1309,"JERUSALEN",20,{"v":14348,"d":"14,348"},135,142,144,148,150,172,218,213,223,214,190,189,207,200,207,214,217,202,202,207,{"v":1036,"d":"1,036"},{"v":1167,"d":"1,167"},{"v":1171,"d":"1,171"},{"v":1009,"d":"1,009"},{"v":1031,"d":"1,031"},993,897,827,709,556,445,302,198,211,10,66,69,143,{"v":7295,"d":"7,295"},492,521,{"v":3232,"d":"3,232"},359,null,null,{"v":14348,"d":"14,348"},{"v":2138,"d":"2,138"},{"v":1248,"d":"1,248"},{"v":2613,"d":"2,613"},{"v":5927,"d":"5,927"},{"v":2421,"d":"2,421"}]
[{"$nulls":5},7722,"EL MIRADOR",10,{"v":7174,"d":"7,174"},67,71,72,74,75,86,109,106,111,107,95,94,104,100,104,107,109,101,101,104,518,584,586,504,516,496,449,413,355,278,222,151,99,106,5,33,35,71,{"v":3648,"d":"3,648"},246,261,{"v":1616,"d":"1,616"},180,null,null,{"v":7174,"d":"7,174"},{"v":1069,"d":"1,069"},624,{"v":1306,"d":"1,306"},{"v":2964,"d":"2,964"},{"v":1210,"d":"1,210"}]
[]
[]
[{"$nulls":6},"MR EDIFICADORES MISTI",null,{"$f":"SUM(I140:I144)","v":{"v":70554,"d":"70,554"}},{"$f":"SUM(J140:J144)","v":598},609,637,744,695,833,{"v":1020,"d":"1,020"},{"v":1058,"d":"1,058"},{"v":1122,"d":"1,122"},975,{"v":1009,"d":"1,009"},923,925,905,905,923,992,947,956,{"v":1003,"d":"1,003"},{"v":5196,"d":"5,196"},{"v":5784,"d":"5,784"},{"v":5752,"d":"5,752"},{"v":5057,"d":"5,057"},{"v":5308,"d":"5,308"},{"v":5077,"d":"5,077"},{"v":4563,"d":"4,563"},{"v":4074,"d":"4,074"},{"v":3518,"d":"3,518"},{"v":2686,"d":"2,686"},{"v":2141,"d":"2,141"},{"v":1523,"d":"1,523"},993,{"v":1103,"d":"1,103"},53,309,289,634,{"v":36130,"d":"36,130"},{"v":2366,"d":"2,366"},{"v":2480,"d":"2,480"},{"v":16332,"d":"16,332"},{"v":1007,"d":"1,007"},null,null,{"$f":"SUM(BC140:BC144)","v":{"v":70554,"d":"70,554"}},{"$f":"SUM(BD140:BD144)","v":{"v":10223,"d":"10,223"}},{"$f":"SUM(BE140:BE144)","v":{"v":5597,"d":"5,597"}},{"$f":"SUM(BF140:BF144)","v":{"v":12939,"d":"12,939"}},{"$f":"SUM(BG140:BG144)","v":{"v":29831,"d":"29,831"}},{"$f":"SUM(BH140:BH144)","v":{"v":11964,"d":"11,964"}}]
["040111","AREQUIPA","AREQUIPA","AREQUIPA","MIRAFLORES",1293,"CENTRO DE SALUD MIRAFLORES",34,{"v":23988,"d":"23,988"},203,207,217,253,236,283,347,360,381,332,343,314,315,308,308,314,337,322,325,341,{"v":1767,"d":"1,767"},{"v":1967,"d":"1,967"},{"v":1956,"d":"1,956"},{"v":1719,"d":"1,719"},{"v":1805,"d":"1,805"},{"v":1726,"d":"1,726"},{"v":1551,"d":"1,551"},{"v":1385,"d":"1,385"},{"v":1196,"d":"1,196"},913,728,518,338,375,18,105,98,216,{"v":12284,"d":"12,284"},804,843,{"v":5553,"d":"5,553"},342,null,null,{"v":23988,"d":"23,988"},{"v":3476,"d":"3,476"},{"v":1903,"d":"1,903"},{"v":4399,"d":"4,399"},{"v":10143,"d":"10,143"},{"v":4068,"d":"4,068"}]
[{"$nulls":5},1292,"CENTRO DE SALUD EDIFICADORES MISTI",40,{"v":28223,"d":"28,223"},239,243,254,297,277,333,407,422,449,389,403,369,369,362,362,369,398,378,383,402,{"v":2077,"d":"2,077"},{"v":2313,"d":"2,313"},{"v":2301,"d":"2,301"},{"v":2022,"d":"2,022"},{"v":2122,"d":"2,122"},{"v":2031,"d":"2,031"},{"v":1826,"d":"1,826"},{"v":1630,"d":"1,630"},{"v":1408,"d":"1,408"},{"v":1074,"d":"1,074"},857,609,398,442,22,123,116,253,{"v":14453,"d":"14,453"},947,993,{"v":6532,"d":"6,532"},402,null,null,{"v":28223,"d":"28,223"},{"v":4089,"d":"4,089"},{"v":2238,"d":"2,238"},{"v":5176,"d":"5,176"},{"v":11933,"d":"11,933"},{"v":4786,"d":"4,786"}]
[{"$nulls":5},1306,"CENTRO DE SALUD PORVENIR-MIRAFLORES",10,{"v":7055,"d":"7,055"},60,61,64,74,70,83,102,106,112,98,101,92,93,91,91,92,99,95,96,100,520,578,575,506,531,508,456,407,352,269,214,152,99,110,5,31,29,63,{"v":3613,"d":"3,613"},237,248,{"v":1633,"d":"1,633"},101,null,null,{"v":7055,"d":"7,055"},{"v":1022,"d":"1,022"},560,{"v":1294,"d":"1,294"},{"v":2983,"d":"2,983"},{"v":1196,"d":"1,196"}]
[{"$nulls":5},1307,"CENTRO DE SALUD MATEO PUMACAHUA",8,{"v":5644,"d":"5,644"},48,49,51,60,56,67,82,85,90,78,81,74,74,72,72,74,79,76,76,80,416,463,460,405,425,406,365,326,281,215,171,122,79,88,4,25,23,51,{"v":2890,"d":"2,890"},189,198,{"v":1307,"d":"1,307"},81,null,null,{"v":5644,"d":"5,644"},818,448,{"v":1035,"d":"1,035"},{"v":2386,"d":"2,386"},957]
[{"$nulls":5},1305,"PUESTO DE SALUD TOMASA T. COMDEMAYTA",8,{"v":5644,"d":"5,644"},48,49,51,60,56,67,82,85,90,78,81,74,74,72,72,74,79,76,76,80,416,463,460,405,425,406,365,326,281,215,171,122,79,88,4,25,23,51,{"v":2890,"d":"2,890"},189,198,{"v":1307,"d":"1,307"},81,null,null,{"v":5644,"d":"5,644"},818,448,{"v":1035,"d":"1,035"},{"v":2386,"d":"2,386"},957]
[]
[]
[{"$nulls":6},"MR 15 DE AGOSTO",null,{"$f":"SUM(I148:I151)","v":{"v":47641,"d":"47,641"}},{"$f":"SUM(J148:J151)","v":473},514,549,571,532,597,767,792,772,726,706,707,710,682,726,749,759,722,709,689,{"v":3479,"d":"3,479"},{"v":3797,"d":"3,797"},{"v":3747,"d":"3,747"},{"v":3424,"d":"3,424"},{"v":3581,"d":"3,581"},{"v":3405,"d":"3,405"},{"v":2967,"d":"2,967"},{"v":2468,"d":"2,468"},{"v":1954,"d":"1,954"},{"v":1630,"d":"1,630"},{"v":1380,"d":"1,380"},{"v":1082,"d":"1,082"},663,610,40,236,237,501,{"v":24419,"d":"24,419"},{"v":1760,"d":"1,760"},{"v":1847,"d":"1,847"},{"v":10896,"d":"10,896"},741,null,null,{"$f":"SUM(BC148:BC151)","v":{"v":47641,"d":"47,641"}},{"$f":"SUM(BD148:BD151)","v":{"v":7711,"d":"7,711"}},{"$f":"SUM(BE148:BE151)","v":{"v":4344,"d":"4,344"}},{"$f":"SUM(BF148:BF151)","v":{"v":8675,"d":"8,675"}},{"$f":"SUM(BG148:BG151)","v":{"v":19595,"d":"19,595"}},{"$f":"SUM(BH148:BH151)","v":{"v":7317,"d":"7,317"}}]
["040113","AREQUIPA","AREQUIPA","AREQUIPA","PAUCARPATA",1298,"CENTRO DE SALUD 15 DE AGOSTO",11,{"v":15643,"d":"15,643"},155,168,180,186,172,195,250,258,254,240,233,232,233,226,240,248,250,236,233,226,{"v":1142,"d":"1,142"},{"v":1247,"d":"1,247"},{"v":1230,"d":"1,230"},{"v":1123,"d":"1,123"},{"v":1176,"d":"1,176"},{"v":1119,"d":"1,119"},974,809,643,535,452,356,219,202,14,76,79,164,{"v":8017,"d":"8,017"},577,607,{"v":3578,"d":"3,578"},243,null,null,{"v":15643,"d":"15,643"},{"v":2533,"d":"2,533"},{"v":1425,"d":"1,425"},{"v":2850,"d":"2,850"},{"v":6435,"d":"6,435"},{"v":2402,"d":"2,402"}]
[{"$nulls":5},1316,"PUESTO DE SALUD MIGUEL GRAU  MODULO A",8,{"v":11377,"d":"11,377"},113,123,131,137,128,143,184,190,184,173,168,169,170,162,173,178,181,173,169,165,831,907,895,818,855,813,709,590,466,389,330,258,158,145,9,57,56,120,{"v":5832,"d":"5,832"},421,441,{"v":2602,"d":"2,602"},177,null,null,{"v":11377,"d":"11,377"},{"v":1841,"d":"1,841"},{"v":1038,"d":"1,038"},{"v":2071,"d":"2,071"},{"v":4679,"d":"4,679"},{"v":1748,"d":"1,748"}]
[{"$nulls":5},1317,"CENTRO DE SALUD MIGUEL GRAU  B",7,{"v":9955,"d":"9,955"},99,108,115,120,112,125,161,166,161,151,147,148,148,142,151,156,158,151,148,144,727,793,783,716,748,711,620,516,408,341,289,226,138,127,8,50,49,105,{"v":5103,"d":"5,103"},368,386,{"v":2277,"d":"2,277"},155,null,null,{"v":9955,"d":"9,955"},{"v":1611,"d":"1,611"},908,{"v":1812,"d":"1,812"},{"v":4094,"d":"4,094"},{"v":1529,"d":"1,529"}]
[{"$nulls":5},1318,"PUESTO DE SALUD MIGUEL GRAU  MODULO C-D",7.5,{"v":10666,"d":"10,666"},106,115,123,128,120,134,172,178,173,162,158,158,159,152,162,167,170,162,159,154,779,850,839,767,802,762,664,553,437,365,309,242,148,136,9,53,53,112,{"v":5467,"d":"5,467"},394,413,{"v":2439,"d":"2,439"},166,null,null,{"v":10666,"d":"10,666"},{"v":1726,"d":"1,726"},973,{"v":1942,"d":"1,942"},{"v":4387,"d":"4,387"},{"v":1638,"d":"1,638"}]
[]
[]
["040112","AREQUIPA","AREQUIPA","AREQUIPA","PAUCARPATA",null,"MR AMPLIACION PAUCARPATA",null,{"$f":"SUM(I155:I158)","v":{"v":46930,"d":"46,930"}},{"$f":"SUM(J155:J158)","v":466},508,541,565,527,589,758,783,759,713,693,697,700,669,713,735,746,713,697,680,{"v":3427,"d":"3,427"},{"v":3741,"d":"3,741"},{"v":3691,"d":"3,691"},{"v":3375,"d":"3,375"},{"v":3527,"d":"3,527"},{"v":3353,"d":"3,353"},{"v":2924,"d":"2,924"},{"v":2433,"d":"2,433"},{"v":1923,"d":"1,923"},{"v":1606,"d":"1,606"},{"v":1361,"d":"1,361"},{"v":1065,"d":"1,065"},652,599,38,235,232,495,{"v":24057,"d":"24,057"},{"v":1736,"d":"1,736"},{"v":1819,"d":"1,819"},{"v":10733,"d":"10,733"},730,null,null,{"$f":"SUM(BC155:BC158)","v":{"v":46930,"d":"46,930"}},{"$f":"SUM(BD155:BD158)","v":{"v":7595,"d":"7,595"}},{"$f":"SUM(BE155:BE158)","v":{"v":4281,"d":"4,281"}},{"$f":"SUM(BF155:BF158)","v":{"v":8543,"d":"8,543"}},{"$f":"SUM(BG155:BG158)","v":{"v":19301,"d":"19,301"}},{"$f":"SUM(BH155:BH158)","v":{"v":7209,"d":"7,209"}}]
[{"$nulls":5},1296,"CENTRO DE SALUD  AMPLIACIÓN PAUCARPATA",10,{"v":14221,"d":"14,221"},141,154,164,171,159,178,229,237,230,216,210,211,212,203,216,223,226,216,211,206,{"v":1038,"d":"1,038"},{"v":1134,"d":"1,134"},{"v":1118,"d":"1,118"},{"v":1023,"d":"1,023"},{"v":1069,"d":"1,069"},{"v":1016,"d":"1,016"},886,737,583,487,412,323,198,182,12,71,71,150,{"v":7290,"d":"7,290"},526,551,{"v":3252,"d":"3,252"},221,null,null,{"v":14221,"d":"14,221"},{"v":2302,"d":"2,302"},{"v":1297,"d":"1,297"},{"v":2589,"d":"2,589"},{"v":5849,"d":"5,849"},{"v":2184,"d":"2,184"}]
[{"$nulls":5},1310,"CENTRO DE SALUD MANUEL PRADO",8,{"v":11377,"d":"11,377"},113,123,131,137,128,143,184,190,184,173,168,169,170,162,173,178,181,173,169,165,831,907,895,818,855,813,709,590,466,389,330,258,158,145,9,57,56,120,{"v":5832,"d":"5,832"},421,441,{"v":2602,"d":"2,602"},177,null,null,{"v":11377,"d":"11,377"},{"v":1841,"d":"1,841"},{"v":1038,"d":"1,038"},{"v":2071,"d":"2,071"},{"v":4679,"d":"4,679"},{"v":1748,"d":"1,748"}]
[{"$nulls":5},1313,"CENTRO DE SALUD NUEVA ALBORADA",8,{"v":11377,"d":"11,377"},113,123,131,137,128,143,184,190,184,173,168,169,170,162,173,178,181,173,169,165,831,907,895,818,855,813,709,590,466,389,330,258,158,145,9,57,56,120,{"v":5832,"d":"5,832"},421,441,{"v":2602,"d":"2,602"},177,null,null,{"v":11377,"d":"11,377"},{"v":1841,"d":"1,841"},{"v":1038,"d":"1,038"},{"v":2071,"d":"2,071"},{"v":4679,"d":"4,679"},{"v":1748,"d":"1,748"}]
[{"$nulls":5},1315,"CENTRO DE SALUD CAMPO MARTE",7,{"v":9955,"d":"9,955"},99,108,115,120,112,125,161,166,161,151,147,148,148,142,151,156,158,151,148,144,727,793,783,716,748,711,620,516,408,341,289,226,138,127,8,50,49,105,{"v":5103,"d":"5,103"},368,386,{"v":2277,"d":"2,277"},155,null,null,{"v":9955,"d":"9,955"},{"v":1611,"d":"1,611"},908,{"v":1812,"d":"1,812"},{"v":4094,"d":"4,094"},{"v":1529,"d":"1,529"}]
[]
[]
["040112","AREQUIPA","AREQUIPA","AREQUIPA","PAUCARPATA",null,"MR CIUDAD BLANCA",null,{"$f":"SUM(I162:I166)","v":{"v":47642,"d":"47,642"}},{"$f":"SUM(J162:J166)","v":474},515,549,572,535,597,769,794,771,725,704,707,711,680,725,747,759,724,708,690,{"v":3478,"d":"3,478"},{"v":3797,"d":"3,797"},{"v":3746,"d":"3,746"},{"v":3426,"d":"3,426"},{"v":3581,"d":"3,581"},{"v":3405,"d":"3,405"},{"v":2968,"d":"2,968"},{"v":2469,"d":"2,469"},{"v":1953,"d":"1,953"},{"v":1631,"d":"1,631"},{"v":1381,"d":"1,381"},{"v":1082,"d":"1,082"},663,609,39,237,236,502,{"v":24421,"d":"24,421"},{"v":1761,"d":"1,761"},{"v":1846,"d":"1,846"},{"v":10895,"d":"10,895"},741,null,null,{"$f":"SUM(BC162:BC166)","v":{"v":47642,"d":"47,642"}},{"$f":"SUM(BD162:BD166)","v":{"v":7711,"d":"7,711"}},{"$f":"SUM(BE162:BE166)","v":{"v":4345,"d":"4,345"}},{"$f":"SUM(BF162:BF166)","v":{"v":8674,"d":"8,674"}},{"$f":"SUM(BG162:BG166)","v":{"v":19594,"d":"19,594"}},{"$f":"SUM(BH162:BH166)","v":{"v":7318,"d":"7,318"}}]
[{"$nulls":5},1297,"CENTRO DE SALUD CIUDAD BLANCA",10,{"v":14221,"d":"14,221"},141,154,164,171,159,178,229,237,230,216,210,211,212,203,216,223,226,216,211,206,{"v":1038,"d":"1,038"},{"v":1134,"d":"1,134"},{"v":1118,"d":"1,118"},{"v":1023,"d":"1,023"},{"v":1069,"d":"1,069"},{"v":1016,"d":"1,016"},886,737,583,487,412,323,198,182,12,71,71,150,{"v":7290,"d":"7,290"},526,551,{"v":3252,"d":"3,252"},221,null,null,{"v":14221,"d":"14,221"},{"v":2302,"d":"2,302"},{"v":1297,"d":"1,297"},{"v":2589,"d":"2,589"},{"v":5849,"d":"5,849"},{"v":2184,"d":"2,184"}]
[{"$nulls":5},1314,"SAN JUAN DE CIUDAD BLANCA",8,{"v":11377,"d":"11,377"},113,123,131,137,128,143,184,190,184,173,168,169,170,162,173,178,181,173,169,165,831,907,895,818,855,813,709,590,466,389,330,258,158,145,9,57,56,120,{"v":5832,"d":"5,832"},421,441,{"v":2602,"d":"2,602"},177,null,null,{"v":11377,"d":"11,377"},{"v":1841,"d":"1,841"},{"v":1038,"d":"1,038"},{"v":2071,"d":"2,071"},{"v":4679,"d":"4,679"},{"v":1748,"d":"1,748"}]
[{"$nulls":5},1311,"ALTO JESUS",4,{"v":5689,"d":"5,689"},57,61,66,68,64,71,92,95,92,87,84,84,85,81,87,89,91,86,85,82,415,453,447,409,428,407,354,295,233,195,165,129,79,73,5,28,28,60,{"v":2916,"d":"2,916"},210,220,{"v":1301,"d":"1,301"},88,null,null,{"v":5689,"d":"5,689"},921,519,{"v":1036,"d":"1,036"},{"v":2340,"d":"2,340"},874]
[{"$nulls":5},1312,"ISRAEL",6,{"v":8533,"d":"8,533"},85,92,98,102,96,107,138,142,138,130,126,127,127,122,130,134,136,130,127,124,623,680,671,614,641,610,532,442,350,292,247,194,119,109,7,42,42,90,{"v":4374,"d":"4,374"},315,331,{"v":1951,"d":"1,951"},133,null,null,{"v":8533,"d":"8,533"},{"v":1381,"d":"1,381"},778,{"v":1554,"d":"1,554"},{"v":3509,"d":"3,509"},{"v":1311,"d":"1,311"}]
[{"$nulls":5},7744,"P.S. VILLA JESUS",5.5,{"v":7822,"d":"7,822"},78,85,90,94,88,98,126,130,127,119,116,116,117,112,119,123,125,119,116,113,571,623,615,562,588,559,487,405,321,268,227,178,109,100,6,39,39,82,{"v":4009,"d":"4,009"},289,303,{"v":1789,"d":"1,789"},122,null,null,{"v":7822,"d":"7,822"},{"v":1266,"d":"1,266"},713,{"v":1424,"d":"1,424"},{"v":3217,"d":"3,217"},{"v":1201,"d":"1,201"}]
[]
[]
[{"$nulls":6},"MR CHIGUATA",null,{"$f":"SUM(I170:I173)","v":{"v":5001,"d":"5,001"}},{"$f":"SUM(J170:J173)","v":75},66,61,79,70,96,55,67,62,56,49,65,36,51,59,69,37,60,59,54,309,368,404,375,377,335,318,311,246,229,188,124,94,97,8,29,46,79,{"v":2614,"d":"2,614"},129,143,{"v":1191,"d":"1,191"},103,null,null,{"$f":"SUM(BC170:BC173)","v":{"v":5001,"d":"5,001"}},{"$f":"SUM(BD170:BD173)","v":801},{"$f":"SUM(BE170:BE173)","v":312},{"$f":"SUM(BF170:BF173)","v":790},{"$f":"SUM(BG170:BG173)","v":{"v":2120,"d":"2,120"}},{"$f":"SUM(BH170:BH173)","v":978}]
["040107","AREQUIPA","AREQUIPA","AREQUIPA","CHIGUATA",1299,"CENTRO DE SALUD CHIGUATA",80,{"v":2910,"d":"2,910"},49,40,36,42,42,55,38,46,42,38,31,47,24,24,42,42,22,36,37,33,192,216,246,214,199,185,178,164,131,132,113,71,50,54,5,19,30,51,{"v":1519,"d":"1,519"},85,87,683,66,null,null,{"v":2910,"d":"2,910"},506,190,478,{"v":1185,"d":"1,185"},551]
[{"$nulls":5},1320,"PUESTO DE SALUD ARENALES",20,728,12,10,9,10,11,14,10,11,11,9,8,12,6,6,11,10,6,9,9,8,48,54,61,53,50,46,44,41,33,33,28,18,13,13,1,5,7,13,380,21,22,171,17,null,null,728,127,48,119,296,138]
["040120","AREQUIPA","AREQUIPA","AREQUIPA","SAN JUAN DE TARUCANI",1319,"PUESTO DE SALUD SAN JUAN DE TARUCANI",80,{"v":1090,"d":"1,090"},11,13,13,22,14,22,6,8,7,7,8,5,5,17,5,14,7,12,10,10,55,78,78,86,102,83,77,85,66,51,38,28,25,24,2,4,7,12,572,18,27,270,16,null,null,{"v":1090,"d":"1,090"},134,59,154,511,231]
[{"$nulls":5},1321,"PUESTO DE SALUD SALINAS HUITO",20,273,3,3,3,5,3,5,1,2,2,2,2,1,1,4,1,3,2,3,3,3,14,20,19,22,26,21,19,21,16,13,9,7,6,6,0,1,2,3,143,5,7,67,4,null,null,273,34,15,39,128,58]
[]
[]
[{"$nulls":6},"MR CHARACATO",null,{"$f":"SUM(I177:I185)","v":{"v":45356,"d":"45,356"}},{"$f":"SUM(J177:J185)","v":370},390,353,446,420,469,705,727,624,593,557,578,635,557,605,635,623,572,651,632,{"v":2928,"d":"2,928"},{"v":3482,"d":"3,482"},{"v":3948,"d":"3,948"},{"v":3832,"d":"3,832"},{"v":3655,"d":"3,655"},{"v":3441,"d":"3,441"},{"v":2777,"d":"2,777"},{"v":2569,"d":"2,569"},{"v":2193,"d":"2,193"},{"v":1715,"d":"1,715"},{"v":1408,"d":"1,408"},{"v":1029,"d":"1,029"},654,583,16,167,203,391,{"v":22878,"d":"22,878"},{"v":1436,"d":"1,436"},{"v":1538,"d":"1,538"},{"v":10957,"d":"10,957"},826,null,null,{"$f":"SUM(BC177:BC185)","v":{"v":45356,"d":"45,356"}},{"$f":"SUM(BD177:BD185)","v":{"v":6232,"d":"6,232"}},{"$f":"SUM(BE177:BE185)","v":{"v":3627,"d":"3,627"}},{"$f":"SUM(BF177:BF185)","v":{"v":7693,"d":"7,693"}},{"$f":"SUM(BG177:BG185)","v":{"v":20222,"d":"20,222"}},{"$f":"SUM(BH177:BH185)","v":{"v":7582,"d":"7,582"}}]
["040106","AREQUIPA","AREQUIPA","AREQUIPA","CHARACATO",1261,"CENTRO DE SALUD DE CHARACATO",100,{"v":19439,"d":"19,439"},151,172,140,199,163,195,380,338,279,279,291,270,309,266,307,291,298,265,289,348,{"v":1475,"d":"1,475"},{"v":1502,"d":"1,502"},{"v":1528,"d":"1,528"},{"v":1501,"d":"1,501"},{"v":1574,"d":"1,574"},{"v":1429,"d":"1,429"},{"v":1157,"d":"1,157"},{"v":1044,"d":"1,044"},834,711,556,419,262,217,6,74,77,160,{"v":9773,"d":"9,773"},700,732,{"v":4571,"d":"4,571"},385,null,null,{"v":19439,"d":"19,439"},{"v":2857,"d":"2,857"},{"v":1736,"d":"1,736"},{"v":3614,"d":"3,614"},{"v":8233,"d":"8,233"},{"v":2999,"d":"2,999"}]
["040112","AREQUIPA","AREQUIPA","AREQUIPA","MOLLEBAYA",1285,"PUESTO DE SALUD MOLLEBAYA",30,{"v":2596,"d":"2,596"},23,23,17,25,18,23,35,54,49,40,28,35,33,39,38,41,40,36,41,27,154,216,270,234,215,204,125,131,120,89,73,50,25,25,1,10,14,25,{"v":1302,"d":"1,302"},87,90,672,55,null,null,{"v":2596,"d":"2,596"},368,228,437,{"v":1180,"d":"1,180"},382]
[{"$nulls":5},11677,"PUESTO DE SALUD MACHAHUAYA",70,{"v":6056,"d":"6,056"},55,52,39,59,41,52,81,125,115,93,65,80,78,92,90,94,94,85,95,62,359,503,631,545,503,477,292,307,280,207,171,117,58,59,2,23,31,58,{"v":3039,"d":"3,039"},202,211,{"v":1569,"d":"1,569"},127,null,null,{"v":6056,"d":"6,056"},859,532,{"v":1020,"d":"1,020"},{"v":2754,"d":"2,754"},892]
["040114","AREQUIPA","AREQUIPA","AREQUIPA","POCSI",1288,"PUESTO DE SALUD POCSI",56,291,4,3,2,3,1,5,1,1,1,1,1,1,2,2,2,2,2,2,3,3,14,23,25,18,22,24,22,21,20,15,13,11,12,8,1,1,3,4,151,4,4,66,7,null,null,291,26,11,43,132,79]
[{"$nulls":5},1289,"PUESTO DE SALUD PIACA",44,228,4,3,2,2,1,4,1,1,1,1,1,1,2,2,1,1,1,1,2,2,11,18,20,15,17,18,17,17,15,12,11,8,9,7,0,1,3,4,119,3,3,51,5,null,null,228,20,9,33,104,62]
["040115","AREQUIPA","AREQUIPA","AREQUIPA","POLOBAYA",1262,"PUESTO DE SALUD POLOBAYA",100,879,9,14,5,12,12,18,3,5,6,7,6,8,13,8,7,7,8,5,7,19,54,64,66,55,54,51,54,73,66,56,43,20,22,22,0,4,5,9,452,20,22,179,31,null,null,879,105,48,144,353,229]
["040116","AREQUIPA","AREQUIPA","AREQUIPA","QUEQUEÑA",1286,"PUESTO DE SALUD QUEQUEÑA",100,{"v":8714,"d":"8,714"},33,31,34,43,53,43,113,110,67,95,88,95,111,68,81,104,94,97,119,91,401,586,843,906,727,709,679,593,541,361,288,238,137,135,1,14,19,35,{"v":4314,"d":"4,314"},207,251,{"v":2166,"d":"2,166"},65,null,null,{"v":8714,"d":"8,714"},805,555,{"v":1197,"d":"1,197"},{"v":4457,"d":"4,457"},{"v":1700,"d":"1,700"}]
["040117","AREQUIPA","AREQUIPA","AREQUIPA","SABANDIA",1284,"PUESTO DE SALUD LEOPOLDO RONDON - SABANDIA",100,{"v":5167,"d":"5,167"},49,56,68,61,98,93,76,72,89,63,61,70,74,64,68,75,70,64,67,61,344,403,369,403,388,366,309,266,220,194,190,131,104,81,1,20,29,52,{"v":2634,"d":"2,634"},167,170,{"v":1168,"d":"1,168"},61,null,null,{"v":5167,"d":"5,167"},856,415,875,{"v":2101,"d":"2,101"},920]
["040128","AREQUIPA","AREQUIPA","AREQUIPA","YARABAMBA",1287,"PUESTO DE SALUD YARABAMBA",100,{"v":1986,"d":"1,986"},42,36,46,42,33,36,15,21,17,14,16,18,13,16,11,20,16,17,28,19,116,167,196,155,155,163,122,117,97,70,63,35,25,29,4,20,22,44,{"v":1094,"d":"1,094"},46,55,515,90,null,null,{"v":1986,"d":"1,986"},336,93,330,908,319]
[]
[]
[{"$nulls":6},"MR JAVIER LLOSA GARCIA HUNTER",null,{"$f":"SUM(I189:I195)","v":{"v":56949,"d":"56,949"}},{"$f":"SUM(J189:J195)","v":525},512,515,590,590,722,986,954,935,906,812,835,847,875,724,842,878,885,788,772,{"v":4225,"d":"4,225"},{"v":4698,"d":"4,698"},{"v":4542,"d":"4,542"},{"v":4346,"d":"4,346"},{"v":4338,"d":"4,338"},{"v":4005,"d":"4,005"},{"v":3460,"d":"3,460"},{"v":3103,"d":"3,103"},{"v":2512,"d":"2,512"},{"v":2063,"d":"2,063"},{"v":1596,"d":"1,596"},{"v":1177,"d":"1,177"},695,696,37,243,282,557,{"v":29068,"d":"29,068"},{"v":2031,"d":"2,031"},{"v":2122,"d":"2,122"},{"v":13178,"d":"13,178"},835,null,null,{"$f":"SUM(BC189:BC195)","v":{"v":56949,"d":"56,949"}},{"$f":"SUM(BD189:BD195)","v":{"v":8882,"d":"8,882"}},{"$f":"SUM(BE189:BE195)","v":{"v":5051,"d":"5,051"}},{"$f":"SUM(BF189:BF195)","v":{"v":10483,"d":"10,483"}},{"$f":"SUM(BG189:BG195)","v":{"v":23794,"d":"23,794"}},{"$f":"SUM(BH189:BH195)","v":{"v":8739,"d":"8,739"}}]
["040108","AREQUIPA","AREQUIPA","AREQUIPA","JACOBO HUNTER",1259,"CENTRO DE SALUD JAVIER LLOSA GARCIA -  HUNTER",33,{"v":18794,"d":"18,794"},173,169,171,195,195,238,324,315,308,298,268,275,279,288,239,278,290,290,260,255,{"v":1394,"d":"1,394"},{"v":1549,"d":"1,549"},{"v":1499,"d":"1,499"},{"v":1434,"d":"1,434"},{"v":1432,"d":"1,432"},{"v":1322,"d":"1,322"},{"v":1142,"d":"1,142"},{"v":1026,"d":"1,026"},829,681,526,388,228,229,12,81,94,183,{"v":9593,"d":"9,593"},670,700,{"v":4349,"d":"4,349"},275,null,null,{"v":18794,"d":"18,794"},{"v":2932,"d":"2,932"},{"v":1666,"d":"1,666"},{"v":3461,"d":"3,461"},{"v":7853,"d":"7,853"},{"v":2883,"d":"2,883"}]
[{"$nulls":5},1273,"PUESTO DE SALUD DANIEL ALCIDES CARRION",15,{"v":8542,"d":"8,542"},79,77,77,89,89,108,148,143,140,136,122,125,127,131,109,126,132,133,118,116,634,705,681,652,651,601,519,465,377,309,239,177,104,104,6,36,42,84,{"v":4360,"d":"4,360"},305,318,{"v":1977,"d":"1,977"},125,null,null,{"v":8542,"d":"8,542"},{"v":1332,"d":"1,332"},758,{"v":1572,"d":"1,572"},{"v":3569,"d":"3,569"},{"v":1311,"d":"1,311"}]
[{"$nulls":5},1274,"PUESTO DE SALUD PAMPAS DEL CUZCO",16,{"v":9112,"d":"9,112"},84,82,82,94,94,116,158,153,150,145,130,134,136,140,116,135,140,142,126,124,676,752,727,695,694,641,554,496,402,330,255,188,111,111,6,39,45,89,{"v":4651,"d":"4,651"},325,340,{"v":2108,"d":"2,108"},134,null,null,{"v":9112,"d":"9,112"},{"v":1421,"d":"1,421"},808,{"v":1677,"d":"1,677"},{"v":3807,"d":"3,807"},{"v":1398,"d":"1,398"}]
[{"$nulls":5},1275,"PUESTO DE SALUD CHILPINILLA",9,{"v":5125,"d":"5,125"},47,46,46,53,53,65,89,86,84,82,73,75,76,79,65,76,79,80,71,69,380,423,409,391,390,360,311,279,226,186,144,106,63,63,3,22,25,50,{"v":2616,"d":"2,616"},183,191,{"v":1186,"d":"1,186"},75,null,null,{"v":5125,"d":"5,125"},799,455,943,{"v":2141,"d":"2,141"},787]
[{"$nulls":5},1276,"CENTRO DE SALUD CAMINOS DEL INCA",10,{"v":5695,"d":"5,695"},53,51,52,59,59,72,99,95,94,91,81,84,85,88,72,84,88,89,79,77,423,470,454,435,434,401,346,310,251,206,160,118,70,70,4,24,28,56,{"v":2907,"d":"2,907"},203,212,{"v":1318,"d":"1,318"},84,null,null,{"v":5695,"d":"5,695"},888,505,{"v":1048,"d":"1,048"},{"v":2379,"d":"2,379"},874]
[{"$nulls":5},1277,"ALTO ALIANZA",8,{"v":4556,"d":"4,556"},42,41,41,47,47,58,79,76,75,72,65,67,68,70,58,67,70,71,63,62,338,376,363,348,347,320,277,248,201,165,128,94,56,56,3,19,23,45,{"v":2325,"d":"2,325"},162,170,{"v":1054,"d":"1,054"},67,null,null,{"v":4556,"d":"4,556"},711,404,839,{"v":1904,"d":"1,904"},699]
[{"$nulls":5},1279,"PUESTO DE SALUD UPIS PAISAJISTA",9,{"v":5125,"d":"5,125"},47,46,46,53,53,65,89,86,84,82,73,75,76,79,65,76,79,80,71,69,380,423,409,391,390,360,311,279,226,186,144,106,63,63,3,22,25,50,{"v":2616,"d":"2,616"},183,191,{"v":1186,"d":"1,186"},75,null,null,{"v":5125,"d":"5,125"},799,455,943,{"v":2141,"d":"2,141"},787]
[]
[]
[{"$nulls":6},"MR VITOR RAUL HINOJOSA LLERENA",null,{"$f":"SUM(I199:I202)","v":{"v":90468,"d":"90,468"}},{"$f":"SUM(J199:J202)","v":642},716,703,784,751,953,{"v":1238,"d":"1,238"},{"v":1294,"d":"1,294"},{"v":1326,"d":"1,326"},{"v":1218,"d":"1,218"},{"v":1134,"d":"1,134"},{"v":1143,"d":"1,143"},{"v":1260,"d":"1,260"},{"v":1076,"d":"1,076"},{"v":1234,"d":"1,234"},{"v":1250,"d":"1,250"},{"v":1247,"d":"1,247"},{"v":1277,"d":"1,277"},{"v":1234,"d":"1,234"},{"v":1246,"d":"1,246"},{"v":6506,"d":"6,506"},{"v":7118,"d":"7,118"},{"v":7317,"d":"7,317"},{"v":6478,"d":"6,478"},{"v":6738,"d":"6,738"},{"v":6326,"d":"6,326"},{"v":5602,"d":"5,602"},{"v":5117,"d":"5,117"},{"v":4525,"d":"4,525"},{"v":3744,"d":"3,744"},{"v":3433,"d":"3,433"},{"v":2627,"d":"2,627"},{"v":1657,"d":"1,657"},{"v":1554,"d":"1,554"},44,313,329,681,{"v":45908,"d":"45,908"},{"v":2846,"d":"2,846"},{"v":3105,"d":"3,105"},{"v":20175,"d":"20,175"},{"v":1764,"d":"1,764"},null,null,{"$f":"SUM(BC199:BC202)","v":{"v":90468,"d":"90,468"}},{"$f":"SUM(BD199:BD202)","v":{"v":11902,"d":"11,902"}},{"$f":"SUM(BE199:BE202)","v":{"v":7344,"d":"7,344"}},{"$f":"SUM(BF199:BF202)","v":{"v":16104,"d":"16,104"}},{"$f":"SUM(BG199:BG202)","v":{"v":37578,"d":"37,578"}},{"$f":"SUM(BH199:BH202)","v":{"v":17540,"d":"17,540"}}]
["040130","AREQUIPA","AREQUIPA","AREQUIPA","JOSE LUIS BUSTAMANTE Y RIVERO",1257,"VICTOR RAUL HINOJOSA",57,{"v":51566,"d":"51,566"},366,408,401,447,428,544,706,738,755,694,647,652,719,613,704,712,710,727,704,710,{"v":3708,"d":"3,708"},{"v":4057,"d":"4,057"},{"v":4171,"d":"4,171"},{"v":3692,"d":"3,692"},{"v":3841,"d":"3,841"},{"v":3605,"d":"3,605"},{"v":3194,"d":"3,194"},{"v":2917,"d":"2,917"},{"v":2578,"d":"2,578"},{"v":2135,"d":"2,135"},{"v":1957,"d":"1,957"},{"v":1497,"d":"1,497"},944,886,26,179,187,389,{"v":26167,"d":"26,167"},{"v":1622,"d":"1,622"},{"v":1769,"d":"1,769"},{"v":11499,"d":"11,499"},{"v":1006,"d":"1,006"},null,null,{"v":51566,"d":"51,566"},{"v":6785,"d":"6,785"},{"v":4187,"d":"4,187"},{"v":9179,"d":"9,179"},{"v":21419,"d":"21,419"},{"v":9997,"d":"9,997"}]
[{"$nulls":5},1263,"PUESTO DE SALUD 13 DE ENERO",19,{"v":17189,"d":"17,189"},122,136,134,149,143,181,235,246,252,231,215,217,239,204,234,238,237,243,234,237,{"v":1236,"d":"1,236"},{"v":1352,"d":"1,352"},{"v":1390,"d":"1,390"},{"v":1231,"d":"1,231"},{"v":1280,"d":"1,280"},{"v":1202,"d":"1,202"},{"v":1064,"d":"1,064"},972,860,711,652,499,315,295,8,59,63,129,{"v":8723,"d":"8,723"},541,590,{"v":3833,"d":"3,833"},335,null,null,{"v":17189,"d":"17,189"},{"v":2261,"d":"2,261"},{"v":1395,"d":"1,395"},{"v":3060,"d":"3,060"},{"v":7140,"d":"7,140"},{"v":3333,"d":"3,333"}]
[{"$nulls":5},1264,"CENTRO DE SALUD LAS ESMERALDAS",14,{"v":12666,"d":"12,666"},90,100,98,110,105,133,173,181,186,171,159,160,176,151,173,175,175,179,173,174,911,997,{"v":1024,"d":"1,024"},907,943,886,784,716,634,524,481,368,232,218,6,44,46,95,{"v":6427,"d":"6,427"},398,435,{"v":2825,"d":"2,825"},247,null,null,{"v":12666,"d":"12,666"},{"v":1666,"d":"1,666"},{"v":1028,"d":"1,028"},{"v":2255,"d":"2,255"},{"v":5261,"d":"5,261"},{"v":2456,"d":"2,456"}]
[{"$nulls":5},1267,"CERRO JULI",10,{"v":9047,"d":"9,047"},64,72,70,78,75,95,124,129,133,122,113,114,126,108,123,125,125,128,123,125,651,712,732,648,674,633,560,512,453,374,343,263,166,155,4,31,33,68,{"v":4591,"d":"4,591"},285,311,{"v":2018,"d":"2,018"},176,null,null,{"v":9047,"d":"9,047"},{"v":1190,"d":"1,190"},734,{"v":1610,"d":"1,610"},{"v":3758,"d":"3,758"},{"v":1754,"d":"1,754"}]
[]
[]
[{"$nulls":6},"MR TIABAYA",null,{"$f":"SUM(I206:I209)","v":{"v":37787,"d":"37,787"}},{"$f":"SUM(J206:J209)","v":415},428,481,472,426,549,598,651,562,532,477,509,584,487,499,522,517,541,507,518,{"v":2594,"d":"2,594"},{"v":3257,"d":"3,257"},{"v":3280,"d":"3,280"},{"v":3096,"d":"3,096"},{"v":3043,"d":"3,043"},{"v":2621,"d":"2,621"},{"v":2149,"d":"2,149"},{"v":2003,"d":"2,003"},{"v":1645,"d":"1,645"},{"v":1317,"d":"1,317"},985,712,430,380,28,183,232,440,{"v":19716,"d":"19,716"},{"v":1354,"d":"1,354"},{"v":1390,"d":"1,390"},{"v":9081,"d":"9,081"},986,null,null,{"$f":"SUM(BC206:BC209)","v":{"v":37787,"d":"37,787"}},{"$f":"SUM(BD206:BD209)","v":{"v":6100,"d":"6,100"}},{"$f":"SUM(BE206:BE209)","v":{"v":3150,"d":"3,150"}},{"$f":"SUM(BF206:BF209)","v":{"v":6876,"d":"6,876"}},{"$f":"SUM(BG206:BG209)","v":{"v":16192,"d":"16,192"}},{"$f":"SUM(BH206:BH209)","v":{"v":5469,"d":"5,469"}}]
["040124","AREQUIPA","AREQUIPA","AREQUIPA","TIABAYA",1260,"CENTRO DE SALUD TIABAYA",100,{"v":19046,"d":"19,046"},233,225,266,243,229,297,293,358,286,278,229,258,298,245,269,264,257,292,241,267,{"v":1382,"d":"1,382"},{"v":1626,"d":"1,626"},{"v":1620,"d":"1,620"},{"v":1469,"d":"1,469"},{"v":1435,"d":"1,435"},{"v":1260,"d":"1,260"},{"v":1050,"d":"1,050"},995,813,645,526,398,245,254,20,110,123,247,{"v":9838,"d":"9,838"},664,699,{"v":4414,"d":"4,414"},435,null,null,{"v":19046,"d":"19,046"},{"v":3195,"d":"3,195"},{"v":1625,"d":"1,625"},{"v":3516,"d":"3,516"},{"v":7829,"d":"7,829"},{"v":2881,"d":"2,881"}]
["040125","AREQUIPA","AREQUIPA","AREQUIPA","UCHUMAYO",1280,"CERRO VERDE",43.5,{"v":8153,"d":"8,153"},79,89,93,99,85,109,132,128,120,111,108,109,125,106,100,112,113,109,115,109,527,710,722,707,700,592,478,439,362,293,199,136,81,55,4,32,48,84,{"v":4297,"d":"4,297"},300,300,{"v":2030,"d":"2,030"},239,null,null,{"v":8153,"d":"8,153"},{"v":1263,"d":"1,263"},664,{"v":1461,"d":"1,461"},{"v":3638,"d":"3,638"},{"v":1126,"d":"1,126"}]
[{"$nulls":5},1281,"CONGATA",43.5,{"v":8152,"d":"8,152"},79,88,94,100,86,110,133,127,120,110,108,109,124,105,100,112,113,108,116,109,527,709,722,708,699,592,478,438,362,292,200,137,80,55,3,32,47,84,{"v":4297,"d":"4,297"},300,301,{"v":2030,"d":"2,030"},240,null,null,{"v":8152,"d":"8,152"},{"v":1264,"d":"1,264"},663,{"v":1462,"d":"1,462"},{"v":3638,"d":"3,638"},{"v":1126,"d":"1,126"}]
[{"$nulls":5},1290,"UCHUMAYO",13,{"v":2436,"d":"2,436"},24,26,28,30,26,33,40,38,36,33,32,33,37,31,30,34,34,32,35,33,158,212,216,212,209,177,143,131,108,87,60,41,24,16,1,9,14,25,{"v":1284,"d":"1,284"},90,90,607,72,null,null,{"v":2436,"d":"2,436"},378,198,437,{"v":1087,"d":"1,087"},336]
[]
[]
[{"$nulls":6},"MR SAN MARTIN DE SOCABAYA",null,{"$f":"SUM(I213:I219)","v":{"v":91133,"d":"91,133"}},{"$f":"SUM(J213:J219)","v":722},680,728,649,766,946,{"v":1400,"d":"1,400"},{"v":1467,"d":"1,467"},{"v":1472,"d":"1,472"},{"v":1476,"d":"1,476"},{"v":1247,"d":"1,247"},{"v":1386,"d":"1,386"},{"v":1366,"d":"1,366"},{"v":1404,"d":"1,404"},{"v":1281,"d":"1,281"},{"v":1393,"d":"1,393"},{"v":1500,"d":"1,500"},{"v":1395,"d":"1,395"},{"v":1449,"d":"1,449"},{"v":1419,"d":"1,419"},{"v":7238,"d":"7,238"},{"v":7799,"d":"7,799"},{"v":7445,"d":"7,445"},{"v":6681,"d":"6,681"},{"v":6788,"d":"6,788"},{"v":6350,"d":"6,350"},{"v":5375,"d":"5,375"},{"v":4965,"d":"4,965"},{"v":4280,"d":"4,280"},{"v":3579,"d":"3,579"},{"v":2610,"d":"2,610"},{"v":1828,"d":"1,828"},{"v":1052,"d":"1,052"},997,55,382,340,766,{"v":46099,"d":"46,099"},{"v":3376,"d":"3,376"},{"v":3535,"d":"3,535"},{"v":21293,"d":"21,293"},{"v":1514,"d":"1,514"},null,null,{"$f":"SUM(BC213:BC219)","v":{"v":91133,"d":"91,133"}},{"$f":"SUM(BD213:BD219)","v":{"v":12939,"d":"12,939"}},{"$f":"SUM(BE213:BE219)","v":{"v":8339,"d":"8,339"}},{"$f":"SUM(BF213:BF219)","v":{"v":17905,"d":"17,905"}},{"$f":"SUM(BG213:BG219)","v":{"v":37604,"d":"37,604"}},{"$f":"SUM(BH213:BH219)","v":{"v":14346,"d":"14,346"}}]
["040123","AREQUIPA","AREQUIPA","AREQUIPA","SOCABAYA",1258,"CENTRO DE SALUD SAN MARTIN DE SOCABAYA",21,{"v":19138,"d":"19,138"},151,142,153,136,160,199,294,308,309,310,261,291,286,295,269,292,315,293,304,298,{"v":1520,"d":"1,520"},{"v":1637,"d":"1,637"},{"v":1564,"d":"1,564"},{"v":1403,"d":"1,403"},{"v":1425,"d":"1,425"},{"v":1333,"d":"1,333"},{"v":1128,"d":"1,128"},{"v":1043,"d":"1,043"},898,751,547,384,222,208,11,81,72,160,{"v":9680,"d":"9,680"},709,742,{"v":4471,"d":"4,471"},318,null,null,{"v":19138,"d":"19,138"},{"v":2717,"d":"2,717"},{"v":1751,"d":"1,751"},{"v":3760,"d":"3,760"},{"v":7897,"d":"7,897"},{"v":3013,"d":"3,013"}]
[{"$nulls":5},1269,"PUESTO DE SALUD CIUDAD MI TRABAJO",16,{"v":14581,"d":"14,581"},116,109,116,104,123,151,224,235,236,236,200,222,219,225,205,223,240,223,232,227,{"v":1158,"d":"1,158"},{"v":1248,"d":"1,248"},{"v":1191,"d":"1,191"},{"v":1069,"d":"1,069"},{"v":1086,"d":"1,086"},{"v":1016,"d":"1,016"},860,794,685,573,418,292,168,160,9,61,54,123,{"v":7376,"d":"7,376"},540,566,{"v":3407,"d":"3,407"},242,null,null,{"v":14581,"d":"14,581"},{"v":2070,"d":"2,070"},{"v":1334,"d":"1,334"},{"v":2865,"d":"2,865"},{"v":6017,"d":"6,017"},{"v":2295,"d":"2,295"}]
[{"$nulls":5},1270,"PUESTO DE SALUD LARA",16,{"v":14581,"d":"14,581"},116,109,116,104,123,151,224,235,236,236,200,222,219,225,205,223,240,223,232,227,{"v":1158,"d":"1,158"},{"v":1248,"d":"1,248"},{"v":1191,"d":"1,191"},{"v":1069,"d":"1,069"},{"v":1086,"d":"1,086"},{"v":1016,"d":"1,016"},860,794,685,573,418,292,168,160,9,61,54,123,{"v":7376,"d":"7,376"},540,566,{"v":3407,"d":"3,407"},242,null,null,{"v":14581,"d":"14,581"},{"v":2070,"d":"2,070"},{"v":1334,"d":"1,334"},{"v":2865,"d":"2,865"},{"v":6017,"d":"6,017"},{"v":2295,"d":"2,295"}]
[{"$nulls":5},1271,"CENTRO DE SALUD SAN FERNANDO",6,{"v":5468,"d":"5,468"},43,41,44,39,46,57,84,88,88,89,75,83,82,84,77,84,90,84,87,85,434,468,447,401,407,381,323,298,257,215,157,110,63,60,3,23,20,46,{"v":2766,"d":"2,766"},203,212,{"v":1278,"d":"1,278"},91,null,null,{"v":5468,"d":"5,468"},776,500,{"v":1074,"d":"1,074"},{"v":2256,"d":"2,256"},861]
[{"$nulls":5},1272,"PUESTO DE SALUD SALAVERRY",12,{"v":10936,"d":"10,936"},87,82,87,78,92,114,168,176,177,177,150,166,164,168,154,167,180,167,174,170,869,936,893,802,815,762,645,596,514,429,313,219,126,120,7,46,41,92,{"v":5532,"d":"5,532"},405,424,{"v":2555,"d":"2,555"},182,null,null,{"v":10936,"d":"10,936"},{"v":1553,"d":"1,553"},{"v":1001,"d":"1,001"},{"v":2149,"d":"2,149"},{"v":4512,"d":"4,512"},{"v":1722,"d":"1,722"}]
[{"$nulls":5},1268,"CENTRO DE SALUD 4 DE OCTUBRE",20,{"v":18227,"d":"18,227"},144,136,146,130,153,189,280,293,294,295,249,277,273,281,256,279,300,279,290,284,{"v":1448,"d":"1,448"},{"v":1560,"d":"1,560"},{"v":1489,"d":"1,489"},{"v":1336,"d":"1,336"},{"v":1358,"d":"1,358"},{"v":1270,"d":"1,270"},{"v":1075,"d":"1,075"},993,856,716,522,366,210,199,11,76,68,153,{"v":9220,"d":"9,220"},675,707,{"v":4259,"d":"4,259"},303,null,null,{"v":18227,"d":"18,227"},{"v":2588,"d":"2,588"},{"v":1668,"d":"1,668"},{"v":3581,"d":"3,581"},{"v":7521,"d":"7,521"},{"v":2869,"d":"2,869"}]
[{"$nulls":5},23338,"PUESTO DE SALUD HORACIO ZEBALLOS GÁMEZ",9,{"v":8202,"d":"8,202"},65,61,66,58,69,85,126,132,132,133,112,125,123,126,115,125,135,126,130,128,651,702,670,601,611,572,484,447,385,322,235,165,95,90,5,34,31,69,{"v":4149,"d":"4,149"},304,318,{"v":1916,"d":"1,916"},136,null,null,{"v":8202,"d":"8,202"},{"v":1165,"d":"1,165"},751,{"v":1611,"d":"1,611"},{"v":3384,"d":"3,384"},{"v":1291,"d":"1,291"}]
[]
[]
[{"$nulls":6},"MR LA JOYA",null,{"$f":"SUM(I223:I227)","v":{"v":31326,"d":"31,326"}},{"$f":"SUM(J223:J227)","v":320},370,386,432,430,456,489,444,562,579,491,496,548,478,544,553,575,565,576,549,{"v":2592,"d":"2,592"},{"v":2848,"d":"2,848"},{"v":2553,"d":"2,553"},{"v":2378,"d":"2,378"},{"v":2113,"d":"2,113"},{"v":2024,"d":"2,024"},{"v":1597,"d":"1,597"},{"v":1462,"d":"1,462"},{"v":1191,"d":"1,191"},973,661,500,310,276,21,152,169,341,{"v":16102,"d":"16,102"},{"v":1334,"d":"1,334"},{"v":1449,"d":"1,449"},{"v":7527,"d":"7,527"},834,null,null,{"$f":"SUM(BC223:BC227)","v":{"v":31326,"d":"31,326"}},{"$f":"SUM(BD223:BD227)","v":{"v":5456,"d":"5,456"}},{"$f":"SUM(BE223:BE227)","v":{"v":3262,"d":"3,262"}},{"$f":"SUM(BF223:BF227)","v":{"v":6566,"d":"6,566"}},{"$f":"SUM(BG223:BG227)","v":{"v":12132,"d":"12,132"}},{"$f":"SUM(BH223:BH227)","v":{"v":3911,"d":"3,911"}}]
["040109","AREQUIPA","AREQUIPA","AREQUIPA","LA JOYA",1322,"LA JOYA",20,{"v":8824,"d":"8,824"},90,104,109,121,121,128,138,125,159,163,139,140,154,134,153,156,162,159,162,154,730,802,719,670,595,570,450,412,335,274,186,141,87,78,6,43,48,96,{"v":4536,"d":"4,536"},376,408,{"v":2120,"d":"2,120"},235,null,null,{"v":8824,"d":"8,824"},{"v":1537,"d":"1,537"},919,{"v":1849,"d":"1,849"},{"v":3417,"d":"3,417"},{"v":1101,"d":"1,101"}]
[{"$nulls":5},1327,"PUESTO DE SALUD CERRITO BUENA VISTA",14,{"v":6177,"d":"6,177"},63,73,76,85,85,90,96,88,111,114,97,98,108,94,107,109,113,112,114,108,511,562,504,469,417,399,315,288,235,192,130,98,61,54,4,30,33,67,{"v":3175,"d":"3,175"},263,286,{"v":1484,"d":"1,484"},164,null,null,{"v":6177,"d":"6,177"},{"v":1076,"d":"1,076"},643,{"v":1295,"d":"1,295"},{"v":2392,"d":"2,392"},771]
[{"$nulls":5},1330,"EL CRUCE - TRIUNFO",27,{"v":11913,"d":"11,913"},121,141,147,166,164,174,187,169,212,220,185,188,208,182,208,210,218,214,218,209,985,{"v":1082,"d":"1,082"},970,903,803,769,606,556,453,369,251,191,118,106,7,57,64,130,{"v":6123,"d":"6,123"},507,551,{"v":2863,"d":"2,863"},317,null,null,{"v":11913,"d":"11,913"},{"v":2075,"d":"2,075"},{"v":1240,"d":"1,240"},{"v":2498,"d":"2,498"},{"v":4615,"d":"4,615"},{"v":1489,"d":"1,489"}]
[{"$nulls":5},1328,"LOS MEDANOS",5,{"v":2206,"d":"2,206"},23,26,27,30,30,32,34,31,40,41,35,35,39,34,38,39,41,40,41,39,183,201,180,168,149,143,113,103,84,69,47,35,22,19,2,11,12,24,{"v":1134,"d":"1,134"},94,102,530,59,null,null,{"v":2206,"d":"2,206"},384,230,462,854,275]
[{"$nulls":5},1329,"BENITO LAZO",5,{"v":2206,"d":"2,206"},23,26,27,30,30,32,34,31,40,41,35,35,39,34,38,39,41,40,41,39,183,201,180,168,149,143,113,103,84,69,47,35,22,19,2,11,12,24,{"v":1134,"d":"1,134"},94,102,530,59,null,null,{"v":2206,"d":"2,206"},384,230,462,854,275]
[]
[]
[{"$nulls":6},"MR SAN ISIDRO",null,{"$f":"SUM(I231:I235)","v":{"v":14087,"d":"14,087"}},{"$f":"SUM(J231:J235)","v":144},162,173,189,189,199,214,198,250,250,217,215,235,211,239,243,250,250,253,241,{"v":1142,"d":"1,142"},{"v":1260,"d":"1,260"},{"v":1142,"d":"1,142"},{"v":1071,"d":"1,071"},957,918,744,692,558,460,313,234,148,136,10,69,74,152,{"v":7256,"d":"7,256"},582,637,{"v":3370,"d":"3,370"},363,null,null,{"$f":"SUM(BC231:BC235)","v":{"v":14087,"d":"14,087"}},{"$f":"SUM(BD231:BD235)","v":{"v":2398,"d":"2,398"}},{"$f":"SUM(BE231:BE235)","v":{"v":1428,"d":"1,428"}},{"$f":"SUM(BF231:BF235)","v":{"v":2894,"d":"2,894"}},{"$f":"SUM(BG231:BG235)","v":{"v":5519,"d":"5,519"}},{"$f":"SUM(BH231:BH235)","v":{"v":1848,"d":"1,848"}}]
["040109","AREQUIPA","AREQUIPA","AREQUIPA","LA JOYA",1323,"SAN ISIDRO",13,{"v":5736,"d":"5,736"},59,68,71,79,79,83,90,81,103,106,90,91,100,87,100,101,105,104,106,100,475,521,468,436,387,371,293,268,218,178,121,91,57,51,4,28,31,62,{"v":2948,"d":"2,948"},244,265,{"v":1378,"d":"1,378"},152,null,null,{"v":5736,"d":"5,736"},999,597,{"v":1202,"d":"1,202"},{"v":2221,"d":"2,221"},716]
[{"$nulls":5},1333,"SAN JOSE",3,{"v":1324,"d":"1,324"},14,16,16,18,18,19,21,19,24,24,21,21,23,20,23,23,24,24,24,23,110,120,108,101,89,86,68,62,50,41,28,21,13,12,1,6,7,14,680,56,61,318,35,null,null,{"v":1324,"d":"1,324"},231,138,277,513,165]
[{"$nulls":5},1332,"PUESTO DE SALUD SAN CAMILO 6",6,{"v":2647,"d":"2,647"},27,31,33,36,36,38,41,38,48,49,42,42,46,40,46,47,49,48,49,46,219,241,216,201,179,171,135,124,101,82,56,42,26,23,2,13,14,29,{"v":1361,"d":"1,361"},113,122,636,70,null,null,{"v":2647,"d":"2,647"},461,276,555,{"v":1025,"d":"1,025"},330]
[{"$nulls":5},1331,"LA CANO",7,{"v":3088,"d":"3,088"},32,36,38,42,42,45,48,44,56,57,49,49,54,47,54,54,57,56,57,54,256,281,252,235,208,200,158,144,117,96,65,49,31,27,2,15,17,34,{"v":1587,"d":"1,587"},131,143,742,82,null,null,{"v":3088,"d":"3,088"},538,322,647,{"v":1196,"d":"1,196"},385]
["040703","AREQUIPA","AREQUIPA","ISLAY","COCACHACRA",1343,"SAN CAMILO 7",14,{"v":1292,"d":"1,292"},12,11,15,14,14,14,14,16,19,14,15,12,12,17,16,18,15,18,17,18,82,97,98,98,94,90,90,94,72,63,43,31,21,23,1,7,5,13,680,38,46,296,24,null,null,{"v":1292,"d":"1,292"},169,95,213,564,252]
[]
[]
[{"$nulls":6},"MR VITOR",null,{"$f":"SUM(I239:I241)","v":{"v":14147,"d":"14,147"}},{"$f":"SUM(J239:J241)","v":124},107,138,132,149,146,225,263,210,212,204,205,217,244,209,260,221,233,235,250,{"v":1133,"d":"1,133"},{"v":1351,"d":"1,351"},{"v":1346,"d":"1,346"},{"v":1210,"d":"1,210"},{"v":1066,"d":"1,066"},836,701,714,603,412,322,202,141,126,9,61,63,131,{"v":7293,"d":"7,293"},566,631,{"v":3624,"d":"3,624"},{"$f":"SUM(AZ239:AZ241)","v":256},null,null,{"$f":"SUM(BC239:BC241)","v":{"v":14147,"d":"14,147"}},{"$f":"SUM(BD239:BD241)","v":{"v":2115,"d":"2,115"}},{"v":1384,"d":"1,384"},{"v":2969,"d":"2,969"},{"v":5873,"d":"5,873"},{"v":1806,"d":"1,806"}]
["040126","AREQUIPA","AREQUIPA","AREQUIPA","VITOR",1324,"CENTRO DE SALUD VITOR",80,{"v":4351,"d":"4,351"},33,28,39,29,30,29,48,70,56,58,50,54,58,78,62,78,74,82,78,74,336,371,347,335,307,266,245,263,231,188,140,84,66,65,2,17,16,34,{"v":2256,"d":"2,256"},166,208,{"v":1046,"d":"1,046"},81,null,null,{"v":4351,"d":"4,351"},523,430,860,{"v":1763,"d":"1,763"},774]
[{"$nulls":5},1334,"PUESTO DE SALUD YURAMAYO",20,{"v":1088,"d":"1,088"},8,7,10,7,8,7,12,17,14,15,12,13,14,19,15,19,18,21,20,19,84,93,87,84,77,66,61,66,58,47,35,21,17,16,1,4,4,9,564,41,52,261,20,null,null,{"v":1088,"d":"1,088"},131,108,215,441,194]
["040122","AREQUIPA","AREQUIPA","AREQUIPA","SANTA RITA DE SIGUAS",1335,"CENTRO  DE SALUD SANTA RITA DE SIGUAS",100,{"v":8708,"d":"8,708"},83,72,89,96,111,110,165,176,140,139,142,138,145,147,132,163,129,130,137,157,713,887,912,791,682,504,395,385,314,177,147,97,58,45,6,40,43,88,{"v":4473,"d":"4,473"},359,371,{"v":2317,"d":"2,317"},155,null,null,{"v":8708,"d":"8,708"},{"v":1461,"d":"1,461"},846,{"v":1894,"d":"1,894"},{"v":3669,"d":"3,669"},838]
[]
["FUENTE: BOLETIN DEMOGRAFICO Nº 25, 26, 39 / RENIEC / Padrón Nominal/ CNV"]
["La población de 0-5 años corresponden al reporte de la poblacion del Padrón Nominal con corte al 31/12/2025"]
["OFICINA DE GESTION DE LA INFORMACION - MINISTERIO DE SALUD"]

{"sheet":"Pob x Genero","index":5,"n_rows":1905,"n_cols":133,"rows_kept":562,"cut":true,"merged":[[5,6,6,6],[5,41,5,43],[5,44,6,44],[5,45,6,45],[5,80,5,82],[5,83,6,83],[5,84,6,84]],"bounds":{"rows_first":250,"rows_last":62,"rows_between":250,"halvings":3}}
[]
[]
[]
["POBLACION ESTIMADA POR EDADES SIMPLES, GRUPOS DE EDAD y GÉNERO, SEGÚN DEPARTAMENTO, PROVINCIA Y DISTRITO. 2026"]
["* Actualizado con datos INEI y el Padrón Nominal"]
["POBLACION 2026",{"$nulls":5},"Total Hombres","HOMBRES",{"$nulls":19},"POBLACIÓN TOTAL,  POR GRUPOS QUINQUEN ALES DE EDAD",{"$nulls":13},"EDADES ESPECIALES",null,null,"NACIMIENTOS VIVOS","Total Mujeres","MUJERES",{"$nulls":19},"POBLACIÓN TOTAL,  POR GRUPOS QUINQUEN ALES DE EDAD",{"$nulls":13},"EDADES ESPECIALES",null,null,"NACIMIENTOS VIVOS","GESTANTES  ESPERADAS",null,null,"Hombre",{"$nulls":4},"Mujer",{"$nulls":4},"Hombre",{"$nulls":17},"Mujer"]
["UBIGEO","DIRESA","DEPARTAMENTO","PROVINCIA","DISTRITO","TOTAL",null,"0",1,2,3,4,5,6,7,8,9,10,11,12,13,14,15,16,17,18,19,"20-24","25-29","30-34","35-39","40-44","45-49","50-54","55-59","60-64","65-69","70-74","75-79","80-84","85-+","28 DIAS","0-5 MESES","6-11 MESES",null,null,"0",1,2,3,4,5,6,7,8,9,10,11,12,13,14,15,16,17,18,19,"20-24","25-29","30-34","35-39","40-44","45-49","50-54","55-59","60-64","65-69","70-74","75-79","80-84","85-+","28 DIAS","0-5 MESES","6-11 MESES",null,null,"A","B","NIÑO","Adolescente","Joven","Adulto","Adulto Mayor","NIÑO","Adolescente","Joven","Adulto","Adulto Mayor","00-04","05-09","10-14","15-19","20-24","25-29","30-34","35-39","40-44","45-49","50-54","55-59","60-64","65-69","70-74","75-79","80-84","85-+","00-04","05-09","10-14","15-19","20-24","25-29","30-34","35-39","40-44","45-49","50-54","55-59","60-64","65-69","70-74","75-79","80-84","85-+"]
["000000","PERU","PERU","PERU","PERU",{"v":34644046,"d":"34,644,046"},{"v":17153497,"d":"17,153,497"},{"v":198851,"d":"198,851"},{"v":207576,"d":"207,576"},{"v":227875,"d":"227,875"},{"v":248204,"d":"248,204"},{"v":255221,"d":"255,221"},{"v":267758,"d":"267,758"},{"v":291593,"d":"291,593"},{"v":299872,"d":"299,872"},{"v":297821,"d":"297,821"},{"v":276927,"d":"276,927"},{"v":269970,"d":"269,970"},{"v":268984,"d":"268,984"},{"v":273685,"d":"273,685"},{"v":271871,"d":"271,871"},{"v":279753,"d":"279,753"},{"v":285975,"d":"285,975"},{"v":294148,"d":"294,148"},{"v":287808,"d":"287,808"},{"v":274257,"d":"274,257"},{"v":264259,"d":"264,259"},{"v":1230361,"d":"1,230,361"},{"v":1283576,"d":"1,283,576"},{"v":1348762,"d":"1,348,762"},{"v":1327391,"d":"1,327,391"},{"v":1247949,"d":"1,247,949"},{"v":1149641,"d":"1,149,641"},{"v":959442,"d":"959,442"},{"v":864269,"d":"864,269"},{"v":741261,"d":"741,261"},{"v":564863,"d":"564,863"},{"v":442508,"d":"442,508"},{"v":311479,"d":"311,479"},{"v":182609,"d":"182,609"},{"v":156978,"d":"156,978"},{"v":14072,"d":"14,072"},{"v":96604,"d":"96,604"},{"v":138066,"d":"138,066"},{"v":210721,"d":"210,721"},{"v":17490549,"d":"17,490,549"},{"v":190830,"d":"190,830"},{"v":199338,"d":"199,338"},{"v":220195,"d":"220,195"},{"v":239607,"d":"239,607"},{"v":246228,"d":"246,228"},{"v":258236,"d":"258,236"},{"v":282329,"d":"282,329"},{"v":289835,"d":"289,835"},{"v":281105,"d":"281,105"},{"v":267825,"d":"267,825"},{"v":263360,"d":"263,360"},{"v":264744,"d":"264,744"},{"v":269377,"d":"269,377"},{"v":267562,"d":"267,562"},{"v":263497,"d":"263,497"},{"v":282529,"d":"282,529"},{"v":290416,"d":"290,416"},{"v":284595,"d":"284,595"},{"v":272707,"d":"272,707"},{"v":264038,"d":"264,038"},{"v":1275517,"d":"1,275,517"},{"v":1447731,"d":"1,447,731"},{"v":1400835,"d":"1,400,835"},{"v":1285839,"d":"1,285,839"},{"v":1226827,"d":"1,226,827"},{"v":1111493,"d":"1,111,493"},{"v":985968,"d":"985,968"},{"v":884902,"d":"884,902"},{"v":757552,"d":"757,552"},{"v":614940,"d":"614,940"},{"v":499897,"d":"499,897"},{"v":347041,"d":"347,041"},{"v":226151,"d":"226,151"},{"v":227503,"d":"227,503"},{"v":13722,"d":"13,722"},{"v":92901,"d":"92,901"},{"v":97929,"d":"97,929"},{"v":202234,"d":"202,234"},{"v":713948,"d":"713,948"},null,null,{"v":3110652,"d":"3,110,652"},{"v":1693240,"d":"1,693,240"},{"v":3052453,"d":"3,052,453"},{"v":6897454,"d":"6,897,454"},{"v":2399698,"d":"2,399,698"},{"v":3003632,"d":"3,003,632"},{"v":1657976,"d":"1,657,976"},{"v":3259993,"d":"3,259,993"},{"v":6895864,"d":"6,895,864"},{"v":2673084,"d":"2,673,084"},{"v":1137727,"d":"1,137,727"},{"v":1433971,"d":"1,433,971"},{"v":1364263,"d":"1,364,263"},{"v":1406447,"d":"1,406,447"},{"v":1230361,"d":"1,230,361"},{"v":1283576,"d":"1,283,576"},{"v":1348762,"d":"1,348,762"},{"v":1327391,"d":"1,327,391"},{"v":1247949,"d":"1,247,949"},{"v":1149641,"d":"1,149,641"},{"v":959442,"d":"959,442"},{"v":864269,"d":"864,269"},{"v":741261,"d":"741,261"},{"v":564863,"d":"564,863"},{"v":442508,"d":"442,508"},{"v":311479,"d":"311,479"},{"v":182609,"d":"182,609"},{"v":156978,"d":"156,978"},{"v":1096198,"d":"1,096,198"},{"v":1379330,"d":"1,379,330"},{"v":1328540,"d":"1,328,540"},{"v":1394285,"d":"1,394,285"},{"v":1275517,"d":"1,275,517"},{"v":1447731,"d":"1,447,731"},{"v":1400835,"d":"1,400,835"},{"v":1285839,"d":"1,285,839"},{"v":1226827,"d":"1,226,827"},{"v":1111493,"d":"1,111,493"},{"v":985968,"d":"985,968"},{"v":884902,"d":"884,902"},{"v":757552,"d":"757,552"},{"v":614940,"d":"614,940"},{"v":499897,"d":"499,897"},{"v":347041,"d":"347,041"},{"v":226151,"d":"226,151"},{"v":227503,"d":"227,503"}]
["010101","AMAZONAS","AMAZONAS","CHACHAPOYAS","CHACHAPOYAS",{"v":40852,"d":"40,852"},{"v":21906,"d":"21,906"},270,252,231,256,306,310,460,509,490,426,443,420,412,424,419,362,418,403,448,360,{"v":1551,"d":"1,551"},{"v":1735,"d":"1,735"},{"v":1903,"d":"1,903"},{"v":1895,"d":"1,895"},{"v":1573,"d":"1,573"},{"v":1426,"d":"1,426"},{"v":1105,"d":"1,105"},923,779,534,380,260,130,93,23,125,145,286,{"v":18946,"d":"18,946"},238,252,210,249,269,295,405,351,416,332,334,317,311,320,289,334,312,320,310,329,{"v":1244,"d":"1,244"},{"v":1536,"d":"1,536"},{"v":1600,"d":"1,600"},{"v":1751,"d":"1,751"},{"v":1431,"d":"1,431"},{"v":1185,"d":"1,185"},943,876,710,477,412,287,135,166,12,105,133,252,717,null,null,{"v":4373,"d":"4,373"},{"v":2438,"d":"2,438"},{"v":4094,"d":"4,094"},{"v":8825,"d":"8,825"},{"v":2176,"d":"2,176"},{"v":3668,"d":"3,668"},{"v":1886,"d":"1,886"},{"v":3419,"d":"3,419"},{"v":7786,"d":"7,786"},{"v":2187,"d":"2,187"},{"v":1315,"d":"1,315"},{"v":2195,"d":"2,195"},{"v":2118,"d":"2,118"},{"v":1991,"d":"1,991"},{"v":1551,"d":"1,551"},{"v":1735,"d":"1,735"},{"v":1903,"d":"1,903"},{"v":1895,"d":"1,895"},{"v":1573,"d":"1,573"},{"v":1426,"d":"1,426"},{"v":1105,"d":"1,105"},923,779,534,380,260,130,93,{"v":1218,"d":"1,218"},{"v":1799,"d":"1,799"},{"v":1571,"d":"1,571"},{"v":1605,"d":"1,605"},{"v":1244,"d":"1,244"},{"v":1536,"d":"1,536"},{"v":1600,"d":"1,600"},{"v":1751,"d":"1,751"},{"v":1431,"d":"1,431"},{"v":1185,"d":"1,185"},943,876,710,477,412,287,135,166]
["010102","AMAZONAS","AMAZONAS","CHACHAPOYAS","ASUNCION",279,145,0,0,1,0,1,2,2,1,2,1,0,3,0,3,3,5,1,3,3,1,17,14,4,10,16,20,12,9,3,2,2,4,0,0,0,0,0,0,134,1,1,3,2,1,0,0,1,1,2,0,1,0,1,1,2,2,1,4,0,9,6,6,8,19,10,12,5,7,5,8,8,4,3,0,1,0,1,4,null,null,13,15,35,71,11,13,7,19,60,35,2,8,9,13,17,14,4,10,16,20,12,9,3,2,2,4,0,0,8,4,3,9,9,6,6,8,19,10,12,5,7,5,8,8,4,3]
["010103","AMAZONAS","AMAZONAS","CHACHAPOYAS","BALSAS",{"v":1142,"d":"1,142"},562,10,9,12,11,12,14,6,11,5,5,5,9,11,11,11,10,19,10,6,10,40,31,40,48,37,37,34,29,28,16,12,8,2,3,0,4,6,11,580,4,11,11,8,12,14,8,8,7,14,7,11,14,14,12,15,16,15,7,14,47,41,38,44,37,29,32,29,18,20,11,7,1,4,0,1,3,4,18,null,null,109,72,87,225,69,115,86,109,209,61,54,41,47,55,40,31,40,48,37,37,34,29,28,16,12,8,2,3,46,51,58,67,47,41,38,44,37,29,32,29,18,20,11,7,1,4]
["010104","AMAZONAS","AMAZONAS","CHACHAPOYAS","CHETO",721,368,2,4,7,4,3,5,4,6,5,5,5,5,5,5,5,4,8,10,5,6,26,28,29,28,24,30,26,23,22,13,5,5,3,3,0,1,1,2,353,6,2,2,4,0,3,5,3,4,1,6,6,6,6,5,5,5,11,4,7,27,28,22,44,30,27,18,17,14,13,7,6,3,6,1,2,4,6,13,null,null,55,37,65,160,51,42,38,66,158,49,20,25,25,33,26,28,29,28,24,30,26,23,22,13,5,5,3,3,14,16,29,32,27,28,22,44,30,27,18,17,14,13,7,6,3,6]
["010105","AMAZONAS","AMAZONAS","CHACHAPOYAS","CHILIQUIN",603,304,4,1,3,8,7,8,3,5,6,3,4,4,3,3,4,4,2,6,6,4,20,30,24,26,24,25,21,15,8,11,3,5,3,1,0,2,2,4,299,3,5,2,6,7,5,3,4,2,3,4,4,3,3,3,3,4,3,2,4,29,27,27,28,21,14,17,18,13,9,10,4,6,3,0,1,2,3,11,null,null,56,22,60,135,31,48,19,62,125,45,23,25,18,22,20,30,24,26,24,25,21,15,8,11,3,5,3,1,23,17,17,16,29,27,27,28,21,14,17,18,13,9,10,4,6,3]
["010106","AMAZONAS","AMAZONAS","CHACHAPOYAS","CHUQUIBAMBA",{"v":1960,"d":"1,960"},991,14,13,17,20,36,20,12,18,17,20,16,16,15,18,24,22,18,25,21,21,77,55,61,71,74,63,53,34,42,30,22,11,8,7,0,8,6,15,969,12,20,20,16,29,28,13,17,8,24,16,16,15,18,21,20,18,23,19,19,78,64,60,70,69,53,37,38,40,21,29,12,12,14,0,5,7,13,41,null,null,219,122,174,356,120,219,115,180,327,128,100,87,89,107,77,55,61,71,74,63,53,34,42,30,22,11,8,7,97,90,86,99,78,64,60,70,69,53,37,38,40,21,29,12,12,14]
["010107","AMAZONAS","AMAZONAS","CHACHAPOYAS","GRANADA",550,293,2,2,1,4,1,4,4,1,2,4,4,4,4,7,3,4,2,4,1,11,20,27,22,37,36,20,15,16,19,3,3,3,1,2,1,2,0,2,257,1,0,1,2,3,3,2,3,1,3,5,5,5,9,4,6,3,6,7,6,18,22,22,24,15,26,13,7,12,6,4,6,3,4,0,0,1,1,5,null,null,33,24,59,146,31,29,33,53,107,35,10,15,22,22,20,27,22,37,36,20,15,16,19,3,3,3,1,2,7,12,28,28,18,22,22,24,15,26,13,7,12,6,4,6,3,4]
["010108","AMAZONAS","AMAZONAS","CHACHAPOYAS","HUANCAS",{"v":1494,"d":"1,494"},833,1,3,5,5,5,21,3,7,10,6,14,6,8,24,0,11,11,14,7,18,36,67,33,109,90,66,53,70,60,20,20,21,3,6,0,1,0,1,661,1,5,2,6,1,6,15,7,4,3,7,3,4,12,0,3,7,7,7,11,37,43,56,73,71,43,37,45,46,32,35,12,14,6,0,0,1,1,4,null,null,86,68,128,421,130,60,33,98,325,145,19,47,52,61,36,67,33,109,90,66,53,70,60,20,20,21,3,6,15,35,26,35,37,43,56,73,71,43,37,45,46,32,35,12,14,6]
["010109","AMAZONAS","AMAZONAS","CHACHAPOYAS","LA JALCA",{"v":3803,"d":"3,803"},{"v":1949,"d":"1,949"},33,43,50,50,48,45,33,31,42,37,39,36,44,43,46,44,47,41,49,36,182,142,140,145,118,98,72,71,46,37,28,22,6,5,4,15,18,35,{"v":1854,"d":"1,854"},34,48,47,42,46,43,25,37,33,31,38,35,43,42,44,38,38,45,46,42,154,137,124,134,111,98,69,56,52,41,33,26,10,12,3,16,18,36,115,null,null,487,265,409,644,144,459,250,379,592,174,224,188,208,217,182,142,140,145,118,98,72,71,46,37,28,22,6,5,217,169,202,209,154,137,124,134,111,98,69,56,52,41,33,26,10,12]
["010110","AMAZONAS","AMAZONAS","CHACHAPOYAS","LEIMEBAMBA",{"v":3744,"d":"3,744"},{"v":1948,"d":"1,948"},22,25,26,19,23,29,30,37,23,30,31,32,32,33,58,43,39,47,28,39,159,109,105,145,170,153,112,83,89,63,55,33,15,11,4,13,9,23,{"v":1796,"d":"1,796"},21,21,21,31,29,33,26,24,31,25,28,29,29,30,44,26,38,44,44,39,122,93,131,163,121,109,105,87,64,61,44,39,22,22,1,11,10,22,76,null,null,327,252,335,768,266,319,211,298,716,252,115,149,186,196,159,109,105,145,170,153,112,83,89,63,55,33,15,11,123,139,160,191,122,93,131,163,121,109,105,87,64,61,44,39,22,22]
["010111","AMAZONAS","AMAZONAS","CHACHAPOYAS","LEVANTO",817,411,7,5,1,3,4,6,4,4,6,7,5,5,4,3,4,5,14,7,6,8,26,38,30,44,33,37,25,21,15,17,4,7,3,3,0,4,3,7,406,5,7,3,3,2,3,5,2,8,4,8,8,6,4,7,7,8,4,4,6,28,33,27,46,43,24,20,23,13,16,8,7,7,7,0,3,2,5,15,null,null,57,37,78,190,49,58,36,71,183,58,20,27,21,40,26,38,30,44,33,37,25,21,15,17,4,7,3,3,20,22,33,29,28,33,27,46,43,24,20,23,13,16,8,7,7,7]
["010112","AMAZONAS","AMAZONAS","CHACHAPOYAS","MAGDALENA",889,459,7,3,4,7,7,8,4,3,6,7,5,7,4,4,9,9,8,18,12,5,45,35,39,26,29,32,23,32,21,16,9,5,5,5,1,4,3,7,430,5,5,9,4,5,8,2,9,4,5,6,8,5,5,8,7,6,11,8,8,25,45,27,35,25,33,20,25,19,11,9,9,9,10,1,2,3,5,27,null,null,68,52,97,181,61,70,42,86,165,67,28,28,29,52,45,35,39,26,29,32,23,32,21,16,9,5,5,5,28,28,32,40,25,45,27,35,25,33,20,25,19,11,9,9,9,10]
["010113","AMAZONAS","AMAZONAS","CHACHAPOYAS","MARISCAL CASTILLA",{"v":1563,"d":"1,563"},802,1,2,4,5,3,3,12,3,19,18,10,24,8,12,16,14,13,17,16,12,47,72,50,67,60,48,62,54,32,53,19,14,7,5,0,1,0,1,761,4,4,5,3,5,5,9,9,9,11,8,18,6,9,11,11,14,11,36,9,57,51,39,63,37,48,47,54,62,30,30,23,7,16,0,2,2,4,6,null,null,104,80,147,341,130,90,62,153,288,168,15,55,70,72,47,72,50,67,60,48,62,54,32,53,19,14,7,5,21,43,52,81,57,51,39,63,37,48,47,54,62,30,30,23,7,16]
["010114","AMAZONAS","AMAZONAS","CHACHAPOYAS","MOLINOPAMPA",{"v":2263,"d":"2,263"},{"v":1209,"d":"1,209"},9,8,14,19,21,33,13,17,21,22,22,17,18,21,25,23,21,29,23,24,82,88,91,95,98,82,69,81,47,22,28,14,8,4,2,7,2,10,{"v":1054,"d":"1,054"},7,11,9,11,12,31,10,15,15,8,21,16,17,20,21,20,35,23,15,19,78,73,74,82,87,78,62,53,39,30,19,21,11,11,2,4,3,7,47,null,null,216,137,217,516,123,166,136,185,436,131,71,106,103,120,82,88,91,95,98,82,69,81,47,22,28,14,8,4,50,79,95,112,78,73,74,82,87,78,62,53,39,30,19,21,11,11]
["010115","AMAZONAS","AMAZONAS","CHACHAPOYAS","MONTEVIDEO",504,260,2,2,2,4,0,2,1,1,2,0,4,3,1,6,9,3,6,4,3,4,19,21,20,22,23,25,18,17,8,12,8,4,2,2,0,1,1,2,244,1,2,2,4,2,7,1,1,2,4,3,2,1,4,5,9,4,2,6,3,13,19,23,22,15,13,15,11,18,9,7,5,3,6,0,0,1,1,5,null,null,23,29,47,125,36,31,25,41,99,48,10,6,23,20,19,21,20,22,23,25,18,17,8,12,8,4,2,2,11,15,15,24,13,19,23,22,15,13,15,11,18,9,7,5,3,6]
["010116","AMAZONAS","AMAZONAS","CHACHAPOYAS","OLLEROS",470,249,1,0,2,4,0,1,5,8,4,0,1,3,2,3,0,1,3,5,1,5,20,16,25,24,27,19,20,14,14,11,3,7,0,0,0,0,1,1,221,1,0,2,3,1,1,2,3,3,4,1,5,3,5,2,5,4,2,1,6,20,25,14,22,12,20,8,11,9,6,7,5,5,3,0,0,1,1,4,null,null,29,14,42,129,35,26,21,52,87,35,7,18,9,15,20,16,25,24,27,19,20,14,14,11,3,7,0,0,7,13,16,18,20,25,14,22,12,20,8,11,9,6,7,5,5,3]
["010117","AMAZONAS","AMAZONAS","CHACHAPOYAS","QUINJALCA",803,436,4,4,2,4,1,4,8,4,3,0,6,9,7,6,4,4,1,11,8,5,34,45,48,39,51,30,22,26,13,13,7,9,2,2,0,2,2,4,367,3,5,2,5,3,5,5,3,6,0,5,8,6,5,3,4,6,6,5,7,18,29,30,33,32,23,18,21,21,15,14,8,6,7,0,1,2,3,11,null,null,49,33,92,216,46,50,30,59,157,71,15,19,32,29,34,45,48,39,51,30,22,26,13,13,7,9,2,2,18,19,27,28,18,29,30,33,32,23,18,21,21,15,14,8,6,7]
["010118","AMAZONAS","AMAZONAS","CHACHAPOYAS","SAN FRANCISCO DE DAGUAS",324,175,3,1,0,1,1,3,2,0,0,1,2,3,1,0,2,0,1,4,5,1,14,10,13,19,14,12,14,13,13,12,4,3,2,1,0,3,0,3,149,0,0,2,1,1,0,1,3,2,1,2,3,1,0,3,4,1,1,2,0,7,9,6,13,15,14,9,8,14,8,4,7,5,2,0,0,0,0,5,null,null,17,8,30,85,35,16,10,18,65,40,6,6,8,11,14,10,13,19,14,12,14,13,13,12,4,3,2,1,4,7,9,8,7,9,6,13,15,14,9,8,14,8,4,7,5,2]
["010119","AMAZONAS","AMAZONAS","CHACHAPOYAS","SAN ISIDRO DE MAINO",607,298,0,0,6,3,3,3,5,6,2,5,6,6,5,6,4,7,7,3,8,7,19,24,22,29,22,23,17,15,12,7,7,4,3,2,0,0,0,0,309,5,5,5,1,4,7,2,4,2,2,5,5,4,5,2,2,6,6,5,3,15,21,30,34,26,22,13,22,15,8,7,7,4,5,1,4,1,5,7,null,null,45,32,58,128,35,47,25,44,147,46,12,21,27,32,19,24,22,29,22,23,17,15,12,7,7,4,3,2,20,17,21,22,15,21,30,34,26,22,13,22,15,8,7,7,4,5]
["010120","AMAZONAS","AMAZONAS","CHACHAPOYAS","SOLOCO",{"v":1273,"d":"1,273"},639,2,6,9,9,5,10,11,8,8,7,7,17,11,9,8,10,13,11,9,12,47,49,56,70,40,31,41,41,33,22,9,8,6,4,0,1,1,2,634,6,6,8,5,12,9,6,8,6,5,6,14,9,7,4,4,12,8,8,10,44,49,57,51,53,33,40,39,20,24,28,22,9,12,0,3,3,6,27,null,null,99,62,117,279,82,91,44,111,273,115,31,44,52,55,47,49,56,70,40,31,41,41,33,22,9,8,6,4,37,34,40,42,44,49,57,51,53,33,40,39,20,24,28,22,9,12]
["010121","AMAZONAS","AMAZONAS","CHACHAPOYAS","SONCHE",287,148,0,1,1,2,3,3,0,1,3,1,3,1,2,1,1,1,2,4,1,2,10,9,11,20,10,19,12,7,4,6,4,1,1,1,0,0,0,0,139,3,2,2,1,4,1,3,3,2,2,3,1,2,1,1,0,3,2,3,1,12,13,13,11,11,9,7,6,4,6,3,2,1,1,0,1,2,3,9,null,null,19,11,22,79,17,27,9,29,57,17,7,8,8,10,10,9,11,20,10,19,12,7,4,6,4,1,1,1,12,11,8,9,12,13,13,11,11,9,7,6,4,6,3,2,1,1]
["010201","AMAZONAS","AMAZONAS","BAGUA","BAGUA",{"v":30477,"d":"30,477"},{"v":15905,"d":"15,905"},201,200,243,293,255,287,315,288,356,279,318,281,305,280,329,313,321,319,290,271,{"v":1269,"d":"1,269"},{"v":1288,"d":"1,288"},{"v":1133,"d":"1,133"},{"v":1178,"d":"1,178"},{"v":1060,"d":"1,060"},{"v":1058,"d":"1,058"},830,764,591,416,298,155,68,53,10,98,103,213,{"v":14572,"d":"14,572"},199,213,245,215,254,270,260,254,245,286,266,234,254,233,252,284,264,283,248,217,{"v":1117,"d":"1,117"},{"v":1230,"d":"1,230"},{"v":1186,"d":"1,186"},{"v":1301,"d":"1,301"},{"v":1007,"d":"1,007"},928,750,666,551,351,240,149,61,59,11,106,93,211,646,null,null,{"v":3316,"d":"3,316"},{"v":1867,"d":"1,867"},{"v":3118,"d":"3,118"},{"v":6023,"d":"6,023"},{"v":1581,"d":"1,581"},{"v":2941,"d":"2,941"},{"v":1570,"d":"1,570"},{"v":2812,"d":"2,812"},{"v":5838,"d":"5,838"},{"v":1411,"d":"1,411"},{"v":1192,"d":"1,192"},{"v":1525,"d":"1,525"},{"v":1513,"d":"1,513"},{"v":1514,"d":"1,514"},{"v":1269,"d":"1,269"},{"v":1288,"d":"1,288"},{"v":1133,"d":"1,133"},{"v":1178,"d":"1,178"},{"v":1060,"d":"1,060"},{"v":1058,"d":"1,058"},830,764,591,416,298,155,68,53,{"v":1126,"d":"1,126"},{"v":1315,"d":"1,315"},{"v":1239,"d":"1,239"},{"v":1296,"d":"1,296"},{"v":1117,"d":"1,117"},{"v":1230,"d":"1,230"},{"v":1186,"d":"1,186"},{"v":1301,"d":"1,301"},{"v":1007,"d":"1,007"},928,750,666,551,351,240,149,61,59]
["010202","AMAZONAS","AMAZONAS","BAGUA","ARAMANGO",{"v":9881,"d":"9,881"},{"v":4942,"d":"4,942"},78,83,116,99,113,105,75,82,92,80,91,88,86,95,100,91,105,114,98,83,382,361,389,394,333,296,247,222,166,114,76,43,27,18,10,36,42,83,{"v":4939,"d":"4,939"},85,95,76,106,112,98,104,82,85,87,100,96,94,104,100,111,97,91,91,95,431,401,344,386,336,280,241,181,139,99,77,58,35,22,2,40,45,90,335,null,null,{"v":1102,"d":"1,102"},591,924,{"v":1881,"d":"1,881"},444,{"v":1126,"d":"1,126"},597,{"v":1018,"d":"1,018"},{"v":1768,"d":"1,768"},430,489,434,460,491,382,361,389,394,333,296,247,222,166,114,76,43,27,18,474,456,494,485,431,401,344,386,336,280,241,181,139,99,77,58,35,22]
["010203","AMAZONAS","AMAZONAS","BAGUA","COPALLIN",{"v":4512,"d":"4,512"},{"v":2288,"d":"2,288"},30,28,31,39,45,33,34,30,31,28,39,52,36,33,34,47,45,37,31,25,146,141,156,202,209,187,123,109,94,80,68,38,15,12,5,17,13,32,{"v":2224,"d":"2,224"},29,23,23,36,39,36,30,26,35,30,39,51,36,33,31,47,35,53,39,33,162,133,169,220,176,163,105,104,84,79,54,39,16,16,4,16,13,31,93,null,null,420,232,343,986,307,397,235,367,937,288,173,156,194,185,146,141,156,202,209,187,123,109,94,80,68,38,15,12,150,157,190,207,162,133,169,220,176,163,105,104,84,79,54,39,16,16]
["010204","AMAZONAS","AMAZONAS","BAGUA","EL PARCO",{"v":1333,"d":"1,333"},684,9,9,13,13,16,5,8,14,9,15,8,11,9,11,5,13,18,13,6,9,34,39,52,60,54,54,41,44,29,17,21,16,5,4,1,3,6,10,649,4,10,12,19,17,13,8,8,8,6,8,11,9,11,5,8,9,4,15,10,48,55,54,64,55,42,23,28,31,19,13,12,5,5,0,1,3,4,44,null,null,130,69,88,305,92,124,46,128,266,85,60,51,44,59,34,39,52,60,54,54,41,44,29,17,21,16,5,4,62,43,44,46,48,55,54,64,55,42,23,28,31,19,13,12,5,5]
["010205","AMAZONAS","AMAZONAS","BAGUA","IMAZA",{"v":35279,"d":"35,279"},{"v":17920,"d":"17,920"},672,627,795,817,871,799,412,413,406,387,432,452,431,408,495,376,387,410,373,350,{"v":1412,"d":"1,412"},{"v":1077,"d":"1,077"},996,981,769,732,483,332,294,238,123,109,34,27,24,296,376,712,{"v":17359,"d":"17,359"},651,655,767,833,862,805,415,421,437,416,425,444,424,401,447,403,405,375,365,351,{"v":1386,"d":"1,386"},{"v":1125,"d":"1,125"},952,970,730,587,376,257,200,226,133,58,31,26,21,328,323,690,{"v":1646,"d":"1,646"},null,null,{"v":7083,"d":"7,083"},{"v":2507,"d":"2,507"},{"v":3212,"d":"3,212"},{"v":4293,"d":"4,293"},825,{"v":7131,"d":"7,131"},{"v":2455,"d":"2,455"},{"v":3227,"d":"3,227"},{"v":3872,"d":"3,872"},674,{"v":3782,"d":"3,782"},{"v":2417,"d":"2,417"},{"v":2218,"d":"2,218"},{"v":1896,"d":"1,896"},{"v":1412,"d":"1,412"},{"v":1077,"d":"1,077"},996,981,769,732,483,332,294,238,123,109,34,27,{"v":3768,"d":"3,768"},{"v":2494,"d":"2,494"},{"v":2141,"d":"2,141"},{"v":1899,"d":"1,899"},{"v":1386,"d":"1,386"},{"v":1125,"d":"1,125"},952,970,730,587,376,257,200,226,133,58,31,26]
["010206","AMAZONAS","AMAZONAS","BAGUA","LA PECA",{"v":6358,"d":"6,358"},{"v":3147,"d":"3,147"},34,31,37,49,52,56,36,39,36,43,40,50,50,54,61,59,67,70,48,38,212,223,228,311,246,202,172,182,135,102,89,43,26,26,1,20,14,36,{"v":3211,"d":"3,211"},27,36,47,48,53,61,53,35,41,33,43,53,54,58,62,62,50,65,54,42,251,222,243,280,235,206,164,171,142,102,79,57,38,44,1,8,19,29,194,null,null,503,361,521,{"v":1341,"d":"1,341"},421,530,351,569,{"v":1299,"d":"1,299"},462,203,210,255,282,212,223,228,311,246,202,172,182,135,102,89,43,26,26,211,223,270,273,251,222,243,280,235,206,164,171,142,102,79,57,38,44]
["010301","AMAZONAS","AMAZONAS","BONGARA","JUMBILLA",{"v":1234,"d":"1,234"},652,8,8,11,5,9,11,18,8,6,7,11,14,13,24,16,15,14,11,12,11,64,40,29,37,44,38,31,38,43,23,10,16,4,3,1,2,6,8,582,4,4,9,7,5,9,3,9,12,28,6,8,7,13,8,11,13,8,15,8,44,53,37,28,35,41,27,28,30,16,22,16,9,9,0,2,2,4,36,null,null,116,93,127,217,99,104,60,120,196,102,41,50,78,63,64,40,29,37,44,38,31,38,43,23,10,16,4,3,29,61,42,55,44,53,37,28,35,41,27,28,30,16,22,16,9,9]
["010302","AMAZONAS","AMAZONAS","BONGARA","CHISQUILLA",314,148,0,0,1,6,3,5,3,2,3,3,0,2,4,2,5,2,2,1,2,3,7,10,15,10,11,12,7,6,7,8,4,1,1,0,0,0,0,0,166,9,2,4,2,2,7,1,3,1,3,0,1,2,1,3,1,1,1,2,0,12,17,15,11,16,12,10,8,4,3,7,2,2,1,0,3,6,10,17,null,null,28,16,22,61,21,35,9,31,72,19,10,16,13,10,7,10,15,10,11,12,7,6,7,8,4,1,1,0,19,15,7,5,12,17,15,11,16,12,10,8,4,3,7,2,2,1]
["010303","AMAZONAS","AMAZONAS","BONGARA","CHURUJA",274,144,1,2,3,1,5,2,1,1,1,2,1,1,1,1,0,1,3,3,1,1,10,12,10,12,9,12,15,9,7,7,4,2,1,2,0,0,1,1,130,3,0,2,3,2,3,1,2,1,0,1,2,1,2,2,1,1,3,1,1,5,11,8,13,11,9,7,11,5,3,5,4,3,3,0,2,1,3,6,null,null,21,9,24,67,23,20,10,18,59,23,12,7,4,9,10,12,10,12,9,12,15,9,7,7,4,2,1,2,10,7,8,7,5,11,8,13,11,9,7,11,5,3,5,4,3,3]
["010304","AMAZONAS","AMAZONAS","BONGARA","COROSHA",814,417,3,7,3,9,6,6,10,11,7,8,12,5,4,5,3,9,10,10,14,9,30,31,35,30,33,35,19,15,15,10,6,1,3,3,0,1,2,3,397,4,2,2,8,8,13,9,6,9,13,12,5,4,5,4,9,13,6,8,6,34,29,33,40,27,23,17,15,13,7,5,4,3,1,0,2,2,4,22,null,null,87,41,84,167,38,91,41,77,155,33,28,42,29,52,30,31,35,30,33,35,19,15,15,10,6,1,3,3,24,50,30,42,34,29,33,40,27,23,17,15,13,7,5,4,3,1]
["010305","AMAZONAS","AMAZONAS","BONGARA","CUISPES",665,344,8,2,5,5,4,5,4,5,2,3,4,5,3,6,8,7,3,5,3,10,21,28,30,28,36,25,23,22,17,7,3,4,2,1,0,4,4,8,321,3,3,1,5,4,11,5,5,3,4,4,5,3,6,9,6,8,6,6,12,18,21,22,28,21,16,16,17,14,10,11,7,5,6,2,2,1,3,19,null,null,52,32,62,164,34,53,38,57,120,53,24,19,26,28,21,28,30,28,36,25,23,22,17,7,3,4,2,1,16,28,27,38,18,21,22,28,21,16,16,17,14,10,11,7,5,6]
["010306","AMAZONAS","AMAZONAS","BONGARA","FLORIDA",{"v":6240,"d":"6,240"},{"v":3265,"d":"3,265"},35,46,44,43,35,60,37,52,62,62,63,67,65,65,66,77,54,76,70,70,273,248,243,234,231,235,169,152,115,82,65,37,20,12,1,17,18,37,{"v":2975,"d":"2,975"},30,40,28,55,44,64,56,49,33,55,53,57,55,55,55,53,59,63,57,60,250,228,222,230,229,197,170,112,100,84,43,43,20,26,1,12,18,32,111,null,null,606,403,661,{"v":1264,"d":"1,264"},331,564,340,595,{"v":1160,"d":"1,160"},316,203,273,326,347,273,248,243,234,231,235,169,152,115,82,65,37,20,12,197,257,275,292,250,228,222,230,229,197,170,112,100,84,43,43,20,26]
["010307","AMAZONAS","AMAZONAS","BONGARA","JAZAN",{"v":7548,"d":"7,548"},{"v":3969,"d":"3,969"},33,36,41,58,61,55,49,66,81,81,68,84,73,62,87,63,80,74,97,59,315,323,268,312,251,271,238,186,177,119,85,58,33,25,0,11,22,35,{"v":3579,"d":"3,579"},36,46,51,53,44,59,51,75,52,61,58,72,63,53,69,65,70,61,69,60,274,292,253,279,255,218,172,186,152,119,84,52,32,43,5,17,19,38,150,null,null,713,439,794,{"v":1526,"d":"1,526"},497,658,381,695,{"v":1363,"d":"1,363"},482,229,332,374,373,315,323,268,312,251,271,238,186,177,119,85,58,33,25,230,298,315,325,274,292,253,279,255,218,172,186,152,119,84,52,32,43]
["010308","AMAZONAS","AMAZONAS","BONGARA","RECTA",217,113,1,3,0,0,1,0,2,3,2,2,0,1,2,1,1,2,1,1,0,1,5,11,7,10,14,9,9,9,4,6,2,1,1,1,0,1,0,1,104,1,1,1,2,0,4,1,1,1,0,0,1,2,1,1,1,0,1,2,2,3,7,9,8,10,11,7,7,4,4,2,3,3,3,0,1,0,1,4,null,null,15,8,17,58,15,13,6,14,52,19,5,9,5,5,5,11,7,10,14,9,9,9,4,6,2,1,1,1,5,7,5,6,3,7,9,8,10,11,7,7,4,4,2,3,3,3]
["010309","AMAZONAS","AMAZONAS","BONGARA","SAN CARLOS",589,309,2,3,4,2,1,1,6,0,1,0,2,3,0,2,1,2,3,4,2,4,17,26,22,35,30,31,35,20,17,12,9,7,3,2,0,1,1,2,280,3,0,2,2,2,2,3,2,3,2,3,6,0,3,2,1,1,0,4,2,15,31,27,21,19,28,18,19,19,20,6,5,3,6,1,2,1,3,7,null,null,25,12,49,173,50,30,7,52,132,59,12,8,8,15,17,26,22,35,30,31,35,20,17,12,9,7,3,2,9,12,14,8,15,31,27,21,19,28,18,19,19,20,6,5,3,6]
["010310","AMAZONAS","AMAZONAS","BONGARA","SHIPASBAMBA",{"v":1751,"d":"1,751"},852,5,11,13,10,18,15,7,16,9,10,9,11,10,16,13,13,9,18,7,12,64,62,85,67,78,64,44,44,44,26,23,12,3,4,0,1,4,5,899,10,8,14,16,11,12,14,16,17,13,12,15,14,21,15,17,15,16,12,18,69,75,78,93,63,54,52,31,41,15,21,11,5,5,1,5,5,11,36,null,null,134,79,145,382,112,158,98,174,371,98,57,57,59,59,64,62,85,67,78,64,44,44,44,26,23,12,3,4,59,72,77,78,69,75,78,93,63,54,52,31,41,15,21,11,5,5]
["010311","AMAZONAS","AMAZONAS","BONGARA","VALERA",776,403,7,6,9,5,4,6,4,1,7,7,6,4,5,2,2,8,6,4,5,7,20,30,38,39,36,27,19,28,23,17,11,5,3,2,0,4,3,7,373,5,2,2,9,11,4,2,5,7,3,6,4,5,2,1,5,4,10,7,8,24,30,35,30,24,21,20,26,15,15,11,6,5,9,0,3,2,5,19,null,null,66,27,62,187,61,60,27,69,156,61,31,25,19,30,20,30,38,39,36,27,19,28,23,17,11,5,3,2,29,21,18,34,24,30,35,30,24,21,20,26,15,15,11,6,5,9]
["010312","AMAZONAS","AMAZONAS","BONGARA","YAMBRASBAMBA",{"v":5644,"d":"5,644"},{"v":2938,"d":"2,938"},59,54,41,56,61,46,62,48,49,55,57,56,63,64,74,53,61,50,46,54,207,238,252,241,228,172,135,107,91,74,43,22,11,8,3,24,35,63,{"v":2706,"d":"2,706"},43,44,46,64,60,50,35,56,55,59,49,48,54,55,62,53,66,62,62,40,202,224,246,209,173,153,105,89,91,57,27,37,15,15,4,23,20,46,149,null,null,644,365,545,{"v":1135,"d":"1,135"},249,609,352,528,975,242,271,260,314,264,207,238,252,241,228,172,135,107,91,74,43,22,11,8,257,255,268,283,202,224,246,209,173,153,105,89,91,57,27,37,15,15]
["010401","AMAZONAS","AMAZONAS","CONDORCANQUI","NIEVA",{"v":23569,"d":"23,569"},{"v":12036,"d":"12,036"},630,726,899,860,897,839,244,241,212,203,228,261,261,225,241,236,207,218,200,166,750,563,586,518,411,368,247,191,153,131,72,34,11,7,23,305,325,668,{"v":11533,"d":"11,533"},703,724,855,887,916,816,262,227,207,256,217,249,249,215,212,222,218,208,191,180,696,560,504,491,380,288,159,138,109,98,52,26,11,7,32,328,375,745,{"v":1657,"d":"1,657"},null,null,{"v":6240,"d":"6,240"},{"v":1388,"d":"1,388"},{"v":1679,"d":"1,679"},{"v":2321,"d":"2,321"},408,{"v":6319,"d":"6,319"},{"v":1324,"d":"1,324"},{"v":1627,"d":"1,627"},{"v":1960,"d":"1,960"},303,{"v":4012,"d":"4,012"},{"v":1739,"d":"1,739"},{"v":1216,"d":"1,216"},{"v":1027,"d":"1,027"},750,563,586,518,411,368,247,191,153,131,72,34,11,7,{"v":4085,"d":"4,085"},{"v":1768,"d":"1,768"},{"v":1142,"d":"1,142"},{"v":1019,"d":"1,019"},696,560,504,491,380,288,159,138,109,98,52,26,11,7]
["010402","AMAZONAS","AMAZONAS","CONDORCANQUI","EL CENEPA",{"v":14307,"d":"14,307"},{"v":7266,"d":"7,266"},275,338,384,365,394,307,154,187,177,160,184,190,184,175,166,174,154,148,150,150,564,419,371,376,282,243,147,140,88,118,62,23,12,5,8,129,146,292,{"v":7041,"d":"7,041"},309,322,393,390,433,340,160,159,149,143,174,179,173,165,144,154,161,149,163,157,538,446,362,339,256,215,128,67,57,132,57,17,7,3,11,145,164,328,{"v":1229,"d":"1,229"},null,null,{"v":3115,"d":"3,115"},{"v":1001,"d":"1,001"},{"v":1283,"d":"1,283"},{"v":1559,"d":"1,559"},308,{"v":3151,"d":"3,151"},946,{"v":1304,"d":"1,304"},{"v":1367,"d":"1,367"},273,{"v":1756,"d":"1,756"},985,899,776,564,419,371,376,282,243,147,140,88,118,62,23,12,5,{"v":1847,"d":"1,847"},951,835,784,538,446,362,339,256,215,128,67,57,132,57,17,7,3]
["010403","AMAZONAS","AMAZONAS","CONDORCANQUI","RIO SANTIAGO",{"v":19665,"d":"19,665"},{"v":10081,"d":"10,081"},380,408,483,441,483,415,278,274,265,266,295,249,269,275,254,249,219,239,225,204,776,578,545,511,389,371,224,175,120,125,60,29,4,3,14,178,202,403,{"v":9584,"d":"9,584"},380,414,459,476,473,449,250,251,246,247,277,233,252,257,217,265,194,228,216,187,781,599,484,486,379,287,176,152,89,89,56,22,9,4,12,155,225,403,956,null,null,{"v":4237,"d":"4,237"},{"v":1505,"d":"1,505"},{"v":1783,"d":"1,783"},{"v":2215,"d":"2,215"},341,{"v":4155,"d":"4,155"},{"v":1413,"d":"1,413"},{"v":1783,"d":"1,783"},{"v":1964,"d":"1,964"},269,{"v":2195,"d":"2,195"},{"v":1498,"d":"1,498"},{"v":1342,"d":"1,342"},{"v":1136,"d":"1,136"},776,578,545,511,389,371,224,175,120,125,60,29,4,3,{"v":2202,"d":"2,202"},{"v":1443,"d":"1,443"},{"v":1236,"d":"1,236"},{"v":1090,"d":"1,090"},781,599,484,486,379,287,176,152,89,89,56,22,9,4]
["010501","AMAZONAS","AMAZONAS","LUYA","LAMUD",{"v":2264,"d":"2,264"},{"v":1213,"d":"1,213"},15,10,11,14,14,20,13,21,32,14,16,34,15,29,23,17,27,21,31,24,88,87,71,82,88,60,61,80,62,41,37,24,20,11,1,5,10,16,{"v":1051,"d":"1,051"},7,7,10,11,7,16,11,9,11,14,10,21,9,18,12,14,19,26,17,23,79,75,58,62,72,68,65,74,68,35,38,29,25,31,0,5,2,7,38,null,null,214,132,230,442,195,134,98,194,399,226,64,100,117,120,88,87,71,82,88,60,61,80,62,41,37,24,20,11,42,61,70,99,79,75,58,62,72,68,65,74,68,35,38,29,25,31]
["010502","AMAZONAS","AMAZONAS","LUYA","CAMPORREDONDO",{"v":7793,"d":"7,793"},{"v":4009,"d":"4,009"},54,72,73,70,89,77,89,78,91,77,97,85,76,101,93,90,78,90,71,74,313,236,256,278,286,257,179,172,153,87,69,55,23,20,3,25,29,57,{"v":3784,"d":"3,784"},60,58,60,65,73,68,74,68,116,94,85,75,67,89,76,82,73,98,87,75,287,273,258,326,257,216,150,130,113,84,69,32,17,29,2,25,35,64,170,null,null,952,528,694,{"v":1428,"d":"1,428"},407,896,485,722,{"v":1337,"d":"1,337"},344,358,412,452,403,313,236,256,278,286,257,179,172,153,87,69,55,23,20,316,420,392,415,287,273,258,326,257,216,150,130,113,84,69,32,17,29]
["010503","AMAZONAS","AMAZONAS","LUYA","COCABAMBA",{"v":1954,"d":"1,954"},973,20,15,22,19,23,26,17,25,26,24,23,21,18,18,21,10,24,23,14,25,62,70,73,78,72,39,35,36,34,22,19,10,6,3,0,8,12,21,981,8,20,26,21,20,21,16,22,19,25,28,26,22,22,22,26,16,31,23,16,60,81,62,79,62,38,33,41,27,19,26,10,6,7,0,3,5,8,47,null,null,261,114,171,333,94,252,139,180,315,95,99,118,101,96,62,70,73,78,72,39,35,36,34,22,19,10,6,3,95,103,120,112,60,81,62,79,62,38,33,41,27,19,26,10,6,7]
["010504","AMAZONAS","AMAZONAS","LUYA","COLCAMAR",{"v":1828,"d":"1,828"},959,7,6,12,16,11,7,20,13,13,13,16,10,16,17,16,15,19,10,19,24,72,78,70,93,70,65,57,48,48,34,24,10,6,4,0,2,5,7,869,16,7,11,19,15,12,9,10,13,11,13,8,13,14,12,19,15,15,13,11,67,79,56,63,54,46,41,50,38,39,22,27,17,14,1,9,7,17,41,null,null,144,93,193,403,126,144,88,170,310,157,52,66,75,87,72,78,70,93,70,65,57,48,48,34,24,10,6,4,68,55,60,73,67,79,56,63,54,46,41,50,38,39,22,27,17,14]
["010505","AMAZONAS","AMAZONAS","LUYA","CONILA",{"v":1863,"d":"1,863"},969,10,12,12,13,14,22,16,18,11,16,18,16,16,12,27,14,10,18,11,20,70,75,71,83,68,63,51,42,48,41,25,11,10,5,0,4,6,11,894,5,14,16,16,19,16,18,19,10,12,17,15,15,11,22,14,15,29,15,13,63,74,55,59,71,45,44,44,37,27,27,14,9,14,0,2,3,5,42,null,null,178,97,176,378,140,177,106,165,318,128,61,83,89,73,70,75,71,83,68,63,51,42,48,41,25,11,10,5,70,75,80,86,63,74,55,59,71,45,44,44,37,27,27,14,9,14]
["010506","AMAZONAS","AMAZONAS","LUYA","INGUILPATA",442,234,3,2,2,2,1,5,2,1,2,4,1,1,2,2,2,4,7,5,7,5,15,15,12,17,17,27,10,13,16,12,9,7,2,2,1,2,1,3,208,1,0,1,5,2,2,0,1,2,0,2,1,3,4,3,3,1,4,2,4,6,15,15,18,24,13,10,12,13,11,10,10,3,7,0,1,0,1,6,null,null,26,22,42,96,48,17,18,27,92,54,10,14,8,28,15,15,12,17,17,27,10,13,16,12,9,7,2,2,9,5,13,14,6,15,15,18,24,13,10,12,13,11,10,10,3,7]
["010507","AMAZONAS","AMAZONAS","LUYA","LONGUITA",853,426,5,3,7,8,6,6,5,5,8,11,10,8,13,6,9,8,9,8,8,11,28,28,39,37,39,29,11,15,11,13,11,7,2,2,0,4,1,5,427,6,6,8,6,6,3,8,5,5,5,11,9,14,7,7,9,11,5,9,6,31,42,33,40,21,27,20,14,17,10,11,7,1,7,0,5,1,6,17,null,null,82,53,75,170,46,78,53,88,155,53,29,35,46,44,28,28,39,37,39,29,11,15,11,13,11,7,2,2,32,26,48,40,31,42,33,40,21,27,20,14,17,10,11,7,1,7]
["010508","AMAZONAS","AMAZONAS","LUYA","LONYA CHICO",814,421,6,6,7,6,12,3,5,5,2,3,8,4,6,5,8,9,8,12,6,6,37,34,27,26,29,39,25,22,15,13,13,6,4,4,1,3,3,6,393,4,6,2,7,7,4,7,5,6,0,8,4,6,5,5,5,11,6,5,8,36,29,22,24,36,24,23,19,18,19,11,7,8,6,1,3,1,4,16,null,null,67,48,83,168,55,60,38,78,148,69,37,18,31,41,37,34,27,26,29,39,25,22,15,13,13,6,4,4,26,22,28,35,36,29,22,24,36,24,23,19,18,19,11,7,8,6]
["010509","AMAZONAS","AMAZONAS","LUYA","LUYA",{"v":3936,"d":"3,936"},{"v":2125,"d":"2,125"},30,25,30,33,36,36,17,36,32,33,38,29,32,38,38,39,53,46,39,61,160,186,165,158,141,114,123,94,95,62,52,25,16,13,3,18,12,32,{"v":1811,"d":"1,811"},21,23,31,30,30,30,28,26,26,30,34,26,29,34,29,38,46,50,26,39,124,122,121,133,122,109,88,80,71,60,46,43,24,42,2,12,9,22,84,null,null,375,246,446,795,263,335,226,311,653,286,154,154,175,238,160,186,165,158,141,114,123,94,95,62,52,25,16,13,135,140,152,199,124,122,121,133,122,109,88,80,71,60,46,43,24,42]
["010510","AMAZONAS","AMAZONAS","LUYA","LUYA VIEJO",363,184,0,1,2,8,4,7,4,4,5,1,5,6,2,3,2,5,2,6,4,4,13,13,11,12,14,11,6,11,6,4,2,4,1,1,0,0,0,0,179,1,0,2,0,5,3,2,3,4,4,6,7,2,3,2,4,4,4,4,4,16,15,14,12,12,11,9,4,6,2,3,3,5,3,1,1,0,1,2,null,null,47,20,34,65,18,37,19,39,62,22,15,21,18,21,13,13,11,12,14,11,6,11,6,4,2,4,1,1,8,16,20,20,16,15,14,12,12,11,9,4,6,2,3,3,5,3]
["010511","AMAZONAS","AMAZONAS","LUYA","MARIA",752,379,6,4,7,5,7,4,6,4,1,4,7,9,5,7,5,4,9,11,5,5,29,29,33,37,27,21,19,21,16,14,7,7,1,3,0,1,5,6,373,7,5,5,8,3,3,6,3,4,8,6,8,4,6,4,8,6,7,8,7,29,35,36,27,24,26,18,15,17,7,6,7,3,7,1,4,3,7,23,null,null,64,41,68,158,48,66,35,79,146,47,29,19,33,34,29,29,33,37,27,21,19,21,16,14,7,7,1,3,28,24,28,36,29,35,36,27,24,26,18,15,17,7,6,7,3,7]
["010512","AMAZONAS","AMAZONAS","LUYA","OCALLI",{"v":3895,"d":"3,895"},{"v":1969,"d":"1,969"},22,25,23,26,28,32,28,32,33,42,28,37,29,33,39,38,44,44,29,38,140,148,125,143,151,126,104,93,86,78,60,31,17,17,2,14,8,23,{"v":1926,"d":"1,926"},10,24,33,35,29,26,34,30,36,47,34,44,35,40,42,35,58,43,31,44,143,113,127,144,129,109,93,81,85,58,47,39,22,26,1,6,4,11,73,null,null,356,227,355,742,289,382,253,331,683,277,124,167,166,193,140,148,125,143,151,126,104,93,86,78,60,31,17,17,131,173,195,211,143,113,127,144,129,109,93,81,85,58,47,39,22,26]
["010513","AMAZONAS","AMAZONAS","LUYA","OCUMAL",{"v":3627,"d":"3,627"},{"v":1809,"d":"1,809"},24,32,30,17,26,31,23,33,26,32,31,36,40,41,36,40,45,49,40,44,165,120,117,140,124,94,89,75,69,58,36,24,15,7,2,16,8,25,{"v":1818,"d":"1,818"},30,21,37,41,23,20,30,41,31,28,33,38,42,43,32,46,42,50,50,39,188,126,103,128,117,84,71,61,57,49,44,39,17,17,2,20,10,32,90,null,null,341,251,369,639,209,373,255,403,564,223,129,145,184,218,165,120,117,140,124,94,89,75,69,58,36,24,15,7,152,150,188,227,188,126,103,128,117,84,71,61,57,49,44,39,17,17]
["010514","AMAZONAS","AMAZONAS","LUYA","PISUQUIA",{"v":4873,"d":"4,873"},{"v":2444,"d":"2,444"},33,44,35,52,39,53,31,43,45,43,49,57,57,50,58,61,50,44,57,64,208,186,173,191,166,131,107,93,74,53,43,29,11,14,3,13,20,35,{"v":2429,"d":"2,429"},33,51,38,47,45,42,36,44,58,58,53,61,61,54,57,52,67,56,60,65,207,171,164,180,125,122,99,76,70,60,43,29,16,29,4,15,18,35,163,null,null,524,320,515,861,224,566,347,503,766,247,203,215,271,276,208,186,173,191,166,131,107,93,74,53,43,29,11,14,214,238,286,300,207,171,164,180,125,122,99,76,70,60,43,29,16,29]
["010515","AMAZONAS","AMAZONAS","LUYA","PROVIDENCIA",{"v":1338,"d":"1,338"},669,14,6,12,17,10,17,11,12,9,12,13,11,13,14,12,15,14,15,14,13,61,39,44,45,43,44,36,23,24,22,20,6,4,4,1,5,9,15,669,10,1,10,13,18,17,7,11,11,13,16,13,16,17,11,22,19,17,14,15,57,39,43,47,49,35,28,25,23,15,14,9,3,11,1,6,4,11,35,null,null,144,83,127,235,80,140,102,125,227,75,59,61,63,71,61,39,44,45,43,44,36,23,24,22,20,6,4,4,52,59,73,87,57,39,43,47,49,35,28,25,23,15,14,9,3,11]
["010516","AMAZONAS","AMAZONAS","LUYA","SAN CRISTOBAL",514,271,4,5,5,2,4,7,4,4,1,5,1,1,5,2,4,6,6,11,4,5,20,23,20,26,20,13,15,18,11,6,6,4,1,2,0,3,1,4,243,8,1,5,4,5,2,1,3,5,3,2,2,8,4,8,3,3,8,3,2,24,15,19,13,9,9,14,17,14,8,5,4,5,7,0,2,6,8,21,null,null,43,34,52,112,30,41,34,44,81,43,20,21,13,32,20,23,20,26,20,13,15,18,11,6,6,4,1,2,23,14,24,19,24,15,19,13,9,9,14,17,14,8,5,4,5,7]
["010517","AMAZONAS","AMAZONAS","LUYA","SAN FRANCISCO DEL YESO",698,349,2,3,4,5,4,5,6,4,6,5,8,2,6,6,3,6,3,7,2,4,22,27,22,28,30,30,19,29,15,13,9,7,3,4,0,1,1,2,349,4,3,4,5,16,11,10,0,3,3,10,3,7,8,3,7,3,6,4,7,17,22,28,24,27,25,16,17,15,16,7,8,7,3,0,0,4,4,20,null,null,54,31,55,158,51,72,34,50,137,56,18,26,25,22,22,27,22,28,30,30,19,29,15,13,9,7,3,4,32,27,31,27,17,22,28,24,27,25,16,17,15,16,7,8,7,3]
["010518","AMAZONAS","AMAZONAS","LUYA","SAN JERONIMO",565,283,0,5,8,5,7,2,1,4,2,6,7,7,4,5,2,2,2,2,6,6,12,20,17,23,23,20,19,22,15,9,9,5,3,3,0,0,0,0,282,1,3,6,5,5,3,1,4,8,3,5,5,3,4,2,5,4,5,2,6,15,17,25,23,14,14,15,16,14,14,11,7,9,8,0,0,1,1,2,null,null,54,17,44,124,44,49,23,40,107,63,25,15,25,18,12,20,17,23,23,20,19,22,15,9,9,5,3,3,20,19,19,22,15,17,25,23,14,14,15,16,14,14,11,7,9,8]
["010519","AMAZONAS","AMAZONAS","LUYA","SAN JUAN DE LOPECANCHA",399,209,1,2,4,2,3,2,3,3,3,3,1,4,3,4,10,4,6,6,6,4,15,11,15,19,12,10,15,13,7,5,5,3,3,2,0,1,0,1,190,3,3,0,0,6,4,3,3,2,2,1,3,2,3,5,5,5,4,3,4,18,12,13,13,9,11,8,10,11,4,5,4,5,6,0,1,2,3,9,null,null,31,33,36,84,25,30,24,37,64,35,12,14,22,26,15,11,15,19,12,10,15,13,7,5,5,3,3,2,12,14,14,21,18,12,13,13,9,11,8,10,11,4,5,4,5,6]
["010520","AMAZONAS","AMAZONAS","LUYA","SANTA CATALINA",{"v":2125,"d":"2,125"},{"v":1110,"d":"1,110"},12,21,26,19,26,21,16,11,29,25,31,21,27,26,30,29,25,27,21,13,85,90,91,93,60,51,41,42,34,25,26,7,5,4,0,7,5,13,{"v":1015,"d":"1,015"},15,20,16,21,23,23,17,19,16,29,24,16,21,20,20,22,33,19,18,14,108,87,80,59,56,46,40,45,28,20,16,7,9,8,1,6,9,16,80,null,null,258,164,209,378,101,239,135,227,326,88,104,102,135,115,85,90,91,93,60,51,41,42,34,25,26,7,5,4,95,104,101,106,108,87,80,59,56,46,40,45,28,20,16,7,9,8]
["010521","AMAZONAS","AMAZONAS","LUYA","SANTO TOMAS",{"v":2871,"d":"2,871"},{"v":1468,"d":"1,468"},19,24,15,22,19,30,20,18,25,25,24,19,29,29,33,32,24,28,29,25,108,107,95,112,89,94,69,94,65,58,42,18,16,12,2,11,8,20,{"v":1403,"d":"1,403"},18,27,19,27,27,27,16,22,19,24,26,21,31,32,30,33,27,25,22,22,96,107,89,96,91,60,72,65,59,44,45,26,25,33,0,7,11,19,50,null,null,260,175,269,553,211,273,178,247,473,232,99,118,134,138,108,107,95,112,89,94,69,94,65,58,42,18,16,12,118,108,140,129,96,107,89,96,91,60,72,65,59,44,45,26,25,33]
["010522","AMAZONAS","AMAZONAS","LUYA","TINGO",{"v":1370,"d":"1,370"},703,11,9,14,6,11,8,5,15,11,13,7,7,12,10,14,11,11,6,10,15,59,67,66,58,50,43,32,43,24,21,19,7,5,3,0,5,6,12,667,12,7,11,10,10,9,7,6,9,14,8,8,14,12,16,6,9,13,7,9,51,70,55,45,35,48,37,35,36,20,13,9,8,8,1,8,4,13,48,null,null,117,64,151,292,79,111,70,137,255,94,51,52,50,53,59,67,66,58,50,43,32,43,24,21,19,7,5,3,50,45,58,44,51,70,55,45,35,48,37,35,36,20,13,9,8,8]
["010523","AMAZONAS","AMAZONAS","LUYA","TRITA",{"v":1397,"d":"1,397"},735,10,5,9,11,12,7,17,10,11,7,11,14,18,23,16,16,24,18,14,14,60,49,57,67,49,51,31,32,25,16,14,9,5,3,2,6,4,11,662,3,5,9,16,6,10,9,6,10,8,9,11,14,18,12,17,12,20,18,11,44,42,42,64,55,45,32,28,18,16,20,8,13,11,0,1,2,3,34,null,null,124,115,137,287,72,102,93,115,266,86,47,52,82,86,60,49,57,67,49,51,31,32,25,16,14,9,5,3,39,43,64,78,44,42,42,64,55,45,32,28,18,16,20,8,13,11]
["010601","AMAZONAS","AMAZONAS","RODRIGUEZ DE MENDOZA","SAN NICOLAS",{"v":6476,"d":"6,476"},{"v":3371,"d":"3,371"},35,29,36,33,34,31,54,57,54,56,64,77,59,39,81,66,67,55,65,72,231,236,203,286,256,227,216,182,176,121,81,38,28,26,1,13,22,37,{"v":3105,"d":"3,105"},30,27,29,24,43,44,50,49,61,73,61,73,56,37,71,59,62,59,49,69,209,218,180,221,205,219,179,165,148,97,93,58,33,54,1,11,19,32,95,null,null,560,367,604,{"v":1370,"d":"1,370"},470,564,344,545,{"v":1169,"d":"1,169"},483,167,252,320,325,231,236,203,286,256,227,216,182,176,121,81,38,28,26,153,277,298,298,209,218,180,221,205,219,179,165,148,97,93,58,33,54]
["010602","AMAZONAS","AMAZONAS","RODRIGUEZ DE MENDOZA","CHIRIMOTO",{"v":3029,"d":"3,029"},{"v":1526,"d":"1,526"},33,18,30,31,25,27,19,23,34,30,37,32,37,33,42,39,32,32,29,28,121,110,114,133,98,74,78,41,59,43,20,9,6,9,3,15,18,35,{"v":1503,"d":"1,503"},22,26,17,29,28,30,38,37,35,52,36,31,36,32,36,27,38,29,28,37,100,135,133,128,79,68,68,36,44,26,19,8,6,9,3,11,11,23,84,null,null,339,215,288,538,146,381,198,300,512,112,137,133,181,160,121,110,114,133,98,74,78,41,59,43,20,9,6,9,122,192,171,159,100,135,133,128,79,68,68,36,44,26,19,8,6,9]
["010603","AMAZONAS","AMAZONAS","RODRIGUEZ DE MENDOZA","COCHAMAL",653,329,4,3,6,3,6,1,2,3,2,5,6,7,6,7,5,12,6,8,3,3,16,23,27,36,23,23,18,17,17,11,9,3,4,4,0,3,1,4,324,3,5,3,4,2,0,2,6,12,1,4,5,4,5,3,7,4,2,6,2,26,22,22,34,30,22,20,24,13,9,8,6,4,4,0,1,2,3,13,null,null,48,44,45,144,48,47,25,56,152,44,22,13,31,32,16,23,27,36,23,23,18,17,17,11,9,3,4,4,17,21,21,21,26,22,22,34,30,22,20,24,13,9,8,6,4,4]
["010604","AMAZONAS","AMAZONAS","RODRIGUEZ DE MENDOZA","HUAMBO",{"v":2536,"d":"2,536"},{"v":1298,"d":"1,298"},6,10,11,8,12,14,12,12,12,18,13,23,15,21,22,13,21,23,15,14,71,69,90,103,99,84,99,96,107,70,53,34,15,13,1,4,2,6,{"v":1238,"d":"1,238"},8,8,6,15,7,10,12,12,16,12,11,20,13,18,15,13,20,13,20,11,78,77,68,85,94,81,85,101,100,53,50,37,36,33,1,5,3,8,17,null,null,151,115,169,571,292,137,92,186,514,309,47,68,94,86,71,69,90,103,99,84,99,96,107,70,53,34,15,13,44,62,77,77,78,77,68,85,94,81,85,101,100,53,50,37,36,33]
["010605","AMAZONAS","AMAZONAS","RODRIGUEZ DE MENDOZA","LIMABAMBA",{"v":2196,"d":"2,196"},{"v":1112,"d":"1,112"},9,9,9,10,14,11,15,13,14,17,19,15,16,14,18,19,20,11,13,12,64,78,90,96,87,79,77,73,71,50,29,24,10,6,0,4,5,10,{"v":1084,"d":"1,084"},3,9,7,10,11,16,8,23,17,20,22,17,18,16,18,14,19,15,23,12,76,92,62,86,82,100,56,59,54,41,26,21,16,15,0,0,3,3,30,null,null,155,98,167,502,190,163,100,203,445,173,51,70,82,75,64,78,90,96,87,79,77,73,71,50,29,24,10,6,40,84,91,83,76,92,62,86,82,100,56,59,54,41,26,21,16,15]
["010606","AMAZONAS","AMAZONAS","RODRIGUEZ DE MENDOZA","LONGAR",{"v":1644,"d":"1,644"},836,8,7,4,8,5,10,14,14,13,13,11,10,18,8,12,20,11,11,21,9,45,56,64,66,58,75,53,55,51,26,27,15,9,9,0,2,6,8,808,6,4,7,12,8,6,9,9,6,9,10,9,17,8,10,12,23,10,13,8,64,50,60,60,68,49,46,53,37,37,33,19,14,22,1,5,1,6,33,null,null,117,80,131,371,137,95,80,135,336,162,32,64,59,72,45,56,64,66,58,75,53,55,51,26,27,15,9,9,37,39,54,66,64,50,60,60,68,49,46,53,37,37,33,19,14,22]
["010607","AMAZONAS","AMAZONAS","RODRIGUEZ DE MENDOZA","MARISCAL BENAVIDES",{"v":1539,"d":"1,539"},761,14,10,16,16,19,13,7,11,5,7,10,10,11,5,10,8,7,7,9,10,38,46,68,85,62,50,44,39,41,27,33,11,8,4,1,3,11,15,778,10,13,14,12,8,11,11,10,8,10,10,10,11,5,7,11,12,9,11,16,35,63,65,74,47,49,45,47,42,25,29,20,12,16,0,4,6,11,54,null,null,138,48,103,348,124,127,55,125,327,144,75,43,46,41,38,46,68,85,62,50,44,39,41,27,33,11,8,4,57,50,43,59,35,63,65,74,47,49,45,47,42,25,29,20,12,16]
["010608","AMAZONAS","AMAZONAS","RODRIGUEZ DE MENDOZA","MILPUC",419,222,5,3,2,2,4,3,3,3,7,1,2,4,3,1,2,2,3,3,2,5,7,12,21,17,23,15,15,13,12,11,6,6,2,2,1,3,2,5,197,1,1,2,5,3,2,3,2,3,2,3,5,4,2,3,6,5,3,3,4,9,14,13,16,11,10,19,14,4,9,5,5,3,3,0,0,1,1,8,null,null,39,14,26,104,39,32,23,30,83,29,16,17,12,15,7,12,21,17,23,15,15,13,12,11,6,6,2,2,12,12,17,21,9,14,13,16,11,10,19,14,4,9,5,5,3,3]
["010609","AMAZONAS","AMAZONAS","RODRIGUEZ DE MENDOZA","OMIA",{"v":10314,"d":"10,314"},{"v":5173,"d":"5,173"},60,75,82,100,93,85,86,111,125,128,104,104,109,131,129,123,106,121,90,95,384,361,370,441,392,340,216,205,151,106,80,42,16,12,5,32,28,64,{"v":5141,"d":"5,141"},69,70,79,103,85,87,99,127,128,132,110,110,115,137,123,123,123,113,94,94,388,414,392,442,378,259,191,169,130,90,74,48,25,20,5,35,34,73,333,null,null,{"v":1153,"d":"1,153"},719,930,{"v":1964,"d":"1,964"},407,{"v":1199,"d":"1,199"},734,990,{"v":1831,"d":"1,831"},387,410,535,577,535,384,361,370,441,392,340,216,205,151,106,80,42,16,12,406,573,595,547,388,414,392,442,378,259,191,169,130,90,74,48,25,20]
["010610","AMAZONAS","AMAZONAS","RODRIGUEZ DE MENDOZA","SANTA ROSA",506,259,6,1,0,3,2,3,5,2,3,7,2,3,6,2,5,2,6,4,1,3,10,13,19,19,21,28,26,11,15,10,9,6,3,3,0,1,5,6,247,3,2,1,0,2,0,3,3,2,2,2,3,6,2,5,3,2,8,3,4,14,15,15,27,32,15,10,11,8,11,8,11,7,7,1,1,2,3,11,null,null,37,25,27,124,46,23,26,36,110,52,12,20,18,16,10,13,19,19,21,28,26,11,15,10,9,6,3,3,8,10,18,20,14,15,15,27,32,15,10,11,8,11,8,11,7,7]
["010611","AMAZONAS","AMAZONAS","RODRIGUEZ DE MENDOZA","TOTORA",306,147,1,1,0,1,0,2,2,0,1,2,5,0,3,3,1,2,4,3,1,4,7,9,13,14,11,15,10,7,8,6,6,3,1,1,0,1,0,1,159,2,1,2,0,0,0,2,1,2,3,3,0,2,2,1,1,2,2,2,2,9,10,12,12,17,15,13,9,8,6,6,5,2,5,0,0,2,2,6,null,null,15,16,21,70,25,16,10,23,78,32,3,7,12,14,7,9,13,14,11,15,10,7,8,6,6,3,1,1,5,8,8,9,9,10,12,12,17,15,13,9,8,6,6,5,2,5]
["010612","AMAZONAS","AMAZONAS","RODRIGUEZ DE MENDOZA","VISTA ALEGRE",{"v":4918,"d":"4,918"},{"v":2514,"d":"2,514"},25,33,43,41,46,27,54,77,84,53,49,68,51,50,60,56,54,63,56,37,174,180,203,231,187,174,75,83,64,64,35,12,3,2,4,12,13,27,{"v":2404,"d":"2,404"},29,35,35,40,37,39,76,64,50,56,63,86,65,63,70,58,68,55,53,46,212,226,174,195,147,103,69,73,33,29,27,15,10,3,3,11,18,31,87,null,null,600,334,447,953,180,610,379,537,761,117,188,295,278,266,174,180,203,231,187,174,75,83,64,64,35,12,3,2,176,285,347,280,212,226,174,195,147,103,69,73,33,29,27,15,10,3]
["010701","AMAZONAS","AMAZONAS","UTCUBAMBA","BAGUA GRANDE",{"v":59527,"d":"59,527"},{"v":30663,"d":"30,663"},403,409,475,494,515,579,560,573,516,597,577,576,618,612,626,624,637,629,549,604,{"v":2551,"d":"2,551"},{"v":2340,"d":"2,340"},{"v":2278,"d":"2,278"},{"v":2498,"d":"2,498"},{"v":2233,"d":"2,233"},{"v":1926,"d":"1,926"},{"v":1397,"d":"1,397"},{"v":1250,"d":"1,250"},{"v":1011,"d":"1,011"},822,581,325,144,134,32,205,198,427,{"v":28864,"d":"28,864"},382,355,411,519,504,533,526,513,498,510,534,532,572,566,531,596,600,551,549,497,{"v":2471,"d":"2,471"},{"v":2334,"d":"2,334"},{"v":2227,"d":"2,227"},{"v":2495,"d":"2,495"},{"v":2091,"d":"2,091"},{"v":1838,"d":"1,838"},{"v":1237,"d":"1,237"},{"v":1123,"d":"1,123"},956,701,508,312,161,131,29,187,195,405,{"v":1242,"d":"1,242"},null,null,{"v":6274,"d":"6,274"},{"v":3746,"d":"3,746"},{"v":6044,"d":"6,044"},{"v":11582,"d":"11,582"},{"v":3017,"d":"3,017"},{"v":5817,"d":"5,817"},{"v":3416,"d":"3,416"},{"v":5851,"d":"5,851"},{"v":11011,"d":"11,011"},{"v":2769,"d":"2,769"},{"v":2296,"d":"2,296"},{"v":2825,"d":"2,825"},{"v":3009,"d":"3,009"},{"v":3043,"d":"3,043"},{"v":2551,"d":"2,551"},{"v":2340,"d":"2,340"},{"v":2278,"d":"2,278"},{"v":2498,"d":"2,498"},{"v":2233,"d":"2,233"},{"v":1926,"d":"1,926"},{"v":1397,"d":"1,397"},{"v":1250,"d":"1,250"},{"v":1011,"d":"1,011"},822,581,325,144,134,{"v":2171,"d":"2,171"},{"v":2580,"d":"2,580"},{"v":2735,"d":"2,735"},{"v":2793,"d":"2,793"},{"v":2471,"d":"2,471"},{"v":2334,"d":"2,334"},{"v":2227,"d":"2,227"},{"v":2495,"d":"2,495"},{"v":2091,"d":"2,091"},{"v":1838,"d":"1,838"},{"v":1237,"d":"1,237"},{"v":1123,"d":"1,123"},956,701,508,312,161,131]
["010702","AMAZONAS","AMAZONAS","UTCUBAMBA","CAJARURO",{"v":23534,"d":"23,534"},{"v":11855,"d":"11,855"},114,144,208,194,203,201,197,195,189,248,220,230,262,221,231,251,294,217,247,208,992,859,851,960,872,771,542,484,392,325,256,144,73,60,10,60,54,121,{"v":11679,"d":"11,679"},129,140,187,188,205,161,171,208,213,237,217,227,259,218,212,251,252,243,242,214,{"v":1008,"d":"1,008"},971,874,996,865,682,501,432,358,292,254,138,71,63,12,59,70,137,636,null,null,{"v":2343,"d":"2,343"},{"v":1476,"d":"1,476"},{"v":2306,"d":"2,306"},{"v":4480,"d":"4,480"},{"v":1250,"d":"1,250"},{"v":2283,"d":"2,283"},{"v":1435,"d":"1,435"},{"v":2435,"d":"2,435"},{"v":4350,"d":"4,350"},{"v":1176,"d":"1,176"},863,{"v":1030,"d":"1,030"},{"v":1164,"d":"1,164"},{"v":1217,"d":"1,217"},992,859,851,960,872,771,542,484,392,325,256,144,73,60,849,990,{"v":1133,"d":"1,133"},{"v":1202,"d":"1,202"},{"v":1008,"d":"1,008"},971,874,996,865,682,501,432,358,292,254,138,71,63]
["010703","AMAZONAS","AMAZONAS","UTCUBAMBA","CUMBA",{"v":8528,"d":"8,528"},{"v":4354,"d":"4,354"},67,66,71,70,84,80,75,88,89,79,74,102,83,93,91,83,92,95,82,71,374,331,314,342,311,236,188,174,148,117,84,54,21,25,5,32,35,71,{"v":4174,"d":"4,174"},42,63,79,71,69,68,64,78,83,73,76,105,85,95,85,72,65,102,64,72,359,343,314,329,298,226,180,172,142,103,81,52,35,29,1,20,22,45,205,null,null,945,537,858,{"v":1565,"d":"1,565"},449,871,504,838,{"v":1519,"d":"1,519"},442,358,411,443,423,374,331,314,342,311,236,188,174,148,117,84,54,21,25,324,366,446,375,359,343,314,329,298,226,180,172,142,103,81,52,35,29]
["010704","AMAZONAS","AMAZONAS","UTCUBAMBA","EL MILAGRO",{"v":6669,"d":"6,669"},{"v":3376,"d":"3,376"},40,55,77,67,59,57,46,51,70,50,51,61,73,68,58,62,72,69,64,52,281,250,269,275,237,235,161,132,110,101,53,46,10,14,4,24,16,42,{"v":3293,"d":"3,293"},46,43,48,57,60,54,77,56,56,65,57,68,81,75,58,62,68,59,60,59,281,294,233,273,239,197,128,120,108,72,77,29,21,12,3,16,30,49,169,null,null,684,402,647,{"v":1309,"d":"1,309"},334,687,403,694,{"v":1190,"d":"1,190"},319,298,274,311,319,281,250,269,275,237,235,161,132,110,101,53,46,10,14,254,308,339,308,281,294,233,273,239,197,128,120,108,72,77,29,21,12]
["010705","AMAZONAS","AMAZONAS","UTCUBAMBA","JAMALCA",{"v":6988,"d":"6,988"},{"v":3593,"d":"3,593"},45,48,62,38,76,62,54,71,81,65,70,71,83,81,71,78,78,83,59,51,274,277,266,277,256,259,169,138,104,86,72,46,24,18,5,21,24,48,{"v":3395,"d":"3,395"},45,45,43,65,64,59,57,69,53,65,68,69,81,79,65,74,76,81,60,67,278,291,247,277,235,194,139,119,87,95,62,45,18,23,6,23,22,48,187,null,null,743,474,661,{"v":1365,"d":"1,365"},350,702,456,696,{"v":1211,"d":"1,211"},330,269,333,376,349,274,277,266,277,256,259,169,138,104,86,72,46,24,18,262,303,362,358,278,291,247,277,235,194,139,119,87,95,62,45,18,23]
["010706","AMAZONAS","AMAZONAS","UTCUBAMBA","LONYA GRANDE",{"v":11501,"d":"11,501"},{"v":5902,"d":"5,902"},70,76,89,104,91,72,118,117,116,117,101,112,133,124,142,105,124,120,113,85,451,461,404,481,448,388,283,272,190,171,103,71,25,25,0,24,46,74,{"v":5599,"d":"5,599"},72,62,86,106,84,91,114,108,119,124,97,108,127,119,125,117,131,120,102,93,412,450,425,472,416,331,262,193,177,136,100,63,26,31,7,41,31,76,244,null,null,{"v":1183,"d":"1,183"},748,{"v":1110,"d":"1,110"},{"v":2276,"d":"2,276"},585,{"v":1171,"d":"1,171"},739,{"v":1057,"d":"1,057"},{"v":2099,"d":"2,099"},533,430,540,612,547,451,461,404,481,448,388,283,272,190,171,103,71,25,25,410,556,576,563,412,450,425,472,416,331,262,193,177,136,100,63,26,31]
["010707","AMAZONAS","AMAZONAS","UTCUBAMBA","YAMON",{"v":3254,"d":"3,254"},{"v":1604,"d":"1,604"},29,25,32,25,37,30,20,31,18,25,21,22,34,28,35,22,24,26,24,19,132,142,136,130,120,108,79,67,68,35,28,18,8,6,2,8,21,31,{"v":1650,"d":"1,650"},23,17,26,26,37,23,19,29,35,37,22,23,35,29,31,39,35,39,33,32,138,140,125,123,116,109,74,52,71,34,33,20,12,13,1,8,15,24,134,null,null,315,169,317,640,163,317,208,343,599,183,148,124,140,115,132,142,136,130,120,108,79,67,68,35,28,18,8,6,129,143,140,178,138,140,125,123,116,109,74,52,71,34,33,20,12,13]
["020101","ANCASH","ANCASH","HUARAZ","HUARAZ",{"v":70228,"d":"70,228"},{"v":35377,"d":"35,377"},374,461,467,484,510,508,711,787,702,754,673,645,628,648,601,608,656,568,537,545,{"v":2329,"d":"2,329"},{"v":2496,"d":"2,496"},{"v":2919,"d":"2,919"},{"v":3072,"d":"3,072"},{"v":2715,"d":"2,715"},{"v":2363,"d":"2,363"},{"v":1677,"d":"1,677"},{"v":1603,"d":"1,603"},{"v":1364,"d":"1,364"},984,794,565,335,294,22,175,199,396,{"v":34851,"d":"34,851"},403,385,481,477,489,522,695,686,726,662,638,624,607,627,563,597,608,553,576,570,{"v":2346,"d":"2,346"},{"v":2699,"d":"2,699"},{"v":2848,"d":"2,848"},{"v":2821,"d":"2,821"},{"v":2611,"d":"2,611"},{"v":2116,"d":"2,116"},{"v":1559,"d":"1,559"},{"v":1511,"d":"1,511"},{"v":1316,"d":"1,316"},{"v":1156,"d":"1,156"},879,570,459,471,14,173,230,427,{"v":1820,"d":"1,820"},null,null,{"v":7076,"d":"7,076"},{"v":3709,"d":"3,709"},{"v":5907,"d":"5,907"},{"v":14349,"d":"14,349"},{"v":4336,"d":"4,336"},{"v":6788,"d":"6,788"},{"v":3555,"d":"3,555"},{"v":6191,"d":"6,191"},{"v":13466,"d":"13,466"},{"v":4851,"d":"4,851"},{"v":2296,"d":"2,296"},{"v":3462,"d":"3,462"},{"v":3195,"d":"3,195"},{"v":2914,"d":"2,914"},{"v":2329,"d":"2,329"},{"v":2496,"d":"2,496"},{"v":2919,"d":"2,919"},{"v":3072,"d":"3,072"},{"v":2715,"d":"2,715"},{"v":2363,"d":"2,363"},{"v":1677,"d":"1,677"},{"v":1603,"d":"1,603"},{"v":1364,"d":"1,364"},984,794,565,335,294,{"v":2235,"d":"2,235"},{"v":3291,"d":"3,291"},{"v":3059,"d":"3,059"},{"v":2904,"d":"2,904"},{"v":2346,"d":"2,346"},{"v":2699,"d":"2,699"},{"v":2848,"d":"2,848"},{"v":2821,"d":"2,821"},{"v":2611,"d":"2,611"},{"v":2116,"d":"2,116"},{"v":1559,"d":"1,559"},{"v":1511,"d":"1,511"},{"v":1316,"d":"1,316"},{"v":1156,"d":"1,156"},879,570,459,471]
["020102","ANCASH","ANCASH","HUARAZ","COCHABAMBA",{"v":1747,"d":"1,747"},850,10,12,15,14,19,20,18,9,22,29,12,15,15,11,16,20,20,13,11,11,44,62,53,56,51,46,52,34,34,27,26,19,19,15,2,5,5,11,897,11,7,16,11,12,6,14,15,21,22,16,20,20,15,19,22,13,16,10,18,65,66,67,43,58,42,48,42,38,28,33,21,22,20,2,7,4,12,70,null,null,195,95,128,292,140,171,105,159,300,162,70,98,69,75,44,62,53,56,51,46,52,34,34,27,26,19,19,15,57,78,90,79,65,66,67,43,58,42,48,42,38,28,33,21,22,20]
["020103","ANCASH","ANCASH","HUARAZ","COLCABAMBA",284,148,1,2,0,1,0,3,3,1,1,2,2,2,1,1,0,0,3,2,0,0,5,7,17,14,17,9,6,10,11,9,8,7,2,1,0,0,1,1,136,1,2,1,1,7,3,1,3,1,6,2,2,1,1,1,2,1,2,2,1,6,11,13,9,7,4,5,5,11,6,5,3,4,6,1,1,0,1,3,null,null,18,7,12,73,38,30,8,20,43,35,4,10,6,5,5,7,17,14,17,9,6,10,11,9,8,7,2,1,12,14,7,8,6,11,13,9,7,4,5,5,11,6,5,3,4,6]
["020104","ANCASH","ANCASH","HUARAZ","HUANCHAY",{"v":1685,"d":"1,685"},849,13,5,5,10,8,6,8,15,11,20,7,11,5,15,12,15,17,15,14,17,65,61,56,57,56,42,39,57,46,46,30,13,25,27,1,7,6,14,836,11,11,3,10,8,4,8,16,9,9,8,12,6,17,13,19,21,20,20,12,66,67,47,67,44,54,37,36,44,40,28,18,22,29,1,5,6,12,34,null,null,119,79,157,307,187,109,96,165,285,181,41,60,50,78,65,61,56,57,56,42,39,57,46,46,30,13,25,27,43,46,56,92,66,67,47,67,44,54,37,36,44,40,28,18,22,29]
["020105","ANCASH","ANCASH","HUARAZ","INDEPENDENCIA",{"v":91755,"d":"91,755"},{"v":46938,"d":"46,938"},507,584,746,749,716,760,{"v":1023,"d":"1,023"},{"v":1135,"d":"1,135"},{"v":1016,"d":"1,016"},954,826,786,747,738,759,802,750,688,679,637,{"v":2924,"d":"2,924"},{"v":3298,"d":"3,298"},{"v":3760,"d":"3,760"},{"v":3986,"d":"3,986"},{"v":3612,"d":"3,612"},{"v":3246,"d":"3,246"},{"v":2298,"d":"2,298"},{"v":2180,"d":"2,180"},{"v":1874,"d":"1,874"},{"v":1408,"d":"1,408"},{"v":1170,"d":"1,170"},689,474,417,19,227,280,537,{"v":44817,"d":"44,817"},550,588,638,705,690,719,920,{"v":1073,"d":"1,073"},911,840,762,740,702,694,688,709,691,678,637,664,{"v":2867,"d":"2,867"},{"v":3308,"d":"3,308"},{"v":3635,"d":"3,635"},{"v":3861,"d":"3,861"},{"v":3201,"d":"3,201"},{"v":2786,"d":"2,786"},{"v":2092,"d":"2,092"},{"v":2033,"d":"2,033"},{"v":1776,"d":"1,776"},{"v":1508,"d":"1,508"},{"v":1190,"d":"1,190"},781,560,620,26,248,302,583,{"v":2172,"d":"2,172"},null,null,{"v":9802,"d":"9,802"},{"v":4484,"d":"4,484"},{"v":7538,"d":"7,538"},{"v":19082,"d":"19,082"},{"v":6032,"d":"6,032"},{"v":9136,"d":"9,136"},{"v":4162,"d":"4,162"},{"v":7476,"d":"7,476"},{"v":17608,"d":"17,608"},{"v":6435,"d":"6,435"},{"v":3302,"d":"3,302"},{"v":4888,"d":"4,888"},{"v":3856,"d":"3,856"},{"v":3556,"d":"3,556"},{"v":2924,"d":"2,924"},{"v":3298,"d":"3,298"},{"v":3760,"d":"3,760"},{"v":3986,"d":"3,986"},{"v":3612,"d":"3,612"},{"v":3246,"d":"3,246"},{"v":2298,"d":"2,298"},{"v":2180,"d":"2,180"},{"v":1874,"d":"1,874"},{"v":1408,"d":"1,408"},{"v":1170,"d":"1,170"},689,474,417,{"v":3171,"d":"3,171"},{"v":4463,"d":"4,463"},{"v":3586,"d":"3,586"},{"v":3379,"d":"3,379"},{"v":2867,"d":"2,867"},{"v":3308,"d":"3,308"},{"v":3635,"d":"3,635"},{"v":3861,"d":"3,861"},{"v":3201,"d":"3,201"},{"v":2786,"d":"2,786"},{"v":2092,"d":"2,092"},{"v":2033,"d":"2,033"},{"v":1776,"d":"1,776"},{"v":1508,"d":"1,508"},{"v":1190,"d":"1,190"},781,560,620]
["020106","ANCASH","ANCASH","HUARAZ","JANGAS",{"v":5408,"d":"5,408"},{"v":2705,"d":"2,705"},26,32,38,43,31,43,63,42,29,44,44,40,36,38,49,35,44,35,37,41,158,218,265,260,197,201,122,111,122,80,74,61,29,17,0,11,15,28,{"v":2703,"d":"2,703"},33,36,40,32,28,40,28,43,43,40,40,37,33,35,43,41,49,49,40,35,205,215,229,245,186,178,147,112,93,114,88,43,52,31,1,17,16,35,176,null,null,475,237,454,{"v":1156,"d":"1,156"},383,440,250,495,{"v":1097,"d":"1,097"},421,170,221,207,192,158,218,265,260,197,201,122,111,122,80,74,61,29,17,169,194,188,214,205,215,229,245,186,178,147,112,93,114,88,43,52,31]
["020107","ANCASH","ANCASH","HUARAZ","LA LIBERTAD",{"v":1148,"d":"1,148"},581,8,10,4,11,9,12,14,10,10,9,6,5,10,9,10,8,7,11,11,6,40,47,50,53,33,35,28,26,28,14,15,12,9,11,1,2,6,8,567,10,5,10,2,14,16,11,11,10,9,7,6,10,9,10,7,6,10,6,13,46,44,57,43,34,31,26,24,15,18,13,12,9,13,3,6,4,11,46,null,null,108,55,104,225,89,111,52,109,215,80,42,55,40,43,40,47,50,53,33,35,28,26,28,14,15,12,9,11,41,57,42,42,46,44,57,43,34,31,26,24,15,18,13,12,9,13]
["020108","ANCASH","ANCASH","HUARAZ","OLLEROS",{"v":2621,"d":"2,621"},{"v":1351,"d":"1,351"},15,9,13,13,30,24,16,20,22,14,18,18,15,12,16,13,15,15,16,17,71,109,108,118,102,84,91,71,57,70,52,39,25,23,1,6,9,16,{"v":1270,"d":"1,270"},13,14,10,13,15,24,19,17,15,17,17,17,14,11,14,11,19,16,7,18,67,94,102,101,89,75,67,60,67,63,51,50,39,44,4,8,5,14,50,null,null,212,86,213,574,266,191,85,186,494,314,80,96,79,76,71,109,108,118,102,84,91,71,57,70,52,39,25,23,65,92,73,71,67,94,102,101,89,75,67,60,67,63,51,50,39,44]
["020109","ANCASH","ANCASH","HUARAZ","PAMPAS",{"v":1036,"d":"1,036"},495,4,8,6,3,5,4,10,12,4,12,4,4,5,5,7,6,7,9,7,6,27,30,33,39,35,28,28,39,29,24,17,9,9,20,0,3,1,4,541,3,5,6,5,3,4,17,7,6,7,7,6,9,9,8,8,10,2,7,7,35,30,38,33,37,28,29,32,36,27,18,21,16,25,1,2,1,3,19,null,null,76,39,70,202,108,76,46,79,197,143,26,42,25,35,27,30,33,39,35,28,28,39,29,24,17,9,9,20,22,41,39,34,35,30,38,33,37,28,29,32,36,27,18,21,16,25]
["020110","ANCASH","ANCASH","HUARAZ","PARIACOTO",{"v":5486,"d":"5,486"},{"v":2726,"d":"2,726"},34,43,45,38,44,48,43,42,46,52,38,44,40,44,48,46,58,46,44,44,205,234,220,242,187,159,123,115,108,86,56,42,27,35,3,15,19,36,{"v":2760,"d":"2,760"},31,18,36,54,40,41,42,30,51,62,43,51,46,51,58,48,60,67,48,43,200,259,239,205,169,154,112,123,99,60,75,52,42,51,2,18,13,33,205,null,null,517,282,527,{"v":1046,"d":"1,046"},354,499,330,550,{"v":1002,"d":"1,002"},379,204,231,214,238,205,234,220,242,187,159,123,115,108,86,56,42,27,35,179,226,249,266,200,259,239,205,169,154,112,123,99,60,75,52,42,51]
["020111","ANCASH","ANCASH","HUARAZ","PIRA",{"v":3667,"d":"3,667"},{"v":1847,"d":"1,847"},21,24,32,21,20,26,36,24,25,39,29,32,19,24,27,32,25,27,29,23,123,132,171,171,136,124,97,87,83,65,46,39,16,22,8,16,5,22,{"v":1820,"d":"1,820"},20,17,21,24,19,24,19,33,27,32,28,32,20,24,26,24,30,33,32,22,132,182,141,170,134,95,105,75,77,62,53,35,30,22,2,10,10,21,91,null,null,329,154,307,786,271,296,157,368,720,279,118,150,131,136,123,132,171,171,136,124,97,87,83,65,46,39,16,22,101,135,130,141,132,182,141,170,134,95,105,75,77,62,53,35,30,22]
["020112","ANCASH","ANCASH","HUARAZ","TARICA",{"v":7842,"d":"7,842"},{"v":4013,"d":"4,013"},59,48,44,57,65,70,61,80,70,67,68,63,58,83,71,53,53,69,74,60,259,327,391,365,296,253,182,184,141,138,75,72,31,26,0,32,27,63,{"v":3829,"d":"3,829"},30,44,44,57,70,43,62,65,67,47,68,64,58,84,70,67,73,45,53,63,258,356,333,346,257,218,182,171,133,119,108,69,47,58,3,17,13,32,216,null,null,752,387,720,{"v":1671,"d":"1,671"},483,661,397,730,{"v":1507,"d":"1,507"},534,273,348,343,309,259,327,391,365,296,253,182,184,141,138,75,72,31,26,245,284,344,301,258,356,333,346,257,218,182,171,133,119,108,69,47,58]
["020201","ANCASH","ANCASH","AIJA","AIJA",{"v":2082,"d":"2,082"},{"v":1033,"d":"1,033"},8,11,8,16,6,9,11,10,12,17,11,19,26,14,27,21,12,21,17,12,66,71,78,78,77,57,59,57,54,54,31,21,22,20,1,4,4,8,{"v":1049,"d":"1,049"},3,5,10,11,8,10,8,9,13,17,8,14,19,10,18,22,29,14,14,15,86,63,77,75,78,61,64,54,65,43,33,36,24,33,2,2,1,3,13,null,null,138,121,166,406,202,116,112,178,409,234,49,59,97,83,66,71,78,78,77,57,59,57,54,54,31,21,22,20,37,57,69,94,86,63,77,75,78,61,64,54,65,43,33,36,24,33]
["020202","ANCASH","ANCASH","AIJA","CORIS",{"v":1533,"d":"1,533"},773,13,13,16,15,11,13,8,6,12,13,17,18,16,10,18,19,20,16,16,11,46,41,49,53,46,51,32,43,43,27,16,13,13,19,0,8,5,14,760,11,12,14,13,16,17,14,7,8,7,14,15,13,8,16,18,16,22,12,16,53,60,43,56,42,31,36,34,36,24,17,17,16,26,0,5,6,12,30,null,null,155,99,114,274,131,148,93,141,242,136,68,52,79,82,46,41,49,53,46,51,32,43,43,27,16,13,13,19,66,53,66,84,53,60,43,56,42,31,36,34,36,24,17,17,16,26]
["020203","ANCASH","ANCASH","AIJA","HUACLLAN",313,155,1,0,4,2,3,5,1,2,3,1,2,4,1,2,3,2,4,0,3,1,9,13,16,10,15,8,8,6,10,8,3,1,1,3,0,0,1,1,158,3,4,0,1,2,4,2,2,3,4,2,4,1,2,2,3,3,3,2,4,14,16,12,14,8,9,5,7,7,7,2,2,1,3,1,2,1,3,5,null,null,28,12,26,63,26,31,14,36,55,22,10,12,12,10,9,13,16,10,15,8,8,6,10,8,3,1,1,3,10,15,11,15,14,16,12,14,8,9,5,7,7,7,2,2,1,3]
["020204","ANCASH","ANCASH","AIJA","LA MERCED",{"v":1390,"d":"1,390"},696,4,8,13,13,9,12,7,11,12,10,12,10,6,6,15,11,16,15,9,9,49,55,49,57,55,45,30,36,29,22,23,18,11,9,0,1,3,4,694,5,11,7,12,13,12,9,7,8,10,11,10,7,7,14,12,18,17,16,10,47,53,53,59,35,41,33,28,31,28,26,17,16,11,1,3,2,5,12,null,null,121,69,122,272,112,115,75,126,249,129,47,52,49,60,49,55,49,57,55,45,30,36,29,22,23,18,11,9,48,46,49,73,47,53,53,59,35,41,33,28,31,28,26,17,16,11]
["020205","ANCASH","ANCASH","AIJA","SUCCHA",683,331,2,2,4,6,4,4,3,4,3,1,1,7,3,7,6,7,6,4,5,4,21,15,26,26,25,18,22,13,23,19,10,13,9,8,1,1,1,2,352,4,6,4,4,3,0,3,3,3,4,1,5,2,5,4,8,3,13,5,4,18,32,24,27,25,22,17,19,23,16,8,15,9,13,0,3,1,4,16,null,null,41,33,45,130,82,40,35,59,134,84,18,15,24,26,21,15,26,26,25,18,22,13,23,19,10,13,9,8,21,13,17,33,18,32,24,27,25,22,17,19,23,16,8,15,9,13]
["020301","ANCASH","ANCASH","ANTONIO RAYMONDI","LLAMELLIN",{"v":3197,"d":"3,197"},{"v":1597,"d":"1,597"},20,21,21,39,26,30,37,32,28,35,21,21,38,31,46,40,43,33,38,40,112,74,81,97,104,91,71,72,57,56,49,34,33,26,3,11,9,21,{"v":1600,"d":"1,600"},17,14,15,28,28,27,31,28,35,28,20,20,35,28,41,27,37,31,14,33,95,113,88,115,94,75,58,74,74,68,70,47,43,49,1,8,9,18,94,null,null,331,231,264,516,255,291,199,255,504,351,127,162,157,194,112,74,81,97,104,91,71,72,57,56,49,34,33,26,102,149,144,142,95,113,88,115,94,75,58,74,74,68,70,47,43,49]
["020302","ANCASH","ANCASH","ANTONIO RAYMONDI","ACZO",{"v":1723,"d":"1,723"},864,22,10,9,22,18,16,12,20,16,18,13,15,18,14,13,14,15,12,16,14,57,64,43,69,56,51,46,45,33,23,20,21,15,14,1,12,10,23,859,12,12,13,10,14,15,12,19,17,17,15,18,22,17,17,17,25,18,12,13,57,74,48,67,43,39,37,35,30,22,23,28,17,24,0,4,8,13,59,null,null,191,86,151,310,126,174,116,156,269,144,81,82,73,71,57,64,43,69,56,51,46,45,33,23,20,21,15,14,61,80,89,85,57,74,48,67,43,39,37,35,30,22,23,28,17,24]
["020303","ANCASH","ANCASH","ANTONIO RAYMONDI","CHACCHO",{"v":1234,"d":"1,234"},620,5,3,7,14,1,9,5,8,14,8,5,9,12,9,16,11,15,15,10,14,41,47,39,49,34,34,34,33,35,28,22,10,12,12,0,1,4,5,614,9,3,5,10,5,7,6,11,12,8,6,9,12,9,17,15,12,16,14,9,48,34,37,41,33,31,29,36,24,31,20,22,13,20,0,4,5,10,26,null,null,88,78,112,223,119,91,81,105,207,130,30,44,51,65,41,47,39,49,34,34,34,33,35,28,22,10,12,12,32,44,53,66,48,34,37,41,33,31,29,36,24,31,20,22,13,20]
["020304","ANCASH","ANCASH","ANTONIO RAYMONDI","CHINGAS",{"v":1849,"d":"1,849"},938,8,16,11,15,20,14,22,22,12,21,16,27,20,9,17,18,19,16,15,18,52,45,50,65,64,49,53,65,47,34,33,22,11,12,0,3,5,8,911,12,6,14,19,17,14,18,13,20,21,18,31,24,10,21,20,21,19,19,14,57,42,53,58,51,43,44,42,34,36,25,27,14,34,0,8,4,13,41,null,null,204,99,130,346,159,203,115,132,291,170,70,91,89,86,52,45,50,65,64,49,53,65,47,34,33,22,11,12,68,86,104,93,57,42,53,58,51,43,44,42,34,36,25,27,14,34]
["020305","ANCASH","ANCASH","ANTONIO RAYMONDI","MIRGAS",{"v":3761,"d":"3,761"},{"v":1837,"d":"1,837"},15,31,42,34,43,29,33,40,42,40,31,40,39,34,39,44,49,41,36,37,150,117,108,117,118,93,86,72,69,61,32,29,21,25,3,10,5,16,{"v":1924,"d":"1,924"},29,32,31,36,52,34,26,43,34,37,33,43,42,38,42,47,45,45,42,32,156,132,126,123,114,85,76,82,63,53,45,47,34,25,2,12,17,31,111,null,null,420,246,340,594,237,430,259,362,606,267,165,184,183,207,150,117,108,117,118,93,86,72,69,61,32,29,21,25,180,174,198,211,156,132,126,123,114,85,76,82,63,53,45,47,34,25]
["020306","ANCASH","ANCASH","ANTONIO RAYMONDI","SAN JUAN DE RONTOY",{"v":1050,"d":"1,050"},539,13,13,15,13,15,10,8,10,11,12,12,9,7,10,9,11,19,11,8,14,39,37,27,33,31,27,22,25,18,12,13,9,13,3,3,5,8,14,511,4,6,6,7,5,5,8,14,7,8,13,10,8,11,11,9,13,12,11,8,50,42,32,27,34,35,21,23,17,13,12,8,10,11,0,1,3,4,21,null,null,141,67,98,165,68,93,64,111,172,71,69,51,47,63,39,37,27,33,31,27,22,25,18,12,13,9,13,3,28,42,53,53,50,42,32,27,34,35,21,23,17,13,12,8,10,11]
["020401","ANCASH","ANCASH","ASUNCION","CHACAS",{"v":4457,"d":"4,457"},{"v":2294,"d":"2,294"},23,28,39,25,22,19,32,38,33,41,33,42,61,37,37,45,69,49,42,54,166,141,142,156,156,146,118,125,104,80,77,53,42,19,3,14,9,24,{"v":2163,"d":"2,163"},19,13,31,34,31,32,29,21,28,44,31,41,59,36,36,48,41,54,47,39,169,143,138,129,135,104,114,97,80,80,77,69,57,57,0,7,12,20,89,null,null,375,298,403,843,375,354,274,398,717,420,137,163,210,259,166,141,142,156,156,146,118,125,104,80,77,53,42,19,128,154,203,229,169,143,138,129,135,104,114,97,80,80,77,69,57,57]
["020402","ANCASH","ANCASH","ASUNCION","ACOCHACA",{"v":2659,"d":"2,659"},{"v":1383,"d":"1,383"},10,14,5,22,15,19,21,21,13,24,20,19,27,30,32,20,32,22,28,22,102,93,85,99,118,94,71,70,55,51,43,45,23,18,0,3,7,11,{"v":1276,"d":"1,276"},9,16,14,15,14,17,15,19,21,15,11,11,16,18,18,23,28,20,19,15,95,81,84,94,74,73,65,57,61,65,60,45,45,43,0,6,3,10,83,null,null,203,163,245,537,235,177,123,210,447,319,66,98,128,124,102,93,85,99,118,94,71,70,55,51,43,45,23,18,68,87,74,105,95,81,84,94,74,73,65,57,61,65,60,45,45,43]
["020501","ANCASH","ANCASH","BOLOGNESI","CHIQUIAN",{"v":3814,"d":"3,814"},{"v":1938,"d":"1,938"},21,25,18,26,23,25,28,26,25,25,29,25,28,39,31,38,30,38,27,30,140,137,133,150,126,97,104,134,79,80,59,52,40,50,1,7,14,22,{"v":1876,"d":"1,876"},26,18,23,24,18,27,29,16,23,34,28,25,29,40,31,34,32,43,26,33,126,126,118,147,111,102,95,103,80,70,67,51,44,77,2,15,11,28,110,null,null,296,204,334,744,360,291,209,311,676,389,113,129,152,163,140,137,133,150,126,97,104,134,79,80,59,52,40,50,109,129,153,168,126,126,118,147,111,102,95,103,80,70,67,51,44,77]
["020502","ANCASH","ANCASH","BOLOGNESI","ABELARDO PARDO LEZAMETA",209,106,1,1,1,1,1,2,1,0,0,3,1,1,1,1,0,1,1,1,0,1,5,7,8,17,11,8,4,4,8,3,6,4,1,1,0,0,1,1,103,1,3,0,1,0,2,1,2,1,1,1,1,2,1,1,1,1,4,2,3,7,7,3,11,4,8,6,6,8,4,2,2,4,2,0,0,1,1,4,null,null,13,5,13,52,23,14,10,19,38,22,5,6,4,4,5,7,8,17,11,8,4,4,8,3,6,4,1,1,5,7,6,11,7,7,3,11,4,8,6,6,8,4,2,2,4,2]
["020503","ANCASH","ANCASH","BOLOGNESI","ANTONIO RAYMONDI",943,487,4,5,3,9,4,5,3,9,3,13,5,7,4,9,3,6,6,4,6,5,25,23,37,34,30,33,23,38,28,37,21,19,11,15,1,2,2,4,456,3,5,3,1,5,7,4,6,5,7,6,8,4,9,3,6,7,6,5,9,28,24,26,35,30,23,25,30,30,25,19,18,18,16,0,2,1,3,10,null,null,70,32,59,195,131,60,35,66,169,126,25,33,28,27,25,23,37,34,30,33,23,38,28,37,21,19,11,15,17,29,30,33,28,24,26,35,30,23,25,30,30,25,19,18,18,16]
["020504","ANCASH","ANCASH","BOLOGNESI","AQUIA",{"v":1790,"d":"1,790"},909,8,11,11,9,11,16,15,13,10,16,13,13,12,13,13,17,17,17,13,14,60,53,72,71,78,65,47,46,45,34,33,21,11,11,1,4,4,8,881,7,17,16,7,11,17,14,6,17,16,16,16,15,16,14,20,16,18,15,13,72,69,63,58,47,48,40,37,39,32,27,24,15,23,0,1,6,7,22,null,null,146,89,140,379,155,160,99,169,293,160,50,70,64,78,60,53,72,71,78,65,47,46,45,34,33,21,11,11,58,70,77,82,72,69,63,58,47,48,40,37,39,32,27,24,15,23]
["020505","ANCASH","ANCASH","BOLOGNESI","CAJACAY",{"v":1799,"d":"1,799"},879,5,11,6,11,9,16,11,9,15,16,9,11,15,11,13,9,20,10,16,7,66,75,70,76,82,56,43,33,46,36,22,24,12,8,1,4,1,5,920,4,4,3,4,10,10,8,20,15,10,9,12,17,12,17,23,14,12,19,19,64,93,75,83,62,60,52,42,52,27,27,18,11,12,0,2,2,4,16,null,null,129,78,164,360,148,109,95,195,374,147,42,67,59,62,66,75,70,76,82,56,43,33,46,36,22,24,12,8,25,63,67,87,64,93,75,83,62,60,52,42,52,27,27,18,11,12]
["020506","ANCASH","ANCASH","BOLOGNESI","CANIS",251,112,0,2,0,1,4,2,1,1,1,0,0,0,1,1,3,1,0,1,1,3,8,6,9,12,8,7,8,5,7,6,3,2,4,4,0,0,0,0,139,0,2,2,0,0,2,1,2,0,1,0,0,1,1,2,1,0,1,1,1,8,8,9,11,7,15,10,11,9,7,8,1,6,11,0,0,0,0,1,null,null,12,7,18,49,26,10,6,18,63,42,7,5,5,6,8,6,9,12,8,7,8,5,7,6,3,2,4,4,4,6,4,4,8,8,9,11,7,15,10,11,9,7,8,1,6,11]
["020507","ANCASH","ANCASH","BOLOGNESI","COLQUIOC",{"v":2035,"d":"2,035"},{"v":1019,"d":"1,019"},14,16,11,20,18,23,12,16,13,12,11,13,15,17,13,10,13,13,7,16,42,75,84,86,77,76,58,56,57,41,32,21,15,16,0,7,7,15,{"v":1016,"d":"1,016"},6,9,11,11,15,17,9,14,12,9,10,13,15,18,15,15,15,18,10,9,61,82,105,80,65,68,63,58,45,40,41,23,15,19,0,3,3,6,49,null,null,179,81,140,437,182,136,96,162,439,183,79,76,69,59,42,75,84,86,77,76,58,56,57,41,32,21,15,16,52,61,71,67,61,82,105,80,65,68,63,58,45,40,41,23,15,19]
["020508","ANCASH","ANCASH","BOLOGNESI","HUALLANCA",{"v":5983,"d":"5,983"},{"v":2926,"d":"2,926"},46,45,39,40,53,72,62,68,62,87,47,55,41,53,51,63,65,46,65,43,225,223,247,250,205,149,120,112,86,80,59,33,16,18,5,27,19,49,{"v":3057,"d":"3,057"},52,63,42,55,63,69,61,65,60,59,58,68,51,66,61,57,66,53,64,47,233,258,229,236,190,158,109,119,86,82,57,52,31,37,4,23,29,55,239,null,null,676,319,556,{"v":1083,"d":"1,083"},292,715,354,602,{"v":1041,"d":"1,041"},345,223,351,247,282,225,223,247,250,205,149,120,112,86,80,59,33,16,18,275,314,304,287,233,258,229,236,190,158,109,119,86,82,57,52,31,37]
["020509","ANCASH","ANCASH","BOLOGNESI","HUASTA",{"v":1226,"d":"1,226"},617,11,13,9,15,12,9,7,7,10,21,11,8,6,8,8,10,12,11,9,7,42,30,44,44,50,40,37,26,24,26,14,15,11,10,0,2,9,12,609,5,3,9,10,11,5,12,11,15,4,15,11,8,11,11,6,14,16,12,11,45,37,37,35,52,32,24,27,35,19,15,16,16,19,1,5,0,5,38,null,null,133,55,88,241,100,111,66,105,207,120,60,54,41,49,42,30,44,44,50,40,37,26,24,26,14,15,11,10,38,47,56,59,45,37,37,35,52,32,24,27,35,19,15,16,16,19]
["020510","ANCASH","ANCASH","BOLOGNESI","HUAYLLACAYAN",{"v":1191,"d":"1,191"},609,1,6,2,5,6,6,12,9,10,13,10,13,3,16,6,4,5,12,12,10,37,38,42,41,40,42,31,39,32,30,24,20,11,21,0,1,0,1,582,3,4,6,5,7,8,6,10,5,11,7,9,2,11,5,9,7,6,8,7,39,41,39,27,34,32,37,35,27,44,20,23,21,27,0,1,2,3,7,null,null,93,46,97,235,138,81,40,95,204,162,20,50,48,43,37,38,42,41,40,42,31,39,32,30,24,20,11,21,25,40,34,37,39,41,39,27,34,32,37,35,27,44,20,23,21,27]
["020511","ANCASH","ANCASH","BOLOGNESI","LA PRIMAVERA",390,205,1,1,3,2,1,2,3,3,0,6,1,2,3,2,2,2,4,3,8,2,7,10,9,15,16,15,11,16,14,18,4,2,10,7,1,1,0,1,185,0,0,0,3,2,1,1,3,1,5,2,3,5,3,5,2,2,1,5,1,13,14,9,10,7,11,14,11,9,7,9,10,5,11,0,0,0,0,2,null,null,25,16,27,82,55,21,18,33,62,51,8,14,10,19,7,10,9,15,16,15,11,16,14,18,4,2,10,7,5,11,18,11,13,14,9,10,7,11,14,11,9,7,9,10,5,11]
["020512","ANCASH","ANCASH","BOLOGNESI","MANGAS",430,217,0,1,1,2,3,5,3,2,1,1,1,1,3,3,4,2,1,5,3,1,12,10,20,18,8,12,16,13,15,10,9,8,10,13,0,0,0,0,213,2,2,3,2,6,6,1,1,2,0,1,1,3,3,4,7,3,4,2,4,6,13,14,9,11,11,7,9,16,8,12,13,13,14,0,1,1,2,4,null,null,21,18,26,87,65,27,24,25,61,76,7,12,12,12,12,10,20,18,8,12,16,13,15,10,9,8,10,13,15,10,12,20,6,13,14,9,11,11,7,9,16,8,12,13,13,14]
["020513","ANCASH","ANCASH","BOLOGNESI","PACLLON",766,391,2,6,2,5,10,3,1,7,5,9,3,9,3,10,2,3,9,7,9,9,28,23,24,21,28,28,22,25,17,19,13,10,8,11,0,2,0,2,375,3,4,5,7,4,6,6,7,5,5,2,6,2,7,1,6,4,8,7,4,31,20,24,25,24,23,20,20,19,18,11,15,10,16,0,1,2,3,20,null,null,62,34,69,148,78,60,28,62,136,89,25,25,27,37,28,23,24,21,28,28,22,25,17,19,13,10,8,11,23,29,18,29,31,20,24,25,24,23,20,20,19,18,11,15,10,16]
["020514","ANCASH","ANCASH","BOLOGNESI","SAN MIGUEL DE CORPANQUI",420,218,1,2,0,2,1,2,0,9,0,7,1,5,2,6,1,1,4,1,4,2,12,20,21,14,15,16,13,15,16,3,10,8,3,1,1,1,0,1,202,0,0,0,0,2,5,6,1,4,3,1,6,2,7,0,1,1,0,1,2,11,14,13,21,16,7,14,10,8,11,11,6,7,11,0,0,0,0,2,null,null,30,15,38,94,41,28,11,28,81,54,6,18,15,12,12,20,21,14,15,16,13,15,16,3,10,8,3,1,2,19,16,5,11,14,13,21,16,7,14,10,8,11,11,6,7,11]
["020515","ANCASH","ANCASH","BOLOGNESI","TICLLOS",551,302,0,2,3,5,4,2,2,6,4,5,6,4,2,4,5,9,5,9,6,2,19,15,19,23,26,21,12,19,7,12,13,10,10,11,0,0,0,0,249,1,2,3,1,1,3,5,3,3,4,5,4,2,4,3,4,4,5,5,11,19,14,17,13,16,16,13,8,6,12,16,9,8,9,0,0,1,1,2,null,null,43,34,42,120,63,35,22,49,83,60,14,19,21,31,19,15,19,23,26,21,12,19,7,12,13,10,10,11,8,18,18,29,19,14,17,13,16,16,13,8,6,12,16,9,8,9]
["020601","ANCASH","ANCASH","CARHUAZ","CARHUAZ",{"v":16806,"d":"16,806"},{"v":8567,"d":"8,567"},126,105,116,125,144,156,151,190,151,165,148,156,120,145,161,138,177,143,148,134,602,695,675,705,596,488,441,387,336,257,203,142,78,63,7,67,59,134,{"v":8239,"d":"8,239"},105,107,118,122,131,139,163,169,140,133,135,144,112,135,143,145,152,144,127,124,617,670,685,591,525,452,371,385,295,258,232,167,149,154,6,57,48,111,551,null,null,{"v":1733,"d":"1,733"},884,{"v":1579,"d":"1,579"},{"v":3292,"d":"3,292"},{"v":1079,"d":"1,079"},{"v":1606,"d":"1,606"},831,{"v":1538,"d":"1,538"},{"v":3009,"d":"3,009"},{"v":1255,"d":"1,255"},616,813,730,740,602,695,675,705,596,488,441,387,336,257,203,142,78,63,583,744,669,692,617,670,685,591,525,452,371,385,295,258,232,167,149,154]
["020602","ANCASH","ANCASH","CARHUAZ","ACOPAMPA",{"v":2856,"d":"2,856"},{"v":1450,"d":"1,450"},28,20,19,20,21,27,27,28,25,28,13,30,26,18,23,24,31,17,14,16,81,91,123,116,123,91,88,90,56,36,35,34,18,13,4,12,16,30,{"v":1406,"d":"1,406"},19,14,11,25,21,22,17,27,25,19,10,25,22,15,18,19,17,20,24,16,93,112,102,126,117,77,76,68,64,38,48,30,35,34,0,6,13,20,74,null,null,286,139,202,631,192,235,111,245,566,249,108,135,110,102,81,91,123,116,123,91,88,90,56,36,35,34,18,13,90,110,90,96,93,112,102,126,117,77,76,68,64,38,48,30,35,34]
["020603","ANCASH","ANCASH","CARHUAZ","AMASHCA",{"v":1523,"d":"1,523"},765,8,7,8,9,9,5,8,8,8,10,12,11,12,7,8,11,10,14,13,12,42,54,66,71,69,55,42,45,37,30,29,19,10,6,2,4,4,8,758,5,15,11,5,8,9,7,7,5,10,9,9,10,7,8,12,13,8,12,7,44,69,62,65,53,51,42,41,48,28,28,19,14,17,0,3,2,5,29,null,null,103,62,121,348,131,100,58,132,314,154,41,39,50,60,42,54,66,71,69,55,42,45,37,30,29,19,10,6,44,38,43,52,44,69,62,65,53,51,42,41,48,28,28,19,14,17]
["020604","ANCASH","ANCASH","CARHUAZ","ANTA",{"v":2621,"d":"2,621"},{"v":1322,"d":"1,322"},12,22,13,21,26,20,27,18,25,15,18,23,34,26,25,24,27,25,24,21,81,112,123,100,82,80,63,66,42,39,40,21,15,12,3,7,5,13,{"v":1299,"d":"1,299"},19,18,17,21,21,26,18,26,27,15,15,19,27,21,19,28,25,24,21,17,103,109,93,118,76,74,61,46,37,47,32,28,23,28,1,8,11,20,87,null,null,240,161,238,514,169,242,144,250,468,195,94,105,126,121,81,112,123,100,82,80,63,66,42,39,40,21,15,12,96,112,101,115,103,109,93,118,76,74,61,46,37,47,32,28,23,28]
["020605","ANCASH","ANCASH","CARHUAZ","ATAQUERO",{"v":1631,"d":"1,631"},812,12,12,6,14,7,11,11,8,9,6,11,14,14,14,15,13,9,11,8,12,61,72,79,74,57,38,56,45,42,26,14,13,10,8,1,9,3,13,819,11,15,14,7,13,18,9,6,6,7,8,12,12,12,13,19,24,13,16,12,70,67,72,59,41,39,46,40,38,21,25,14,16,24,3,10,1,12,45,null,null,121,76,153,349,113,126,93,165,297,138,51,45,68,53,61,72,79,74,57,38,56,45,42,26,14,13,10,8,60,46,57,84,70,67,72,59,41,39,46,40,38,21,25,14,16,24]
["020606","ANCASH","ANCASH","CARHUAZ","MARCARA",{"v":11209,"d":"11,209"},{"v":5725,"d":"5,725"},72,69,77,80,79,93,85,95,109,100,95,111,99,110,93,80,127,122,98,82,348,463,512,537,425,360,281,257,205,161,136,88,48,28,6,38,34,76,{"v":5484,"d":"5,484"},73,77,75,83,93,91,82,95,99,88,81,97,87,96,78,87,82,100,71,71,351,456,528,454,374,277,255,248,224,167,180,98,89,77,1,37,36,77,394,null,null,{"v":1065,"d":"1,065"},631,991,{"v":2372,"d":"2,372"},666,{"v":1034,"d":"1,034"},530,949,{"v":2136,"d":"2,136"},835,377,482,508,509,348,463,512,537,425,360,281,257,205,161,136,88,48,28,401,455,439,411,351,456,528,454,374,277,255,248,224,167,180,98,89,77]
["020607","ANCASH","ANCASH","CARHUAZ","PARIAHUANCA",{"v":1442,"d":"1,442"},719,7,12,12,11,12,10,10,12,14,10,5,12,14,12,11,13,11,16,9,11,44,53,56,65,62,43,44,29,28,18,21,14,6,12,0,3,4,7,723,5,9,13,8,16,10,12,12,9,14,5,12,14,12,13,10,13,8,6,12,38,58,58,62,42,56,36,34,29,20,21,18,23,15,1,2,3,5,15,null,null,127,77,117,299,99,125,70,114,288,126,54,56,54,60,44,53,56,65,62,43,44,29,28,18,21,14,6,12,51,57,56,49,38,58,58,62,42,56,36,34,29,20,21,18,23,15]
["020608","ANCASH","ANCASH","CARHUAZ","SAN MIGUEL DE ACO",{"v":2470,"d":"2,470"},{"v":1241,"d":"1,241"},10,16,15,19,29,18,26,22,21,16,12,19,19,24,13,24,28,25,25,23,103,117,94,95,91,62,53,55,57,40,29,21,12,8,1,5,5,11,{"v":1229,"d":"1,229"},15,19,16,13,21,21,20,20,24,17,11,21,21,25,14,17,25,25,26,16,94,119,106,84,77,74,45,53,47,38,34,30,25,16,1,9,6,16,38,null,null,223,133,268,450,167,218,127,255,439,190,89,103,87,125,103,117,94,95,91,62,53,55,57,40,29,21,12,8,84,102,92,109,94,119,106,84,77,74,45,53,47,38,34,30,25,16]
["020609","ANCASH","ANCASH","CARHUAZ","SHILLA",{"v":2990,"d":"2,990"},{"v":1572,"d":"1,572"},12,18,14,14,22,19,19,22,19,18,15,27,24,25,30,20,26,21,15,21,96,119,146,151,133,117,102,75,75,52,38,33,25,9,1,7,5,13,{"v":1418,"d":"1,418"},12,12,23,22,11,27,15,13,20,17,9,16,14,15,17,21,21,16,19,23,83,116,141,135,129,86,78,69,61,59,44,33,21,20,1,7,5,13,58,null,null,219,146,251,724,232,197,104,241,638,238,80,97,121,103,96,119,146,151,133,117,102,75,75,52,38,33,25,9,80,92,71,100,83,116,141,135,129,86,78,69,61,59,44,33,21,20]
["020610","ANCASH","ANCASH","CARHUAZ","TINCO",{"v":4011,"d":"4,011"},{"v":2057,"d":"2,057"},19,17,28,24,20,26,36,32,41,52,26,33,24,32,40,35,22,41,34,21,125,155,192,161,169,147,116,108,80,71,40,27,33,30,0,11,8,20,{"v":1954,"d":"1,954"},13,21,19,17,20,19,42,39,23,36,23,29,22,28,34,27,34,25,28,21,137,179,152,163,142,125,117,88,81,60,65,42,31,52,1,6,7,14,70,null,null,354,194,335,893,281,301,170,365,787,331,108,187,155,153,125,155,192,161,169,147,116,108,80,71,40,27,33,30,90,159,136,135,137,179,152,163,142,125,117,88,81,60,65,42,31,52]
["020611","ANCASH","ANCASH","CARHUAZ","YUNGAR",{"v":3361,"d":"3,361"},{"v":1725,"d":"1,725"},24,16,33,32,23,23,39,34,29,35,27,23,33,34,15,29,30,25,33,24,98,136,156,154,135,100,89,82,61,53,41,29,14,16,2,8,16,25,{"v":1636,"d":"1,636"},29,18,34,32,34,30,32,29,26,27,23,20,29,30,13,23,23,31,28,29,116,137,143,128,118,87,77,65,56,40,37,22,35,35,3,14,15,31,95,null,null,338,166,291,716,214,334,149,310,618,225,128,160,132,141,98,136,156,154,135,100,89,82,61,53,41,29,14,16,147,144,115,134,116,137,143,128,118,87,77,65,56,40,37,22,35,35]
["020701","ANCASH","ANCASH","CARLOS FERMIN FITZCARRALD","SAN LUIS",{"v":10424,"d":"10,424"},{"v":5330,"d":"5,330"},55,49,56,70,79,69,74,94,98,92,92,96,132,116,120,133,131,114,90,108,398,382,384,395,377,320,236,235,208,160,143,113,64,47,3,24,31,58,{"v":5094,"d":"5,094"},52,40,52,71,69,81,82,79,94,75,77,81,111,98,98,121,119,112,102,92,419,385,379,351,287,252,206,234,185,166,171,145,110,98,2,27,25,55,234,null,null,924,746,978,{"v":1947,"d":"1,947"},735,853,659,998,{"v":1709,"d":"1,709"},875,309,427,556,576,398,382,384,395,377,320,236,235,208,160,143,113,64,47,284,411,465,546,419,385,379,351,287,252,206,234,185,166,171,145,110,98]
["020702","ANCASH","ANCASH","CARLOS FERMIN FITZCARRALD","SAN NICOLAS",{"v":3061,"d":"3,061"},{"v":1572,"d":"1,572"},19,19,25,29,40,30,28,31,29,30,35,22,28,33,34,35,43,32,33,34,114,100,106,108,106,99,56,61,61,51,41,32,17,11,2,13,6,20,{"v":1489,"d":"1,489"},24,25,24,30,46,26,25,30,29,21,34,22,27,33,31,25,41,31,38,24,123,113,108,91,83,88,34,52,59,45,39,36,14,18,3,13,11,25,72,null,null,337,205,281,536,213,336,188,298,456,211,132,148,152,177,114,100,106,108,106,99,56,61,61,51,41,32,17,11,149,131,147,159,123,113,108,91,83,88,34,52,59,45,39,36,14,18]
["020703","ANCASH","ANCASH","CARLOS FERMIN FITZCARRALD","YAUYA",{"v":3833,"d":"3,833"},{"v":1941,"d":"1,941"},21,24,22,22,34,33,35,31,33,20,32,52,31,40,44,45,49,42,30,39,154,145,111,145,127,97,87,77,87,73,56,53,38,12,2,9,12,22,{"v":1892,"d":"1,892"},21,23,31,29,26,25,26,31,31,27,25,41,25,33,37,49,44,39,35,29,154,145,107,113,117,93,79,85,80,86,78,39,48,41,1,7,14,22,94,null,null,359,251,368,644,319,336,227,363,594,372,123,152,199,205,154,145,111,145,127,97,87,77,87,73,56,53,38,12,130,140,161,196,154,145,107,113,117,93,79,85,80,86,78,39,48,41]
["020801","ANCASH","ANCASH","CASMA","CASMA",{"v":42637,"d":"42,637"},{"v":21581,"d":"21,581"},254,246,289,325,325,376,433,487,404,459,378,375,397,362,382,351,368,363,380,295,{"v":1275,"d":"1,275"},{"v":1577,"d":"1,577"},{"v":1803,"d":"1,803"},{"v":1749,"d":"1,749"},{"v":1530,"d":"1,530"},{"v":1418,"d":"1,418"},{"v":1075,"d":"1,075"},{"v":1071,"d":"1,071"},884,671,504,380,203,192,20,128,126,269,{"v":21056,"d":"21,056"},223,223,256,302,313,302,405,390,435,400,380,384,407,370,378,354,357,372,317,324,{"v":1289,"d":"1,289"},{"v":1792,"d":"1,792"},{"v":1833,"d":"1,833"},{"v":1691,"d":"1,691"},{"v":1459,"d":"1,459"},{"v":1200,"d":"1,200"},{"v":1058,"d":"1,058"},{"v":1003,"d":"1,003"},868,719,504,341,202,205,14,95,128,236,{"v":1110,"d":"1,110"},null,null,{"v":4351,"d":"4,351"},{"v":2223,"d":"2,223"},{"v":3527,"d":"3,527"},{"v":8646,"d":"8,646"},{"v":2834,"d":"2,834"},{"v":4013,"d":"4,013"},{"v":2238,"d":"2,238"},{"v":3722,"d":"3,722"},{"v":8244,"d":"8,244"},{"v":2839,"d":"2,839"},{"v":1439,"d":"1,439"},{"v":2159,"d":"2,159"},{"v":1894,"d":"1,894"},{"v":1757,"d":"1,757"},{"v":1275,"d":"1,275"},{"v":1577,"d":"1,577"},{"v":1803,"d":"1,803"},{"v":1749,"d":"1,749"},{"v":1530,"d":"1,530"},{"v":1418,"d":"1,418"},{"v":1075,"d":"1,075"},{"v":1071,"d":"1,071"},884,671,504,380,203,192,{"v":1317,"d":"1,317"},{"v":1932,"d":"1,932"},{"v":1919,"d":"1,919"},{"v":1724,"d":"1,724"},{"v":1289,"d":"1,289"},{"v":1792,"d":"1,792"},{"v":1833,"d":"1,833"},{"v":1691,"d":"1,691"},{"v":1459,"d":"1,459"},{"v":1200,"d":"1,200"},{"v":1058,"d":"1,058"},{"v":1003,"d":"1,003"},868,719,504,341,202,205]
["020802","ANCASH","ANCASH","CASMA","BUENA VISTA ALTA",{"v":5786,"d":"5,786"},{"v":2923,"d":"2,923"},28,35,45,42,49,37,53,67,59,76,63,41,38,38,43,44,61,46,40,51,138,222,256,246,198,205,158,142,130,94,66,44,34,34,5,12,16,30,{"v":2863,"d":"2,863"},22,34,45,42,44,40,68,57,52,55,70,46,42,42,49,38,48,46,46,26,194,270,274,230,193,154,138,133,113,78,69,36,39,30,2,13,9,23,165,null,null,595,270,451,{"v":1205,"d":"1,205"},402,575,265,536,{"v":1122,"d":"1,122"},365,199,292,223,242,138,222,256,246,198,205,158,142,130,94,66,44,34,34,187,272,249,204,194,270,274,230,193,154,138,133,113,78,69,36,39,30]
["020803","ANCASH","ANCASH","CASMA","COMANDANTE NOEL",{"v":2455,"d":"2,455"},{"v":1179,"d":"1,179"},15,23,20,21,21,19,17,18,13,16,19,24,22,15,18,17,12,19,15,13,63,61,90,106,85,86,81,68,56,44,37,20,15,10,1,6,9,16,{"v":1276,"d":"1,276"},25,16,19,27,24,16,19,17,16,21,22,27,25,17,21,22,17,16,18,25,67,99,106,102,111,78,78,54,68,28,29,21,12,13,2,16,9,27,70,null,null,226,103,152,516,182,249,118,209,529,171,100,83,98,76,63,61,90,106,85,86,81,68,56,44,37,20,15,10,111,89,112,98,67,99,106,102,111,78,78,54,68,28,29,21,12,13]
["020804","ANCASH","ANCASH","CASMA","YAUTAN",{"v":9478,"d":"9,478"},{"v":4708,"d":"4,708"},53,77,77,94,106,90,87,81,121,117,91,90,72,77,82,80,89,73,67,59,282,335,337,377,315,264,217,227,212,153,105,82,64,55,1,18,35,56,{"v":4770,"d":"4,770"},79,61,92,89,82,97,89,95,100,84,93,93,74,80,82,81,82,94,79,60,296,404,384,358,304,256,219,197,212,128,112,91,62,61,2,27,52,84,310,null,null,{"v":1084,"d":"1,084"},473,743,{"v":1737,"d":"1,737"},671,{"v":1054,"d":"1,054"},493,839,{"v":1718,"d":"1,718"},666,407,496,412,368,282,335,337,377,315,264,217,227,212,153,105,82,64,55,403,465,422,396,296,404,384,358,304,256,219,197,212,128,112,91,62,61]
["020901","ANCASH","ANCASH","CORONGO","CORONGO",{"v":1759,"d":"1,759"},889,8,9,7,7,10,14,15,9,13,14,17,17,14,19,12,18,13,26,15,13,52,49,62,49,65,60,46,51,41,46,32,19,33,14,1,4,4,8,870,6,5,12,7,11,5,11,10,13,16,18,18,14,20,12,18,17,15,19,12,48,56,58,62,37,51,58,40,46,40,24,27,30,34,0,3,3,6,36,null,null,140,102,129,333,185,132,96,135,306,201,41,65,79,85,52,49,62,49,65,60,46,51,41,46,32,19,33,14,41,55,82,81,48,56,58,62,37,51,58,40,46,40,24,27,30,34]
["020902","ANCASH","ANCASH","CORONGO","ACO",365,179,1,2,3,5,3,1,2,2,4,0,2,4,3,2,3,4,3,4,2,0,10,10,15,12,9,12,9,9,10,13,8,6,3,3,0,0,1,1,186,4,2,6,9,3,1,2,3,2,3,2,4,3,2,1,4,4,1,2,3,10,10,19,7,7,11,12,7,11,11,6,6,4,4,0,2,2,4,6,null,null,29,19,22,66,43,41,15,25,63,42,14,9,14,13,10,10,15,12,9,12,9,9,10,13,8,6,3,3,24,11,12,14,10,10,19,7,7,11,12,7,11,11,6,6,4,4]
["020903","ANCASH","ANCASH","CORONGO","BAMBAS",457,220,1,3,3,1,2,2,5,6,3,2,3,2,3,3,3,2,4,5,5,2,23,11,15,19,15,14,5,15,11,8,9,6,6,3,0,1,0,1,237,2,2,4,3,3,7,4,2,4,3,4,2,4,4,3,3,2,4,4,5,19,14,18,19,23,11,12,10,12,10,8,5,4,3,1,2,0,2,4,null,null,33,20,41,83,43,40,20,42,93,42,10,18,14,18,23,11,15,19,15,14,5,15,11,8,9,6,6,3,14,20,17,18,19,14,18,19,23,11,12,10,12,10,8,5,4,3]
["020904","ANCASH","ANCASH","CORONGO","CUSCA",{"v":2814,"d":"2,814"},{"v":1410,"d":"1,410"},15,9,31,27,40,36,26,39,33,22,17,23,21,19,25,27,27,38,25,20,96,104,115,110,83,82,76,58,59,40,24,18,19,6,0,6,9,16,{"v":1404,"d":"1,404"},20,28,26,35,22,33,40,24,20,21,18,24,22,20,24,20,26,29,34,18,114,116,106,102,80,77,54,74,38,39,39,22,17,22,1,11,9,21,125,null,null,318,157,245,524,166,311,141,282,493,177,122,156,105,137,96,104,115,110,83,82,76,58,59,40,24,18,19,6,131,138,108,127,114,116,106,102,80,77,54,74,38,39,39,22,17,22]
["020905","ANCASH","ANCASH","CORONGO","LA PAMPA",{"v":1021,"d":"1,021"},493,8,3,6,5,3,11,5,4,4,4,4,9,9,9,5,10,7,7,5,3,15,34,37,38,33,24,20,56,27,28,25,9,7,19,0,3,5,8,528,5,4,7,9,5,6,5,3,5,6,5,10,10,10,6,9,12,12,10,4,17,43,43,39,29,30,29,36,33,19,32,11,11,13,0,4,1,5,33,null,null,66,47,57,208,115,70,59,74,206,119,25,28,36,32,15,34,37,38,33,24,20,56,27,28,25,9,7,19,30,25,41,47,17,43,43,39,29,30,29,36,33,19,32,11,11,13]
["020906","ANCASH","ANCASH","CORONGO","YANAC",603,290,4,4,5,2,5,1,5,6,3,4,5,3,5,5,2,5,4,5,8,4,14,21,29,21,17,16,11,17,17,14,12,5,5,6,1,2,2,4,313,2,1,3,4,4,2,3,2,5,6,5,3,5,5,2,2,5,10,3,2,25,28,27,26,20,16,17,16,17,15,12,4,8,8,0,1,1,2,9,null,null,47,26,47,111,59,40,29,58,122,64,20,19,20,26,14,21,29,21,17,16,11,17,17,14,12,5,5,6,14,18,20,22,25,28,27,26,20,16,17,16,17,15,12,4,8,8]
["020907","ANCASH","ANCASH","CORONGO","YUPAN",691,347,6,1,3,4,2,1,5,5,10,9,3,3,6,6,2,5,5,5,5,3,17,23,21,32,28,23,19,18,16,26,12,14,7,2,1,3,3,6,344,1,1,2,5,0,1,4,9,7,11,4,4,8,8,4,7,2,4,7,6,14,21,27,22,27,18,10,19,25,20,16,10,11,9,0,0,1,1,10,null,null,52,29,48,141,77,49,33,48,123,91,16,30,20,23,17,23,21,32,28,23,19,18,16,26,12,14,7,2,9,32,28,26,14,21,27,22,27,18,10,19,25,20,16,10,11,9]
["021001","ANCASH","ANCASH","HUARI","HUARI",{"v":9642,"d":"9,642"},{"v":4917,"d":"4,917"},74,70,78,90,63,79,99,94,99,139,103,103,104,104,91,124,113,91,71,90,326,311,309,352,295,277,209,211,210,140,112,111,93,82,2,33,41,78,{"v":4725,"d":"4,725"},78,58,76,79,61,53,126,107,92,88,83,85,86,86,72,89,91,83,101,71,343,324,302,309,256,224,197,216,173,153,160,128,137,138,3,30,48,83,186,null,null,{"v":1091,"d":"1,091"},627,798,{"v":1653,"d":"1,653"},748,986,507,839,{"v":1504,"d":"1,504"},889,375,510,505,489,326,311,309,352,295,277,209,211,210,140,112,111,93,82,352,466,412,435,343,324,302,309,256,224,197,216,173,153,160,128,137,138]
["021002","ANCASH","ANCASH","HUARI","ANRA",{"v":1451,"d":"1,451"},707,12,8,12,8,11,12,5,5,4,5,6,5,6,6,5,9,10,9,9,8,53,60,74,81,68,54,36,31,33,26,13,11,7,5,0,6,6,13,744,11,12,9,13,9,7,8,8,4,5,8,7,8,8,10,11,8,4,9,14,63,78,82,69,57,38,37,36,24,27,23,13,10,14,3,9,2,12,58,null,null,93,45,130,344,95,101,49,164,319,111,51,31,28,45,53,60,74,81,68,54,36,31,33,26,13,11,7,5,54,32,41,46,63,78,82,69,57,38,37,36,24,27,23,13,10,14]
["021003","ANCASH","ANCASH","HUARI","CAJAY",{"v":2678,"d":"2,678"},{"v":1363,"d":"1,363"},21,24,33,33,34,35,17,24,24,21,22,22,17,19,20,17,21,24,30,17,91,109,124,107,91,85,65,67,53,26,28,20,15,7,1,11,10,22,{"v":1315,"d":"1,315"},25,16,18,15,36,27,20,17,21,17,21,21,16,18,16,19,25,24,22,25,101,100,123,97,105,72,51,63,43,35,31,28,23,24,3,9,16,27,131,null,null,310,118,247,539,149,254,118,248,511,184,145,121,100,109,91,109,124,107,91,85,65,67,53,26,28,20,15,7,110,102,92,115,101,100,123,97,105,72,51,63,43,35,31,28,23,24]
["021004","ANCASH","ANCASH","HUARI","CHAVIN DE HUANTAR",{"v":8432,"d":"8,432"},{"v":4264,"d":"4,264"},64,67,74,82,72,77,96,95,95,113,73,68,72,79,87,81,107,75,68,59,296,309,369,356,316,238,165,180,138,98,81,52,32,30,8,24,40,68,{"v":4168,"d":"4,168"},72,65,64,63,77,76,96,92,82,79,83,79,83,91,99,105,120,82,71,71,305,314,325,279,256,175,160,158,155,107,100,72,59,53,5,40,32,76,241,null,null,976,501,732,{"v":1624,"d":"1,624"},431,928,580,761,{"v":1353,"d":"1,353"},546,359,476,379,390,296,309,369,356,316,238,165,180,138,98,81,52,32,30,341,425,435,449,305,314,325,279,256,175,160,158,155,107,100,72,59,53]
["021005","ANCASH","ANCASH","HUARI","HUACACHI",{"v":1804,"d":"1,804"},901,15,11,16,18,14,15,8,12,15,11,11,9,9,18,13,14,12,15,14,17,55,71,87,75,68,52,44,56,41,29,21,14,13,8,2,10,5,16,903,12,9,12,12,24,14,9,15,15,18,10,9,9,17,12,17,14,12,19,12,72,94,84,75,37,50,48,42,38,27,25,11,13,16,3,7,5,13,57,null,null,155,81,157,382,126,159,81,197,336,130,74,61,60,72,55,71,87,75,68,52,44,56,41,29,21,14,13,8,69,71,57,74,72,94,84,75,37,50,48,42,38,27,25,11,13,16]
["021006","ANCASH","ANCASH","HUARI","HUACCHIS",{"v":1329,"d":"1,329"},640,10,7,11,13,12,14,4,7,6,6,10,9,9,11,9,9,11,11,14,11,45,53,51,62,33,35,26,37,34,24,15,12,11,8,0,7,3,11,689,11,13,11,10,15,14,5,12,7,6,10,11,10,13,13,7,19,14,6,12,54,47,56,47,39,29,37,30,37,30,17,18,14,15,1,5,6,12,37,null,null,109,60,123,244,104,125,76,119,238,131,53,37,48,56,45,53,51,62,33,35,26,37,34,24,15,12,11,8,60,44,57,58,54,47,56,47,39,29,37,30,37,30,17,18,14,15]
["021007","ANCASH","ANCASH","HUARI","HUACHIS",{"v":3577,"d":"3,577"},{"v":1725,"d":"1,725"},27,12,24,23,35,34,24,22,35,32,17,17,26,26,18,25,29,32,33,32,123,161,152,160,112,103,84,94,71,37,38,31,24,12,3,15,12,29,{"v":1852,"d":"1,852"},37,28,21,30,25,43,33,21,33,17,20,20,30,30,22,28,30,31,33,31,153,181,163,151,116,93,62,92,73,53,52,36,33,31,2,14,23,39,105,null,null,302,156,349,705,213,328,171,398,677,278,121,147,104,151,123,161,152,160,112,103,84,94,71,37,38,31,24,12,141,147,122,153,153,181,163,151,116,93,62,92,73,53,52,36,33,31]
["021008","ANCASH","ANCASH","HUARI","HUANTAR",{"v":2641,"d":"2,641"},{"v":1328,"d":"1,328"},22,20,27,14,20,18,15,19,13,15,11,17,21,17,20,19,23,12,14,17,85,88,145,109,118,76,84,70,51,37,36,31,22,22,2,9,13,23,{"v":1313,"d":"1,313"},9,19,13,12,14,13,19,19,12,11,15,24,30,24,29,19,28,20,20,17,83,107,106,92,95,67,70,56,57,45,51,41,39,37,0,5,4,10,65,null,null,211,112,204,602,199,180,150,227,486,270,103,80,86,85,85,88,145,109,118,76,84,70,51,37,36,31,22,22,67,74,122,104,83,107,106,92,95,67,70,56,57,45,51,41,39,37]
["021009","ANCASH","ANCASH","HUARI","MASIN",{"v":1253,"d":"1,253"},613,4,4,5,9,7,22,8,10,12,7,10,10,5,12,9,7,7,7,9,7,29,47,41,49,42,37,38,34,34,22,20,18,19,12,0,2,2,4,640,9,5,13,8,6,10,9,8,8,6,7,8,4,8,6,10,14,10,10,8,32,46,47,53,43,34,33,38,27,24,32,22,21,21,3,7,2,10,20,null,null,108,47,92,241,125,97,52,96,248,147,29,59,46,37,29,47,41,49,42,37,38,34,34,22,20,18,19,12,41,41,33,52,32,46,47,53,43,34,33,38,27,24,32,22,21,21]
["021010","ANCASH","ANCASH","HUARI","PAUCAS",{"v":1538,"d":"1,538"},759,15,8,18,9,13,13,9,12,12,24,7,10,15,9,7,11,16,15,11,11,44,58,61,72,55,46,33,42,42,18,13,13,8,9,1,9,6,16,779,8,11,11,13,6,14,12,13,12,11,9,14,21,13,11,18,13,14,13,10,54,80,65,51,58,40,32,39,17,32,19,17,14,14,1,6,2,8,41,null,null,150,73,124,309,103,134,90,157,285,113,63,70,48,64,44,58,61,72,55,46,33,42,42,18,13,13,8,9,49,62,68,68,54,80,65,51,58,40,32,39,17,32,19,17,14,14]
["021011","ANCASH","ANCASH","HUARI","PONTO",{"v":2689,"d":"2,689"},{"v":1358,"d":"1,358"},19,12,17,21,15,26,20,20,21,22,23,14,15,18,18,21,23,19,20,23,96,105,127,126,92,85,75,66,61,41,29,27,23,18,4,14,5,20,{"v":1331,"d":"1,331"},25,13,16,25,28,27,20,22,13,16,24,15,16,19,20,21,14,19,12,20,120,131,105,91,80,76,57,66,53,41,26,40,31,29,0,9,16,27,58,null,null,230,114,244,571,199,244,109,283,475,220,84,109,88,106,96,105,127,126,92,85,75,66,61,41,29,27,23,18,107,98,94,86,120,131,105,91,80,76,57,66,53,41,26,40,31,29]
["021012","ANCASH","ANCASH","HUARI","RAHUAPAMPA",712,358,4,3,8,8,3,6,4,6,5,1,3,6,4,9,5,3,7,2,5,4,28,26,30,27,28,19,20,18,20,15,15,5,4,7,0,2,2,4,354,2,7,5,4,4,6,6,4,6,6,3,6,4,8,3,5,2,5,5,4,22,37,33,26,26,24,15,17,18,10,6,8,9,8,0,1,1,2,9,null,null,57,30,63,142,66,59,27,68,141,59,26,22,27,21,28,26,30,27,28,19,20,18,20,15,15,5,4,7,22,28,24,21,22,37,33,26,26,24,15,17,18,10,6,8,9,8]
["021013","ANCASH","ANCASH","HUARI","RAPAYAN",{"v":1428,"d":"1,428"},696,10,6,17,17,10,13,7,7,10,12,7,12,4,14,13,14,14,14,9,12,44,61,51,70,57,43,26,38,29,18,15,7,9,6,2,4,6,11,732,10,6,11,7,17,11,11,8,6,14,10,18,7,22,18,16,23,19,13,12,53,62,64,53,38,33,34,23,25,28,17,17,12,14,1,5,5,11,32,null,null,128,73,126,285,84,129,105,140,245,113,60,49,50,63,44,61,51,70,57,43,26,38,29,18,15,7,9,6,51,50,75,83,53,62,64,53,38,33,34,23,25,28,17,17,12,14]
["021014","ANCASH","ANCASH","HUARI","SAN MARCOS",{"v":20237,"d":"20,237"},{"v":10369,"d":"10,369"},155,138,161,166,147,164,167,161,209,190,177,164,163,130,138,124,158,136,161,148,718,969,{"v":1102,"d":"1,102"},{"v":1049,"d":"1,049"},783,589,408,424,371,263,196,147,97,96,15,87,68,164,{"v":9868,"d":"9,868"},182,144,145,149,151,162,142,153,170,175,152,143,142,114,119,118,135,121,155,136,735,{"v":1045,"d":"1,045"},{"v":1023,"d":"1,023"},904,634,487,422,400,384,266,227,156,138,139,24,95,87,193,449,null,null,{"v":1999,"d":"1,999"},849,{"v":1996,"d":"1,996"},{"v":4355,"d":"4,355"},{"v":1170,"d":"1,170"},{"v":1868,"d":"1,868"},749,{"v":2071,"d":"2,071"},{"v":3870,"d":"3,870"},{"v":1310,"d":"1,310"},767,891,772,727,718,969,{"v":1102,"d":"1,102"},{"v":1049,"d":"1,049"},783,589,408,424,371,263,196,147,97,96,771,802,670,665,735,{"v":1045,"d":"1,045"},{"v":1023,"d":"1,023"},904,634,487,422,400,384,266,227,156,138,139]
["021015","ANCASH","ANCASH","HUARI","SAN PEDRO DE CHANA",{"v":2778,"d":"2,778"},{"v":1364,"d":"1,364"},28,26,30,31,37,45,26,25,27,28,17,28,16,18,17,20,21,17,24,25,91,126,128,122,78,74,58,45,59,26,22,14,9,6,4,13,15,30,{"v":1414,"d":"1,414"},30,28,31,34,37,34,27,30,21,20,18,30,17,19,19,20,31,23,31,20,121,138,120,106,86,76,56,51,36,33,21,18,17,15,2,11,19,32,104,null,null,348,109,266,505,136,340,129,310,495,140,152,151,96,107,91,126,128,122,78,74,58,45,59,26,22,14,9,6,160,132,103,125,121,138,120,106,86,76,56,51,36,33,21,18,17,15]
["021016","ANCASH","ANCASH","HUARI","UCO",{"v":1253,"d":"1,253"},626,11,4,6,8,12,8,6,4,7,5,7,6,9,8,11,9,10,10,12,6,37,53,64,63,40,37,31,38,38,22,12,12,12,8,0,3,8,12,627,8,6,6,8,12,8,5,4,7,10,6,5,8,7,7,7,6,11,10,10,43,48,61,58,29,40,31,33,29,19,21,23,20,21,2,5,3,8,26,null,null,84,57,108,273,104,85,46,111,252,133,41,30,41,47,37,53,64,63,40,37,31,38,38,22,12,12,12,8,40,34,33,44,43,48,61,58,29,40,31,33,29,19,21,23,20,21]
["021101","ANCASH","ANCASH","HUARMEY","HUARMEY",{"v":27911,"d":"27,911"},{"v":14135,"d":"14,135"},165,179,216,188,207,225,279,299,301,313,270,207,216,213,198,239,261,235,230,225,837,{"v":1079,"d":"1,079"},{"v":1167,"d":"1,167"},{"v":1091,"d":"1,091"},962,874,790,722,620,433,351,247,162,134,12,76,89,175,{"v":13776,"d":"13,776"},176,182,199,202,204,251,290,262,250,255,293,228,238,235,211,232,256,243,189,169,938,{"v":1188,"d":"1,188"},{"v":1107,"d":"1,107"},{"v":1093,"d":"1,093"},920,812,738,615,516,404,342,232,168,138,8,78,98,187,791,null,null,{"v":2849,"d":"2,849"},{"v":1362,"d":"1,362"},{"v":2371,"d":"2,371"},{"v":5606,"d":"5,606"},{"v":1947,"d":"1,947"},{"v":2792,"d":"2,792"},{"v":1415,"d":"1,415"},{"v":2484,"d":"2,484"},{"v":5285,"d":"5,285"},{"v":1800,"d":"1,800"},955,{"v":1417,"d":"1,417"},{"v":1104,"d":"1,104"},{"v":1190,"d":"1,190"},837,{"v":1079,"d":"1,079"},{"v":1167,"d":"1,167"},{"v":1091,"d":"1,091"},962,874,790,722,620,433,351,247,162,134,963,{"v":1308,"d":"1,308"},{"v":1205,"d":"1,205"},{"v":1089,"d":"1,089"},938,{"v":1188,"d":"1,188"},{"v":1107,"d":"1,107"},{"v":1093,"d":"1,093"},920,812,738,615,516,404,342,232,168,138]
["021102","ANCASH","ANCASH","HUARMEY","COCHAPETI",816,416,8,3,7,3,2,2,6,6,6,2,5,8,4,8,5,2,8,9,7,4,22,26,37,33,35,45,20,22,20,16,13,8,6,8,1,6,2,8,400,2,2,4,8,4,6,7,4,4,5,4,6,3,6,4,9,6,13,3,2,25,26,36,44,33,24,13,18,17,19,13,7,8,15,0,2,0,2,12,null,null,58,36,59,192,71,56,41,56,168,79,23,22,30,30,22,26,37,33,35,45,20,22,20,16,13,8,6,8,20,26,23,33,25,26,36,44,33,24,13,18,17,19,13,7,8,15]
["021103","ANCASH","ANCASH","HUARMEY","CULEBRAS",{"v":3380,"d":"3,380"},{"v":1665,"d":"1,665"},14,18,28,21,49,34,33,33,39,35,18,26,26,32,26,12,35,23,22,24,95,102,122,136,149,115,91,75,66,66,44,22,12,22,1,10,4,15,{"v":1715,"d":"1,715"},23,21,29,26,23,27,32,30,33,31,22,33,33,40,29,24,38,20,28,23,117,135,136,144,127,121,87,72,81,44,34,17,17,18,2,12,11,24,117,null,null,348,154,243,688,232,330,184,303,687,211,130,174,128,116,95,102,122,136,149,115,91,75,66,66,44,22,12,22,122,153,157,133,117,135,136,144,127,121,87,72,81,44,34,17,17,18]
["021104","ANCASH","ANCASH","HUARMEY","HUAYAN",957,472,7,3,6,13,7,3,1,1,2,1,4,2,13,3,6,12,12,13,11,6,20,28,26,20,38,34,30,30,33,34,15,13,7,18,1,3,4,7,485,2,5,3,6,8,9,1,2,2,3,5,3,16,4,6,12,11,9,4,5,27,35,36,35,38,29,39,29,17,18,16,14,20,16,0,0,2,2,12,null,null,50,59,65,178,120,49,58,71,206,101,36,8,28,54,20,28,26,20,38,34,30,30,33,34,15,13,7,18,24,17,34,41,27,35,36,35,38,29,39,29,17,18,16,14,20,16]
["021105","ANCASH","ANCASH","HUARMEY","MALVAS",813,385,4,4,5,5,6,6,5,4,3,2,2,2,6,2,4,3,7,4,2,3,22,23,31,27,28,22,28,25,20,24,20,16,12,8,0,3,1,4,428,7,6,3,8,10,10,11,2,2,2,2,2,8,2,5,6,2,7,7,2,20,28,23,36,29,33,21,22,27,19,13,17,16,20,1,4,3,7,13,null,null,48,26,50,161,100,65,30,57,164,112,24,20,16,19,22,23,31,27,28,22,28,25,20,24,20,16,12,8,34,27,19,24,20,28,23,36,29,33,21,22,27,19,13,17,16,20]
["021201","ANCASH","ANCASH","HUAYLAS","CARAZ",{"v":27090,"d":"27,090"},{"v":13706,"d":"13,706"},254,243,288,260,259,289,273,243,276,250,239,204,223,247,269,255,268,262,255,229,948,{"v":1060,"d":"1,060"},{"v":1038,"d":"1,038"},{"v":1060,"d":"1,060"},858,852,621,612,512,368,298,176,105,112,19,126,128,269,{"v":13384,"d":"13,384"},203,223,243,261,272,268,250,248,237,240,229,199,218,240,252,244,258,258,274,211,962,{"v":1083,"d":"1,083"},{"v":1053,"d":"1,053"},954,883,737,606,569,482,356,333,196,151,191,15,79,124,215,919,null,null,{"v":3078,"d":"3,078"},{"v":1524,"d":"1,524"},{"v":2492,"d":"2,492"},{"v":5041,"d":"5,041"},{"v":1571,"d":"1,571"},{"v":2873,"d":"2,873"},{"v":1470,"d":"1,470"},{"v":2530,"d":"2,530"},{"v":4802,"d":"4,802"},{"v":1709,"d":"1,709"},{"v":1304,"d":"1,304"},{"v":1331,"d":"1,331"},{"v":1182,"d":"1,182"},{"v":1269,"d":"1,269"},948,{"v":1060,"d":"1,060"},{"v":1038,"d":"1,038"},{"v":1060,"d":"1,060"},858,852,621,612,512,368,298,176,105,112,{"v":1202,"d":"1,202"},{"v":1243,"d":"1,243"},{"v":1138,"d":"1,138"},{"v":1245,"d":"1,245"},962,{"v":1083,"d":"1,083"},{"v":1053,"d":"1,053"},954,883,737,606,569,482,356,333,196,151,191]
["021202","ANCASH","ANCASH","HUAYLAS","HUALLANCA",{"v":1145,"d":"1,145"},571,8,3,7,7,4,6,12,8,9,7,7,9,10,5,7,8,7,8,9,5,28,37,45,43,41,44,37,29,42,25,19,14,13,8,2,5,3,8,574,3,9,7,8,6,1,13,6,8,6,10,12,14,8,11,8,4,4,6,7,28,39,53,42,48,36,37,26,23,25,21,18,15,12,0,1,2,3,18,null,null,87,45,79,239,121,89,49,80,242,114,29,42,38,37,28,37,45,43,41,44,37,29,42,25,19,14,13,8,33,34,55,29,28,39,53,42,48,36,37,26,23,25,21,18,15,12]
["021203","ANCASH","ANCASH","HUAYLAS","HUATA",{"v":1317,"d":"1,317"},644,9,8,9,9,5,10,7,5,5,9,9,6,8,7,11,16,15,13,15,16,44,36,49,44,50,42,41,26,35,26,25,17,5,12,0,3,6,10,673,8,8,10,6,7,3,4,7,7,5,11,9,12,10,18,11,15,20,18,10,51,52,42,43,39,41,35,35,32,32,24,16,13,19,0,5,3,8,35,null,null,91,70,111,252,120,85,86,131,235,136,40,36,41,75,44,36,49,44,50,42,41,26,35,26,25,17,5,12,39,26,60,74,51,52,42,43,39,41,35,35,32,32,24,16,13,19]
["021204","ANCASH","ANCASH","HUAYLAS","HUAYLAS",{"v":1651,"d":"1,651"},845,3,8,12,13,4,10,12,14,13,14,9,10,10,10,10,11,16,11,15,15,54,60,67,45,57,44,54,65,51,39,32,23,17,17,1,1,2,3,806,7,7,4,7,6,12,6,10,14,13,10,11,12,11,13,16,14,10,19,11,46,48,51,51,38,37,46,49,42,48,47,28,29,33,2,3,4,7,12,null,null,122,68,144,332,179,107,76,124,272,227,40,63,49,68,54,60,67,45,57,44,54,65,51,39,32,23,17,17,31,55,57,70,46,48,51,51,38,37,46,49,42,48,47,28,29,33]
["021205","ANCASH","ANCASH","HUAYLAS","MATO",{"v":1907,"d":"1,907"},950,8,22,17,14,15,22,11,12,22,9,6,12,12,12,7,9,14,16,15,21,71,74,61,74,58,68,57,54,37,44,30,19,12,15,0,4,4,8,957,7,9,20,18,14,15,13,18,18,10,6,11,12,11,8,13,16,14,20,12,71,86,69,67,60,60,54,45,50,41,26,16,23,24,1,4,3,7,23,null,null,170,70,181,372,157,159,74,189,355,180,76,76,49,75,71,74,61,74,58,68,57,54,37,44,30,19,12,15,68,74,48,75,71,86,69,67,60,60,54,45,50,41,26,16,23,24]
["021206","ANCASH","ANCASH","HUAYLAS","PAMPAROMAS",{"v":8509,"d":"8,509"},{"v":4300,"d":"4,300"},70,76,83,84,69,74,74,99,95,93,61,93,79,103,99,96,110,117,97,93,324,301,288,295,245,222,171,168,141,123,98,64,53,42,7,36,34,74,{"v":4209,"d":"4,209"},66,61,65,74,85,80,80,76,88,81,59,92,78,103,96,95,121,113,92,91,379,321,271,278,227,214,151,136,150,106,90,69,62,59,4,32,34,70,328,null,null,971,604,815,{"v":1389,"d":"1,389"},521,907,606,883,{"v":1277,"d":"1,277"},536,382,435,435,513,324,301,288,295,245,222,171,168,141,123,98,64,53,42,351,405,428,512,379,321,271,278,227,214,151,136,150,106,90,69,62,59]
["021207","ANCASH","ANCASH","HUAYLAS","PUEBLO LIBRE",{"v":7032,"d":"7,032"},{"v":3571,"d":"3,571"},33,37,46,40,50,71,69,51,55,62,46,63,67,56,71,75,83,68,54,62,294,315,278,339,213,199,156,175,124,111,84,51,37,36,1,17,16,35,{"v":3461,"d":"3,461"},31,43,48,60,44,59,58,40,47,56,42,59,63,52,63,62,67,80,67,57,275,296,300,286,222,192,160,137,134,97,80,63,61,60,3,18,13,33,162,null,null,623,420,725,{"v":1360,"d":"1,360"},443,587,387,695,{"v":1297,"d":"1,297"},495,206,308,303,342,294,315,278,339,213,199,156,175,124,111,84,51,37,36,226,260,279,333,275,296,300,286,222,192,160,137,134,97,80,63,61,60]
["021208","ANCASH","ANCASH","HUAYLAS","SANTA CRUZ",{"v":4648,"d":"4,648"},{"v":2337,"d":"2,337"},33,30,39,44,56,45,31,41,33,44,41,32,31,38,35,38,60,44,48,35,158,190,186,186,162,174,110,95,95,60,49,36,18,20,2,16,17,35,{"v":2311,"d":"2,311"},31,33,33,37,38,48,29,43,27,26,42,33,32,39,33,39,56,50,36,41,174,208,197,196,163,130,91,100,83,66,59,44,24,30,3,12,19,33,182,null,null,469,246,431,913,278,420,249,459,877,306,202,194,177,225,158,190,186,186,162,174,110,95,95,60,49,36,18,20,172,173,179,222,174,208,197,196,163,130,91,100,83,66,59,44,24,30]
["021209","ANCASH","ANCASH","HUAYLAS","SANTO TORIBIO",{"v":1056,"d":"1,056"},521,10,6,12,9,10,7,4,8,8,4,10,5,5,9,6,11,8,10,7,6,34,37,31,30,31,24,28,34,32,19,24,17,11,14,0,7,3,11,535,10,9,12,8,10,8,4,5,5,9,10,7,7,10,7,8,12,6,12,12,33,36,37,30,27,28,23,23,22,28,20,17,16,24,1,5,5,11,30,null,null,93,49,84,178,117,97,50,93,168,127,47,31,35,42,34,37,31,30,31,24,28,34,32,19,24,17,11,14,49,31,41,50,33,36,37,30,27,28,23,23,22,28,20,17,16,24]
["021210","ANCASH","ANCASH","HUAYLAS","YURACMARCA",{"v":2191,"d":"2,191"},{"v":1089,"d":"1,089"},17,17,12,15,15,22,18,20,23,21,21,19,17,22,11,17,16,25,17,17,78,83,98,86,77,68,53,45,38,39,29,13,9,11,3,9,8,18,{"v":1102,"d":"1,102"},19,17,15,22,23,24,24,21,15,22,20,18,16,22,11,18,19,24,8,28,89,99,90,75,71,67,38,54,31,25,27,18,14,18,1,11,8,20,60,null,null,220,108,195,427,139,240,110,224,395,133,76,104,90,92,78,83,98,86,77,68,53,45,38,39,29,13,9,11,96,106,87,97,89,99,90,75,71,67,38,54,31,25,27,18,14,18]
["021301","ANCASH","ANCASH","MARISCAL LUZURIAGA","PISCOBAMBA",{"v":3017,"d":"3,017"},{"v":1566,"d":"1,566"},27,16,18,21,36,19,25,38,21,26,28,32,25,33,26,31,40,41,32,20,112,107,101,92,102,76,87,93,70,52,51,31,20,17,3,15,12,29,{"v":1451,"d":"1,451"},18,24,21,33,29,26,22,23,27,32,26,30,24,31,23,33,23,23,16,20,106,97,99,82,86,73,82,69,50,42,49,49,30,33,1,3,15,19,110,null,null,307,196,271,551,241,311,157,239,491,253,118,129,144,164,112,107,101,92,102,76,87,93,70,52,51,31,20,17,125,130,134,115,106,97,99,82,86,73,82,69,50,42,49,49,30,33]
["021302","ANCASH","ANCASH","MARISCAL LUZURIAGA","CASCA",{"v":3849,"d":"3,849"},{"v":1965,"d":"1,965"},21,27,18,27,26,30,35,34,28,31,39,49,34,38,36,42,43,44,51,33,147,135,127,168,147,112,88,85,87,48,56,29,34,16,5,15,6,22,{"v":1884,"d":"1,884"},30,27,20,27,27,31,33,29,25,26,33,41,29,33,29,45,48,40,42,24,151,140,146,128,112,94,72,69,64,61,71,59,48,30,3,17,13,32,132,null,null,365,237,366,727,270,349,224,357,621,333,119,158,196,213,147,135,127,168,147,112,88,85,87,48,56,29,34,16,131,144,165,199,151,140,146,128,112,94,72,69,64,61,71,59,48,30]
["021303","ANCASH","ANCASH","MARISCAL LUZURIAGA","ELEAZAR GUZMAN BARRON",{"v":1367,"d":"1,367"},684,2,7,9,8,6,10,14,13,14,12,17,11,11,18,20,10,26,25,14,11,45,45,34,46,46,29,26,47,38,24,21,9,7,9,0,1,1,2,683,14,7,16,5,17,12,7,16,17,9,18,12,12,19,21,16,29,14,14,7,45,30,51,38,32,33,29,34,30,14,17,21,11,16,1,7,7,15,40,null,null,123,110,115,228,108,150,111,96,217,109,32,63,77,86,45,45,34,46,46,29,26,47,38,24,21,9,7,9,59,61,82,80,45,30,51,38,32,33,29,34,30,14,17,21,11,16]
["021304","ANCASH","ANCASH","MARISCAL LUZURIAGA","FIDEL OLIVAS ESCUDERO",{"v":1868,"d":"1,868"},937,12,11,15,12,12,13,13,16,17,17,11,21,17,16,27,17,30,24,14,23,59,69,78,84,59,47,42,45,36,26,17,16,8,13,1,8,4,13,931,11,9,8,17,10,17,14,17,15,16,11,25,20,18,29,21,29,25,15,11,69,84,75,71,34,49,35,39,34,20,29,26,14,14,0,3,8,12,66,null,null,170,131,165,355,116,170,142,179,303,137,62,76,92,108,59,69,78,84,59,47,42,45,36,26,17,16,8,13,55,79,103,101,69,84,75,71,34,49,35,39,34,20,29,26,14,14]
["021305","ANCASH","ANCASH","MARISCAL LUZURIAGA","LLAMA",937,450,4,2,3,5,10,7,5,5,4,6,17,5,8,8,5,9,8,8,8,6,23,29,31,36,39,27,23,25,18,12,21,17,11,5,0,1,3,4,487,8,4,4,8,5,4,2,2,5,8,11,4,6,6,3,14,12,14,12,3,29,35,33,37,34,30,20,19,25,18,20,20,21,11,1,4,4,8,16,null,null,73,46,66,181,84,65,55,79,173,115,24,27,43,39,23,29,31,36,39,27,23,25,18,12,21,17,11,5,29,21,30,55,29,35,33,37,34,30,20,19,25,18,20,20,21,11]
["021306","ANCASH","ANCASH","MARISCAL LUZURIAGA","LLUMPA",{"v":6134,"d":"6,134"},{"v":3061,"d":"3,061"},30,27,45,48,61,55,44,73,60,50,54,54,58,68,61,87,83,71,83,72,264,259,235,235,181,182,110,126,90,67,62,34,14,18,1,16,14,32,{"v":3073,"d":"3,073"},38,47,39,37,39,39,58,70,47,44,60,62,67,78,68,80,80,73,79,75,271,217,233,208,187,149,109,120,113,67,81,59,47,32,4,14,24,40,183,null,null,601,428,678,{"v":1069,"d":"1,069"},285,580,446,642,{"v":1006,"d":"1,006"},399,211,282,295,396,264,259,235,235,181,182,110,126,90,67,62,34,14,18,200,258,335,387,271,217,233,208,187,149,109,120,113,67,81,59,47,32]
["021307","ANCASH","ANCASH","MARISCAL LUZURIAGA","LUCMA",{"v":2718,"d":"2,718"},{"v":1384,"d":"1,384"},17,19,20,22,27,24,22,17,21,23,28,23,23,33,28,30,31,29,26,21,125,108,105,104,84,73,58,71,54,43,38,16,12,9,0,8,9,18,{"v":1334,"d":"1,334"},10,10,17,14,19,22,13,22,23,23,25,21,21,30,23,29,30,24,23,24,106,100,117,92,82,84,54,54,52,57,40,30,22,21,1,5,5,11,79,null,null,263,174,280,495,172,219,157,253,483,222,105,107,135,137,125,108,105,104,84,73,58,71,54,43,38,16,12,9,70,103,120,130,106,100,117,92,82,84,54,54,52,57,40,30,22,21]
["021308","ANCASH","ANCASH","MARISCAL LUZURIAGA","MUSGA",959,480,1,4,2,4,1,2,4,7,2,9,11,7,6,10,10,12,5,8,10,6,35,22,37,44,43,31,30,31,21,25,13,11,8,8,0,0,1,1,479,5,4,7,3,1,5,3,2,6,9,9,7,6,9,11,8,10,11,7,5,36,35,36,51,36,27,23,25,21,15,12,18,7,9,0,1,4,5,19,null,null,54,51,73,216,86,61,55,83,198,82,12,24,44,41,35,22,37,44,43,31,30,31,21,25,13,11,8,8,20,25,42,41,36,35,36,51,36,27,23,25,21,15,12,18,7,9]
["021401","ANCASH","ANCASH","OCROS","OCROS",{"v":1176,"d":"1,176"},603,4,7,11,8,5,14,10,8,8,5,16,9,8,11,6,10,6,8,8,7,27,33,36,38,44,43,27,39,35,26,26,26,18,16,0,2,2,4,573,5,4,12,7,8,7,11,6,7,6,16,9,9,11,7,11,7,14,11,10,26,32,38,47,33,25,28,31,36,28,23,19,11,18,0,1,4,5,12,null,null,105,49,75,227,147,98,59,79,202,135,35,45,50,39,27,33,36,38,44,43,27,39,35,26,26,26,18,16,36,37,52,53,26,32,38,47,33,25,28,31,36,28,23,19,11,18]
["021402","ANCASH","ANCASH","OCROS","ACAS",566,283,2,3,1,2,1,3,4,4,0,2,1,1,7,4,5,4,8,1,0,1,12,21,17,26,31,20,13,14,27,17,14,9,4,4,0,0,2,2,283,0,2,2,2,2,4,3,5,1,1,1,1,5,3,2,3,1,9,1,3,18,16,22,30,22,16,12,20,16,18,8,10,9,15,0,0,0,0,3,null,null,24,29,34,121,75,24,23,38,122,76,9,13,18,14,12,21,17,26,31,20,13,14,27,17,14,9,4,4,8,14,12,17,18,16,22,30,22,16,12,20,16,18,8,10,9,15]
["021403","ANCASH","ANCASH","OCROS","CAJAMARQUILLA",271,138,0,0,0,2,1,1,0,3,0,6,2,0,2,1,0,3,3,4,1,3,2,6,19,10,11,9,9,10,11,6,4,4,1,4,0,0,0,0,133,1,0,0,1,1,0,0,1,6,3,4,0,4,3,0,7,3,3,3,1,6,7,6,10,9,1,9,3,4,9,14,4,3,7,0,0,1,1,3,null,null,15,13,12,68,30,17,20,17,38,41,3,10,5,14,2,6,19,10,11,9,9,10,11,6,4,4,1,4,3,10,11,17,6,7,6,10,9,1,9,3,4,9,14,4,3,7]
["021404","ANCASH","ANCASH","OCROS","CARHUAPAMPA",441,234,2,4,2,3,2,1,0,3,3,6,2,3,3,1,2,5,2,2,1,2,4,12,12,18,15,15,16,23,20,10,15,16,6,3,0,1,1,2,207,1,1,2,0,1,3,4,2,2,3,2,3,3,1,0,1,3,1,2,1,6,14,15,9,11,11,14,15,21,16,5,10,11,13,0,0,1,1,4,null,null,31,15,19,99,70,24,9,23,75,76,13,13,11,12,4,12,12,18,15,15,16,23,20,10,15,16,6,3,5,14,9,8,6,14,15,9,11,11,14,15,21,16,5,10,11,13]
["021405","ANCASH","ANCASH","OCROS","COCHAS",{"v":1602,"d":"1,602"},794,12,12,10,12,4,12,5,9,8,20,4,8,8,7,10,10,13,6,10,13,30,60,59,78,75,62,51,47,46,35,24,15,9,10,1,8,4,13,808,12,10,12,7,9,8,10,10,8,9,7,16,15,14,21,17,14,18,9,16,37,52,83,74,76,44,45,46,33,20,24,14,13,5,3,5,7,13,36,null,null,116,54,113,372,139,118,99,114,368,109,50,54,37,52,30,60,59,78,75,62,51,47,46,35,24,15,9,10,50,45,73,74,37,52,83,74,76,44,45,46,33,20,24,14,13,5]
["021406","ANCASH","ANCASH","OCROS","CONGAS",{"v":1239,"d":"1,239"},586,5,2,3,3,4,8,11,17,11,9,10,10,11,11,9,11,14,14,13,8,37,30,37,34,32,46,26,31,26,35,21,18,11,18,0,2,3,5,653,5,1,5,4,5,3,14,14,10,8,9,10,11,12,12,12,19,16,23,9,44,38,39,46,44,37,34,36,28,20,12,27,21,25,1,2,3,5,13,null,null,93,70,88,206,129,88,82,114,236,133,17,56,51,60,37,30,37,34,32,46,26,31,26,35,21,18,11,18,20,49,54,79,44,38,39,46,44,37,34,36,28,20,12,27,21,25]
["021407","ANCASH","ANCASH","OCROS","LLIPA",235,122,0,0,1,0,1,2,2,0,5,1,2,2,0,2,1,2,3,1,1,1,3,10,4,0,6,16,6,12,11,12,6,4,2,3,0,0,0,0,113,0,0,1,0,1,2,4,1,1,0,1,1,0,1,1,0,2,0,1,1,6,5,8,7,8,8,4,5,8,14,4,5,7,6,0,0,0,0,1,null,null,16,9,15,44,38,12,4,13,40,44,2,10,7,8,3,10,4,0,6,16,6,12,11,12,6,4,2,3,2,8,4,4,6,5,8,7,8,8,4,5,8,14,4,5,7,6]
["021408","ANCASH","ANCASH","OCROS","SAN CRISTOBAL DE RAJAN",389,213,2,0,0,0,1,2,2,2,0,4,0,2,2,1,1,1,1,2,1,1,11,17,14,21,26,21,8,22,15,4,8,8,3,10,0,1,1,2,176,1,0,3,1,3,2,2,3,1,1,0,3,3,2,0,4,4,3,6,1,8,13,13,12,11,10,8,9,10,12,4,6,10,7,1,1,0,1,5,null,null,15,8,30,112,48,20,16,28,63,49,3,10,6,6,11,17,14,21,26,21,8,22,15,4,8,8,3,10,8,9,8,18,8,13,13,12,11,10,8,9,10,12,4,6,10,7]
["021409","ANCASH","ANCASH","OCROS","SAN PEDRO",468,219,3,1,7,2,3,4,2,1,5,2,3,2,2,3,2,4,4,3,2,2,6,11,19,20,19,16,10,17,8,12,5,7,6,6,0,2,1,3,249,2,8,1,0,1,2,2,2,5,2,2,1,1,2,2,5,2,5,1,5,14,26,15,16,21,16,15,10,16,15,9,8,8,9,0,1,1,2,7,null,null,35,18,21,101,44,28,17,46,93,65,16,14,12,15,6,11,19,20,19,16,10,17,8,12,5,7,6,6,12,13,8,18,14,26,15,16,21,16,15,10,16,15,9,8,8,9]
["021410","ANCASH","ANCASH","OCROS","SANTIAGO DE CHILCAS",457,228,2,0,1,1,1,1,2,9,3,10,2,2,3,3,9,3,7,0,3,2,6,8,19,18,11,16,10,8,20,12,8,12,8,8,0,0,2,2,229,2,1,2,0,1,2,8,3,5,6,2,2,3,3,6,2,2,3,3,2,10,15,13,20,15,5,5,12,16,18,14,8,7,13,0,0,2,2,9,null,null,34,25,19,82,68,34,19,30,70,76,5,25,19,15,6,8,19,18,11,16,10,8,20,12,8,12,8,8,6,24,16,12,10,15,13,20,15,5,5,12,16,18,14,8,7,13]
["021501","ANCASH","ANCASH","PALLASCA","CABANA",{"v":2463,"d":"2,463"},{"v":1255,"d":"1,255"},13,15,17,21,24,17,23,28,24,36,23,20,17,19,23,20,20,25,16,17,65,89,94,82,83,76,61,69,65,52,37,28,22,14,0,3,10,14,{"v":1208,"d":"1,208"},19,16,18,19,16,19,23,27,28,18,24,22,19,21,23,24,22,16,19,15,78,81,74,81,69,68,47,66,53,53,43,26,25,36,0,11,8,20,74,null,null,261,124,187,465,218,249,125,193,405,236,90,128,102,98,65,89,94,82,83,76,61,69,65,52,37,28,22,14,88,115,109,96,78,81,74,81,69,68,47,66,53,53,43,26,25,36]
["021502","ANCASH","ANCASH","PALLASCA","BOLOGNESI",977,474,8,10,10,16,12,10,11,10,13,16,5,5,11,8,8,6,7,12,14,7,24,27,21,30,28,28,26,25,12,19,14,8,10,3,0,2,6,8,503,7,15,5,11,10,12,9,13,9,12,5,5,11,9,8,14,15,9,4,9,36,33,32,26,33,27,22,23,21,16,13,9,9,11,0,5,2,7,35,null,null,126,52,72,158,66,113,66,82,163,79,56,60,37,46,24,27,21,30,28,28,26,25,12,19,14,8,10,3,48,55,38,51,36,33,32,26,33,27,22,23,21,16,13,9,9,11]
["021503","ANCASH","ANCASH","PALLASCA","CONCHUCOS",{"v":7499,"d":"7,499"},{"v":3751,"d":"3,751"},53,66,68,75,101,88,85,100,97,88,84,76,79,88,90,85,103,85,87,71,250,235,224,234,197,184,134,189,148,101,86,40,34,26,2,27,26,56,{"v":3748,"d":"3,748"},59,54,56,85,85,87,78,80,88,80,86,79,82,92,91,89,91,89,77,68,265,272,254,239,184,167,136,157,124,111,77,64,58,44,3,30,29,63,199,null,null,981,530,643,{"v":1162,"d":"1,162"},435,917,534,682,{"v":1137,"d":"1,137"},478,363,458,417,431,250,235,224,234,197,184,134,189,148,101,86,40,34,26,339,413,430,414,265,272,254,239,184,167,136,157,124,111,77,64,58,44]
["021504","ANCASH","ANCASH","PALLASCA","HUACASCHUQUE",512,265,6,3,6,6,5,5,6,6,6,8,6,6,2,6,4,9,5,4,4,1,14,14,18,23,16,14,12,11,7,10,6,6,4,6,0,5,1,6,247,4,3,3,6,6,6,2,8,4,6,5,5,2,5,2,8,7,7,4,5,11,21,18,18,15,7,12,9,13,7,5,5,4,4,0,4,0,4,15,null,null,69,30,33,94,39,58,31,41,79,38,26,31,24,23,14,14,18,23,16,14,12,11,7,10,6,6,4,6,22,26,19,31,11,21,18,18,15,7,12,9,13,7,5,5,4,4]
["021505","ANCASH","ANCASH","PALLASCA","HUANDOVAL",{"v":1023,"d":"1,023"},516,6,7,6,6,4,15,14,16,11,14,14,12,10,5,8,10,5,10,10,6,23,35,30,38,32,29,32,24,26,19,12,11,6,10,0,2,4,6,507,7,7,3,10,8,8,8,11,11,17,11,10,8,5,7,12,10,10,5,7,33,31,34,47,37,33,19,12,16,13,21,10,18,8,1,5,2,7,31,null,null,125,48,74,185,84,111,52,76,182,86,29,70,49,41,23,35,30,38,32,29,32,24,26,19,12,11,6,10,35,55,41,44,33,31,34,47,37,33,19,12,16,13,21,10,18,8]
["021506","ANCASH","ANCASH","PALLASCA","LACABAMBA",503,253,1,6,3,6,6,1,5,5,6,4,2,4,4,3,2,4,4,3,5,4,12,23,23,17,16,10,14,10,14,12,6,8,7,3,0,1,0,1,250,4,5,3,5,6,4,3,6,5,6,2,4,4,3,2,5,2,3,3,1,14,24,18,21,9,18,14,16,7,9,7,5,4,8,1,4,0,4,7,null,null,49,20,44,90,50,53,19,42,96,40,22,21,15,20,12,23,23,17,16,10,14,10,14,12,6,8,7,3,23,24,15,14,14,24,18,21,9,18,14,16,7,9,7,5,4,8]
["021507","ANCASH","ANCASH","PALLASCA","LLAPO",569,289,1,3,2,4,5,6,3,2,12,4,2,4,9,4,11,8,7,5,6,4,13,17,17,14,23,16,15,22,10,16,8,5,5,6,1,1,0,1,280,2,0,1,3,1,2,5,6,3,6,2,4,7,4,8,9,10,5,7,5,24,21,19,26,15,17,13,8,9,11,5,6,9,7,0,2,0,2,5,null,null,48,44,40,107,50,35,43,57,98,47,15,27,30,30,13,17,17,14,23,16,15,22,10,16,8,5,5,6,7,22,25,36,24,21,19,26,15,17,13,8,9,11,5,6,9,7]
["021508","ANCASH","ANCASH","PALLASCA","PALLASCA",{"v":2387,"d":"2,387"},{"v":1197,"d":"1,197"},19,12,13,23,20,21,23,14,25,28,24,22,21,18,20,22,20,20,24,18,76,86,61,100,65,59,63,77,61,37,43,24,23,15,0,6,13,20,{"v":1190,"d":"1,190"},15,16,15,19,17,18,11,20,21,26,27,26,25,21,21,26,19,23,22,19,59,80,86,90,73,59,49,60,52,41,45,30,25,34,1,6,9,16,86,null,null,244,121,204,425,203,231,135,180,417,227,87,111,105,104,76,86,61,100,65,59,63,77,61,37,43,24,23,15,82,96,120,109,59,80,86,90,73,59,49,60,52,41,45,30,25,34]
["021509","ANCASH","ANCASH","PALLASCA","PAMPAS",{"v":3314,"d":"3,314"},{"v":1698,"d":"1,698"},29,50,35,33,40,27,30,35,28,33,30,38,39,34,32,39,40,37,28,30,107,113,89,115,94,90,69,93,82,45,46,27,28,13,1,10,19,31,{"v":1616,"d":"1,616"},33,41,29,36,42,41,25,31,35,26,27,37,38,33,28,30,33,37,27,19,110,107,86,101,77,80,71,71,67,50,44,39,34,31,4,18,15,35,89,null,null,408,221,278,550,241,403,199,263,486,265,187,153,173,174,107,113,89,115,94,90,69,93,82,45,46,27,28,13,181,158,163,146,110,107,86,101,77,80,71,71,67,50,44,39,34,31]
["021510","ANCASH","ANCASH","PALLASCA","SANTA ROSA",{"v":1089,"d":"1,089"},536,4,9,6,7,7,6,8,7,5,5,3,8,5,5,4,8,14,10,6,5,35,31,28,34,40,42,38,42,37,24,20,19,6,8,0,1,3,4,553,4,6,8,4,12,6,6,4,9,6,6,12,8,8,6,6,19,9,3,13,31,35,37,45,28,25,34,24,34,32,21,18,17,17,1,2,2,4,11,null,null,75,46,77,224,114,83,56,82,193,139,33,31,25,43,35,31,28,34,40,42,38,42,37,24,20,19,6,8,34,31,40,50,31,35,37,45,28,25,34,24,34,32,21,18,17,17]
["021511","ANCASH","ANCASH","PALLASCA","TAUCA",{"v":2575,"d":"2,575"},{"v":1320,"d":"1,320"},11,9,21,15,17,19,24,26,24,27,28,21,26,20,24,30,26,34,23,27,102,70,83,82,72,82,74,66,75,46,39,29,24,24,2,9,2,12,{"v":1255,"d":"1,255"},20,7,15,12,15,21,13,23,24,29,26,21,25,20,20,23,29,24,20,19,76,79,84,90,67,68,53,69,67,46,47,40,34,29,1,8,12,21,71,null,null,242,160,222,459,237,226,141,194,431,263,73,120,119,140,102,70,83,82,72,82,74,66,75,46,39,29,24,24,69,110,112,115,76,79,84,90,67,68,53,69,67,46,47,40,34,29]
["021601","ANCASH","ANCASH","POMABAMBA","POMABAMBA",{"v":14436,"d":"14,436"},{"v":7381,"d":"7,381"},104,112,130,125,132,113,146,146,162,151,163,160,183,193,170,179,177,175,168,131,526,440,457,453,448,396,339,353,267,222,185,122,95,58,8,53,51,110,{"v":7055,"d":"7,055"},104,107,135,104,126,107,151,147,126,133,127,128,146,154,132,164,186,150,124,119,559,459,440,473,413,325,311,292,288,207,222,130,132,134,6,55,49,110,380,null,null,{"v":1644,"d":"1,644"},{"v":1077,"d":"1,077"},{"v":1265,"d":"1,265"},{"v":2446,"d":"2,446"},949,{"v":1495,"d":"1,495"},932,{"v":1261,"d":"1,261"},{"v":2254,"d":"2,254"},{"v":1113,"d":"1,113"},603,718,869,830,526,440,457,453,448,396,339,353,267,222,185,122,95,58,576,664,687,743,559,459,440,473,413,325,311,292,288,207,222,130,132,134]
["021602","ANCASH","ANCASH","POMABAMBA","HUAYLLAN",{"v":2927,"d":"2,927"},{"v":1485,"d":"1,485"},14,22,14,26,29,30,23,28,31,28,22,26,22,24,31,22,29,35,35,20,117,91,100,137,107,94,76,75,62,43,27,22,11,12,1,8,6,15,{"v":1442,"d":"1,442"},10,12,12,27,23,27,25,32,25,29,22,26,22,24,27,29,27,26,30,20,118,105,114,114,91,78,58,68,58,52,27,34,25,25,1,6,4,11,36,null,null,293,163,263,589,177,270,155,273,523,221,105,140,125,141,117,91,100,137,107,94,76,75,62,43,27,22,11,12,84,138,121,132,118,105,114,114,91,78,58,68,58,52,27,34,25,25]
["021603","ANCASH","ANCASH","POMABAMBA","PAROBAMBA",{"v":6022,"d":"6,022"},{"v":3082,"d":"3,082"},36,40,48,51,56,61,43,57,55,53,50,46,62,55,71,67,80,77,61,68,220,174,194,210,179,176,163,175,146,94,84,64,34,32,3,18,18,38,{"v":2940,"d":"2,940"},33,37,30,44,57,54,41,51,57,38,48,45,60,53,66,54,87,77,54,72,229,204,196,183,155,159,144,151,110,100,89,80,39,43,3,21,12,35,173,null,null,596,412,523,{"v":1097,"d":"1,097"},454,535,397,559,988,461,231,269,284,353,220,174,194,210,179,176,163,175,146,94,84,64,34,32,201,241,272,344,229,204,196,183,155,159,144,151,110,100,89,80,39,43]
["021604","ANCASH","ANCASH","POMABAMBA","QUINUABAMBA",{"v":2203,"d":"2,203"},{"v":1112,"d":"1,112"},17,19,22,12,13,22,13,10,17,24,28,19,17,33,26,31,32,38,28,22,84,73,68,78,64,63,56,54,42,30,23,16,11,7,5,8,9,18,{"v":1091,"d":"1,091"},12,16,17,14,11,12,9,11,25,14,26,18,16,32,24,24,43,25,30,23,81,73,74,82,61,64,45,37,40,28,37,26,26,15,2,5,7,13,55,null,null,216,177,207,383,129,185,164,207,363,172,83,86,123,151,84,73,68,78,64,63,56,54,42,30,23,16,11,7,70,71,116,145,81,73,74,82,61,64,45,37,40,28,37,26,26,15]
["021701","ANCASH","ANCASH","RECUAY","RECUAY",{"v":4420,"d":"4,420"},{"v":2246,"d":"2,246"},31,33,23,35,33,30,31,38,32,49,30,37,37,33,34,40,30,36,34,25,126,162,179,177,167,153,112,128,105,79,71,57,38,21,1,15,16,33,{"v":2174,"d":"2,174"},22,26,24,37,40,45,34,35,25,40,27,34,34,30,30,24,32,32,29,30,128,142,169,152,144,126,110,125,103,88,83,64,50,60,0,10,12,23,173,null,null,402,210,347,916,371,389,182,329,826,448,155,180,171,165,126,162,179,177,167,153,112,128,105,79,71,57,38,21,149,179,155,147,128,142,169,152,144,126,110,125,103,88,83,64,50,60]
["021702","ANCASH","ANCASH","RECUAY","CATAC",{"v":3926,"d":"3,926"},{"v":1949,"d":"1,949"},29,38,29,37,29,42,32,31,29,32,27,29,25,42,32,33,38,39,38,27,118,134,171,173,138,138,80,83,79,57,54,29,22,15,2,12,17,31,{"v":1977,"d":"1,977"},25,28,35,28,32,28,30,31,37,36,30,34,29,49,38,25,37,32,26,23,127,125,159,183,159,116,88,95,74,77,57,35,28,21,1,7,18,27,149,null,null,384,209,317,783,256,374,210,301,800,292,162,166,155,175,118,134,171,173,138,138,80,83,79,57,54,29,22,15,148,162,180,143,127,125,159,183,159,116,88,95,74,77,57,35,28,21]
["021703","ANCASH","ANCASH","RECUAY","COTAPARACO",360,168,1,1,3,4,5,4,2,2,2,1,5,1,1,5,0,2,1,4,4,2,10,10,15,16,15,9,8,6,6,6,5,4,4,4,0,0,1,1,192,3,0,2,2,4,4,2,2,1,2,6,1,1,6,1,1,2,6,3,2,10,13,18,18,12,10,9,10,10,8,3,6,8,6,1,2,1,3,9,null,null,31,13,26,69,29,29,17,28,77,41,14,11,12,13,10,10,15,16,15,9,8,6,6,6,5,4,4,4,11,11,15,14,10,13,18,18,12,10,9,10,10,8,3,6,8,6]
["021704","ANCASH","ANCASH","RECUAY","HUAYLLAPAMPA",508,265,6,0,3,5,5,1,1,3,1,0,1,3,2,2,0,4,3,3,3,1,15,17,12,21,19,16,16,19,18,18,15,11,9,12,0,2,4,6,243,3,2,2,3,6,4,2,2,2,1,2,5,3,3,2,3,3,6,4,5,15,14,19,10,11,12,10,16,11,14,9,10,8,21,0,3,0,3,12,null,null,29,14,36,103,83,34,20,38,78,73,19,6,8,14,15,17,12,21,19,16,16,19,18,18,15,11,9,12,16,11,15,21,15,14,19,10,11,12,10,16,11,14,9,10,8,21]
["021705","ANCASH","ANCASH","RECUAY","LLACLLIN",771,384,5,6,7,5,5,8,3,3,6,0,10,5,5,6,6,7,2,5,6,4,15,27,28,34,30,23,21,25,19,17,15,9,9,8,0,1,4,5,387,3,1,4,6,4,4,3,4,4,4,7,4,4,5,5,4,9,8,8,6,25,31,25,26,21,30,20,20,18,19,13,18,8,16,0,2,1,3,12,null,null,63,31,52,161,77,48,35,70,142,92,28,20,32,24,15,27,28,34,30,23,21,25,19,17,15,9,9,8,18,19,25,35,25,31,25,26,21,30,20,20,18,19,13,18,8,16]
["021706","ANCASH","ANCASH","RECUAY","MARCA",{"v":2185,"d":"2,185"},{"v":1149,"d":"1,149"},2,5,6,4,5,4,7,3,2,8,10,16,9,8,9,16,21,8,11,8,60,79,101,87,87,82,65,73,75,80,55,55,56,32,0,2,0,2,{"v":1036,"d":"1,036"},4,1,2,5,3,5,2,7,3,8,7,11,7,6,6,6,6,19,14,16,66,74,75,75,63,54,75,74,49,48,75,55,37,78,1,1,3,4,9,null,null,72,71,158,495,353,58,50,170,416,342,22,24,52,64,60,79,101,87,87,82,65,73,75,80,55,55,56,32,15,25,37,61,66,74,75,75,63,54,75,74,49,48,75,55,37,78]
["021707","ANCASH","ANCASH","RECUAY","PAMPAS CHICO",751,373,3,4,5,7,3,3,3,2,5,0,3,2,5,3,4,6,10,7,5,1,23,21,33,33,27,25,27,20,21,18,14,19,2,9,0,3,0,3,378,6,4,5,4,4,7,1,3,3,5,5,4,9,5,7,5,12,5,6,6,22,28,32,26,27,22,17,18,16,20,9,13,11,11,0,3,3,6,19,null,null,40,35,50,165,83,51,43,62,142,80,22,13,17,29,23,21,33,33,27,25,27,20,21,18,14,19,2,9,23,19,30,34,22,28,32,26,27,22,17,18,16,20,9,13,11,11]
["021708","ANCASH","ANCASH","RECUAY","PARARIN",{"v":1795,"d":"1,795"},907,6,9,11,4,6,15,4,10,9,12,11,11,12,9,8,9,7,16,15,21,47,45,45,74,73,62,49,60,66,73,38,27,18,25,0,4,2,6,888,7,5,8,7,3,7,5,14,8,8,11,12,13,10,10,11,20,9,9,12,50,61,68,59,66,45,47,61,62,65,37,19,25,34,2,5,2,7,19,null,null,108,61,128,363,247,95,73,132,346,242,36,50,51,68,47,45,45,74,73,62,49,60,66,73,38,27,18,25,30,42,56,61,50,61,68,59,66,45,47,61,62,65,37,19,25,34]
["021709","ANCASH","ANCASH","RECUAY","TAPACOCHA",425,211,0,0,2,2,4,3,3,1,3,1,3,2,5,3,2,4,4,1,1,4,10,13,19,19,18,11,8,9,18,13,7,4,6,8,0,0,0,0,214,0,1,1,4,1,1,4,1,2,1,3,2,5,3,2,1,3,3,8,3,7,14,14,14,8,14,15,17,16,16,12,6,7,5,0,0,0,0,1,null,null,24,19,28,84,56,21,17,32,82,62,8,11,15,14,10,13,19,19,18,11,8,9,18,13,7,4,6,8,7,9,15,18,7,14,14,14,8,14,15,17,16,16,12,6,7,5]
["021710","ANCASH","ANCASH","RECUAY","TICAPAMPA",{"v":2671,"d":"2,671"},{"v":1351,"d":"1,351"},12,11,20,22,19,30,28,17,17,16,14,17,22,13,15,20,16,16,13,14,60,94,118,129,115,87,77,69,72,56,51,30,21,20,0,6,6,13,{"v":1320,"d":"1,320"},13,16,16,20,15,18,19,19,22,20,17,21,26,15,18,17,19,17,16,15,81,87,122,103,93,66,76,72,57,47,47,35,38,37,1,4,9,14,51,null,null,223,102,181,595,250,216,112,199,532,261,84,108,81,79,60,94,118,129,115,87,77,69,72,56,51,30,21,20,80,98,97,84,81,87,122,103,93,66,76,72,57,47,47,35,38,37]
["021801","ANCASH","ANCASH","SANTA","CHIMBOTE",{"v":222673,"d":"222,673"},{"v":112404,"d":"112,404"},{"v":1253,"d":"1,253"},{"v":1310,"d":"1,310"},{"v":1359,"d":"1,359"},{"v":1432,"d":"1,432"},{"v":1625,"d":"1,625"},{"v":1745,"d":"1,745"},{"v":1820,"d":"1,820"},{"v":1958,"d":"1,958"},{"v":2063,"d":"2,063"},{"v":2105,"d":"2,105"},{"v":1760,"d":"1,760"},{"v":1752,"d":"1,752"},{"v":1787,"d":"1,787"},{"v":1796,"d":"1,796"},{"v":1703,"d":"1,703"},{"v":1730,"d":"1,730"},{"v":1732,"d":"1,732"},{"v":1614,"d":"1,614"},{"v":1503,"d":"1,503"},{"v":1423,"d":"1,423"},{"v":6391,"d":"6,391"},{"v":7883,"d":"7,883"},{"v":8667,"d":"8,667"},{"v":8877,"d":"8,877"},{"v":8379,"d":"8,379"},{"v":7893,"d":"7,893"},{"v":6886,"d":"6,886"},{"v":6614,"d":"6,614"},{"v":5464,"d":"5,464"},{"v":3853,"d":"3,853"},{"v":2965,"d":"2,965"},{"v":2315,"d":"2,315"},{"v":1592,"d":"1,592"},{"v":1155,"d":"1,155"},73,617,636,{"v":1328,"d":"1,328"},{"v":110269,"d":"110,269"},{"v":1212,"d":"1,212"},{"v":1240,"d":"1,240"},{"v":1128,"d":"1,128"},{"v":1458,"d":"1,458"},{"v":1520,"d":"1,520"},{"v":1686,"d":"1,686"},{"v":1762,"d":"1,762"},{"v":1832,"d":"1,832"},{"v":1924,"d":"1,924"},{"v":1790,"d":"1,790"},{"v":1710,"d":"1,710"},{"v":1737,"d":"1,737"},{"v":1770,"d":"1,770"},{"v":1780,"d":"1,780"},{"v":1633,"d":"1,633"},{"v":1694,"d":"1,694"},{"v":1698,"d":"1,698"},{"v":1596,"d":"1,596"},{"v":1506,"d":"1,506"},{"v":1396,"d":"1,396"},{"v":6813,"d":"6,813"},{"v":8681,"d":"8,681"},{"v":8789,"d":"8,789"},{"v":8544,"d":"8,544"},{"v":7881,"d":"7,881"},{"v":6863,"d":"6,863"},{"v":6311,"d":"6,311"},{"v":6128,"d":"6,128"},{"v":5171,"d":"5,171"},{"v":4190,"d":"4,190"},{"v":3351,"d":"3,351"},{"v":2423,"d":"2,423"},{"v":1700,"d":"1,700"},{"v":1352,"d":"1,352"},86,576,636,{"v":1285,"d":"1,285"},{"v":3198,"d":"3,198"},null,null,{"v":20182,"d":"20,182"},{"v":10362,"d":"10,362"},{"v":17200,"d":"17,200"},{"v":47316,"d":"47,316"},{"v":17344,"d":"17,344"},{"v":18999,"d":"18,999"},{"v":10171,"d":"10,171"},{"v":18396,"d":"18,396"},{"v":44516,"d":"44,516"},{"v":18187,"d":"18,187"},{"v":6979,"d":"6,979"},{"v":9691,"d":"9,691"},{"v":8798,"d":"8,798"},{"v":8002,"d":"8,002"},{"v":6391,"d":"6,391"},{"v":7883,"d":"7,883"},{"v":8667,"d":"8,667"},{"v":8877,"d":"8,877"},{"v":8379,"d":"8,379"},{"v":7893,"d":"7,893"},{"v":6886,"d":"6,886"},{"v":6614,"d":"6,614"},{"v":5464,"d":"5,464"},{"v":3853,"d":"3,853"},{"v":2965,"d":"2,965"},{"v":2315,"d":"2,315"},{"v":1592,"d":"1,592"},{"v":1155,"d":"1,155"},{"v":6558,"d":"6,558"},{"v":8994,"d":"8,994"},{"v":8630,"d":"8,630"},{"v":7890,"d":"7,890"},{"v":6813,"d":"6,813"},{"v":8681,"d":"8,681"},{"v":8789,"d":"8,789"},{"v":8544,"d":"8,544"},{"v":7881,"d":"7,881"},{"v":6863,"d":"6,863"},{"v":6311,"d":"6,311"},{"v":6128,"d":"6,128"},{"v":5171,"d":"5,171"},{"v":4190,"d":"4,190"},{"v":3351,"d":"3,351"},{"v":2423,"d":"2,423"},{"v":1700,"d":"1,700"},{"v":1352,"d":"1,352"}]
["021802","ANCASH","ANCASH","SANTA","CACERES DEL PERU",{"v":4803,"d":"4,803"},{"v":2351,"d":"2,351"},40,41,29,39,42,45,41,46,55,44,35,37,32,33,28,34,46,40,30,27,146,144,171,174,137,120,98,136,142,95,89,54,41,40,6,23,17,42,{"v":2452,"d":"2,452"},26,30,34,31,45,44,44,39,37,39,42,45,39,40,33,52,44,48,43,36,167,194,143,163,152,104,131,136,107,100,89,65,46,64,2,7,19,28,181,null,null,494,213,347,836,461,456,256,440,829,471,191,231,165,177,146,144,171,174,137,120,98,136,142,95,89,54,41,40,166,203,199,223,167,194,143,163,152,104,131,136,107,100,89,65,46,64]
["021803","ANCASH","ANCASH","SANTA","COISHCO",{"v":17724,"d":"17,724"},{"v":8873,"d":"8,873"},114,110,116,145,151,156,153,152,179,175,168,164,156,153,162,154,150,143,139,128,531,674,714,733,683,566,505,456,353,240,165,138,77,70,12,61,53,121,{"v":8851,"d":"8,851"},113,110,117,122,145,116,142,162,170,183,160,159,152,148,150,150,129,123,132,126,589,673,746,768,605,537,456,435,396,282,203,170,108,74,8,56,57,120,451,null,null,{"v":1783,"d":"1,783"},918,{"v":1472,"d":"1,472"},{"v":3657,"d":"3,657"},{"v":1043,"d":"1,043"},{"v":1699,"d":"1,699"},852,{"v":1520,"d":"1,520"},{"v":3547,"d":"3,547"},{"v":1233,"d":"1,233"},636,815,803,714,531,674,714,733,683,566,505,456,353,240,165,138,77,70,607,773,769,660,589,673,746,768,605,537,456,435,396,282,203,170,108,74]
["021804","ANCASH","ANCASH","SANTA","MACATE",{"v":3310,"d":"3,310"},{"v":1616,"d":"1,616"},11,16,18,21,28,26,14,33,29,33,21,21,19,19,27,25,25,23,27,19,92,110,111,123,111,115,87,91,96,76,54,38,30,27,0,5,6,12,{"v":1694,"d":"1,694"},15,9,17,18,17,32,27,20,26,25,29,30,26,26,37,25,31,30,28,30,134,138,118,116,106,89,86,65,95,64,57,40,41,47,0,3,12,16,59,null,null,271,138,248,638,321,265,175,330,580,344,94,135,107,119,92,110,111,123,111,115,87,91,96,76,54,38,30,27,76,130,148,144,134,138,118,116,106,89,86,65,95,64,57,40,41,47]
["021805","ANCASH","ANCASH","SANTA","MORO",{"v":8910,"d":"8,910"},{"v":4441,"d":"4,441"},69,53,99,90,105,95,83,82,83,106,71,76,65,51,70,56,82,71,59,48,248,292,366,361,305,269,230,224,205,127,134,84,44,38,7,34,35,73,{"v":4469,"d":"4,469"},55,75,75,85,84,88,96,80,71,69,71,76,66,51,67,76,77,85,65,75,299,359,383,370,271,275,214,194,166,160,120,70,54,47,2,27,28,58,353,null,null,{"v":1012,"d":"1,012"},395,647,{"v":1755,"d":"1,755"},632,925,422,798,{"v":1707,"d":"1,707"},617,416,449,333,316,248,292,366,361,305,269,230,224,205,127,134,84,44,38,374,404,331,378,299,359,383,370,271,275,214,194,166,160,120,70,54,47]
["021806","ANCASH","ANCASH","SANTA","NEPEÑA",{"v":14912,"d":"14,912"},{"v":7471,"d":"7,471"},79,78,72,97,113,103,148,138,150,150,134,136,114,106,123,114,106,120,116,111,402,511,584,631,555,464,380,374,390,324,202,139,106,101,4,36,43,84,{"v":7441,"d":"7,441"},81,78,84,95,99,115,117,135,148,121,122,126,106,98,110,144,126,108,108,115,456,589,578,591,508,428,352,391,388,313,234,155,111,111,10,35,46,86,326,null,null,{"v":1398,"d":"1,398"},683,{"v":1140,"d":"1,140"},{"v":2988,"d":"2,988"},{"v":1262,"d":"1,262"},{"v":1321,"d":"1,321"},692,{"v":1268,"d":"1,268"},{"v":2848,"d":"2,848"},{"v":1312,"d":"1,312"},439,689,613,567,402,511,584,631,555,464,380,374,390,324,202,139,106,101,437,636,562,601,456,589,578,591,508,428,352,391,388,313,234,155,111,111]
["021807","ANCASH","ANCASH","SANTA","SAMANCO",{"v":5457,"d":"5,457"},{"v":2758,"d":"2,758"},18,36,20,32,35,41,46,67,63,61,47,44,45,40,46,38,36,46,34,30,135,194,238,257,216,167,140,153,148,102,83,47,34,19,1,7,11,19,{"v":2699,"d":"2,699"},31,36,22,33,29,31,59,45,62,49,47,45,46,41,47,45,62,43,27,31,180,231,245,241,196,134,132,152,131,71,59,40,35,21,1,8,23,33,114,null,null,510,251,393,{"v":1171,"d":"1,171"},433,489,284,469,{"v":1100,"d":"1,100"},357,141,278,222,184,135,194,238,257,216,167,140,153,148,102,83,47,34,19,151,246,226,208,180,231,245,241,196,134,132,152,131,71,59,40,35,21]
["021808","ANCASH","ANCASH","SANTA","SANTA",{"v":23689,"d":"23,689"},{"v":11711,"d":"11,711"},128,153,154,154,232,209,223,234,214,244,205,192,197,200,180,186,166,173,160,165,717,857,932,{"v":1041,"d":"1,041"},925,770,608,574,540,364,231,199,103,81,5,57,71,136,{"v":11978,"d":"11,978"},135,148,136,140,191,205,212,219,205,199,212,202,206,210,184,205,191,170,173,184,837,{"v":1038,"d":"1,038"},995,{"v":1079,"d":"1,079"},911,679,551,576,523,400,261,172,111,118,8,66,69,143,511,null,null,{"v":2342,"d":"2,342"},{"v":1102,"d":"1,102"},{"v":1899,"d":"1,899"},{"v":4850,"d":"4,850"},{"v":1518,"d":"1,518"},{"v":2204,"d":"2,204"},{"v":1166,"d":"1,166"},{"v":2232,"d":"2,232"},{"v":4791,"d":"4,791"},{"v":1585,"d":"1,585"},821,{"v":1124,"d":"1,124"},974,850,717,857,932,{"v":1041,"d":"1,041"},925,770,608,574,540,364,231,199,103,81,750,{"v":1040,"d":"1,040"},{"v":1014,"d":"1,014"},923,837,{"v":1038,"d":"1,038"},995,{"v":1079,"d":"1,079"},911,679,551,576,523,400,261,172,111,118]
["021809","ANCASH","ANCASH","SANTA","NUEVO CHIMBOTE",{"v":192638,"d":"192,638"},{"v":98217,"d":"98,217"},{"v":1032,"d":"1,032"},{"v":1066,"d":"1,066"},{"v":1004,"d":"1,004"},{"v":1079,"d":"1,079"},{"v":1248,"d":"1,248"},{"v":1339,"d":"1,339"},{"v":1574,"d":"1,574"},{"v":1744,"d":"1,744"},{"v":1685,"d":"1,685"},{"v":2687,"d":"2,687"},{"v":1812,"d":"1,812"},{"v":1743,"d":"1,743"},{"v":1691,"d":"1,691"},{"v":1779,"d":"1,779"},{"v":1635,"d":"1,635"},{"v":1683,"d":"1,683"},{"v":1788,"d":"1,788"},{"v":1666,"d":"1,666"},{"v":1626,"d":"1,626"},{"v":1614,"d":"1,614"},{"v":6534,"d":"6,534"},{"v":7805,"d":"7,805"},{"v":8469,"d":"8,469"},{"v":7889,"d":"7,889"},{"v":7154,"d":"7,154"},{"v":6486,"d":"6,486"},{"v":5433,"d":"5,433"},{"v":4776,"d":"4,776"},{"v":3914,"d":"3,914"},{"v":2760,"d":"2,760"},{"v":2368,"d":"2,368"},{"v":1668,"d":"1,668"},884,582,68,478,554,{"v":1094,"d":"1,094"},{"v":94421,"d":"94,421"},953,{"v":1026,"d":"1,026"},919,{"v":1085,"d":"1,085"},{"v":1251,"d":"1,251"},{"v":1272,"d":"1,272"},{"v":1789,"d":"1,789"},{"v":1789,"d":"1,789"},{"v":1772,"d":"1,772"},{"v":1626,"d":"1,626"},{"v":1646,"d":"1,646"},{"v":1616,"d":"1,616"},{"v":1567,"d":"1,567"},{"v":1649,"d":"1,649"},{"v":1465,"d":"1,465"},{"v":1506,"d":"1,506"},{"v":1512,"d":"1,512"},{"v":1554,"d":"1,554"},{"v":1491,"d":"1,491"},{"v":1475,"d":"1,475"},{"v":6583,"d":"6,583"},{"v":8173,"d":"8,173"},{"v":8154,"d":"8,154"},{"v":7739,"d":"7,739"},{"v":6979,"d":"6,979"},{"v":6093,"d":"6,093"},{"v":5030,"d":"5,030"},{"v":4641,"d":"4,641"},{"v":3938,"d":"3,938"},{"v":3164,"d":"3,164"},{"v":2381,"d":"2,381"},{"v":1300,"d":"1,300"},733,550,67,476,477,{"v":1010,"d":"1,010"},{"v":2587,"d":"2,587"},null,null,{"v":18013,"d":"18,013"},{"v":10242,"d":"10,242"},{"v":17579,"d":"17,579"},{"v":40207,"d":"40,207"},{"v":12176,"d":"12,176"},{"v":16744,"d":"16,744"},{"v":9253,"d":"9,253"},{"v":17722,"d":"17,722"},{"v":38636,"d":"38,636"},{"v":12066,"d":"12,066"},{"v":5429,"d":"5,429"},{"v":9029,"d":"9,029"},{"v":8660,"d":"8,660"},{"v":8377,"d":"8,377"},{"v":6534,"d":"6,534"},{"v":7805,"d":"7,805"},{"v":8469,"d":"8,469"},{"v":7889,"d":"7,889"},{"v":7154,"d":"7,154"},{"v":6486,"d":"6,486"},{"v":5433,"d":"5,433"},{"v":4776,"d":"4,776"},{"v":3914,"d":"3,914"},{"v":2760,"d":"2,760"},{"v":2368,"d":"2,368"},{"v":1668,"d":"1,668"},884,582,{"v":5234,"d":"5,234"},{"v":8248,"d":"8,248"},{"v":7943,"d":"7,943"},{"v":7538,"d":"7,538"},{"v":6583,"d":"6,583"},{"v":8173,"d":"8,173"},{"v":8154,"d":"8,154"},{"v":7739,"d":"7,739"},{"v":6979,"d":"6,979"},{"v":6093,"d":"6,093"},{"v":5030,"d":"5,030"},{"v":4641,"d":"4,641"},{"v":3938,"d":"3,938"},{"v":3164,"d":"3,164"},{"v":2381,"d":"2,381"},{"v":1300,"d":"1,300"},733,550]
["021901","ANCASH","ANCASH","SIHUAS","SIHUAS",{"v":5652,"d":"5,652"},{"v":2884,"d":"2,884"},34,48,48,63,63,35,57,72,46,66,52,62,66,84,75,65,67,58,59,42,189,183,171,210,148,131,127,127,133,85,74,49,51,44,4,23,11,36,{"v":2768,"d":"2,768"},51,44,41,50,48,43,52,57,56,47,39,47,50,65,55,52,53,53,43,42,174,177,207,194,172,139,112,130,116,96,78,65,66,54,3,22,29,54,110,null,null,646,415,473,914,436,575,328,436,954,475,256,276,339,291,189,183,171,210,148,131,127,127,133,85,74,49,51,44,234,255,256,243,174,177,207,194,172,139,112,130,116,96,78,65,66,54]
["021902","ANCASH","ANCASH","SIHUAS","ACOBAMBA",{"v":1528,"d":"1,528"},782,12,9,17,19,20,13,21,13,12,13,19,14,10,15,15,18,21,23,15,12,52,51,57,56,51,44,40,40,28,20,9,11,5,7,0,2,10,13,746,12,9,17,18,17,19,13,18,14,7,20,15,10,16,16,15,17,17,14,10,61,64,58,53,36,33,34,33,24,12,13,10,11,10,1,6,6,13,56,null,null,182,102,130,288,80,179,91,149,247,80,77,72,73,89,52,51,57,56,51,44,40,40,28,20,9,11,5,7,73,71,77,73,61,64,58,53,36,33,34,33,24,12,13,10,11,10]
["021903","ANCASH","ANCASH","SIHUAS","ALFONSO UGARTE",465,228,4,5,2,1,3,5,3,2,4,2,3,2,5,6,5,4,5,9,5,4,12,10,15,14,11,15,13,18,15,8,5,6,2,5,0,1,3,4,237,6,0,2,4,2,1,1,4,3,3,2,1,3,4,3,4,4,7,4,1,15,19,15,20,14,13,13,16,13,12,13,5,4,6,1,5,1,6,14,null,null,36,34,31,86,41,29,25,39,91,53,15,16,21,27,12,10,15,14,11,15,13,18,15,8,5,6,2,5,14,12,13,20,15,19,15,20,14,13,13,16,13,12,13,5,4,6]
["021904","ANCASH","ANCASH","SIHUAS","CASHAPAMPA",{"v":2776,"d":"2,776"},{"v":1418,"d":"1,418"},12,18,13,15,21,14,25,29,25,14,20,16,26,16,29,24,29,26,23,22,96,119,114,132,77,88,77,65,74,54,32,29,22,22,4,7,5,13,{"v":1358,"d":"1,358"},11,16,10,19,9,11,22,24,22,17,21,17,26,17,27,27,30,36,23,18,91,115,110,89,80,62,62,75,73,50,39,33,34,42,1,5,6,12,34,null,null,222,150,260,553,233,199,163,247,478,271,79,107,107,124,96,119,114,132,77,88,77,65,74,54,32,29,22,22,65,96,108,134,91,115,110,89,80,62,62,75,73,50,39,33,34,42]
["021905","ANCASH","ANCASH","SIHUAS","CHINGALPO",859,429,5,5,7,4,6,11,7,10,9,15,10,4,4,9,9,13,13,9,12,5,21,27,37,34,28,22,20,14,21,7,13,7,7,4,0,3,2,5,430,2,3,8,13,6,5,13,6,7,11,11,5,5,11,14,12,6,6,9,8,30,37,27,30,23,19,20,18,21,13,8,13,6,4,0,0,2,2,10,null,null,93,57,65,155,59,90,54,84,137,65,27,52,36,52,21,27,37,34,28,22,20,14,21,7,13,7,7,4,32,42,46,41,30,37,27,30,23,19,20,18,21,13,8,13,6,4]
["021906","ANCASH","ANCASH","SIHUAS","HUAYLLABAMBA",{"v":3466,"d":"3,466"},{"v":1795,"d":"1,795"},17,17,18,34,22,33,34,36,30,40,34,33,36,32,34,37,39,54,44,39,123,120,117,120,103,84,86,96,98,70,47,34,22,12,2,8,9,18,{"v":1671,"d":"1,671"},16,17,24,16,35,40,30,28,35,24,29,29,31,28,28,46,38,51,38,37,118,121,103,117,80,77,77,87,68,53,38,34,33,45,1,7,9,17,103,null,null,348,232,326,606,283,323,222,314,541,271,108,173,169,213,123,120,117,120,103,84,86,96,98,70,47,34,22,12,108,157,145,210,118,121,103,117,80,77,77,87,68,53,38,34,33,45]
["021907","ANCASH","ANCASH","SIHUAS","QUICHES",{"v":2241,"d":"2,241"},{"v":1115,"d":"1,115"},17,19,12,29,27,23,18,14,14,20,15,18,23,21,29,30,21,26,20,23,68,76,77,62,60,44,57,71,74,31,24,24,12,16,0,5,12,18,{"v":1126,"d":"1,126"},18,20,17,14,27,21,10,18,20,19,14,17,22,20,25,21,37,39,25,16,83,86,72,75,56,38,50,63,54,26,35,20,21,27,2,13,5,19,71,null,null,226,150,187,371,181,215,164,210,354,183,104,89,106,120,68,76,77,62,60,44,57,71,74,31,24,24,12,16,96,88,98,138,83,86,72,75,56,38,50,63,54,26,35,20,21,27]
["021908","ANCASH","ANCASH","SIHUAS","RAGASH",{"v":2285,"d":"2,285"},{"v":1123,"d":"1,123"},15,16,8,19,25,21,23,21,17,27,22,13,14,18,23,20,25,17,28,21,81,77,90,102,82,61,50,42,52,35,22,16,11,9,2,6,9,16,{"v":1162,"d":"1,162"},18,11,15,18,11,20,19,23,23,16,26,16,17,22,24,27,26,28,23,19,93,113,93,81,70,62,39,44,37,33,26,18,27,24,3,12,6,19,59,null,null,227,117,207,427,145,216,144,248,389,165,83,109,90,111,81,77,90,102,82,61,50,42,52,35,22,16,11,9,73,101,105,123,93,113,93,81,70,62,39,44,37,33,26,18,27,24]
["021909","ANCASH","ANCASH","SIHUAS","SAN JUAN",{"v":6731,"d":"6,731"},{"v":3361,"d":"3,361"},35,49,49,72,74,72,72,69,83,68,62,61,67,50,75,84,81,86,63,68,248,240,242,234,158,169,154,153,140,91,85,45,36,26,2,16,19,37,{"v":3370,"d":"3,370"},53,49,58,57,68,59,65,66,79,46,58,58,64,46,68,69,106,71,67,70,254,277,235,208,160,178,141,153,145,89,85,75,44,49,0,25,28,56,271,null,null,766,443,619,{"v":1110,"d":"1,110"},423,716,424,668,{"v":1075,"d":"1,075"},487,279,364,315,382,248,240,242,234,158,169,154,153,140,91,85,45,36,26,285,315,294,383,254,277,235,208,160,178,141,153,145,89,85,75,44,49]
["021910","ANCASH","ANCASH","SIHUAS","SICSIBAMBA",{"v":1356,"d":"1,356"},675,8,5,6,10,15,24,8,13,15,11,4,12,12,12,11,13,16,11,15,11,41,46,41,34,51,37,36,42,38,26,21,13,11,6,0,5,3,8,681,3,11,4,10,11,6,11,8,11,13,5,13,13,13,11,10,18,19,15,13,49,59,42,46,35,38,35,32,30,21,24,23,13,16,0,0,3,3,13,null,null,131,75,113,241,115,106,84,136,228,127,44,71,51,66,41,46,41,34,51,37,36,42,38,26,21,13,11,6,39,49,55,75,49,59,42,46,35,38,35,32,30,21,24,23,13,16]
["022004","ANCASH","ANCASH","YUNGAY","MATACOTO",{"v":1499,"d":"1,499"},745,6,4,13,10,10,10,10,7,11,5,12,9,14,8,9,16,14,14,14,22,56,54,63,62,56,50,43,33,41,25,9,12,14,9,0,3,3,6,754,9,6,10,9,7,13,6,13,12,7,8,7,11,7,7,17,9,14,12,16,69,65,74,59,63,49,37,38,32,10,17,15,15,11,1,4,5,10,32,null,null,107,75,146,307,110,107,65,162,320,100,43,43,52,80,56,54,63,62,56,50,43,33,41,25,9,12,14,9,41,51,40,68,69,65,74,59,63,49,37,38,32,10,17,15,15,11]
["030103","APURIMAC","APURIMAC","ABANCAY","CIRCA",{"v":2231,"d":"2,231"},{"v":1114,"d":"1,114"},5,1,7,7,9,8,8,6,9,7,3,7,16,17,11,14,11,18,15,8,62,87,102,148,134,100,61,48,48,48,39,24,14,12,1,4,1,5,{"v":1117,"d":"1,117"},2,5,7,11,9,7,13,8,9,8,2,5,13,14,9,20,17,15,17,13,66,88,100,153,91,68,62,67,57,47,49,29,22,14,1,2,0,2,10,null,null,77,87,172,593,185,86,88,184,541,218,29,38,54,66,62,87,102,148,134,100,61,48,48,48,39,24,14,12,34,45,43,82,66,88,100,153,91,68,62,67,57,47,49,29,22,14]
["030108","APURIMAC","APURIMAC","ABANCAY","SAN PEDRO DE CACHORA",{"v":2797,"d":"2,797"},{"v":1411,"d":"1,411"},5,8,10,17,14,18,16,18,19,19,16,28,24,34,31,33,45,37,34,32,90,77,97,132,135,92,86,53,62,52,29,20,17,11,1,3,2,5,{"v":1386,"d":"1,386"},9,11,6,13,8,15,13,19,20,18,18,31,27,38,36,43,36,38,27,36,108,76,80,123,112,74,73,66,58,38,40,28,25,23,1,4,5,10,18,null,null,188,204,233,595,191,181,218,247,528,212,54,90,133,181,90,77,97,132,135,92,86,53,62,52,29,20,17,11,47,85,150,180,108,76,80,123,112,74,73,66,58,38,40,28,25,23]
["030205","APURIMAC","APURIMAC","ANDAHUAYLAS","HUANCARAY",{"v":3395,"d":"3,395"},{"v":1724,"d":"1,724"},11,34,29,43,32,33,32,27,33,25,26,29,29,41,38,32,34,45,26,34,150,103,103,131,133,101,93,57,62,53,41,31,22,11,1,8,3,12,{"v":1671,"d":"1,671"},14,20,28,27,34,24,37,29,26,22,24,28,28,38,37,40,33,36,33,26,134,107,108,136,103,78,68,77,70,49,52,42,35,28,2,8,6,15,97,null,null,354,219,313,618,220,313,212,300,570,276,149,150,163,171,150,103,103,131,133,101,93,57,62,53,41,31,22,11,123,138,155,168,134,107,108,136,103,78,68,77,70,49,52,42,35,28]
["030214","APURIMAC","APURIMAC","ANDAHUAYLAS","SAN MIGUEL DE CHACCRAMPA",{"v":1500,"d":"1,500"},755,11,12,16,9,12,15,15,10,15,15,19,20,13,13,12,15,15,13,13,15,52,58,58,70,70,46,32,23,17,20,12,11,5,3,1,4,7,12,745,10,19,13,12,13,19,10,19,11,5,18,19,13,13,11,18,16,15,7,20,57,71,43,66,50,32,30,25,22,28,18,10,6,6,2,4,6,11,73,null,null,169,81,138,299,68,168,86,155,246,90,60,70,77,71,52,58,58,70,70,46,32,23,17,20,12,11,5,3,67,64,74,76,57,71,43,66,50,32,30,25,22,28,18,10,6,6]
["030218","APURIMAC","APURIMAC","ANDAHUAYLAS","TURPO",{"v":3349,"d":"3,349"},{"v":1745,"d":"1,745"},17,20,12,23,31,23,29,30,26,30,31,27,23,41,31,31,38,34,32,28,139,120,127,157,174,121,89,63,59,47,43,24,16,9,0,6,11,18,{"v":1604,"d":"1,604"},18,11,20,19,27,19,18,24,20,28,29,24,21,37,28,31,35,36,23,32,134,108,119,142,98,95,67,67,65,54,57,42,26,30,1,12,6,19,77,null,null,299,198,319,731,198,257,188,297,588,274,103,138,153,163,139,120,127,157,174,121,89,63,59,47,43,24,16,9,95,109,139,157,134,108,119,142,98,95,67,67,65,54,57,42,26,30]
["030305","APURIMAC","APURIMAC","ANTABAMBA","OROPESA",{"v":2145,"d":"2,145"},{"v":1076,"d":"1,076"},12,10,17,18,25,18,22,21,15,15,15,29,17,21,28,29,35,28,24,21,76,76,67,87,80,65,53,47,38,18,19,15,7,8,0,5,7,13,{"v":1069,"d":"1,069"},12,15,16,25,16,22,12,12,17,21,18,35,21,26,34,24,24,27,20,25,79,61,72,99,68,54,34,43,43,32,25,17,10,10,0,5,7,13,64,null,null,217,158,197,399,105,221,156,185,370,137,82,91,110,137,76,76,67,87,80,65,53,47,38,18,19,15,7,8,84,84,134,120,79,61,72,99,68,54,34,43,43,32,25,17,10,10]
["030401","APURIMAC","APURIMAC","AYMARAES","CHALHUANCA",{"v":5002,"d":"5,002"},{"v":2564,"d":"2,564"},33,33,35,27,38,30,72,66,53,49,52,44,60,67,44,59,59,64,58,47,156,143,150,199,193,183,144,106,97,69,50,39,23,22,1,19,14,35,{"v":2438,"d":"2,438"},30,32,35,41,31,38,53,55,51,57,49,41,56,62,44,57,55,56,43,53,177,147,160,216,170,120,84,115,93,66,60,34,24,33,5,17,13,32,134,null,null,532,353,404,975,300,513,330,420,865,310,166,270,267,287,156,143,150,199,193,183,144,106,97,69,50,39,23,22,169,254,252,264,177,147,160,216,170,120,84,115,93,66,60,34,24,33]
["030407","APURIMAC","APURIMAC","AYMARAES","HUAYLLO",401,193,2,0,3,2,3,1,2,1,1,2,1,1,3,1,2,4,0,3,2,6,11,11,16,19,18,14,12,11,12,7,7,7,4,4,0,2,0,2,208,2,0,2,4,1,0,1,1,2,1,1,1,2,1,1,1,5,1,2,3,14,19,17,20,17,12,12,17,10,9,8,9,5,7,0,2,0,2,6,null,null,19,13,30,90,41,16,11,38,95,48,10,7,8,15,11,11,16,19,18,14,12,11,12,7,7,7,4,4,9,5,6,12,14,19,17,20,17,12,12,17,10,9,8,9,5,7]
["030501","APURIMAC","APURIMAC","COTABAMBAS","TAMBOBAMBA",{"v":10481,"d":"10,481"},{"v":5361,"d":"5,361"},98,102,106,136,118,148,96,114,110,115,105,111,98,87,104,94,97,129,99,75,371,357,412,455,430,318,237,191,155,117,80,43,26,27,6,47,51,104,{"v":5120,"d":"5,120"},79,105,93,112,130,116,103,104,99,108,112,119,105,93,114,92,118,136,102,78,411,367,352,434,322,235,180,190,163,126,88,57,42,35,4,40,39,84,314,null,null,{"v":1359,"d":"1,359"},609,902,{"v":2043,"d":"2,043"},448,{"v":1280,"d":"1,280"},658,958,{"v":1713,"d":"1,713"},511,560,583,505,494,371,357,412,455,430,318,237,191,155,117,80,43,26,27,519,530,543,526,411,367,352,434,322,235,180,190,163,126,88,57,42,35]
["030505","APURIMAC","APURIMAC","COTABAMBAS","MARA",{"v":6075,"d":"6,075"},{"v":3114,"d":"3,114"},40,38,61,76,77,72,57,69,58,52,48,58,50,76,68,53,68,78,63,60,247,195,188,233,224,199,150,117,101,98,64,39,16,21,3,17,23,42,{"v":2961,"d":"2,961"},47,48,58,81,77,55,45,38,48,46,51,61,53,79,76,70,71,74,55,63,267,183,202,245,177,124,100,117,115,68,67,44,21,35,2,21,26,50,212,null,null,706,393,565,{"v":1111,"d":"1,111"},339,655,423,568,965,350,292,308,300,322,247,195,188,233,224,199,150,117,101,98,64,39,16,21,311,232,320,333,267,183,202,245,177,124,100,117,115,68,67,44,21,35]
["030606","APURIMAC","APURIMAC","CHINCHEROS","ONGOY",{"v":2187,"d":"2,187"},{"v":1092,"d":"1,092"},18,17,19,21,23,18,20,20,13,28,20,22,36,22,25,24,31,27,17,19,98,79,60,71,80,57,50,32,28,31,27,18,12,9,0,10,8,19,{"v":1095,"d":"1,095"},13,17,16,23,24,16,18,20,23,16,21,22,37,22,27,19,28,22,24,14,88,92,76,80,56,38,43,45,35,34,32,20,17,17,1,8,5,14,101,null,null,239,165,213,350,125,229,155,218,338,155,98,99,125,118,98,79,60,71,80,57,50,32,28,31,27,18,12,9,93,93,129,107,88,92,76,80,56,38,43,45,35,34,32,20,17,17]
["030703","APURIMAC","APURIMAC","GRAU","GAMARRA",{"v":2320,"d":"2,320"},{"v":1167,"d":"1,167"},5,13,14,20,14,22,12,10,10,11,11,16,14,17,15,21,25,27,24,23,92,87,68,78,106,94,66,57,57,57,32,27,9,13,0,2,3,5,{"v":1153,"d":"1,153"},8,11,7,13,9,18,14,12,12,13,14,20,18,21,20,19,36,35,22,28,82,71,57,94,94,72,55,47,54,56,42,36,17,26,2,6,2,8,18,null,null,158,119,226,469,195,151,149,203,419,231,66,65,73,120,92,87,68,78,106,94,66,57,57,57,32,27,9,13,48,69,93,140,82,71,57,94,94,72,55,47,54,56,42,36,17,26]
["030706","APURIMAC","APURIMAC","GRAU","MICAELA BASTIDAS",816,407,6,4,3,6,4,4,8,3,3,2,2,4,7,4,7,7,5,7,8,6,30,36,32,47,29,29,24,17,24,14,13,7,3,2,0,2,4,6,409,5,5,4,5,2,4,8,4,3,9,4,7,12,6,12,7,7,6,12,6,38,25,38,38,27,19,18,18,18,14,10,7,4,7,0,0,5,5,22,null,null,49,37,80,178,63,60,50,81,158,60,23,20,24,33,30,36,32,47,29,29,24,17,24,14,13,7,3,2,21,28,41,38,38,25,38,38,27,19,18,18,18,14,10,7,4,7]
["030714","APURIMAC","APURIMAC","GRAU","CURASCO",{"v":1084,"d":"1,084"},545,4,9,4,8,13,8,9,8,7,8,6,10,13,7,11,11,8,13,9,11,56,47,51,45,35,27,25,19,24,17,11,5,4,2,1,2,2,4,539,3,6,8,8,7,8,4,8,13,6,7,12,15,8,13,13,8,12,10,11,54,45,43,42,29,28,23,27,17,18,11,12,4,6,0,1,2,3,9,null,null,94,63,123,202,63,90,69,120,192,68,38,40,47,52,56,47,51,45,35,27,25,19,24,17,11,5,4,2,32,39,55,54,54,45,43,42,29,28,23,27,17,18,11,12,4,6]
["040103","AREQUIPA","AREQUIPA","AREQUIPA","CAYMA",{"v":114207,"d":"114,207"},{"v":55981,"d":"55,981"},545,533,597,683,659,769,{"v":1022,"d":"1,022"},954,{"v":1014,"d":"1,014"},984,869,855,912,834,837,915,780,880,899,839,{"v":4217,"d":"4,217"},{"v":4681,"d":"4,681"},{"v":5090,"d":"5,090"},{"v":4504,"d":"4,504"},{"v":4076,"d":"4,076"},{"v":3657,"d":"3,657"},{"v":2974,"d":"2,974"},{"v":2763,"d":"2,763"},{"v":2442,"d":"2,442"},{"v":1806,"d":"1,806"},{"v":1400,"d":"1,400"},970,508,513,50,294,251,578,{"v":58226,"d":"58,226"},496,545,649,724,643,721,977,{"v":1005,"d":"1,005"},920,819,831,832,888,812,769,886,838,824,796,773,{"v":4346,"d":"4,346"},{"v":5098,"d":"5,098"},{"v":5241,"d":"5,241"},{"v":4429,"d":"4,429"},{"v":4147,"d":"4,147"},{"v":3714,"d":"3,714"},{"v":3446,"d":"3,446"},{"v":3106,"d":"3,106"},{"v":2615,"d":"2,615"},{"v":2134,"d":"2,134"},{"v":1631,"d":"1,631"},{"v":1155,"d":"1,155"},677,739,30,256,240,526,{"v":2718,"d":"2,718"},null,null,{"v":9484,"d":"9,484"},{"v":5158,"d":"5,158"},{"v":10636,"d":"10,636"},{"v":23064,"d":"23,064"},{"v":7639,"d":"7,639"},{"v":9162,"d":"9,162"},{"v":5017,"d":"5,017"},{"v":11013,"d":"11,013"},{"v":24083,"d":"24,083"},{"v":8951,"d":"8,951"},{"v":3017,"d":"3,017"},{"v":4743,"d":"4,743"},{"v":4307,"d":"4,307"},{"v":4313,"d":"4,313"},{"v":4217,"d":"4,217"},{"v":4681,"d":"4,681"},{"v":5090,"d":"5,090"},{"v":4504,"d":"4,504"},{"v":4076,"d":"4,076"},{"v":3657,"d":"3,657"},{"v":2974,"d":"2,974"},{"v":2763,"d":"2,763"},{"v":2442,"d":"2,442"},{"v":1806,"d":"1,806"},{"v":1400,"d":"1,400"},970,508,513,{"v":3057,"d":"3,057"},{"v":4442,"d":"4,442"},{"v":4132,"d":"4,132"},{"v":4117,"d":"4,117"},{"v":4346,"d":"4,346"},{"v":5098,"d":"5,098"},{"v":5241,"d":"5,241"},{"v":4429,"d":"4,429"},{"v":4147,"d":"4,147"},{"v":3714,"d":"3,714"},{"v":3446,"d":"3,446"},{"v":3106,"d":"3,106"},{"v":2615,"d":"2,615"},{"v":2134,"d":"2,134"},{"v":1631,"d":"1,631"},{"v":1155,"d":"1,155"},677,739]
["040115","AREQUIPA","AREQUIPA","AREQUIPA","QUEQUEÑA",{"v":8714,"d":"8,714"},{"v":4400,"d":"4,400"},14,14,16,23,30,23,59,49,34,53,47,50,59,36,44,63,36,39,62,54,185,304,346,480,349,342,331,308,332,191,149,120,87,71,0,7,7,15,{"v":4314,"d":"4,314"},19,17,18,20,23,20,54,61,33,42,41,45,52,32,37,41,58,58,57,37,216,282,497,426,378,367,348,285,209,170,139,118,50,64,1,7,12,20,65,null,null,412,277,605,{"v":2156,"d":"2,156"},950,393,278,592,{"v":2301,"d":"2,301"},750,97,218,236,254,185,304,346,480,349,342,331,308,332,191,149,120,87,71,97,210,207,251,216,282,497,426,378,367,348,285,209,170,139,118,50,64]
["040120","AREQUIPA","AREQUIPA","AREQUIPA","SANTA ISABEL DE SIGUAS",705,326,3,3,1,3,2,7,4,3,3,4,3,3,3,4,1,4,4,7,5,5,25,20,22,18,18,21,28,22,23,19,15,5,10,8,0,3,0,3,379,3,6,1,3,2,6,6,8,6,2,7,7,6,8,1,6,6,8,1,4,27,28,31,17,19,25,24,24,23,19,11,18,8,8,0,3,0,3,7,null,null,39,23,55,129,80,57,35,60,140,87,12,21,14,25,25,20,22,18,18,21,28,22,23,19,15,5,10,8,15,28,29,25,27,28,31,17,19,25,24,24,23,19,11,18,8,8]
["040123","AREQUIPA","AREQUIPA","AREQUIPA","TIABAYA",{"v":19046,"d":"19,046"},{"v":9208,"d":"9,208"},118,116,139,117,112,143,136,172,133,131,112,125,145,119,134,134,115,139,110,124,678,776,835,758,715,616,482,478,411,280,234,162,111,98,11,65,53,125,{"v":9838,"d":"9,838"},115,109,127,126,117,154,157,186,153,147,117,133,153,126,135,130,142,153,131,143,704,850,785,711,720,644,568,517,402,365,292,236,134,156,9,45,70,122,435,null,null,{"v":1554,"d":"1,554"},786,{"v":1688,"d":"1,688"},{"v":3884,"d":"3,884"},{"v":1296,"d":"1,296"},{"v":1641,"d":"1,641"},839,{"v":1828,"d":"1,828"},{"v":3945,"d":"3,945"},{"v":1585,"d":"1,585"},602,715,635,622,678,776,835,758,715,616,482,478,411,280,234,162,111,98,594,797,664,699,704,850,785,711,720,644,568,517,402,365,292,236,134,156]
["040202","AREQUIPA","AREQUIPA","CAMANA","JOSE MARIA QUIMPER",{"v":5930,"d":"5,930"},{"v":2953,"d":"2,953"},28,24,41,31,26,38,49,65,62,35,37,43,45,34,46,49,37,40,34,34,178,212,231,215,202,184,158,196,169,175,91,75,33,36,2,15,13,30,{"v":2977,"d":"2,977"},29,30,36,37,22,42,37,58,53,45,39,46,49,37,49,43,54,34,46,40,194,279,224,224,198,181,172,167,186,118,91,44,42,31,2,18,11,31,124,null,null,479,251,458,{"v":1186,"d":"1,186"},579,474,266,559,{"v":1166,"d":"1,166"},512,150,249,205,194,178,212,231,215,202,184,158,196,169,175,91,75,33,36,154,235,220,217,194,279,224,224,198,181,172,167,186,118,91,44,42,31]
["040303","AREQUIPA","AREQUIPA","CARAVELI","ATICO",{"v":6658,"d":"6,658"},{"v":3231,"d":"3,231"},26,30,36,38,24,48,51,44,48,44,55,56,37,54,62,50,69,57,53,41,200,208,244,241,250,247,228,205,157,128,83,55,47,15,0,15,11,28,{"v":3427,"d":"3,427"},21,30,38,39,33,30,67,48,50,53,55,57,37,55,60,65,56,53,58,46,204,290,315,278,237,250,217,183,136,131,82,80,31,42,2,12,9,22,59,null,null,500,329,502,{"v":1415,"d":"1,415"},485,521,326,598,{"v":1480,"d":"1,480"},502,154,235,264,270,200,208,244,241,250,247,228,205,157,128,83,55,47,15,161,248,264,278,204,290,315,278,237,250,217,183,136,131,82,80,31,42]
["040309","AREQUIPA","AREQUIPA","CARAVELI","HUANUHUANU",{"v":3453,"d":"3,453"},{"v":1515,"d":"1,515"},21,21,17,34,18,32,12,24,12,15,15,22,17,31,29,20,29,18,28,16,60,104,157,171,127,122,107,83,74,44,16,7,4,8,4,12,9,22,{"v":1938,"d":"1,938"},14,18,16,14,26,22,30,23,25,44,28,43,34,61,55,43,33,39,18,31,138,157,200,142,126,151,118,95,71,35,32,8,17,31,0,3,11,15,107,null,null,243,144,208,767,153,303,265,344,832,194,111,95,114,111,60,104,157,171,127,122,107,83,74,44,16,7,4,8,88,144,221,164,138,157,200,142,126,151,118,95,71,35,32,8,17,31]
["040401","AREQUIPA","AREQUIPA","CASTILLA","APLAO",{"v":10434,"d":"10,434"},{"v":5090,"d":"5,090"},50,58,56,65,50,73,66,67,71,64,67,85,105,68,88,70,92,100,65,69,326,363,358,319,316,335,319,345,285,226,199,131,69,70,1,22,28,53,{"v":5344,"d":"5,344"},53,48,56,49,67,71,69,67,69,56,64,83,102,66,82,77,109,94,93,90,420,454,385,345,342,353,332,329,243,217,158,134,74,93,4,27,26,56,269,null,null,772,523,823,{"v":1992,"d":"1,992"},980,752,530,{"v":1057,"d":"1,057"},{"v":2086,"d":"2,086"},919,279,341,413,396,326,363,358,319,316,335,319,345,285,226,199,131,69,70,273,332,397,463,420,454,385,345,342,353,332,329,243,217,158,134,74,93]
["040404","AREQUIPA","AREQUIPA","CASTILLA","CHACHAS",{"v":1806,"d":"1,806"},811,6,7,14,8,14,16,13,5,14,8,19,11,12,10,16,17,15,16,10,9,63,55,70,64,55,52,43,48,34,26,24,20,5,12,1,5,1,6,995,10,6,12,18,17,15,10,21,15,22,26,16,18,15,21,30,14,23,14,16,75,81,74,63,35,48,43,64,55,36,17,16,21,28,3,8,2,11,21,null,null,135,86,137,332,121,188,121,186,327,173,49,56,68,67,63,55,70,64,55,52,43,48,34,26,24,20,5,12,63,83,96,97,75,81,74,63,35,48,43,64,55,36,17,16,21,28]
["040501","AREQUIPA","AREQUIPA","CAYLLOMA","CHIVAY",{"v":7927,"d":"7,927"},{"v":3892,"d":"3,892"},27,26,28,56,19,38,52,75,67,72,74,62,87,76,65,99,92,83,78,67,362,326,319,281,217,230,172,207,174,107,88,82,42,42,0,13,14,29,{"v":4035,"d":"4,035"},23,23,24,42,33,47,85,67,78,67,70,59,83,72,59,73,85,82,86,72,390,378,322,253,258,206,183,222,143,110,113,107,48,72,2,14,9,24,88,null,null,596,502,833,{"v":1426,"d":"1,426"},535,618,454,926,{"v":1444,"d":"1,444"},593,156,304,364,419,362,326,319,281,217,230,172,207,174,107,88,82,42,42,145,344,343,398,390,378,322,253,258,206,183,222,143,110,113,107,48,72]
["040507","AREQUIPA","AREQUIPA","CAYLLOMA","HUAMBO",955,435,4,3,5,4,4,2,4,4,1,4,5,3,3,3,5,2,9,9,5,2,22,30,31,22,25,29,30,29,29,26,16,28,17,20,0,4,0,4,520,0,3,4,1,4,4,5,5,1,0,8,6,5,5,8,10,12,12,6,4,34,30,25,23,33,20,36,44,23,58,34,13,25,19,0,0,0,0,6,null,null,43,31,59,166,136,41,52,74,181,172,20,15,19,27,22,30,31,22,25,29,30,29,29,26,16,28,17,20,12,15,32,44,34,30,25,23,33,20,36,44,23,58,34,13,25,19]
["040509","AREQUIPA","AREQUIPA","CAYLLOMA","ICHUPAMPA",966,452,3,1,4,5,4,6,1,2,5,7,3,7,8,3,8,5,9,8,2,5,21,31,43,27,29,31,29,33,27,26,27,11,12,9,1,1,2,3,514,2,2,1,7,3,8,8,8,8,0,4,8,8,4,8,4,4,8,1,9,33,41,40,38,32,33,30,31,29,34,20,23,12,13,0,0,2,2,7,null,null,48,41,59,192,112,59,36,84,204,131,17,21,29,29,21,31,43,27,29,31,29,33,27,26,27,11,12,9,15,32,32,26,33,41,40,38,32,33,30,31,29,34,20,23,12,13]
["040518","AREQUIPA","AREQUIPA","CAYLLOMA","TUTI",{"v":1090,"d":"1,090"},511,4,2,4,4,2,3,10,11,4,5,8,8,7,1,4,4,16,12,11,17,37,32,31,43,36,40,30,33,22,14,24,15,9,8,1,3,1,4,579,2,5,5,5,4,7,8,5,4,8,8,8,8,1,5,9,9,4,9,10,47,46,46,36,46,31,27,27,33,29,38,27,10,12,0,2,0,2,18,null,null,65,44,97,213,92,69,36,112,213,149,16,33,28,60,37,32,31,43,36,40,30,33,22,14,24,15,9,8,21,32,30,41,47,46,46,36,46,31,27,27,33,29,38,27,10,12]
["040607","AREQUIPA","AREQUIPA","CONDESUYOS","SALAMANCA",486,231,2,2,2,3,2,3,2,1,4,2,3,3,3,3,1,3,2,3,3,4,14,13,9,15,15,19,16,20,10,15,11,9,6,8,1,2,0,2,255,5,3,3,2,3,1,2,2,1,1,2,2,2,2,1,1,5,5,2,2,15,10,15,9,10,10,18,17,18,16,17,19,21,13,0,4,1,5,16,null,null,29,15,34,94,59,27,16,29,79,104,11,12,13,15,14,13,9,15,15,19,16,20,10,15,11,9,6,8,16,7,9,15,15,10,15,9,10,10,18,17,18,16,17,19,21,13]
["040704","AREQUIPA","AREQUIPA","ISLAY","ISLAY",{"v":5470,"d":"5,470"},{"v":2646,"d":"2,646"},32,46,49,45,44,55,47,37,34,42,36,48,36,40,33,39,52,48,41,34,157,183,194,211,204,207,173,144,112,93,72,34,9,15,2,13,19,34,{"v":2824,"d":"2,824"},30,34,31,40,41,39,50,48,47,51,34,47,35,40,33,45,57,56,54,45,219,255,229,204,200,199,171,151,103,88,62,56,13,17,4,14,16,32,201,null,null,515,248,415,{"v":1133,"d":"1,133"},335,492,266,573,{"v":1154,"d":"1,154"},339,216,215,193,214,157,183,194,211,204,207,173,144,112,93,72,34,9,15,176,235,189,257,219,255,229,204,200,199,171,151,103,88,62,56,13,17]
["040804","AREQUIPA","AREQUIPA","LA UNION","HUAYNACOTAS",{"v":2092,"d":"2,092"},{"v":1006,"d":"1,006"},10,8,18,13,21,16,20,13,16,20,15,22,17,17,18,23,20,25,16,15,79,75,52,54,70,50,60,57,43,39,30,23,14,17,0,5,5,11,{"v":1086,"d":"1,086"},10,12,17,17,16,20,20,20,21,16,15,22,17,17,17,20,25,21,23,18,104,68,50,43,50,77,59,64,37,43,35,30,26,36,0,4,6,11,65,null,null,192,120,185,343,166,206,117,213,343,207,70,85,89,99,79,75,52,54,70,50,60,57,43,39,30,23,14,17,72,97,88,107,104,68,50,43,50,77,59,64,37,43,35,30,26,36]
["040807","AREQUIPA","AREQUIPA","LA UNION","QUECHUALLA",435,214,1,0,0,0,1,2,1,1,1,1,0,0,0,0,1,1,1,1,1,1,6,7,21,18,16,17,15,19,27,19,12,11,6,6,0,1,0,1,221,1,0,3,1,3,0,1,1,4,3,1,1,1,1,0,1,1,1,4,1,4,22,24,15,11,14,12,22,13,18,8,8,8,13,0,0,1,1,3,null,null,8,4,15,106,81,19,5,31,98,68,2,6,1,5,6,7,21,18,16,17,15,19,27,19,12,11,6,6,8,9,4,8,4,22,24,15,11,14,12,22,13,18,8,8,8,13]
["050106","AYACUCHO","AYACUCHO","HUAMANGA","OCROS",{"v":7992,"d":"7,992"},{"v":4050,"d":"4,050"},39,45,46,46,71,56,59,60,69,63,83,66,73,80,76,78,87,93,86,96,339,293,313,286,258,250,250,157,193,128,91,66,29,25,1,16,23,41,{"v":3942,"d":"3,942"},23,35,35,45,50,54,65,68,83,64,86,68,75,82,78,83,112,113,76,69,339,261,311,234,234,213,211,165,161,130,105,94,52,68,3,13,10,24,144,null,null,703,487,814,{"v":1514,"d":"1,514"},532,676,543,745,{"v":1368,"d":"1,368"},610,247,307,378,440,339,293,313,286,258,250,250,157,193,128,91,66,29,25,188,334,389,453,339,261,311,234,234,213,211,165,161,130,105,94,52,68]
["050113","AYACUCHO","AYACUCHO","HUAMANGA","TAMBILLO",{"v":8312,"d":"8,312"},{"v":4238,"d":"4,238"},53,55,62,66,63,63,95,90,78,74,74,62,88,39,54,70,87,102,86,95,364,370,416,351,336,247,180,166,99,118,63,36,21,15,4,30,23,56,{"v":4074,"d":"4,074"},59,68,59,68,80,79,92,84,53,65,73,61,86,38,52,92,86,97,74,77,362,357,362,361,265,195,156,131,122,105,82,57,48,28,5,32,27,63,209,null,null,835,440,915,{"v":1696,"d":"1,696"},352,841,451,870,{"v":1470,"d":"1,470"},442,299,400,317,440,364,370,416,351,336,247,180,166,99,118,63,36,21,15,334,373,310,426,362,357,362,361,265,195,156,131,122,105,82,57,48,28]
["050205","AYACUCHO","AYACUCHO","CANGALLO","PARAS",{"v":3685,"d":"3,685"},{"v":1847,"d":"1,847"},37,36,26,52,33,47,42,32,36,34,29,46,35,36,27,39,39,37,43,35,162,153,144,127,96,94,73,70,62,45,37,21,10,12,4,14,23,39,{"v":1838,"d":"1,838"},23,32,31,36,35,49,35,31,43,38,30,49,36,37,30,48,38,36,39,33,154,147,130,106,88,88,69,78,63,59,42,31,32,22,3,9,14,24,117,null,null,450,213,393,604,187,432,225,373,559,249,184,191,173,193,162,153,144,127,96,94,73,70,62,45,37,21,10,12,157,196,182,194,154,147,130,106,88,88,69,78,63,59,42,31,32,22]
["050302","AYACUCHO","AYACUCHO","HUANCA SANCOS","CARAPO",{"v":1447,"d":"1,447"},750,9,10,8,8,13,8,12,9,7,11,8,16,12,14,18,16,19,7,12,7,63,59,62,63,48,52,39,40,35,21,17,13,7,7,0,5,4,10,697,10,5,9,9,11,12,5,5,6,13,7,13,10,12,16,11,11,11,15,11,45,54,57,51,37,36,45,36,27,37,26,18,15,11,2,5,5,11,40,null,null,119,86,141,304,100,105,71,125,262,134,48,47,68,61,63,59,62,63,48,52,39,40,35,21,17,13,7,7,44,41,58,59,45,54,57,51,37,36,45,36,27,37,26,18,15,11]
["050407","AYACUCHO","AYACUCHO","HUANTA","SIVIA",{"v":9936,"d":"9,936"},{"v":4955,"d":"4,955"},68,76,98,116,148,173,81,86,112,135,81,82,112,102,87,103,113,84,96,79,326,346,394,417,319,291,238,193,141,131,68,39,10,10,6,29,39,72,{"v":4981,"d":"4,981"},67,66,96,93,139,130,87,99,82,142,100,100,135,123,108,101,122,99,114,81,389,361,407,357,323,256,169,187,198,103,74,38,23,12,6,34,33,71,278,null,null,{"v":1256,"d":"1,256"},601,847,{"v":1852,"d":"1,852"},399,{"v":1201,"d":"1,201"},688,945,{"v":1699,"d":"1,699"},448,506,587,464,475,326,346,394,417,319,291,238,193,141,131,68,39,10,10,461,540,566,517,389,361,407,357,323,256,169,187,198,103,74,38,23,12]
["050411","AYACUCHO","AYACUCHO","HUANTA","PUCACOLPA",{"v":2133,"d":"2,133"},{"v":1050,"d":"1,050"},22,20,24,28,19,24,29,27,19,21,29,30,31,36,27,32,26,25,28,27,98,55,54,75,45,56,40,28,27,18,17,5,6,2,1,13,9,23,{"v":1083,"d":"1,083"},27,19,29,33,43,32,26,28,28,26,25,26,27,31,24,26,26,27,25,32,89,59,54,58,48,45,20,35,35,31,23,10,10,6,0,7,20,29,89,null,null,292,177,208,298,75,342,161,205,260,115,113,120,153,138,98,55,54,75,45,56,40,28,27,18,17,5,6,2,151,140,133,136,89,59,54,58,48,45,20,35,35,31,23,10,10,6]
["050505","AYACUCHO","AYACUCHO","LA MAR","CHUNGUI",{"v":3660,"d":"3,660"},{"v":1804,"d":"1,804"},34,26,28,56,46,40,32,34,28,42,39,35,44,44,47,54,49,56,49,47,178,123,109,121,105,95,68,62,42,27,19,13,6,6,2,15,19,36,{"v":1856,"d":"1,856"},36,28,33,47,48,47,32,45,38,32,43,39,49,49,54,61,60,52,48,36,183,108,99,109,95,71,60,73,53,43,36,21,19,9,4,19,17,38,125,null,null,440,294,397,560,113,468,325,375,507,181,190,176,209,255,178,123,109,121,105,95,68,62,42,27,19,13,6,6,192,194,234,257,183,108,99,109,95,71,60,73,53,43,36,21,19,9]
["050508","AYACUCHO","AYACUCHO","LA MAR","TAMBO",{"v":8594,"d":"8,594"},{"v":4308,"d":"4,308"},96,90,95,102,130,128,106,83,80,88,92,95,86,86,89,90,86,119,102,76,412,364,277,259,240,216,179,115,109,80,63,36,21,18,7,48,48,102,{"v":4286,"d":"4,286"},91,80,91,104,117,114,82,96,89,85,90,92,84,84,86,95,99,99,100,78,393,304,255,214,205,192,171,157,163,118,101,73,54,30,7,46,45,96,321,null,null,{"v":1185,"d":"1,185"},556,954,{"v":1286,"d":"1,286"},327,{"v":1131,"d":"1,131"},547,875,{"v":1194,"d":"1,194"},539,513,485,448,473,412,364,277,259,240,216,179,115,109,80,63,36,21,18,483,466,436,471,393,304,255,214,205,192,171,157,163,118,101,73,54,30]
["050602","AYACUCHO","AYACUCHO","LUCANAS","AUCARA",{"v":2827,"d":"2,827"},{"v":1479,"d":"1,479"},4,7,9,7,8,15,32,18,23,28,20,20,24,31,24,21,21,31,25,20,90,68,73,83,84,91,109,81,90,96,83,68,27,48,0,3,1,4,{"v":1348,"d":"1,348"},8,7,9,10,12,17,18,24,24,23,20,20,24,32,27,22,17,29,15,20,62,54,63,70,58,75,70,70,83,87,91,71,65,51,0,5,3,8,17,null,null,191,152,203,521,412,192,151,151,406,448,35,116,119,118,90,68,73,83,84,91,109,81,90,96,83,68,27,48,46,106,123,103,62,54,63,70,58,75,70,70,83,87,91,71,65,51]
["050610","AYACUCHO","AYACUCHO","LUCANAS","LLAUTA",641,319,5,6,5,6,9,6,2,2,2,2,1,3,5,3,7,5,5,5,5,5,13,19,23,18,21,23,19,24,20,18,8,9,7,8,0,2,3,5,322,0,4,6,4,7,6,2,2,1,8,1,2,4,2,6,7,5,4,6,3,13,19,22,20,27,18,20,24,22,19,10,12,9,7,0,0,0,0,8,null,null,49,30,42,128,70,43,28,41,131,79,31,14,19,25,13,19,23,18,21,23,19,24,20,18,8,9,7,8,21,19,15,25,13,19,22,20,27,18,20,24,22,19,10,12,9,7]
["050617","AYACUCHO","AYACUCHO","LUCANAS","SAN PEDRO",{"v":2158,"d":"2,158"},{"v":1094,"d":"1,094"},19,11,23,21,14,18,25,20,25,21,20,24,24,25,23,22,22,26,25,14,88,73,73,76,61,52,57,38,36,29,26,28,16,19,1,14,5,20,{"v":1064,"d":"1,064"},18,11,23,9,11,21,21,21,18,19,19,23,23,24,24,26,24,18,18,13,84,91,72,72,54,44,42,45,44,34,35,22,24,17,0,10,8,19,86,null,null,241,142,200,357,154,214,139,206,329,176,88,109,116,109,88,73,73,76,61,52,57,38,36,29,26,28,16,19,72,100,113,99,84,91,72,72,54,44,42,45,44,34,35,22,24,17]
["050621","AYACUCHO","AYACUCHO","LUCANAS","SANTA LUCIA",{"v":1684,"d":"1,684"},819,6,7,5,7,14,10,10,1,12,9,11,4,19,7,8,8,10,10,13,11,45,48,43,94,69,54,60,43,64,31,37,23,10,16,0,3,3,6,865,2,13,12,9,9,11,11,11,19,11,10,4,18,7,7,10,17,11,15,5,40,69,75,57,78,50,54,52,53,29,38,20,31,7,1,2,0,2,10,null,null,96,62,117,363,181,122,70,129,366,178,39,42,49,52,45,48,43,94,69,54,60,43,64,31,37,23,10,16,45,63,46,58,40,69,75,57,78,50,54,52,53,29,38,20,31,7]
["050801","AYACUCHO","AYACUCHO","PAUCAR DEL SARA SARA","PAUSA",{"v":3030,"d":"3,030"},{"v":1579,"d":"1,579"},23,16,19,33,27,31,46,30,32,45,31,38,43,37,41,37,26,39,34,35,82,62,78,108,99,85,69,71,93,58,47,32,15,17,1,12,11,24,{"v":1451,"d":"1,451"},22,19,23,18,21,22,32,18,20,34,26,32,36,31,36,22,35,35,32,25,79,83,107,98,95,77,75,68,60,57,36,35,25,17,1,8,14,23,89,null,null,371,223,213,510,262,287,195,219,520,230,118,184,190,171,82,62,78,108,99,85,69,71,93,58,47,32,15,17,103,126,161,149,79,83,107,98,95,77,75,68,60,57,36,35,25,17]
["050804","AYACUCHO","AYACUCHO","PAUCAR DEL SARA SARA","LAMPA",{"v":1547,"d":"1,547"},786,12,12,11,23,14,14,8,13,11,17,8,12,12,14,19,13,11,13,19,12,63,44,55,57,57,47,30,45,31,33,25,11,13,7,1,5,7,13,761,3,11,13,15,18,10,12,8,10,20,8,13,13,15,19,17,13,11,13,18,49,45,56,48,48,38,34,42,37,29,28,16,23,8,0,1,2,3,21,null,null,155,82,138,291,120,141,88,125,266,141,72,63,65,68,63,44,55,57,57,47,30,45,31,33,25,11,13,7,60,60,68,72,49,45,56,48,48,38,34,42,37,29,28,16,23,8]
["050902","AYACUCHO","AYACUCHO","SUCRE","BELEN",200,106,0,0,2,4,1,1,2,1,0,2,1,1,1,2,2,1,3,0,0,2,7,11,9,8,6,8,3,6,7,5,5,1,2,2,0,0,0,0,94,3,0,2,0,0,2,2,2,1,2,1,1,1,2,2,1,2,2,2,1,7,6,8,6,6,4,2,5,5,6,2,1,6,1,0,1,2,3,5,null,null,15,9,20,40,22,16,10,16,31,21,7,6,7,6,7,11,9,8,6,8,3,6,7,5,5,1,2,2,5,9,7,8,7,6,8,6,6,4,2,5,5,6,2,1,6,1]
["050905","AYACUCHO","AYACUCHO","SUCRE","HUACAÑA",252,140,1,1,3,2,3,3,2,2,1,3,2,2,2,2,1,3,7,2,2,4,6,6,7,7,8,14,13,5,5,6,6,5,2,2,0,1,0,1,112,0,2,0,1,4,0,2,1,2,1,2,2,2,2,1,1,2,2,6,4,7,7,6,8,6,6,7,6,2,6,5,5,2,2,0,0,0,0,2,null,null,25,17,18,54,26,17,10,24,39,22,10,11,9,18,6,6,7,7,8,14,13,5,5,6,6,5,2,2,7,6,9,15,7,7,6,8,6,6,7,6,2,6,5,5,2,2]
["051002","AYACUCHO","AYACUCHO","VICTOR FAJARDO","ALCAMENCA",{"v":1062,"d":"1,062"},519,5,4,1,11,12,9,8,10,8,3,10,8,7,8,3,9,10,8,8,6,36,40,46,44,38,34,24,23,25,23,16,13,4,5,2,5,0,5,543,4,4,7,10,7,5,3,9,10,6,10,8,7,8,4,8,8,7,8,16,41,40,33,30,28,31,31,33,32,28,31,17,15,4,1,3,1,4,13,null,null,89,45,90,209,86,83,42,105,186,127,33,38,36,41,36,40,46,44,38,34,24,23,25,23,16,13,4,5,32,33,37,47,41,40,33,30,28,31,31,33,32,28,31,17,15,4]
["051011","AYACUCHO","AYACUCHO","VICTOR FAJARDO","SARHUA",{"v":3233,"d":"3,233"},{"v":1636,"d":"1,636"},11,13,11,16,19,18,26,27,36,28,42,39,27,39,26,49,35,35,30,35,158,115,137,141,118,87,78,64,55,55,26,19,13,8,1,1,10,12,{"v":1597,"d":"1,597"},14,17,21,14,29,24,22,23,23,21,35,33,23,33,23,41,25,25,24,31,148,123,95,112,97,74,107,75,68,78,31,38,44,6,0,8,6,15,39,null,null,286,211,338,625,176,276,170,326,560,265,70,135,173,184,158,115,137,141,118,87,78,64,55,55,26,19,13,8,95,113,147,146,148,123,95,112,97,74,107,75,68,78,31,38,44,6]
["051106","AYACUCHO","AYACUCHO","VILCAS HUAMAN","INDEPENDENCIA",803,424,1,1,3,3,5,5,5,5,5,7,5,5,9,9,9,10,10,5,5,9,31,30,31,32,20,31,31,22,18,18,17,11,11,5,0,0,1,1,379,1,5,1,1,9,5,5,2,3,6,4,4,7,7,7,9,6,12,8,4,34,24,23,23,18,22,19,17,19,17,20,17,15,5,0,1,0,1,4,null,null,50,52,75,167,80,46,48,70,122,93,13,27,37,39,31,30,31,32,20,31,31,22,18,18,17,11,11,5,17,21,29,39,34,24,23,23,18,22,19,17,19,17,20,17,15,5]
["060101","CAJAMARCA","CAJAMARCA","CAJAMARCA","CAJAMARCA",{"v":277709,"d":"277,709"},{"v":141739,"d":"141,739"},{"v":1840,"d":"1,840"},{"v":1959,"d":"1,959"},{"v":2075,"d":"2,075"},{"v":2204,"d":"2,204"},{"v":2181,"d":"2,181"},{"v":2230,"d":"2,230"},{"v":3381,"d":"3,381"},{"v":3285,"d":"3,285"},{"v":3394,"d":"3,394"},{"v":3106,"d":"3,106"},{"v":2880,"d":"2,880"},{"v":3100,"d":"3,100"},{"v":2878,"d":"2,878"},{"v":2807,"d":"2,807"},{"v":2970,"d":"2,970"},{"v":2988,"d":"2,988"},{"v":2863,"d":"2,863"},{"v":2799,"d":"2,799"},{"v":2557,"d":"2,557"},{"v":2575,"d":"2,575"},{"v":10771,"d":"10,771"},{"v":11262,"d":"11,262"},{"v":12616,"d":"12,616"},{"v":11902,"d":"11,902"},{"v":10371,"d":"10,371"},{"v":8780,"d":"8,780"},{"v":6263,"d":"6,263"},{"v":4757,"d":"4,757"},{"v":3778,"d":"3,778"},{"v":3002,"d":"3,002"},{"v":2098,"d":"2,098"},{"v":1193,"d":"1,193"},435,439,119,894,946,{"v":1950,"d":"1,950"},{"v":135970,"d":"135,970"},{"v":1747,"d":"1,747"},{"v":1917,"d":"1,917"},{"v":2071,"d":"2,071"},{"v":2103,"d":"2,103"},{"v":2092,"d":"2,092"},{"v":2195,"d":"2,195"},{"v":2798,"d":"2,798"},{"v":2933,"d":"2,933"},{"v":2889,"d":"2,889"},{"v":2627,"d":"2,627"},{"v":2522,"d":"2,522"},{"v":2722,"d":"2,722"},{"v":2527,"d":"2,527"},{"v":2464,"d":"2,464"},{"v":2492,"d":"2,492"},{"v":2628,"d":"2,628"},{"v":2453,"d":"2,453"},{"v":2355,"d":"2,355"},{"v":2433,"d":"2,433"},{"v":2284,"d":"2,284"},{"v":9812,"d":"9,812"},{"v":10840,"d":"10,840"},{"v":12130,"d":"12,130"},{"v":11770,"d":"11,770"},{"v":9591,"d":"9,591"},{"v":8021,"d":"8,021"},{"v":6049,"d":"6,049"},{"v":5298,"d":"5,298"},{"v":4507,"d":"4,507"},{"v":3492,"d":"3,492"},{"v":2733,"d":"2,733"},{"v":1619,"d":"1,619"},920,936,119,852,895,{"v":1852,"d":"1,852"},{"v":4552,"d":"4,552"},null,null,{"v":31635,"d":"31,635"},{"v":17305,"d":"17,305"},{"v":27165,"d":"27,165"},{"v":54689,"d":"54,689"},{"v":10945,"d":"10,945"},{"v":28616,"d":"28,616"},{"v":14919,"d":"14,919"},{"v":25369,"d":"25,369"},{"v":52859,"d":"52,859"},{"v":14207,"d":"14,207"},{"v":10259,"d":"10,259"},{"v":15396,"d":"15,396"},{"v":14635,"d":"14,635"},{"v":13782,"d":"13,782"},{"v":10771,"d":"10,771"},{"v":11262,"d":"11,262"},{"v":12616,"d":"12,616"},{"v":11902,"d":"11,902"},{"v":10371,"d":"10,371"},{"v":8780,"d":"8,780"},{"v":6263,"d":"6,263"},{"v":4757,"d":"4,757"},{"v":3778,"d":"3,778"},{"v":3002,"d":"3,002"},{"v":2098,"d":"2,098"},{"v":1193,"d":"1,193"},435,439,{"v":9930,"d":"9,930"},{"v":13442,"d":"13,442"},{"v":12727,"d":"12,727"},{"v":12153,"d":"12,153"},{"v":9812,"d":"9,812"},{"v":10840,"d":"10,840"},{"v":12130,"d":"12,130"},{"v":11770,"d":"11,770"},{"v":9591,"d":"9,591"},{"v":8021,"d":"8,021"},{"v":6049,"d":"6,049"},{"v":5298,"d":"5,298"},{"v":4507,"d":"4,507"},{"v":3492,"d":"3,492"},{"v":2733,"d":"2,733"},{"v":1619,"d":"1,619"},920,936]
["060111","CAJAMARCA","CAJAMARCA","CAJAMARCA","NAMORA",{"v":9424,"d":"9,424"},{"v":4737,"d":"4,737"},98,83,104,127,124,132,103,99,112,98,90,116,96,95,115,95,101,88,93,101,383,361,362,357,283,236,183,139,125,93,72,36,23,14,8,51,47,104,{"v":4687,"d":"4,687"},77,111,87,125,139,105,83,96,83,93,84,109,90,89,100,94,101,87,102,79,356,393,346,346,265,228,171,164,146,113,77,57,47,44,5,40,37,82,365,null,null,{"v":1286,"d":"1,286"},590,938,{"v":1560,"d":"1,560"},363,{"v":1192,"d":"1,192"},561,930,{"v":1520,"d":"1,520"},484,536,544,512,478,383,361,362,357,283,236,183,139,125,93,72,36,23,14,539,460,472,463,356,393,346,346,265,228,171,164,146,113,77,57,47,44]
["060201","CAJAMARCA","CAJAMARCA","CAJABAMBA","CAJABAMBA",{"v":34158,"d":"34,158"},{"v":17260,"d":"17,260"},263,303,353,339,357,352,353,337,343,332,348,381,321,357,365,369,382,380,361,352,{"v":1341,"d":"1,341"},{"v":1250,"d":"1,250"},{"v":1238,"d":"1,238"},{"v":1287,"d":"1,287"},{"v":1063,"d":"1,063"},{"v":1074,"d":"1,074"},808,661,533,430,277,167,98,85,15,133,130,279,{"v":16898,"d":"16,898"},270,336,336,347,327,311,306,282,305,297,304,334,282,313,305,312,325,305,308,309,{"v":1231,"d":"1,231"},{"v":1287,"d":"1,287"},{"v":1284,"d":"1,284"},{"v":1231,"d":"1,231"},{"v":1048,"d":"1,048"},{"v":1022,"d":"1,022"},772,700,641,486,365,254,175,188,26,135,135,286,{"v":1261,"d":"1,261"},null,null,{"v":4061,"d":"4,061"},{"v":2174,"d":"2,174"},{"v":3304,"d":"3,304"},{"v":6131,"d":"6,131"},{"v":1590,"d":"1,590"},{"v":3755,"d":"3,755"},{"v":1842,"d":"1,842"},{"v":3135,"d":"3,135"},{"v":6057,"d":"6,057"},{"v":2109,"d":"2,109"},{"v":1615,"d":"1,615"},{"v":1717,"d":"1,717"},{"v":1772,"d":"1,772"},{"v":1844,"d":"1,844"},{"v":1341,"d":"1,341"},{"v":1250,"d":"1,250"},{"v":1238,"d":"1,238"},{"v":1287,"d":"1,287"},{"v":1063,"d":"1,063"},{"v":1074,"d":"1,074"},808,661,533,430,277,167,98,85,{"v":1616,"d":"1,616"},{"v":1501,"d":"1,501"},{"v":1538,"d":"1,538"},{"v":1559,"d":"1,559"},{"v":1231,"d":"1,231"},{"v":1287,"d":"1,287"},{"v":1284,"d":"1,284"},{"v":1231,"d":"1,231"},{"v":1048,"d":"1,048"},{"v":1022,"d":"1,022"},772,700,641,486,365,254,175,188]
["060306","CAJAMARCA","CAJAMARCA","CELENDIN","JOSE GALVEZ",{"v":2429,"d":"2,429"},{"v":1218,"d":"1,218"},17,23,26,24,27,29,10,19,22,24,20,21,16,26,18,31,15,21,20,15,72,103,96,107,83,81,64,49,37,37,27,17,11,10,2,9,8,18,{"v":1211,"d":"1,211"},16,18,16,30,18,18,17,20,18,9,22,23,17,28,18,19,19,18,24,18,77,89,108,102,73,63,59,59,50,46,34,23,18,24,3,10,6,17,101,null,null,262,127,210,480,139,225,119,208,464,195,117,104,101,102,72,103,96,107,83,81,64,49,37,37,27,17,11,10,98,82,108,98,77,89,108,102,73,63,59,59,50,46,34,23,18,24]
["060401","CAJAMARCA","CAJAMARCA","CHOTA","CHOTA",{"v":50932,"d":"50,932"},{"v":26206,"d":"26,206"},365,401,430,412,426,392,510,525,497,452,481,567,463,488,518,510,542,496,493,494,{"v":2116,"d":"2,116"},{"v":2016,"d":"2,016"},{"v":2058,"d":"2,058"},{"v":2000,"d":"2,000"},{"v":1806,"d":"1,806"},{"v":1747,"d":"1,747"},{"v":1361,"d":"1,361"},{"v":1055,"d":"1,055"},905,588,464,293,159,176,31,175,190,387,{"v":24726,"d":"24,726"},309,381,418,456,406,386,392,422,423,348,385,455,371,392,397,396,394,425,426,428,{"v":1812,"d":"1,812"},{"v":1810,"d":"1,810"},{"v":1947,"d":"1,947"},{"v":1923,"d":"1,923"},{"v":1773,"d":"1,773"},{"v":1582,"d":"1,582"},{"v":1378,"d":"1,378"},{"v":1183,"d":"1,183"},939,742,620,409,272,326,19,145,164,328,{"v":1295,"d":"1,295"},null,null,{"v":5458,"d":"5,458"},{"v":3017,"d":"3,017"},{"v":5119,"d":"5,119"},{"v":10027,"d":"10,027"},{"v":2585,"d":"2,585"},{"v":4781,"d":"4,781"},{"v":2375,"d":"2,375"},{"v":4476,"d":"4,476"},{"v":9786,"d":"9,786"},{"v":3308,"d":"3,308"},{"v":2034,"d":"2,034"},{"v":2376,"d":"2,376"},{"v":2517,"d":"2,517"},{"v":2535,"d":"2,535"},{"v":2116,"d":"2,116"},{"v":2016,"d":"2,016"},{"v":2058,"d":"2,058"},{"v":2000,"d":"2,000"},{"v":1806,"d":"1,806"},{"v":1747,"d":"1,747"},{"v":1361,"d":"1,361"},{"v":1055,"d":"1,055"},905,588,464,293,159,176,{"v":1970,"d":"1,970"},{"v":1971,"d":"1,971"},{"v":2000,"d":"2,000"},{"v":2069,"d":"2,069"},{"v":1812,"d":"1,812"},{"v":1810,"d":"1,810"},{"v":1947,"d":"1,947"},{"v":1923,"d":"1,923"},{"v":1773,"d":"1,773"},{"v":1582,"d":"1,582"},{"v":1378,"d":"1,378"},{"v":1183,"d":"1,183"},939,742,620,409,272,326]
["060404","CAJAMARCA","CAJAMARCA","CHOTA","CHIGUIRIP",{"v":3129,"d":"3,129"},{"v":1547,"d":"1,547"},12,19,16,22,32,27,21,17,24,26,17,20,30,24,21,30,37,28,34,25,133,117,115,118,127,97,92,79,54,41,36,28,14,14,1,3,9,13,{"v":1582,"d":"1,582"},16,16,18,20,27,24,11,21,23,24,19,22,33,26,20,31,30,31,26,24,121,126,102,121,113,101,92,82,67,53,55,34,25,28,3,4,12,17,76,null,null,253,170,309,628,187,241,171,297,611,262,101,115,112,154,133,117,115,118,127,97,92,79,54,41,36,28,14,14,97,103,120,142,121,126,102,121,113,101,92,82,67,53,55,34,25,28]
["060414","CAJAMARCA","CAJAMARCA","CHOTA","PION",{"v":1087,"d":"1,087"},506,6,13,8,13,8,8,6,4,9,10,7,8,7,7,7,7,14,12,7,11,53,36,39,37,34,29,27,20,21,14,11,6,4,3,0,2,4,6,581,9,8,8,5,9,11,9,11,10,11,12,15,12,13,10,13,8,19,8,7,55,49,39,33,34,33,30,30,17,19,11,6,8,9,0,4,5,10,30,null,null,100,54,107,186,59,118,75,119,199,70,48,37,36,51,53,36,39,37,34,29,27,20,21,14,11,6,4,3,39,52,62,55,55,49,39,33,34,33,30,30,17,19,11,6,8,9]
["060502","CAJAMARCA","CAJAMARCA","CONTUMAZA","CHILETE",{"v":2509,"d":"2,509"},{"v":1270,"d":"1,270"},19,12,12,7,18,19,23,22,22,22,21,21,16,22,25,28,23,30,19,20,73,89,82,98,94,94,72,77,62,53,27,24,11,13,2,8,11,20,{"v":1239,"d":"1,239"},13,10,15,13,11,20,15,13,19,16,21,21,16,22,21,24,25,19,20,26,92,77,89,95,80,80,70,64,72,47,41,37,20,15,1,7,6,14,61,null,null,218,144,201,517,190,187,127,215,478,232,68,108,105,120,73,89,82,98,94,94,72,77,62,53,27,24,11,13,62,83,101,114,92,77,89,95,80,80,70,64,72,47,41,37,20,15]
["060504","CAJAMARCA","CAJAMARCA","CONTUMAZA","GUZMANGO",{"v":2588,"d":"2,588"},{"v":1289,"d":"1,289"},16,18,20,30,28,25,18,27,23,22,20,25,21,20,27,36,20,20,30,31,116,75,85,108,79,88,61,53,40,36,29,20,13,9,0,9,7,17,{"v":1299,"d":"1,299"},14,19,21,21,22,16,24,19,26,19,26,33,27,26,31,22,29,22,35,17,122,91,74,98,76,87,58,60,40,41,27,23,18,15,1,2,12,15,80,null,null,272,144,252,474,147,260,157,265,453,164,112,115,113,137,116,75,85,108,79,88,61,53,40,36,29,20,13,9,97,104,143,125,122,91,74,98,76,87,58,60,40,41,27,23,18,15]
["060607","CAJAMARCA","CAJAMARCA","CUTERVO","QUEROCOTILLO",{"v":12919,"d":"12,919"},{"v":6325,"d":"6,325"},80,91,91,123,115,93,105,91,123,123,115,151,119,140,158,190,151,158,157,138,608,413,348,403,391,361,304,264,189,163,153,102,59,55,5,37,43,85,{"v":6594,"d":"6,594"},66,69,82,101,107,95,111,127,118,142,115,150,119,139,149,168,180,168,145,137,578,427,411,392,390,422,298,278,247,220,189,111,71,72,6,31,35,70,318,null,null,{"v":1301,"d":"1,301"},916,{"v":1316,"d":"1,316"},{"v":2071,"d":"2,071"},721,{"v":1283,"d":"1,283"},923,{"v":1287,"d":"1,287"},{"v":2191,"d":"2,191"},910,500,535,683,794,608,413,348,403,391,361,304,264,189,163,153,102,59,55,425,593,672,798,578,427,411,392,390,422,298,278,247,220,189,111,71,72]
["060608","CAJAMARCA","CAJAMARCA","CUTERVO","SAN ANDRES DE CUTERVO",{"v":3787,"d":"3,787"},{"v":1835,"d":"1,835"},15,21,32,31,47,31,28,32,31,24,34,35,35,33,40,43,52,37,42,35,144,122,126,121,129,120,95,85,61,55,44,28,17,10,0,7,8,16,{"v":1952,"d":"1,952"},24,23,30,38,27,29,20,28,21,24,39,40,40,37,44,37,44,42,37,37,174,153,132,134,132,131,110,89,66,66,40,37,12,15,2,13,11,25,83,null,null,361,240,343,676,215,343,244,401,728,236,146,146,177,209,144,122,126,121,129,120,95,85,61,55,44,28,17,10,142,122,200,197,174,153,132,134,132,131,110,89,66,66,40,37,12,15]
["060703","CAJAMARCA","CAJAMARCA","HUALGAYOC","HUALGAYOC",{"v":15018,"d":"15,018"},{"v":7502,"d":"7,502"},57,68,72,87,102,109,119,119,101,118,108,129,145,157,135,140,185,145,135,134,653,638,742,674,542,503,371,283,247,180,153,71,43,37,6,26,31,60,{"v":7516,"d":"7,516"},63,65,86,81,94,98,89,120,88,87,105,125,141,153,126,163,145,153,131,133,611,612,689,618,581,472,379,343,287,226,173,120,82,77,6,22,41,67,245,null,null,{"v":1189,"d":"1,189"},907,{"v":1560,"d":"1,560"},{"v":3115,"d":"3,115"},731,{"v":1101,"d":"1,101"},881,{"v":1487,"d":"1,487"},{"v":3082,"d":"3,082"},965,386,566,674,739,653,638,742,674,542,503,371,283,247,180,153,71,43,37,389,482,650,725,611,612,689,618,581,472,379,343,287,226,173,120,82,77]
["060807","CAJAMARCA","CAJAMARCA","JAEN","POMAHUACA",{"v":9535,"d":"9,535"},{"v":4687,"d":"4,687"},75,101,84,91,104,94,63,86,96,79,80,110,100,99,104,122,109,115,114,103,423,360,339,300,295,268,191,149,141,115,82,56,18,21,6,43,32,80,{"v":4848,"d":"4,848"},65,73,77,94,102,79,91,103,90,85,82,113,102,101,101,132,101,126,112,108,473,375,328,324,303,254,178,177,164,122,75,56,38,44,8,35,30,69,329,null,null,{"v":1063,"d":"1,063"},649,{"v":1000,"d":"1,000"},{"v":1542,"d":"1,542"},433,{"v":1054,"d":"1,054"},663,{"v":1068,"d":"1,068"},{"v":1564,"d":"1,564"},499,455,418,493,563,423,360,339,300,295,268,191,149,141,115,82,56,18,21,411,448,499,579,473,375,328,324,303,254,178,177,164,122,75,56,38,44]
["060809","CAJAMARCA","CAJAMARCA","JAEN","SALLIQUE",{"v":7421,"d":"7,421"},{"v":3606,"d":"3,606"},60,77,69,63,92,85,63,61,74,60,74,80,71,83,82,90,81,100,80,81,354,288,249,222,207,185,153,122,102,73,65,37,11,12,3,34,26,64,{"v":3815,"d":"3,815"},47,56,69,71,75,76,71,71,72,81,80,87,77,90,85,82,119,91,108,89,358,306,247,243,210,189,148,148,111,85,77,47,23,26,2,25,22,50,275,null,null,858,507,803,{"v":1138,"d":"1,138"},300,856,544,861,{"v":1185,"d":"1,185"},369,361,343,390,432,354,288,249,222,207,185,153,122,102,73,65,37,11,12,318,371,419,489,358,306,247,243,210,189,148,148,111,85,77,47,23,26]
["061001","CAJAMARCA","CAJAMARCA","SAN MARCOS","PEDRO GALVEZ",{"v":21273,"d":"21,273"},{"v":10737,"d":"10,737"},134,149,137,150,136,147,192,186,226,210,192,207,198,205,230,226,228,212,205,205,835,796,815,798,704,712,579,495,423,273,235,154,80,63,6,64,70,142,{"v":10536,"d":"10,536"},135,149,154,129,190,142,172,199,173,193,174,188,180,187,197,185,201,187,181,189,705,828,783,767,716,674,561,497,402,313,273,237,150,125,8,68,67,143,392,null,null,{"v":2066,"d":"2,066"},{"v":1299,"d":"1,299"},{"v":2041,"d":"2,041"},{"v":4103,"d":"4,103"},{"v":1228,"d":"1,228"},{"v":1998,"d":"1,998"},{"v":1137,"d":"1,137"},{"v":1903,"d":"1,903"},{"v":3998,"d":"3,998"},{"v":1500,"d":"1,500"},706,961,{"v":1032,"d":"1,032"},{"v":1076,"d":"1,076"},835,796,815,798,704,712,579,495,423,273,235,154,80,63,757,879,926,943,705,828,783,767,716,674,561,497,402,313,273,237,150,125]
["061101","CAJAMARCA","CAJAMARCA","SAN MIGUEL","SAN MIGUEL",{"v":13881,"d":"13,881"},{"v":7130,"d":"7,130"},51,60,76,82,94,90,99,124,121,125,126,152,132,151,150,135,197,163,132,150,536,445,453,522,517,490,439,352,261,257,174,124,75,75,4,31,20,54,{"v":6751,"d":"6,751"},56,64,71,93,73,86,98,94,89,92,93,112,98,112,106,109,132,134,111,97,468,465,477,481,438,477,417,328,321,267,238,188,113,153,4,27,29,59,222,null,null,{"v":1200,"d":"1,200"},928,{"v":1263,"d":"1,263"},{"v":2773,"d":"2,773"},966,{"v":1021,"d":"1,021"},691,{"v":1141,"d":"1,141"},{"v":2618,"d":"2,618"},{"v":1280,"d":"1,280"},363,559,711,777,536,445,453,522,517,490,439,352,261,257,174,124,75,75,357,459,521,583,468,465,477,481,438,477,417,328,321,267,238,188,113,153]
["061102","CAJAMARCA","CAJAMARCA","SAN MIGUEL","BOLIVAR",{"v":1097,"d":"1,097"},544,5,6,7,3,9,7,9,5,9,7,7,8,3,6,5,10,12,10,9,10,35,28,38,40,32,44,36,36,34,19,24,16,7,8,0,3,2,5,553,4,6,6,4,9,7,8,8,5,5,9,12,4,9,7,9,13,15,11,6,30,39,36,31,31,43,35,33,27,25,21,19,15,11,0,3,1,4,25,null,null,82,46,82,226,108,83,57,86,209,118,30,37,29,51,35,28,38,40,32,44,36,36,34,19,24,16,7,8,29,33,41,54,30,39,36,31,31,43,35,33,27,25,21,19,15,11]
["061201","CAJAMARCA","CAJAMARCA","SAN PABLO","SAN PABLO",{"v":13352,"d":"13,352"},{"v":6785,"d":"6,785"},74,82,77,99,104,89,98,98,118,99,103,155,162,137,155,175,178,195,158,109,517,529,555,512,449,418,356,272,209,181,125,92,50,55,9,37,37,78,{"v":6567,"d":"6,567"},64,81,77,96,92,115,109,104,101,97,87,131,137,116,126,128,163,156,112,114,490,518,525,470,412,378,367,275,268,200,165,116,86,91,6,33,31,68,335,null,null,{"v":1196,"d":"1,196"},{"v":1002,"d":"1,002"},{"v":1313,"d":"1,313"},{"v":2562,"d":"2,562"},712,{"v":1154,"d":"1,154"},826,{"v":1234,"d":"1,234"},{"v":2427,"d":"2,427"},926,436,502,712,815,517,529,555,512,449,418,356,272,209,181,125,92,50,55,410,526,597,673,490,518,525,470,412,378,367,275,268,200,165,116,86,91]
["061304","CAJAMARCA","CAJAMARCA","SANTA CRUZ","CHANCAYBAÑOS",{"v":3060,"d":"3,060"},{"v":1547,"d":"1,547"},13,20,21,14,25,17,28,23,23,19,15,25,29,24,25,37,29,31,31,37,148,130,101,105,110,124,84,69,57,50,37,20,13,13,0,8,5,14,{"v":1513,"d":"1,513"},19,14,14,22,18,18,22,23,23,19,14,24,28,23,23,24,32,31,32,35,120,119,95,112,100,122,67,73,58,66,45,35,21,22,2,8,11,20,64,null,null,243,175,346,593,190,230,161,306,569,247,93,110,118,165,148,130,101,105,110,124,84,69,57,50,37,20,13,13,87,105,112,154,120,119,95,112,100,122,67,73,58,66,45,35,21,22]
["061308","CAJAMARCA","CAJAMARCA","SANTA CRUZ","SAUCEPAMPA",{"v":1191,"d":"1,191"},582,4,4,10,12,4,14,5,6,9,8,8,11,5,12,10,9,12,19,10,6,42,42,38,44,42,44,38,37,19,19,16,12,6,5,0,2,2,4,609,5,8,6,10,12,8,7,8,9,2,7,9,4,10,9,15,12,8,14,14,53,49,41,54,38,43,37,26,22,21,19,9,10,10,0,2,3,5,22,null,null,95,67,100,243,77,91,58,130,239,91,34,42,46,56,42,42,38,44,42,44,38,37,19,19,16,12,6,5,41,34,39,63,53,49,41,54,38,43,37,26,22,21,19,9,10,10]
["070104","CALLAO","CALLAO","CALLAO","LA PERLA",{"v":71927,"d":"71,927"},{"v":35423,"d":"35,423"},219,203,214,242,277,289,449,497,487,511,392,359,372,375,401,386,373,383,383,392,{"v":1769,"d":"1,769"},{"v":1792,"d":"1,792"},{"v":2106,"d":"2,106"},{"v":2007,"d":"2,007"},{"v":2436,"d":"2,436"},{"v":2849,"d":"2,849"},{"v":2788,"d":"2,788"},{"v":2727,"d":"2,727"},{"v":2400,"d":"2,400"},{"v":1820,"d":"1,820"},{"v":1800,"d":"1,800"},{"v":1537,"d":"1,537"},{"v":1177,"d":"1,177"},{"v":1011,"d":"1,011"},15,95,124,232,{"v":36504,"d":"36,504"},228,226,225,226,291,290,368,400,404,348,366,348,361,364,367,401,396,408,386,354,{"v":1824,"d":"1,824"},{"v":2369,"d":"2,369"},{"v":2494,"d":"2,494"},{"v":2163,"d":"2,163"},{"v":2458,"d":"2,458"},{"v":2575,"d":"2,575"},{"v":2683,"d":"2,683"},{"v":2520,"d":"2,520"},{"v":2242,"d":"2,242"},{"v":2197,"d":"2,197"},{"v":2158,"d":"2,158"},{"v":1745,"d":"1,745"},{"v":1128,"d":"1,128"},{"v":1191,"d":"1,191"},11,117,111,242,705,null,null,{"v":4139,"d":"4,139"},{"v":2290,"d":"2,290"},{"v":4336,"d":"4,336"},{"v":14913,"d":"14,913"},{"v":9745,"d":"9,745"},{"v":3720,"d":"3,720"},{"v":2297,"d":"2,297"},{"v":4933,"d":"4,933"},{"v":14893,"d":"14,893"},{"v":10661,"d":"10,661"},{"v":1155,"d":"1,155"},{"v":2233,"d":"2,233"},{"v":1899,"d":"1,899"},{"v":1917,"d":"1,917"},{"v":1769,"d":"1,769"},{"v":1792,"d":"1,792"},{"v":2106,"d":"2,106"},{"v":2007,"d":"2,007"},{"v":2436,"d":"2,436"},{"v":2849,"d":"2,849"},{"v":2788,"d":"2,788"},{"v":2727,"d":"2,727"},{"v":2400,"d":"2,400"},{"v":1820,"d":"1,820"},{"v":1800,"d":"1,800"},{"v":1537,"d":"1,537"},{"v":1177,"d":"1,177"},{"v":1011,"d":"1,011"},{"v":1196,"d":"1,196"},{"v":1810,"d":"1,810"},{"v":1806,"d":"1,806"},{"v":1945,"d":"1,945"},{"v":1824,"d":"1,824"},{"v":2369,"d":"2,369"},{"v":2494,"d":"2,494"},{"v":2163,"d":"2,163"},{"v":2458,"d":"2,458"},{"v":2575,"d":"2,575"},{"v":2683,"d":"2,683"},{"v":2520,"d":"2,520"},{"v":2242,"d":"2,242"},{"v":2197,"d":"2,197"},{"v":2158,"d":"2,158"},{"v":1745,"d":"1,745"},{"v":1128,"d":"1,128"},{"v":1191,"d":"1,191"}]
["080105","CUSCO","CUSCO","CUSCO","SAN SEBASTIAN",{"v":139377,"d":"139,377"},{"v":71246,"d":"71,246"},716,655,545,574,741,854,{"v":1076,"d":"1,076"},{"v":1115,"d":"1,115"},{"v":1032,"d":"1,032"},969,{"v":1193,"d":"1,193"},{"v":1345,"d":"1,345"},{"v":1315,"d":"1,315"},{"v":1246,"d":"1,246"},{"v":1230,"d":"1,230"},{"v":1218,"d":"1,218"},{"v":1150,"d":"1,150"},{"v":1175,"d":"1,175"},{"v":1245,"d":"1,245"},{"v":1238,"d":"1,238"},{"v":6092,"d":"6,092"},{"v":6439,"d":"6,439"},{"v":7610,"d":"7,610"},{"v":7167,"d":"7,167"},{"v":5733,"d":"5,733"},{"v":4559,"d":"4,559"},{"v":3424,"d":"3,424"},{"v":2687,"d":"2,687"},{"v":2337,"d":"2,337"},{"v":1966,"d":"1,966"},{"v":1235,"d":"1,235"},759,361,245,56,341,375,759,{"v":68131,"d":"68,131"},686,642,516,574,731,777,{"v":1341,"d":"1,341"},{"v":1328,"d":"1,328"},{"v":1205,"d":"1,205"},{"v":1248,"d":"1,248"},{"v":1038,"d":"1,038"},{"v":1169,"d":"1,169"},{"v":1143,"d":"1,143"},{"v":1083,"d":"1,083"},{"v":1047,"d":"1,047"},{"v":1067,"d":"1,067"},{"v":1085,"d":"1,085"},{"v":1089,"d":"1,089"},{"v":1139,"d":"1,139"},{"v":1184,"d":"1,184"},{"v":5653,"d":"5,653"},{"v":6525,"d":"6,525"},{"v":7083,"d":"7,083"},{"v":6231,"d":"6,231"},{"v":5212,"d":"5,212"},{"v":4146,"d":"4,146"},{"v":3044,"d":"3,044"},{"v":2792,"d":"2,792"},{"v":2563,"d":"2,563"},{"v":1837,"d":"1,837"},{"v":1397,"d":"1,397"},777,444,335,47,350,336,727,{"v":2267,"d":"2,267"},null,null,{"v":10815,"d":"10,815"},{"v":7334,"d":"7,334"},{"v":15014,"d":"15,014"},{"v":31180,"d":"31,180"},{"v":6903,"d":"6,903"},{"v":11255,"d":"11,255"},{"v":6514,"d":"6,514"},{"v":14501,"d":"14,501"},{"v":28508,"d":"28,508"},{"v":7353,"d":"7,353"},{"v":3231,"d":"3,231"},{"v":5046,"d":"5,046"},{"v":6329,"d":"6,329"},{"v":6026,"d":"6,026"},{"v":6092,"d":"6,092"},{"v":6439,"d":"6,439"},{"v":7610,"d":"7,610"},{"v":7167,"d":"7,167"},{"v":5733,"d":"5,733"},{"v":4559,"d":"4,559"},{"v":3424,"d":"3,424"},{"v":2687,"d":"2,687"},{"v":2337,"d":"2,337"},{"v":1966,"d":"1,966"},{"v":1235,"d":"1,235"},759,361,245,{"v":3149,"d":"3,149"},{"v":5899,"d":"5,899"},{"v":5480,"d":"5,480"},{"v":5564,"d":"5,564"},{"v":5653,"d":"5,653"},{"v":6525,"d":"6,525"},{"v":7083,"d":"7,083"},{"v":6231,"d":"6,231"},{"v":5212,"d":"5,212"},{"v":4146,"d":"4,146"},{"v":3044,"d":"3,044"},{"v":2792,"d":"2,792"},{"v":2563,"d":"2,563"},{"v":1837,"d":"1,837"},{"v":1397,"d":"1,397"},777,444,335]
["080202","CUSCO","CUSCO","ACOMAYO","ACOPIA",{"v":3636,"d":"3,636"},{"v":1899,"d":"1,899"},3,8,14,14,11,17,18,18,34,25,22,30,34,43,36,52,38,52,54,38,178,144,160,133,142,131,117,83,93,50,49,31,15,12,0,1,2,3,{"v":1737,"d":"1,737"},4,8,12,12,23,14,15,24,17,31,19,26,30,36,29,31,37,39,27,30,170,149,104,115,115,101,97,94,76,61,69,53,42,27,0,3,1,4,9,null,null,214,255,414,766,250,205,202,376,626,328,50,112,165,234,178,144,160,133,142,131,117,83,93,50,49,31,15,12,59,101,140,164,170,149,104,115,115,101,97,94,76,61,69,53,42,27]
["080302","CUSCO","CUSCO","ANTA","ANCAHUASI",{"v":8140,"d":"8,140"},{"v":4140,"d":"4,140"},40,47,35,46,62,63,77,61,74,78,59,62,63,65,65,56,99,87,69,77,350,348,326,325,261,297,218,202,166,115,98,78,38,33,4,18,22,42,{"v":4000,"d":"4,000"},39,48,50,41,57,79,67,56,59,69,55,57,58,60,60,51,93,59,74,68,320,389,287,287,217,221,195,186,161,162,134,100,64,77,1,20,19,41,162,null,null,704,435,844,{"v":1629,"d":"1,629"},528,677,381,851,{"v":1393,"d":"1,393"},698,230,353,314,388,350,348,326,325,261,297,218,202,166,115,98,78,38,33,235,330,290,345,320,389,287,287,217,221,195,186,161,162,134,100,64,77]
["080309","CUSCO","CUSCO","ANTA","ZURITE",{"v":4174,"d":"4,174"},{"v":2090,"d":"2,090"},14,24,17,25,25,38,46,31,33,21,33,21,25,37,24,25,28,25,30,35,130,170,213,170,128,140,123,127,111,67,58,51,23,22,0,5,9,15,{"v":2084,"d":"2,084"},23,14,22,26,29,27,34,39,23,25,32,20,24,33,22,17,30,23,29,25,154,179,175,162,126,132,135,112,114,78,63,51,37,49,2,11,12,24,78,null,null,328,164,365,901,332,314,149,387,842,392,105,169,140,143,130,170,213,170,128,140,123,127,111,67,58,51,23,22,114,148,131,124,154,179,175,162,126,132,135,112,114,78,63,51,37,49]
["080404","CUSCO","CUSCO","CALCA","LARES",{"v":6159,"d":"6,159"},{"v":3077,"d":"3,077"},49,42,49,64,53,70,56,58,62,60,46,32,46,53,49,57,68,68,53,61,232,203,226,243,213,182,174,139,92,97,74,45,37,24,2,29,20,52,{"v":3082,"d":"3,082"},53,51,61,43,58,56,37,57,58,53,48,33,48,56,51,54,59,63,69,53,219,227,240,218,192,172,130,147,140,99,78,59,51,49,3,23,30,56,183,null,null,641,341,549,{"v":1177,"d":"1,177"},369,608,331,568,{"v":1099,"d":"1,099"},476,257,306,226,307,232,203,226,243,213,182,174,139,92,97,74,45,37,24,266,261,236,298,219,227,240,218,192,172,130,147,140,99,78,59,51,49]
["080504","CUSCO","CUSCO","CANAS","LANGUI",{"v":1924,"d":"1,924"},970,11,8,8,7,6,11,10,13,10,10,12,14,12,18,14,18,20,13,19,20,80,78,79,84,72,63,49,55,54,38,23,21,12,8,1,4,7,12,954,9,6,9,6,16,9,10,14,14,6,12,14,12,19,14,12,19,19,17,10,74,84,72,79,54,48,54,52,45,46,29,30,21,19,2,7,2,10,59,null,null,120,95,197,402,156,125,95,185,359,190,40,54,70,90,80,78,79,84,72,63,49,55,54,38,23,21,12,8,46,53,71,77,74,84,72,79,54,48,54,52,45,46,29,30,21,19]
["080601","CUSCO","CUSCO","CANCHIS","SICUANI",{"v":63410,"d":"63,410"},{"v":32200,"d":"32,200"},398,382,382,438,412,473,559,568,582,646,599,618,647,638,642,629,670,668,639,618,{"v":2722,"d":"2,722"},{"v":2675,"d":"2,675"},{"v":2719,"d":"2,719"},{"v":2572,"d":"2,572"},{"v":2143,"d":"2,143"},{"v":1875,"d":"1,875"},{"v":1509,"d":"1,509"},{"v":1307,"d":"1,307"},{"v":1114,"d":"1,114"},912,631,390,241,182,25,190,208,422,{"v":31210,"d":"31,210"},360,383,370,386,380,480,544,575,595,559,549,564,590,582,575,580,629,588,612,564,{"v":2562,"d":"2,562"},{"v":2641,"d":"2,641"},{"v":2583,"d":"2,583"},{"v":2332,"d":"2,332"},{"v":2088,"d":"2,088"},{"v":1728,"d":"1,728"},{"v":1423,"d":"1,423"},{"v":1337,"d":"1,337"},{"v":1187,"d":"1,187"},958,748,528,330,300,21,178,182,382,{"v":1588,"d":"1,588"},null,null,{"v":6057,"d":"6,057"},{"v":3894,"d":"3,894"},{"v":6654,"d":"6,654"},{"v":12125,"d":"12,125"},{"v":3470,"d":"3,470"},{"v":5745,"d":"5,745"},{"v":3544,"d":"3,544"},{"v":6379,"d":"6,379"},{"v":11491,"d":"11,491"},{"v":4051,"d":"4,051"},{"v":2012,"d":"2,012"},{"v":2828,"d":"2,828"},{"v":3144,"d":"3,144"},{"v":3224,"d":"3,224"},{"v":2722,"d":"2,722"},{"v":2675,"d":"2,675"},{"v":2719,"d":"2,719"},{"v":2572,"d":"2,572"},{"v":2143,"d":"2,143"},{"v":1875,"d":"1,875"},{"v":1509,"d":"1,509"},{"v":1307,"d":"1,307"},{"v":1114,"d":"1,114"},912,631,390,241,182,{"v":1879,"d":"1,879"},{"v":2753,"d":"2,753"},{"v":2860,"d":"2,860"},{"v":2973,"d":"2,973"},{"v":2562,"d":"2,562"},{"v":2641,"d":"2,641"},{"v":2583,"d":"2,583"},{"v":2332,"d":"2,332"},{"v":2088,"d":"2,088"},{"v":1728,"d":"1,728"},{"v":1423,"d":"1,423"},{"v":1337,"d":"1,337"},{"v":1187,"d":"1,187"},958,748,528,330,300]
["080608","CUSCO","CUSCO","CANCHIS","TINTA",{"v":5798,"d":"5,798"},{"v":2930,"d":"2,930"},24,33,22,36,55,41,41,47,44,49,44,40,40,30,45,39,58,42,55,39,207,231,258,253,207,211,165,162,127,105,62,73,28,17,1,11,13,25,{"v":2868,"d":"2,868"},24,20,34,39,45,38,42,42,45,37,39,35,35,28,39,39,47,44,50,37,215,255,237,221,175,162,161,154,145,105,98,94,48,39,1,8,16,25,151,null,null,476,254,532,{"v":1256,"d":"1,256"},412,440,232,557,{"v":1110,"d":"1,110"},529,170,222,199,233,207,231,258,253,207,211,165,162,127,105,62,73,28,17,162,204,176,217,215,255,237,221,175,162,161,154,145,105,98,94,48,39]
["080707","CUSCO","CUSCO","CHUMBIVILCAS","QUIÑOTA",{"v":4060,"d":"4,060"},{"v":2047,"d":"2,047"},27,18,42,35,35,43,36,38,40,39,44,50,55,54,59,51,48,45,48,36,203,124,114,141,116,113,84,88,66,57,48,28,18,4,4,20,7,29,{"v":2013,"d":"2,013"},29,24,20,35,33,37,17,36,35,34,37,44,48,47,53,45,61,52,47,31,192,159,137,125,101,93,72,96,90,67,45,40,14,17,2,14,15,31,163,null,null,447,312,411,656,221,381,306,429,624,273,157,196,262,228,203,124,114,141,116,113,84,88,66,57,48,28,18,4,141,159,229,236,192,159,137,125,101,93,72,96,90,67,45,40,14,17]
["080805","CUSCO","CUSCO","ESPINAR","PALLPATA",{"v":4961,"d":"4,961"},{"v":2552,"d":"2,552"},40,39,37,54,35,65,41,56,58,50,40,46,40,39,52,43,54,54,59,51,202,160,160,166,174,126,133,118,96,105,72,41,24,22,2,19,21,42,{"v":2409,"d":"2,409"},36,44,52,40,52,55,38,37,50,32,33,38,33,32,45,48,36,46,40,37,174,186,185,158,148,128,110,120,104,79,73,57,35,28,7,24,12,38,196,null,null,561,282,472,877,360,507,240,437,849,376,205,270,217,261,202,160,160,166,174,126,133,118,96,105,72,41,24,22,224,212,181,207,174,186,185,158,148,128,110,120,104,79,73,57,35,28]
["080904","CUSCO","CUSCO","LA CONVENCION","MARANURA",{"v":4897,"d":"4,897"},{"v":2399,"d":"2,399"},25,16,27,24,32,18,32,31,24,22,26,22,25,23,24,22,38,37,22,19,145,182,206,187,192,178,165,140,144,125,101,63,32,30,1,11,14,27,{"v":2498,"d":"2,498"},23,21,26,32,22,23,30,30,28,35,31,26,30,28,26,30,45,34,33,29,145,195,196,183,171,148,144,170,161,152,95,58,49,49,0,13,10,24,101,null,null,299,169,368,{"v":1068,"d":"1,068"},495,327,193,402,{"v":1012,"d":"1,012"},564,124,127,120,138,145,182,206,187,192,178,165,140,144,125,101,63,32,30,124,146,141,171,145,195,196,183,171,148,144,170,161,152,95,58,49,49]
["080910","CUSCO","CUSCO","LA CONVENCION","PICHARI",{"v":23687,"d":"23,687"},{"v":11968,"d":"11,968"},293,314,282,311,325,365,290,247,254,248,220,209,208,213,225,244,224,218,203,202,859,885,970,{"v":1010,"d":"1,010"},879,650,472,409,287,207,122,81,22,20,21,131,162,311,{"v":11719,"d":"11,719"},290,270,265,312,323,338,289,244,240,260,234,222,221,227,237,220,215,234,213,211,890,{"v":1030,"d":"1,030"},{"v":1049,"d":"1,049"},986,753,510,400,358,279,179,118,61,28,13,20,140,150,307,{"v":1117,"d":"1,117"},null,null,{"v":3358,"d":"3,358"},{"v":1332,"d":"1,332"},{"v":2149,"d":"2,149"},{"v":4390,"d":"4,390"},739,{"v":3287,"d":"3,287"},{"v":1354,"d":"1,354"},{"v":2344,"d":"2,344"},{"v":4056,"d":"4,056"},678,{"v":1525,"d":"1,525"},{"v":1404,"d":"1,404"},{"v":1075,"d":"1,075"},{"v":1091,"d":"1,091"},859,885,970,{"v":1010,"d":"1,010"},879,650,472,409,287,207,122,81,22,20,{"v":1460,"d":"1,460"},{"v":1371,"d":"1,371"},{"v":1141,"d":"1,141"},{"v":1093,"d":"1,093"},890,{"v":1030,"d":"1,030"},{"v":1049,"d":"1,049"},986,753,510,400,358,279,179,118,61,28,13]
["080915","CUSCO","CUSCO","LA CONVENCION","KUMPIRUSHIATO",{"v":5654,"d":"5,654"},{"v":2797,"d":"2,797"},46,52,57,62,77,55,41,41,34,46,31,28,29,36,43,32,59,45,39,36,169,189,251,295,220,182,158,148,99,84,49,29,22,13,4,27,19,49,{"v":2857,"d":"2,857"},50,53,46,51,68,61,45,39,47,30,40,36,37,46,57,52,56,56,47,40,209,221,286,252,205,182,99,122,118,81,58,38,16,13,5,27,23,53,123,null,null,570,244,433,{"v":1254,"d":"1,254"},296,566,304,517,{"v":1146,"d":"1,146"},324,294,217,167,211,169,189,251,295,220,182,158,148,99,84,49,29,22,13,268,222,216,251,209,221,286,252,205,182,99,122,118,81,58,38,16,13]
["080918","CUSCO","CUSCO","LA CONVENCION","UNION ASHÁNINKA",{"v":6126,"d":"6,126"},{"v":3154,"d":"3,154"},78,99,86,105,85,75,78,63,69,68,56,55,54,56,57,63,58,56,54,50,221,240,250,259,227,167,127,103,74,56,33,20,6,6,4,33,45,83,{"v":2972,"d":"2,972"},61,74,80,104,83,81,71,64,59,68,60,59,58,60,58,55,57,61,57,51,217,266,266,240,190,123,96,87,72,44,26,14,6,4,6,24,37,65,335,null,null,917,344,565,{"v":1133,"d":"1,133"},195,864,349,591,{"v":1002,"d":"1,002"},166,453,353,278,281,221,240,250,259,227,167,127,103,74,56,33,20,6,6,402,343,295,281,217,266,266,240,190,123,96,87,72,44,26,14,6,4]
["081102","CUSCO","CUSCO","PAUCARTAMBO","CAICAY",{"v":3011,"d":"3,011"},{"v":1499,"d":"1,499"},14,7,23,18,21,23,22,27,29,28,46,27,33,37,26,39,43,44,29,30,117,113,104,111,91,97,72,56,53,34,41,18,14,12,1,9,5,15,{"v":1512,"d":"1,512"},17,11,14,14,17,15,23,32,25,47,41,25,30,33,25,45,38,32,23,29,121,141,105,85,81,86,64,47,72,54,53,25,19,23,1,4,13,18,43,null,null,285,222,289,531,172,281,203,314,468,246,83,129,169,185,117,113,104,111,91,97,72,56,53,34,41,18,14,12,73,142,154,167,121,141,105,85,81,86,64,47,72,54,53,25,19,23]
["081202","CUSCO","CUSCO","QUISPICANCHI","ANDAHUAYLILLAS",{"v":7234,"d":"7,234"},{"v":3640,"d":"3,640"},27,47,47,52,39,44,47,72,68,75,68,78,60,71,73,69,71,81,63,69,299,318,319,306,276,244,188,127,104,100,54,53,18,13,1,9,18,29,{"v":3594,"d":"3,594"},31,40,47,46,30,41,72,86,75,65,65,74,57,68,67,78,78,67,79,65,267,301,323,307,233,223,162,152,119,97,78,41,25,35,1,11,20,33,161,null,null,664,425,749,{"v":1460,"d":"1,460"},342,672,415,712,{"v":1400,"d":"1,400"},395,212,306,350,353,299,318,319,306,276,244,188,127,104,100,54,53,18,13,194,339,331,367,267,301,323,307,233,223,162,152,119,97,78,41,25,35]
["081208","CUSCO","CUSCO","QUISPICANCHI","LUCRE",{"v":5295,"d":"5,295"},{"v":2709,"d":"2,709"},25,29,31,40,37,21,48,54,59,55,42,49,45,55,31,56,38,46,42,44,190,208,229,253,183,205,138,114,115,72,61,42,29,23,0,11,14,27,{"v":2586,"d":"2,586"},17,22,32,40,31,44,44,48,48,63,45,53,48,59,33,47,51,44,49,31,192,172,225,221,181,159,130,112,81,88,59,44,34,39,2,11,6,18,116,null,null,490,271,484,{"v":1122,"d":"1,122"},342,487,282,444,{"v":1028,"d":"1,028"},345,162,237,222,226,190,208,229,253,183,205,138,114,115,72,61,42,29,23,142,247,238,222,192,172,225,221,181,159,130,112,81,88,59,44,34,39]
["081303","CUSCO","CUSCO","URUBAMBA","HUAYLLABAMBA",{"v":6338,"d":"6,338"},{"v":3223,"d":"3,223"},30,41,36,39,44,36,48,61,52,58,25,47,57,56,54,36,56,58,30,48,198,256,278,305,259,219,187,153,132,103,76,63,43,39,1,12,18,32,{"v":3115,"d":"3,115"},22,28,29,37,46,49,56,68,62,43,24,44,54,53,49,32,41,47,47,33,202,254,292,253,210,200,148,162,139,119,80,67,65,60,3,10,12,23,141,null,null,517,317,532,{"v":1401,"d":"1,401"},456,508,276,536,{"v":1265,"d":"1,265"},530,190,255,239,228,198,256,278,305,259,219,187,153,132,103,76,63,43,39,162,278,224,200,202,254,292,253,210,200,148,162,139,119,80,67,65,60]
["090103","HUANCAVELICA","HUANCAVELICA","HUANCAVELICA","ACORIA",{"v":11843,"d":"11,843"},{"v":5949,"d":"5,949"},109,100,114,160,172,160,112,114,122,110,107,116,102,138,115,123,158,150,134,126,580,485,442,432,340,291,224,151,145,125,84,59,28,21,15,53,56,116,{"v":5894,"d":"5,894"},86,92,129,149,171,167,109,116,110,97,108,117,102,139,115,132,134,134,125,120,563,461,383,387,361,271,209,195,173,147,118,86,40,48,8,47,39,91,354,null,null,{"v":1496,"d":"1,496"},786,{"v":1325,"d":"1,325"},{"v":1880,"d":"1,880"},462,{"v":1451,"d":"1,451"},756,{"v":1269,"d":"1,269"},{"v":1806,"d":"1,806"},612,655,618,578,691,580,485,442,432,340,291,224,151,145,125,84,59,28,21,627,599,581,645,563,461,383,387,361,271,209,195,173,147,118,86,40,48]
["090108","HUANCAVELICA","HUANCAVELICA","HUANCAVELICA","IZCUCHACA",727,364,3,6,7,4,7,10,4,9,5,6,6,7,7,6,6,13,8,8,5,6,27,27,32,34,19,27,16,14,9,14,4,4,3,1,0,2,1,3,363,3,2,7,5,3,6,6,6,5,7,8,9,9,8,8,5,9,6,6,6,28,32,37,28,22,18,17,17,9,14,6,5,2,4,0,0,3,3,19,null,null,74,48,65,142,35,67,45,72,139,40,27,34,32,40,27,27,32,34,19,27,16,14,9,14,4,4,3,1,20,30,42,32,28,32,37,28,22,18,17,17,9,14,6,5,2,4]
["090114","HUANCAVELICA","HUANCAVELICA","HUANCAVELICA","PALCA",{"v":1253,"d":"1,253"},627,12,6,12,15,10,25,8,10,9,7,9,9,11,10,10,10,8,10,8,14,45,50,53,59,47,32,20,18,23,21,17,14,9,6,1,5,7,13,626,13,9,10,11,15,13,7,7,2,8,9,9,11,10,10,7,10,8,8,10,42,44,51,46,45,28,22,22,26,31,33,22,12,15,1,6,7,14,32,null,null,132,59,117,229,90,113,56,104,214,139,55,59,49,50,45,50,53,59,47,32,20,18,23,21,17,14,9,6,58,37,49,43,42,44,51,46,45,28,22,22,26,31,33,22,12,15]
["090117","HUANCAVELICA","HUANCAVELICA","HUANCAVELICA","YAULI",{"v":15431,"d":"15,431"},{"v":7711,"d":"7,711"},179,182,215,208,259,294,192,191,207,198,193,218,216,196,196,204,183,205,171,170,695,599,537,481,371,294,201,136,111,91,59,34,14,11,16,96,83,190,{"v":7720,"d":"7,720"},194,195,204,219,242,259,207,208,199,230,193,218,215,196,198,189,181,177,163,152,652,572,540,486,389,266,189,164,124,107,72,64,32,24,21,88,106,206,908,null,null,{"v":2536,"d":"2,536"},{"v":1200,"d":"1,200"},{"v":1635,"d":"1,635"},{"v":2020,"d":"2,020"},320,{"v":2568,"d":"2,568"},{"v":1156,"d":"1,156"},{"v":1539,"d":"1,539"},{"v":2034,"d":"2,034"},423,{"v":1043,"d":"1,043"},{"v":1082,"d":"1,082"},{"v":1019,"d":"1,019"},933,695,599,537,481,371,294,201,136,111,91,59,34,14,11,{"v":1054,"d":"1,054"},{"v":1103,"d":"1,103"},{"v":1020,"d":"1,020"},862,652,572,540,486,389,266,189,164,124,107,72,64,32,24]
["090208","HUANCAVELICA","HUANCAVELICA","ACOBAMBA","ROSARIO",{"v":3750,"d":"3,750"},{"v":1927,"d":"1,927"},25,33,33,25,46,40,23,44,44,35,37,33,25,29,37,30,65,59,53,44,218,170,147,159,100,102,70,55,54,33,26,17,7,9,1,13,12,27,{"v":1823,"d":"1,823"},31,26,39,29,43,32,26,42,33,34,34,31,23,26,35,27,47,55,43,36,193,145,125,140,104,89,73,71,54,41,40,26,17,13,0,12,19,33,122,null,null,418,245,485,633,146,400,213,417,602,191,162,186,161,251,218,170,147,159,100,102,70,55,54,33,26,17,7,9,168,167,149,208,193,145,125,140,104,89,73,71,54,41,40,26,17,13]
["090307","HUANCAVELICA","HUANCAVELICA","ANGARAES","HUANCA-HUANCA",{"v":1346,"d":"1,346"},679,12,7,12,12,9,8,16,22,13,10,9,21,16,16,19,20,25,15,19,22,72,43,51,60,37,30,20,13,18,15,6,7,2,2,3,6,6,13,667,12,10,9,13,15,10,17,12,18,11,10,24,18,18,20,19,24,22,17,16,56,44,47,39,38,30,20,17,18,14,16,5,3,5,0,4,8,13,30,null,null,151,111,156,211,50,161,121,133,191,61,52,69,81,101,72,43,51,60,37,30,20,13,18,15,6,7,2,2,59,68,90,98,56,44,47,39,38,30,20,17,18,14,16,5,3,5]
["090312","HUANCAVELICA","HUANCAVELICA","ANGARAES","SECCLLA",{"v":2559,"d":"2,559"},{"v":1282,"d":"1,282"},21,20,14,27,28,32,25,31,33,26,23,30,29,23,18,28,31,29,37,32,129,111,96,67,112,57,35,31,26,29,21,11,14,6,3,11,10,22,{"v":1277,"d":"1,277"},21,27,19,30,22,25,25,25,30,35,23,31,30,23,17,24,29,22,30,28,113,103,79,97,74,59,33,49,41,41,26,20,13,13,2,9,12,22,87,null,null,310,158,309,398,107,313,145,274,391,154,110,147,123,157,129,111,96,67,112,57,35,31,26,29,21,11,14,6,119,140,124,133,113,103,79,97,74,59,33,49,41,41,26,20,13,13]
["090406","HUANCAVELICA","HUANCAVELICA","CASTROVIRREYNA","COCAS",559,272,1,4,0,5,4,3,4,5,4,4,8,6,8,3,3,6,6,7,4,8,22,17,23,25,19,18,12,13,10,6,5,3,3,3,0,0,1,1,287,2,2,5,7,7,8,2,6,8,5,6,4,6,2,2,6,7,7,8,6,21,25,15,21,27,12,8,12,6,9,9,9,4,3,0,1,1,2,15,null,null,48,33,51,110,30,62,30,60,95,40,14,20,28,31,22,17,23,25,19,18,12,13,10,6,5,3,3,3,23,29,20,34,21,25,15,21,27,12,8,12,6,9,9,9,4,3]
["090502","HUANCAVELICA","HUANCAVELICA","CHURCAMPA","ANCO",{"v":6746,"d":"6,746"},{"v":3395,"d":"3,395"},53,47,54,51,56,76,90,80,87,76,74,82,91,103,85,87,115,93,95,99,346,245,205,244,200,145,124,64,70,67,37,29,11,14,5,31,22,56,{"v":3351,"d":"3,351"},34,47,45,64,64,61,64,94,99,72,70,78,87,99,82,70,108,102,87,89,291,245,229,220,190,145,98,107,94,68,55,43,25,25,3,17,17,36,267,null,null,826,574,785,982,228,792,548,712,989,310,261,409,435,489,346,245,205,244,200,145,124,64,70,67,37,29,11,14,254,390,416,456,291,245,229,220,190,145,98,107,94,68,55,43,25,25]
["090506","HUANCAVELICA","HUANCAVELICA","CHURCAMPA","LOCROJA",{"v":2503,"d":"2,503"},{"v":1277,"d":"1,277"},10,21,23,23,34,36,24,29,25,17,26,31,18,31,31,39,31,31,30,33,130,101,76,78,90,64,53,27,30,31,25,18,5,6,1,4,6,11,{"v":1226,"d":"1,226"},15,18,26,21,19,32,26,18,16,16,25,30,18,30,31,30,29,32,35,29,116,88,74,79,78,57,42,47,43,32,27,21,13,13,1,8,7,16,45,null,null,299,181,294,388,115,262,170,268,377,149,111,131,137,164,130,101,76,78,90,64,53,27,30,31,25,18,5,6,99,108,134,155,116,88,74,79,78,57,42,47,43,32,27,21,13,13]
["090602","HUANCAVELICA","HUANCAVELICA","HUAYTARA","AYAVI",{"v":1392,"d":"1,392"},697,2,0,1,1,1,2,3,3,12,11,6,11,11,13,7,10,14,10,13,18,52,55,66,79,64,53,34,19,33,36,19,14,5,19,0,1,1,2,695,2,3,1,5,3,1,4,9,12,8,4,8,8,9,4,11,4,11,10,6,56,52,52,76,77,39,31,31,37,26,35,19,17,24,0,2,0,2,5,null,null,53,65,138,315,126,60,47,124,306,158,5,31,48,65,52,55,66,79,64,53,34,19,33,36,19,14,5,19,14,34,33,42,56,52,52,76,77,39,31,31,37,26,35,19,17,24]
["090605","HUANCAVELICA","HUANCAVELICA","HUAYTARA","LARAMARCA",627,328,2,0,1,3,2,4,6,9,6,5,6,8,6,2,5,10,7,5,7,5,28,34,23,20,31,16,9,18,15,13,7,6,4,5,0,1,1,2,299,2,2,0,1,0,2,2,2,1,9,7,9,7,2,5,2,2,6,2,5,20,19,26,25,14,16,25,18,16,21,6,7,7,11,1,2,0,2,6,null,null,52,35,74,117,50,37,24,46,124,68,8,30,27,34,28,34,23,20,31,16,9,18,15,13,7,6,4,5,5,16,30,17,20,19,26,25,14,16,25,18,16,21,6,7,7,11]
["090614","HUANCAVELICA","HUANCAVELICA","HUAYTARA","SANTIAGO DE QUIRAHUARA",224,110,0,3,2,2,2,2,1,2,1,1,2,2,2,4,2,3,3,2,3,2,5,9,7,9,7,6,5,4,5,5,3,1,2,1,0,0,0,0,114,1,0,1,2,1,2,1,2,1,3,1,1,1,2,2,2,2,1,2,3,7,8,11,9,8,7,5,5,5,4,4,3,3,4,0,1,0,1,2,null,null,20,16,19,38,17,16,10,20,45,23,9,7,12,13,5,9,7,9,7,6,5,4,5,5,3,1,2,1,5,9,7,10,7,8,11,9,8,7,5,5,5,4,4,3,3,4]
["090706","HUANCAVELICA","HUANCAVELICA","TAYACAJA","DANIEL HERNANDEZ",{"v":8691,"d":"8,691"},{"v":4474,"d":"4,474"},57,56,82,80,94,75,92,96,103,77,90,103,106,106,52,87,100,110,97,106,417,384,401,353,301,229,175,119,105,88,58,39,23,13,2,27,30,60,{"v":4217,"d":"4,217"},60,63,65,86,100,92,79,91,82,63,77,88,91,91,45,71,103,89,80,95,389,318,338,340,291,218,173,144,114,84,80,55,32,30,5,30,30,64,230,null,null,{"v":1005,"d":"1,005"},561,{"v":1004,"d":"1,004"},{"v":1578,"d":"1,578"},326,946,490,882,{"v":1504,"d":"1,504"},395,369,443,457,500,417,384,401,353,301,229,175,119,105,88,58,39,23,13,374,407,392,438,389,318,338,340,291,218,173,144,114,84,80,55,32,30]
["090711","HUANCAVELICA","HUANCAVELICA","TAYACAJA","PAZOS",{"v":3846,"d":"3,846"},{"v":1975,"d":"1,975"},20,24,23,35,56,53,44,46,33,38,37,48,45,38,39,46,67,53,39,42,167,150,120,141,133,121,86,52,55,51,38,17,11,7,1,11,9,21,{"v":1871,"d":"1,871"},22,21,23,34,49,49,30,38,31,37,30,38,36,31,33,28,45,47,31,36,165,142,126,134,132,105,83,69,61,55,47,31,18,14,1,12,10,23,90,null,null,457,288,398,653,179,402,220,374,649,226,158,214,207,247,167,150,120,141,133,121,86,52,55,51,38,17,11,7,149,185,168,187,165,142,126,134,132,105,83,69,61,55,47,31,18,14]
["090719","HUANCAVELICA","HUANCAVELICA","TAYACAJA","QUICHUAS",{"v":3426,"d":"3,426"},{"v":1733,"d":"1,733"},34,40,28,46,43,69,34,43,33,33,29,28,39,31,34,33,38,39,38,41,167,143,119,144,118,77,56,47,37,31,19,13,6,3,2,20,14,36,{"v":1693,"d":"1,693"},28,30,34,51,59,53,37,31,35,4,31,30,42,33,36,45,38,30,37,34,164,137,124,131,103,86,57,53,38,20,32,19,7,4,1,12,16,30,192,null,null,460,214,389,561,109,423,224,372,554,120,191,212,161,189,167,143,119,144,118,77,56,47,37,31,19,13,6,3,202,160,172,184,164,137,124,131,103,86,57,53,38,20,32,19,7,4]
["100103","HUANUCO","HUANUCO","HUANUCO","CHINCHAO",{"v":15640,"d":"15,640"},{"v":7812,"d":"7,812"},113,112,128,123,144,131,142,156,162,144,154,174,183,157,152,166,209,189,159,144,717,669,643,557,524,435,318,221,206,176,127,84,57,36,12,68,45,120,{"v":7828,"d":"7,828"},89,97,96,140,148,155,141,130,172,140,152,172,181,155,144,157,241,176,140,130,737,677,610,520,494,419,306,260,234,198,165,110,65,77,6,49,40,94,354,null,null,{"v":1683,"d":"1,683"},{"v":1056,"d":"1,056"},{"v":1689,"d":"1,689"},{"v":2698,"d":"2,698"},686,{"v":1632,"d":"1,632"},{"v":1054,"d":"1,054"},{"v":1684,"d":"1,684"},{"v":2609,"d":"2,609"},849,620,735,820,867,717,669,643,557,524,435,318,221,206,176,127,84,57,36,570,738,804,844,737,677,610,520,494,419,306,260,234,198,165,110,65,77]
["100106","HUANUCO","HUANUCO","HUANUCO","QUISQUI",{"v":4033,"d":"4,033"},{"v":2007,"d":"2,007"},38,25,25,36,35,40,35,26,28,33,40,30,39,42,29,33,40,36,43,36,202,189,158,158,118,132,102,75,58,47,38,20,13,8,2,18,20,40,{"v":2026,"d":"2,026"},20,32,24,29,29,36,22,25,20,28,43,32,42,46,32,45,48,40,37,43,205,176,156,125,130,134,96,90,68,53,47,35,22,16,2,12,8,21,101,null,null,391,219,470,743,184,340,253,461,731,241,159,162,180,188,202,189,158,158,118,132,102,75,58,47,38,20,13,8,134,131,195,213,205,176,156,125,130,134,96,90,68,53,47,35,22,16]
["100201","HUANUCO","HUANUCO","AMBO","AMBO",{"v":22766,"d":"22,766"},{"v":11757,"d":"11,757"},209,196,197,219,225,270,273,251,271,231,255,250,234,240,249,267,277,242,220,230,{"v":1047,"d":"1,047"},943,920,786,693,634,541,350,299,256,182,158,82,60,12,107,102,222,{"v":11009,"d":"11,009"},166,190,200,195,228,245,228,238,212,220,224,218,204,209,209,200,222,245,208,190,961,919,861,742,667,560,462,370,330,272,253,170,87,104,13,81,85,176,770,null,null,{"v":2847,"d":"2,847"},{"v":1509,"d":"1,509"},{"v":2440,"d":"2,440"},{"v":3924,"d":"3,924"},{"v":1037,"d":"1,037"},{"v":2564,"d":"2,564"},{"v":1289,"d":"1,289"},{"v":2278,"d":"2,278"},{"v":3662,"d":"3,662"},{"v":1216,"d":"1,216"},{"v":1046,"d":"1,046"},{"v":1296,"d":"1,296"},{"v":1228,"d":"1,228"},{"v":1236,"d":"1,236"},{"v":1047,"d":"1,047"},943,920,786,693,634,541,350,299,256,182,158,82,60,979,{"v":1143,"d":"1,143"},{"v":1064,"d":"1,064"},{"v":1065,"d":"1,065"},961,919,861,742,667,560,462,370,330,272,253,170,87,104]
["100204","HUANUCO","HUANUCO","AMBO","CONCHAMARCA",{"v":4369,"d":"4,369"},{"v":2190,"d":"2,190"},36,37,32,40,42,43,23,36,34,35,40,35,41,40,36,37,52,34,36,33,173,211,196,157,186,135,115,72,68,51,38,17,19,10,0,20,16,38,{"v":2179,"d":"2,179"},33,33,37,27,49,37,35,35,29,34,37,32,38,37,33,36,38,35,36,45,188,195,204,155,144,149,97,82,69,55,49,27,25,24,4,13,20,35,152,null,null,433,240,453,861,203,418,217,464,831,249,187,171,192,192,173,211,196,157,186,135,115,72,68,51,38,17,19,10,179,170,177,190,188,195,204,155,144,149,97,82,69,55,49,27,25,24]
["100322","HUANUCO","HUANUCO","DOS DE MAYO","SILLAPATA",{"v":1618,"d":"1,618"},788,9,13,14,9,14,17,8,8,14,12,8,7,12,12,12,21,12,20,19,12,80,66,56,69,53,57,39,33,28,20,15,11,4,4,1,5,4,10,830,14,13,7,7,10,13,8,6,7,9,10,9,14,14,14,17,17,18,15,14,80,86,79,47,57,50,43,43,36,22,16,19,6,10,1,7,7,15,62,null,null,133,89,177,307,82,113,94,195,319,109,59,59,51,84,80,66,56,69,53,57,39,33,28,20,15,11,4,4,51,43,61,81,80,86,79,47,57,50,43,43,36,22,16,19,6,10]
["100404","HUANUCO","HUANUCO","HUACAYBAMBA","PINRA",{"v":5416,"d":"5,416"},{"v":2757,"d":"2,757"},45,46,42,53,62,46,41,56,40,48,56,36,48,56,64,67,77,79,110,69,323,191,160,166,160,159,135,78,58,57,54,41,21,13,4,21,24,48,{"v":2659,"d":"2,659"},41,38,43,47,61,52,37,41,49,45,51,32,43,51,57,73,68,85,78,62,291,172,147,152,146,166,117,85,77,72,71,49,33,27,5,21,20,43,152,null,null,571,391,693,858,244,537,377,603,813,329,248,231,260,402,323,191,160,166,160,159,135,78,58,57,54,41,21,13,230,224,234,366,291,172,147,152,146,166,117,85,77,72,71,49,33,27]
["100503","HUANUCO","HUANUCO","HUAMALIES","CHAVIN DE PARIARCA",{"v":3256,"d":"3,256"},{"v":1646,"d":"1,646"},21,22,26,32,32,34,40,31,42,31,31,25,30,45,37,34,41,39,29,30,129,125,101,121,106,99,72,53,53,38,38,25,18,16,0,12,9,22,{"v":1610,"d":"1,610"},21,17,32,33,36,33,33,28,22,31,32,25,30,46,39,39,36,27,31,30,114,135,111,87,98,71,73,72,68,48,40,30,19,23,4,12,9,22,109,null,null,367,226,313,552,188,343,217,310,512,228,133,178,168,173,129,125,101,121,106,99,72,53,53,38,38,25,18,16,139,147,172,163,114,135,111,87,98,71,73,72,68,48,40,30,19,23]
["100511","HUANUCO","HUANUCO","HUAMALIES","TANTAMAYO",{"v":1444,"d":"1,444"},729,9,9,9,16,16,11,8,14,11,7,7,15,12,16,19,18,14,18,18,25,72,60,44,45,52,46,34,22,23,23,12,11,4,9,0,5,4,10,715,8,10,12,11,19,20,10,8,12,4,6,13,10,14,14,22,15,16,21,15,64,59,42,37,44,51,28,31,27,26,13,16,7,10,0,3,5,8,24,null,null,132,97,175,243,82,133,91,159,233,99,59,51,69,93,72,60,44,45,52,46,34,22,23,23,12,11,4,9,60,54,57,89,64,59,42,37,44,51,28,31,27,26,13,16,7,10]
["100609","HUANUCO","HUANUCO","LEONCIO PRADO","PUEBLO NUEVO",{"v":3875,"d":"3,875"},{"v":1944,"d":"1,944"},35,41,34,36,61,47,43,38,33,30,43,51,32,32,22,37,23,35,24,29,106,96,143,143,138,158,115,82,69,76,42,26,15,9,2,17,18,37,{"v":1931,"d":"1,931"},32,37,28,45,29,35,34,48,32,37,34,41,25,25,19,39,47,36,34,37,148,153,155,151,159,106,77,90,57,45,39,31,15,11,3,21,11,34,142,null,null,492,181,255,779,237,432,191,372,738,198,207,191,180,148,106,96,143,143,138,158,115,82,69,76,42,26,15,9,171,186,144,193,148,153,155,151,159,106,77,90,57,45,39,31,15,11]
["100701","HUANUCO","HUANUCO","MARAÑON","HUACRACHUCO",{"v":14298,"d":"14,298"},{"v":7317,"d":"7,317"},140,117,100,109,167,127,137,149,145,154,139,177,199,203,199,183,218,188,174,183,781,524,486,428,381,374,313,215,180,164,110,87,37,29,15,73,67,148,{"v":6981,"d":"6,981"},138,117,112,94,144,132,125,133,156,156,124,157,177,181,171,163,143,176,168,158,669,524,455,407,373,380,270,210,197,172,163,115,64,57,9,66,72,146,555,null,null,{"v":1661,"d":"1,661"},{"v":1190,"d":"1,190"},{"v":1662,"d":"1,662"},{"v":2197,"d":"2,197"},607,{"v":1588,"d":"1,588"},{"v":1011,"d":"1,011"},{"v":1519,"d":"1,519"},{"v":2095,"d":"2,095"},768,633,712,917,946,781,524,486,428,381,374,313,215,180,164,110,87,37,29,605,702,810,808,669,524,455,407,373,380,270,210,197,172,163,115,64,57]
["100901","HUANUCO","HUANUCO","PUERTO INCA","PUERTO INCA",{"v":12203,"d":"12,203"},{"v":6071,"d":"6,071"},158,176,159,195,187,164,137,144,144,138,148,142,146,156,155,127,141,120,115,105,428,383,401,359,391,348,214,175,146,114,72,48,19,16,8,72,86,167,{"v":6132,"d":"6,132"},144,144,164,194,192,181,158,160,162,176,163,157,160,171,165,144,125,116,113,106,461,446,422,383,337,261,183,180,124,99,71,44,15,11,16,80,64,153,542,null,null,{"v":1892,"d":"1,892"},845,{"v":1031,"d":"1,031"},{"v":1888,"d":"1,888"},415,{"v":1995,"d":"1,995"},881,{"v":1126,"d":"1,126"},{"v":1766,"d":"1,766"},364,875,727,747,608,428,383,401,359,391,348,214,175,146,114,72,48,19,16,838,837,816,604,461,446,422,383,337,261,183,180,124,99,71,44,15,11]
["100904","HUANUCO","HUANUCO","PUERTO INCA","TOURNAVISTA",{"v":6043,"d":"6,043"},{"v":2987,"d":"2,987"},52,47,73,70,75,73,65,57,85,69,65,73,55,68,68,54,66,64,47,53,229,194,238,203,186,186,123,107,91,64,40,22,16,9,1,22,30,55,{"v":3056,"d":"3,056"},49,46,58,66,56,65,65,74,63,85,70,79,60,73,73,75,80,76,68,60,269,242,245,200,179,159,109,85,83,56,33,29,14,12,10,31,18,52,188,null,null,804,375,523,{"v":1043,"d":"1,043"},242,776,437,639,977,227,317,349,329,284,229,194,238,203,186,186,123,107,91,64,40,22,16,9,275,352,355,359,269,242,245,200,179,159,109,85,83,56,33,29,14,12]
["101103","HUANUCO","HUANUCO","YAROWILCA","CHACABAMBA",868,428,11,12,7,7,8,14,4,3,2,3,3,3,4,3,1,4,5,4,7,12,47,41,48,34,39,33,19,16,14,9,5,3,2,1,1,5,6,12,440,6,8,5,8,12,7,7,2,6,6,5,5,6,5,1,5,7,6,8,7,48,54,35,32,31,25,22,21,17,12,8,5,4,4,3,5,1,6,43,null,null,77,21,107,189,34,77,30,117,166,50,45,26,14,32,47,41,48,34,39,33,19,16,14,9,5,3,2,1,39,28,22,33,48,54,35,32,31,25,22,21,17,12,8,5,4,4]
["110101","ICA","ICA","ICA","ICA",{"v":183460,"d":"183,460"},{"v":91833,"d":"91,833"},{"v":1023,"d":"1,023"},{"v":1006,"d":"1,006"},{"v":1046,"d":"1,046"},{"v":1139,"d":"1,139"},{"v":1084,"d":"1,084"},{"v":1267,"d":"1,267"},{"v":1455,"d":"1,455"},{"v":1483,"d":"1,483"},{"v":1509,"d":"1,509"},{"v":1517,"d":"1,517"},{"v":1476,"d":"1,476"},{"v":1450,"d":"1,450"},{"v":1579,"d":"1,579"},{"v":1489,"d":"1,489"},{"v":1518,"d":"1,518"},{"v":1576,"d":"1,576"},{"v":1593,"d":"1,593"},{"v":1610,"d":"1,610"},{"v":1478,"d":"1,478"},{"v":1488,"d":"1,488"},{"v":7469,"d":"7,469"},{"v":7033,"d":"7,033"},{"v":7508,"d":"7,508"},{"v":6655,"d":"6,655"},{"v":6038,"d":"6,038"},{"v":5351,"d":"5,351"},{"v":4819,"d":"4,819"},{"v":4583,"d":"4,583"},{"v":4469,"d":"4,469"},{"v":3335,"d":"3,335"},{"v":2716,"d":"2,716"},{"v":1953,"d":"1,953"},{"v":1121,"d":"1,121"},997,84,512,511,{"v":1084,"d":"1,084"},{"v":91627,"d":"91,627"},{"v":1003,"d":"1,003"},927,{"v":1028,"d":"1,028"},{"v":1062,"d":"1,062"},{"v":1026,"d":"1,026"},{"v":1228,"d":"1,228"},{"v":1524,"d":"1,524"},{"v":1656,"d":"1,656"},{"v":1582,"d":"1,582"},{"v":1521,"d":"1,521"},{"v":1387,"d":"1,387"},{"v":1370,"d":"1,370"},{"v":1492,"d":"1,492"},{"v":1408,"d":"1,408"},{"v":1333,"d":"1,333"},{"v":1503,"d":"1,503"},{"v":1498,"d":"1,498"},{"v":1507,"d":"1,507"},{"v":1410,"d":"1,410"},{"v":1433,"d":"1,433"},{"v":7037,"d":"7,037"},{"v":6836,"d":"6,836"},{"v":7043,"d":"7,043"},{"v":6132,"d":"6,132"},{"v":5713,"d":"5,713"},{"v":5104,"d":"5,104"},{"v":5138,"d":"5,138"},{"v":4780,"d":"4,780"},{"v":4486,"d":"4,486"},{"v":3836,"d":"3,836"},{"v":3043,"d":"3,043"},{"v":2384,"d":"2,384"},{"v":1523,"d":"1,523"},{"v":1674,"d":"1,674"},72,474,529,{"v":1063,"d":"1,063"},{"v":3075,"d":"3,075"},null,null,{"v":15455,"d":"15,455"},{"v":9365,"d":"9,365"},{"v":17468,"d":"17,468"},{"v":34954,"d":"34,954"},{"v":14591,"d":"14,591"},{"v":15314,"d":"15,314"},{"v":8741,"d":"8,741"},{"v":16716,"d":"16,716"},{"v":33910,"d":"33,910"},{"v":16946,"d":"16,946"},{"v":5298,"d":"5,298"},{"v":7231,"d":"7,231"},{"v":7512,"d":"7,512"},{"v":7745,"d":"7,745"},{"v":7469,"d":"7,469"},{"v":7033,"d":"7,033"},{"v":7508,"d":"7,508"},{"v":6655,"d":"6,655"},{"v":6038,"d":"6,038"},{"v":5351,"d":"5,351"},{"v":4819,"d":"4,819"},{"v":4583,"d":"4,583"},{"v":4469,"d":"4,469"},{"v":3335,"d":"3,335"},{"v":2716,"d":"2,716"},{"v":1953,"d":"1,953"},{"v":1121,"d":"1,121"},997,{"v":5046,"d":"5,046"},{"v":7511,"d":"7,511"},{"v":6990,"d":"6,990"},{"v":7351,"d":"7,351"},{"v":7037,"d":"7,037"},{"v":6836,"d":"6,836"},{"v":7043,"d":"7,043"},{"v":6132,"d":"6,132"},{"v":5713,"d":"5,713"},{"v":5104,"d":"5,104"},{"v":5138,"d":"5,138"},{"v":4780,"d":"4,780"},{"v":4486,"d":"4,486"},{"v":3836,"d":"3,836"},{"v":3043,"d":"3,043"},{"v":2384,"d":"2,384"},{"v":1523,"d":"1,523"},{"v":1674,"d":"1,674"}]
["110103","ICA","ICA","ICA","LOS AQUIJES",{"v":27405,"d":"27,405"},{"v":13777,"d":"13,777"},185,185,195,165,202,171,303,280,288,246,225,244,202,243,239,236,212,252,282,247,{"v":1101,"d":"1,101"},{"v":1143,"d":"1,143"},{"v":1163,"d":"1,163"},{"v":1101,"d":"1,101"},852,818,654,580,527,401,369,213,108,145,15,94,91,196,{"v":13628,"d":"13,628"},182,169,190,171,176,190,277,226,256,253,221,242,199,241,222,227,227,245,247,255,{"v":1105,"d":"1,105"},{"v":1209,"d":"1,209"},{"v":1153,"d":"1,153"},944,855,734,638,608,527,490,356,212,181,200,6,78,104,193,602,null,null,{"v":2689,"d":"2,689"},{"v":1384,"d":"1,384"},{"v":2773,"d":"2,773"},{"v":5168,"d":"5,168"},{"v":1763,"d":"1,763"},{"v":2553,"d":"2,553"},{"v":1361,"d":"1,361"},{"v":2816,"d":"2,816"},{"v":4932,"d":"4,932"},{"v":1966,"d":"1,966"},932,{"v":1288,"d":"1,288"},{"v":1153,"d":"1,153"},{"v":1229,"d":"1,229"},{"v":1101,"d":"1,101"},{"v":1143,"d":"1,143"},{"v":1163,"d":"1,163"},{"v":1101,"d":"1,101"},852,818,654,580,527,401,369,213,108,145,888,{"v":1202,"d":"1,202"},{"v":1125,"d":"1,125"},{"v":1201,"d":"1,201"},{"v":1105,"d":"1,105"},{"v":1209,"d":"1,209"},{"v":1153,"d":"1,153"},944,855,734,638,608,527,490,356,212,181,200]
["110112","ICA","ICA","ICA","SUBTANJALLA",{"v":39804,"d":"39,804"},{"v":20116,"d":"20,116"},234,212,217,270,244,290,481,483,467,428,388,388,379,349,384,394,381,401,417,384,{"v":1899,"d":"1,899"},{"v":2010,"d":"2,010"},{"v":1824,"d":"1,824"},{"v":1460,"d":"1,460"},{"v":1050,"d":"1,050"},953,906,734,710,559,359,245,121,95,24,121,113,248,{"v":19688,"d":"19,688"},212,187,240,250,253,265,357,444,362,297,368,369,361,332,338,372,415,361,383,341,{"v":1903,"d":"1,903"},{"v":1965,"d":"1,965"},{"v":1670,"d":"1,670"},{"v":1295,"d":"1,295"},{"v":1127,"d":"1,127"},{"v":1003,"d":"1,003"},{"v":1011,"d":"1,011"},878,758,552,420,260,181,158,14,103,109,225,886,null,null,{"v":4102,"d":"4,102"},{"v":2288,"d":"2,288"},{"v":4710,"d":"4,710"},{"v":6927,"d":"6,927"},{"v":2089,"d":"2,089"},{"v":3604,"d":"3,604"},{"v":2179,"d":"2,179"},{"v":4592,"d":"4,592"},{"v":6984,"d":"6,984"},{"v":2329,"d":"2,329"},{"v":1177,"d":"1,177"},{"v":2149,"d":"2,149"},{"v":1888,"d":"1,888"},{"v":1977,"d":"1,977"},{"v":1899,"d":"1,899"},{"v":2010,"d":"2,010"},{"v":1824,"d":"1,824"},{"v":1460,"d":"1,460"},{"v":1050,"d":"1,050"},953,906,734,710,559,359,245,121,95,{"v":1142,"d":"1,142"},{"v":1725,"d":"1,725"},{"v":1768,"d":"1,768"},{"v":1872,"d":"1,872"},{"v":1903,"d":"1,903"},{"v":1965,"d":"1,965"},{"v":1670,"d":"1,670"},{"v":1295,"d":"1,295"},{"v":1127,"d":"1,127"},{"v":1003,"d":"1,003"},{"v":1011,"d":"1,011"},878,758,552,420,260,181,158]
["110207","ICA","ICA","CHINCHA","PUEBLO NUEVO",{"v":79291,"d":"79,291"},{"v":40300,"d":"40,300"},344,398,417,443,534,578,886,980,924,837,791,867,825,906,846,855,893,760,770,813,{"v":3744,"d":"3,744"},{"v":3567,"d":"3,567"},{"v":3463,"d":"3,463"},{"v":2816,"d":"2,816"},{"v":2446,"d":"2,446"},{"v":2125,"d":"2,125"},{"v":1824,"d":"1,824"},{"v":1509,"d":"1,509"},{"v":1280,"d":"1,280"},{"v":1042,"d":"1,042"},815,506,246,250,30,143,201,365,{"v":38991,"d":"38,991"},388,386,387,435,514,475,781,887,855,734,726,799,760,835,724,763,838,726,727,738,{"v":3490,"d":"3,490"},{"v":3423,"d":"3,423"},{"v":3126,"d":"3,126"},{"v":2581,"d":"2,581"},{"v":2340,"d":"2,340"},{"v":2137,"d":"2,137"},{"v":1911,"d":"1,911"},{"v":1690,"d":"1,690"},{"v":1376,"d":"1,376"},{"v":1194,"d":"1,194"},916,618,371,340,32,182,206,411,{"v":1016,"d":"1,016"},null,null,{"v":7999,"d":"7,999"},{"v":5085,"d":"5,085"},{"v":8894,"d":"8,894"},{"v":14183,"d":"14,183"},{"v":4139,"d":"4,139"},{"v":7367,"d":"7,367"},{"v":4646,"d":"4,646"},{"v":8378,"d":"8,378"},{"v":13785,"d":"13,785"},{"v":4815,"d":"4,815"},{"v":2136,"d":"2,136"},{"v":4205,"d":"4,205"},{"v":4235,"d":"4,235"},{"v":4091,"d":"4,091"},{"v":3744,"d":"3,744"},{"v":3567,"d":"3,567"},{"v":3463,"d":"3,463"},{"v":2816,"d":"2,816"},{"v":2446,"d":"2,446"},{"v":2125,"d":"2,125"},{"v":1824,"d":"1,824"},{"v":1509,"d":"1,509"},{"v":1280,"d":"1,280"},{"v":1042,"d":"1,042"},815,506,246,250,{"v":2110,"d":"2,110"},{"v":3732,"d":"3,732"},{"v":3844,"d":"3,844"},{"v":3792,"d":"3,792"},{"v":3490,"d":"3,490"},{"v":3423,"d":"3,423"},{"v":3126,"d":"3,126"},{"v":2581,"d":"2,581"},{"v":2340,"d":"2,340"},{"v":2137,"d":"2,137"},{"v":1911,"d":"1,911"},{"v":1690,"d":"1,690"},{"v":1376,"d":"1,376"},{"v":1194,"d":"1,194"},916,618,371,340]
["110208","ICA","ICA","CHINCHA","SAN JUAN DE YANAC",{"v":2212,"d":"2,212"},{"v":1094,"d":"1,094"},5,3,1,5,8,7,11,7,7,4,8,9,14,10,14,22,21,14,16,20,69,70,71,103,84,80,75,64,65,70,45,44,32,16,3,3,2,5,{"v":1118,"d":"1,118"},1,3,4,2,8,11,8,21,6,24,10,12,19,13,19,15,9,22,15,6,53,60,72,83,72,75,75,78,103,58,55,27,25,54,0,1,0,1,9,null,null,75,95,175,477,272,110,97,134,455,322,22,36,55,93,69,70,71,103,84,80,75,64,65,70,45,44,32,16,18,70,73,67,53,60,72,83,72,75,75,78,103,58,55,27,25,54]
["110402","ICA","ICA","PALPA","LLIPATA",{"v":2225,"d":"2,225"},{"v":1120,"d":"1,120"},17,13,16,18,14,14,13,13,22,21,16,21,16,12,13,20,18,19,19,23,58,80,111,88,78,72,66,63,55,39,25,24,12,11,1,6,11,18,{"v":1105,"d":"1,105"},9,15,8,16,16,16,16,27,19,19,19,24,19,14,12,28,16,12,17,9,65,75,96,109,79,76,60,56,47,30,30,27,8,16,1,3,6,10,74,null,null,198,98,180,478,166,204,101,166,476,158,78,83,78,99,58,80,111,88,78,72,66,63,55,39,25,24,12,11,64,97,88,82,65,75,96,109,79,76,60,56,47,30,30,27,8,16]
["110405","ICA","ICA","PALPA","TIBILLO",523,238,2,2,3,2,2,2,1,2,2,1,1,0,1,0,3,2,0,11,1,7,11,13,20,25,21,18,12,11,18,10,10,10,4,10,0,1,1,2,285,0,2,1,2,4,1,1,4,4,2,4,1,4,1,4,8,4,4,1,5,19,28,23,16,13,15,23,23,15,14,10,10,10,9,0,0,0,0,3,null,null,20,17,32,107,62,26,25,53,113,68,11,8,5,21,11,13,20,25,21,18,12,11,18,10,10,10,4,10,9,12,14,22,19,28,23,16,13,15,23,23,15,14,10,10,10,9]
["120104","JUNIN","JUNIN","HUANCAYO","CARHUACALLANGA",449,225,0,0,0,0,0,1,1,1,3,1,1,6,1,1,3,1,1,3,2,3,14,16,16,29,23,18,18,13,12,10,10,3,7,7,0,0,0,0,224,3,1,0,1,1,1,2,2,2,4,1,6,1,1,2,1,2,2,3,1,10,19,16,11,19,15,16,10,17,10,12,9,14,9,0,0,3,3,6,null,null,14,10,35,117,49,24,9,33,87,71,0,7,12,10,14,16,16,29,23,18,18,13,12,10,10,3,7,7,6,11,11,9,10,19,16,11,19,15,16,10,17,10,12,9,14,9]
["120113","JUNIN","JUNIN","HUANCAYO","CULLHUAS",{"v":2014,"d":"2,014"},{"v":1011,"d":"1,011"},9,11,11,13,9,12,15,14,14,15,13,9,14,14,17,18,22,19,17,19,74,79,82,91,72,70,74,43,39,34,28,23,10,7,0,6,3,10,{"v":1003,"d":"1,003"},9,7,9,9,17,20,18,13,14,9,12,10,14,14,18,17,18,10,19,14,76,81,82,80,71,54,69,53,41,38,32,29,13,13,2,6,3,10,43,null,null,145,104,189,432,141,147,91,190,409,166,53,70,67,95,74,79,82,91,72,70,74,43,39,34,28,23,10,7,51,74,68,78,76,81,82,80,71,54,69,53,41,38,32,29,13,13]
["120117","JUNIN","JUNIN","HUANCAYO","HUALHUAS",{"v":6216,"d":"6,216"},{"v":3147,"d":"3,147"},41,50,50,51,42,60,50,43,52,51,61,38,67,69,71,54,56,56,77,69,241,247,259,238,228,204,142,116,98,91,69,61,26,19,3,19,22,43,{"v":3069,"d":"3,069"},38,47,40,34,47,65,40,55,43,34,49,30,53,54,55,39,44,61,55,51,264,258,263,241,200,183,156,131,131,101,78,46,43,40,2,17,21,40,151,null,null,589,373,634,{"v":1187,"d":"1,187"},364,522,306,628,{"v":1174,"d":"1,174"},439,234,256,306,312,241,247,259,238,228,204,142,116,98,91,69,61,26,19,206,237,241,250,264,258,263,241,200,183,156,131,131,101,78,46,43,40]
["120128","JUNIN","JUNIN","HUANCAYO","QUILCAS",{"v":5049,"d":"5,049"},{"v":2577,"d":"2,577"},31,39,44,38,37,29,61,43,50,46,51,39,54,64,57,50,57,47,44,43,210,214,214,208,179,138,100,119,82,54,73,29,20,13,3,16,15,33,{"v":2472,"d":"2,472"},31,32,32,30,41,51,44,40,39,52,39,30,42,50,42,33,54,45,47,32,187,213,181,190,171,124,114,97,106,83,76,56,41,27,3,16,15,33,192,null,null,508,329,511,958,271,461,266,479,877,389,189,229,265,241,210,214,214,208,179,138,100,119,82,54,73,29,20,13,166,226,203,211,187,213,181,190,171,124,114,97,106,83,76,56,41,27]
["120201","JUNIN","JUNIN","CONCEPCION","CONCEPCION",{"v":16472,"d":"16,472"},{"v":8257,"d":"8,257"},120,124,110,138,128,143,151,157,155,129,134,143,134,154,143,138,147,131,153,134,655,621,725,615,588,475,448,360,286,239,196,140,82,61,8,56,64,127,{"v":8215,"d":"8,215"},112,117,99,118,107,148,122,152,114,115,118,126,118,136,123,133,122,138,134,125,639,645,698,642,545,454,450,367,353,314,221,177,122,111,7,49,63,119,539,null,null,{"v":1632,"d":"1,632"},847,{"v":1563,"d":"1,563"},{"v":3211,"d":"3,211"},{"v":1004,"d":"1,004"},{"v":1448,"d":"1,448"},770,{"v":1543,"d":"1,543"},{"v":3156,"d":"3,156"},{"v":1298,"d":"1,298"},620,735,708,703,655,621,725,615,588,475,448,360,286,239,196,140,82,61,553,651,621,652,639,645,698,642,545,454,450,367,353,314,221,177,122,111]
["120205","JUNIN","JUNIN","CONCEPCION","COCHAS",{"v":1715,"d":"1,715"},847,8,21,22,13,18,18,14,14,13,15,13,10,17,14,13,13,21,13,13,15,58,68,65,63,57,41,38,34,23,39,19,26,8,10,1,3,5,8,868,12,8,22,12,14,14,11,17,10,16,13,12,19,15,15,20,18,17,18,17,74,71,61,53,49,46,35,37,33,30,27,16,18,18,1,7,5,13,28,null,null,179,91,154,298,125,161,104,180,281,142,82,74,67,75,58,68,65,63,57,41,38,34,23,39,19,26,8,10,68,68,74,90,74,71,61,53,49,46,35,37,33,30,27,16,18,18]
["120212","JUNIN","JUNIN","CONCEPCION","NUEVE DE JULIO",{"v":2544,"d":"2,544"},{"v":1329,"d":"1,329"},19,24,18,18,17,22,27,25,27,27,23,22,24,26,25,37,35,23,24,19,106,116,104,88,78,75,57,58,54,34,28,18,11,20,1,14,5,20,{"v":1215,"d":"1,215"},14,14,19,21,23,28,16,21,13,20,17,16,17,19,18,25,20,19,19,25,93,90,94,76,83,57,74,57,48,50,30,28,25,26,0,5,9,15,42,null,null,269,170,265,460,165,222,118,227,441,207,96,128,120,138,106,116,104,88,78,75,57,58,54,34,28,18,11,20,91,98,87,108,93,90,94,76,83,57,74,57,48,50,30,28,25,26]
["120215","JUNIN","JUNIN","CONCEPCION","SANTA ROSA DE OCOPA",{"v":1881,"d":"1,881"},931,11,14,5,18,16,19,17,15,17,20,18,18,8,11,18,16,13,15,12,17,71,67,56,57,65,63,60,40,34,38,35,20,16,11,1,3,8,12,950,7,20,16,13,17,11,12,10,13,13,15,15,7,10,15,13,16,14,12,11,65,61,62,66,65,52,56,51,50,38,38,34,28,24,0,2,5,7,46,null,null,188,81,167,341,154,162,75,149,352,212,64,88,73,73,71,67,56,57,65,63,60,40,34,38,35,20,16,11,73,59,62,66,65,61,62,66,65,52,56,51,50,38,38,34,28,24]
["120403","JUNIN","JUNIN","JAUJA","APATA",{"v":4428,"d":"4,428"},{"v":2216,"d":"2,216"},39,39,31,43,42,40,44,44,31,44,35,34,55,40,29,23,57,54,26,53,185,200,151,131,115,121,124,99,78,60,56,42,36,15,4,20,19,41,{"v":2212,"d":"2,212"},22,30,28,46,36,39,33,42,36,28,30,29,47,33,24,40,43,35,39,45,161,187,136,139,133,117,110,104,94,85,80,76,43,42,1,12,10,23,175,null,null,466,258,464,741,287,399,222,432,739,420,194,203,193,213,185,200,151,131,115,121,124,99,78,60,56,42,36,15,162,178,163,202,161,187,136,139,133,117,110,104,94,85,80,76,43,42]
["120411","JUNIN","JUNIN","JAUJA","JANJAILLO",505,269,2,1,0,3,1,2,3,3,2,3,4,5,6,8,4,6,9,6,3,8,22,19,16,17,20,11,17,8,10,16,12,10,7,5,0,2,0,2,236,1,2,1,1,3,0,4,4,4,3,3,4,5,6,2,6,4,4,4,3,17,11,13,17,16,12,12,9,12,14,19,6,8,6,0,0,1,1,9,null,null,29,39,52,89,60,30,27,35,79,65,7,13,27,32,22,19,16,17,20,11,17,8,10,16,12,10,7,5,8,15,20,21,17,11,13,17,16,12,12,9,12,14,19,6,8,6]
["120414","JUNIN","JUNIN","JAUJA","LLOCLLAPAMPA",{"v":1120,"d":"1,120"},548,5,3,12,8,7,9,9,10,6,6,7,6,9,14,5,6,13,5,9,7,36,40,45,42,36,32,36,26,30,22,17,16,9,5,0,4,1,5,572,7,2,3,9,10,4,6,4,6,6,6,5,7,11,3,6,12,10,2,6,33,45,49,41,42,29,41,31,33,32,23,25,14,9,0,4,3,7,36,null,null,88,52,92,217,99,68,49,86,233,136,35,40,41,40,36,40,45,42,36,32,36,26,30,22,17,16,9,5,31,26,32,36,33,45,49,41,42,29,41,31,33,32,23,25,14,9]
["120422","JUNIN","JUNIN","JAUJA","PACA",788,385,3,3,3,8,2,8,5,3,6,6,5,6,8,8,7,5,6,6,8,8,23,28,25,18,24,21,21,26,19,16,18,9,17,6,1,1,2,3,403,2,1,7,7,7,4,2,5,5,4,3,4,5,5,4,4,5,5,6,4,30,30,20,34,25,18,23,29,16,27,17,15,11,19,0,1,1,2,7,null,null,58,40,67,135,85,51,28,70,149,105,19,28,34,33,23,28,25,18,24,21,21,26,19,16,18,9,17,6,24,20,21,24,30,30,20,34,25,18,23,29,16,27,17,15,11,19]
["120431","JUNIN","JUNIN","JAUJA","SINCOS",{"v":3738,"d":"3,738"},{"v":1924,"d":"1,924"},19,20,23,19,28,41,47,29,43,31,34,29,38,44,47,50,51,35,36,29,164,157,106,111,136,101,106,90,72,69,44,34,24,17,3,8,11,20,{"v":1814,"d":"1,814"},14,15,25,22,35,36,22,26,23,30,28,23,31,35,35,29,58,29,28,21,157,148,106,112,99,108,96,87,74,85,68,47,34,28,0,6,8,15,50,null,null,363,265,386,650,260,299,217,354,608,336,109,191,192,201,164,157,106,111,136,101,106,90,72,69,44,34,24,17,111,137,152,165,157,148,106,112,99,108,96,87,74,85,68,47,34,28]
["120434","JUNIN","JUNIN","JAUJA","YAUYOS",{"v":9868,"d":"9,868"},{"v":5005,"d":"5,005"},48,55,58,70,53,94,88,107,98,102,83,105,92,79,90,90,102,101,75,82,418,393,416,401,340,291,211,214,195,165,122,83,46,38,5,25,23,51,{"v":4863,"d":"4,863"},47,57,45,54,64,73,82,93,81,72,74,93,81,70,79,78,78,65,76,72,385,377,359,382,333,313,261,240,198,184,154,117,56,70,3,22,25,50,290,null,null,961,554,968,{"v":1873,"d":"1,873"},649,835,451,910,{"v":1888,"d":"1,888"},779,284,489,449,450,418,393,416,401,340,291,211,214,195,165,122,83,46,38,267,401,397,369,385,377,359,382,333,313,261,240,198,184,154,117,56,70]
["120604","JUNIN","JUNIN","SATIPO","MAZAMARI",{"v":43033,"d":"43,033"},{"v":21275,"d":"21,275"},237,224,256,293,249,285,478,562,509,458,482,493,540,490,530,484,456,498,426,395,{"v":1772,"d":"1,772"},{"v":1719,"d":"1,719"},{"v":1650,"d":"1,650"},{"v":1633,"d":"1,633"},{"v":1377,"d":"1,377"},{"v":1123,"d":"1,123"},970,793,673,493,327,211,101,88,24,118,119,251,{"v":21758,"d":"21,758"},226,206,241,251,274,242,498,587,414,508,469,482,528,479,511,506,545,485,422,445,{"v":2023,"d":"2,023"},{"v":1910,"d":"1,910"},{"v":1718,"d":"1,718"},{"v":1703,"d":"1,703"},{"v":1356,"d":"1,356"},{"v":1061,"d":"1,061"},985,813,611,478,346,225,142,68,21,128,98,240,785,null,null,{"v":4526,"d":"4,526"},{"v":2998,"d":"2,998"},{"v":4312,"d":"4,312"},{"v":7546,"d":"7,546"},{"v":1893,"d":"1,893"},{"v":4398,"d":"4,398"},{"v":3054,"d":"3,054"},{"v":4800,"d":"4,800"},{"v":7636,"d":"7,636"},{"v":1870,"d":"1,870"},{"v":1259,"d":"1,259"},{"v":2292,"d":"2,292"},{"v":2535,"d":"2,535"},{"v":2259,"d":"2,259"},{"v":1772,"d":"1,772"},{"v":1719,"d":"1,719"},{"v":1650,"d":"1,650"},{"v":1633,"d":"1,633"},{"v":1377,"d":"1,377"},{"v":1123,"d":"1,123"},970,793,673,493,327,211,101,88,{"v":1198,"d":"1,198"},{"v":2249,"d":"2,249"},{"v":2469,"d":"2,469"},{"v":2403,"d":"2,403"},{"v":2023,"d":"2,023"},{"v":1910,"d":"1,910"},{"v":1718,"d":"1,718"},{"v":1703,"d":"1,703"},{"v":1356,"d":"1,356"},{"v":1061,"d":"1,061"},985,813,611,478,346,225,142,68]
["120607","JUNIN","JUNIN","SATIPO","RIO NEGRO",{"v":33931,"d":"33,931"},{"v":16511,"d":"16,511"},178,183,216,266,273,281,358,344,351,332,348,331,324,408,352,388,412,326,323,324,{"v":1384,"d":"1,384"},{"v":1256,"d":"1,256"},{"v":1347,"d":"1,347"},{"v":1370,"d":"1,370"},{"v":1095,"d":"1,095"},965,749,633,476,320,275,177,64,82,12,87,91,189,{"v":17420,"d":"17,420"},199,195,199,240,274,254,449,380,357,360,410,394,385,485,413,415,472,351,349,365,{"v":1546,"d":"1,546"},{"v":1469,"d":"1,469"},{"v":1472,"d":"1,472"},{"v":1402,"d":"1,402"},{"v":1088,"d":"1,088"},789,715,570,463,354,262,184,100,60,14,97,102,211,665,null,null,{"v":3461,"d":"3,461"},{"v":2210,"d":"2,210"},{"v":3287,"d":"3,287"},{"v":6159,"d":"6,159"},{"v":1394,"d":"1,394"},{"v":3711,"d":"3,711"},{"v":2521,"d":"2,521"},{"v":3729,"d":"3,729"},{"v":6036,"d":"6,036"},{"v":1423,"d":"1,423"},{"v":1116,"d":"1,116"},{"v":1666,"d":"1,666"},{"v":1763,"d":"1,763"},{"v":1773,"d":"1,773"},{"v":1384,"d":"1,384"},{"v":1256,"d":"1,256"},{"v":1347,"d":"1,347"},{"v":1370,"d":"1,370"},{"v":1095,"d":"1,095"},965,749,633,476,320,275,177,64,82,{"v":1107,"d":"1,107"},{"v":1800,"d":"1,800"},{"v":2087,"d":"2,087"},{"v":1952,"d":"1,952"},{"v":1546,"d":"1,546"},{"v":1469,"d":"1,469"},{"v":1472,"d":"1,472"},{"v":1402,"d":"1,402"},{"v":1088,"d":"1,088"},789,715,570,463,354,262,184,100,60]
["120706","JUNIN","JUNIN","TARMA","PALCA",{"v":5261,"d":"5,261"},{"v":2609,"d":"2,609"},47,52,59,64,57,55,47,45,50,41,49,51,44,63,45,46,68,50,44,31,197,169,175,171,161,149,132,122,78,79,70,52,24,22,3,17,30,50,{"v":2652,"d":"2,652"},32,40,53,56,33,51,37,48,44,43,44,45,39,55,39,59,64,54,46,39,223,212,201,180,172,116,131,118,109,96,61,43,38,31,1,19,13,34,206,null,null,617,316,441,910,325,526,310,520,918,378,279,238,252,239,197,169,175,171,161,149,132,122,78,79,70,52,24,22,214,223,222,262,223,212,201,180,172,116,131,118,109,96,61,43,38,31]
["120806","JUNIN","JUNIN","YAULI","PACCHA",{"v":1439,"d":"1,439"},726,7,3,12,10,6,15,12,12,12,16,11,10,18,14,10,10,11,14,10,11,44,51,56,65,60,51,48,34,34,17,15,15,7,5,0,2,5,7,713,6,9,7,8,15,11,9,11,5,8,11,11,19,14,12,12,11,11,12,4,41,57,59,62,56,39,41,38,36,33,14,11,11,9,0,4,2,6,30,null,null,126,77,116,314,93,111,79,114,295,114,38,67,63,56,44,51,56,65,60,51,48,34,34,17,15,15,7,5,45,44,67,50,41,57,59,62,56,39,41,38,36,33,14,11,11,9]
["120903","JUNIN","JUNIN","CHUPACA","CHONGOS BAJO",{"v":4920,"d":"4,920"},{"v":2489,"d":"2,489"},27,28,34,26,29,34,48,41,34,37,34,41,38,38,34,42,56,48,44,47,184,226,224,184,141,160,108,118,87,106,79,56,34,22,3,14,13,29,{"v":2431,"d":"2,431"},23,31,33,32,30,45,36,28,33,31,30,35,33,33,29,25,36,35,44,48,180,191,188,160,146,116,129,132,114,115,107,77,45,61,2,11,12,24,117,null,null,413,256,501,935,384,387,191,463,871,519,144,194,185,237,184,226,224,184,141,160,108,118,87,106,79,56,34,22,149,173,160,188,180,191,188,160,146,116,129,132,114,115,107,77,45,61]
["120906","JUNIN","JUNIN","CHUPACA","SAN JUAN DE ISCOS",{"v":2473,"d":"2,473"},{"v":1256,"d":"1,256"},17,13,6,18,22,18,23,25,15,26,14,14,19,22,20,29,28,18,24,18,80,110,95,88,77,70,60,62,60,48,46,31,25,15,0,5,12,18,{"v":1217,"d":"1,217"},8,9,15,24,21,21,16,21,16,15,13,14,19,22,21,22,10,11,24,20,68,91,83,89,70,71,56,69,62,61,59,45,27,24,2,5,3,8,46,null,null,211,136,232,452,225,193,105,203,438,278,76,107,89,117,80,110,95,88,77,70,60,62,60,48,46,31,25,15,77,89,89,87,68,91,83,89,70,71,56,69,62,61,59,45,27,24]
["130107","LA LIBERTAD","LA LIBERTAD","TRUJILLO","MOCHE",{"v":43304,"d":"43,304"},{"v":21568,"d":"21,568"},262,328,338,358,362,397,398,437,444,394,381,337,333,293,319,317,300,330,303,293,{"v":1268,"d":"1,268"},{"v":1621,"d":"1,621"},{"v":1766,"d":"1,766"},{"v":1853,"d":"1,853"},{"v":1783,"d":"1,783"},{"v":1435,"d":"1,435"},{"v":1079,"d":"1,079"},{"v":1103,"d":"1,103"},876,637,504,340,193,186,16,120,142,278,{"v":21736,"d":"21,736"},276,304,318,329,349,362,369,410,400,374,375,341,337,296,311,323,316,341,296,292,{"v":1470,"d":"1,470"},{"v":1945,"d":"1,945"},{"v":1800,"d":"1,800"},{"v":1826,"d":"1,826"},{"v":1637,"d":"1,637"},{"v":1305,"d":"1,305"},{"v":1118,"d":"1,118"},{"v":1007,"d":"1,007"},864,657,565,364,234,225,19,145,131,293,789,null,null,{"v":4436,"d":"4,436"},{"v":1892,"d":"1,892"},{"v":3485,"d":"3,485"},{"v":9019,"d":"9,019"},{"v":2736,"d":"2,736"},{"v":4207,"d":"4,207"},{"v":1924,"d":"1,924"},{"v":4003,"d":"4,003"},{"v":8693,"d":"8,693"},{"v":2909,"d":"2,909"},{"v":1648,"d":"1,648"},{"v":2070,"d":"2,070"},{"v":1663,"d":"1,663"},{"v":1543,"d":"1,543"},{"v":1268,"d":"1,268"},{"v":1621,"d":"1,621"},{"v":1766,"d":"1,766"},{"v":1853,"d":"1,853"},{"v":1783,"d":"1,783"},{"v":1435,"d":"1,435"},{"v":1079,"d":"1,079"},{"v":1103,"d":"1,103"},876,637,504,340,193,186,{"v":1576,"d":"1,576"},{"v":1915,"d":"1,915"},{"v":1660,"d":"1,660"},{"v":1568,"d":"1,568"},{"v":1470,"d":"1,470"},{"v":1945,"d":"1,945"},{"v":1800,"d":"1,800"},{"v":1826,"d":"1,826"},{"v":1637,"d":"1,637"},{"v":1305,"d":"1,305"},{"v":1118,"d":"1,118"},{"v":1007,"d":"1,007"},864,657,565,364,234,225]
["130109","LA LIBERTAD","LA LIBERTAD","TRUJILLO","SALAVERRY",{"v":29763,"d":"29,763"},{"v":14689,"d":"14,689"},184,166,161,208,191,214,288,291,283,260,243,237,234,262,215,238,245,259,239,248,973,{"v":1205,"d":"1,205"},{"v":1163,"d":"1,163"},{"v":1287,"d":"1,287"},{"v":1141,"d":"1,141"},948,762,624,610,426,374,259,157,94,10,92,92,195,{"v":15074,"d":"15,074"},166,173,177,222,211,208,255,261,294,231,226,225,222,249,195,253,208,225,232,266,{"v":1122,"d":"1,122"},{"v":1406,"d":"1,406"},{"v":1328,"d":"1,328"},{"v":1231,"d":"1,231"},{"v":1119,"d":"1,119"},928,765,717,585,423,370,263,186,132,5,69,97,176,781,null,null,{"v":2726,"d":"2,726"},{"v":1453,"d":"1,453"},{"v":2665,"d":"2,665"},{"v":5925,"d":"5,925"},{"v":1920,"d":"1,920"},{"v":2649,"d":"2,649"},{"v":1352,"d":"1,352"},{"v":3026,"d":"3,026"},{"v":6088,"d":"6,088"},{"v":1959,"d":"1,959"},910,{"v":1336,"d":"1,336"},{"v":1191,"d":"1,191"},{"v":1229,"d":"1,229"},973,{"v":1205,"d":"1,205"},{"v":1163,"d":"1,163"},{"v":1287,"d":"1,287"},{"v":1141,"d":"1,141"},948,762,624,610,426,374,259,157,94,949,{"v":1249,"d":"1,249"},{"v":1117,"d":"1,117"},{"v":1184,"d":"1,184"},{"v":1122,"d":"1,122"},{"v":1406,"d":"1,406"},{"v":1328,"d":"1,328"},{"v":1231,"d":"1,231"},{"v":1119,"d":"1,119"},928,765,717,585,423,370,263,186,132]
["130206","LA LIBERTAD","LA LIBERTAD","ASCOPE","RAZURI",{"v":9124,"d":"9,124"},{"v":4560,"d":"4,560"},53,63,72,69,61,80,72,74,89,82,65,74,73,79,65,63,98,81,81,48,286,291,292,326,381,322,266,245,187,155,139,118,60,50,7,26,27,56,{"v":4564,"d":"4,564"},52,40,50,73,72,65,94,72,77,81,65,75,74,81,63,78,74,50,49,67,305,374,348,360,360,282,250,235,163,162,147,93,71,62,4,27,25,55,174,null,null,854,459,706,{"v":1832,"d":"1,832"},709,816,420,795,{"v":1835,"d":"1,835"},698,318,397,356,371,286,291,292,326,381,322,266,245,187,155,139,118,60,50,287,389,358,318,305,374,348,360,360,282,250,235,163,162,147,93,71,62]
["130301","LA LIBERTAD","LA LIBERTAD","BOLIVAR","BOLIVAR",{"v":4570,"d":"4,570"},{"v":2230,"d":"2,230"},32,45,47,54,63,67,39,37,36,41,55,41,43,39,39,36,39,62,47,43,164,136,118,147,118,116,102,110,98,68,61,46,18,23,2,16,16,34,{"v":2340,"d":"2,340"},28,42,40,48,56,37,43,38,33,48,64,48,50,46,45,58,57,56,50,46,196,157,120,140,129,94,129,109,93,50,74,39,39,38,0,17,11,30,157,null,null,557,258,390,711,314,525,312,449,721,333,241,220,217,227,164,136,118,147,118,116,102,110,98,68,61,46,18,23,214,199,253,267,196,157,120,140,129,94,129,109,93,50,74,39,39,38]
["130402","LA LIBERTAD","LA LIBERTAD","CHEPEN","PACANGA",{"v":24841,"d":"24,841"},{"v":12404,"d":"12,404"},175,184,183,184,224,178,249,217,206,218,196,197,187,199,202,198,203,210,213,169,765,874,900,932,940,837,678,640,589,416,315,230,149,147,8,75,100,186,{"v":12437,"d":"12,437"},182,185,180,202,224,179,191,195,171,215,189,196,185,198,194,223,188,211,189,188,917,{"v":1088,"d":"1,088"},973,982,885,815,685,609,417,367,296,218,158,142,13,82,100,193,701,null,null,{"v":2411,"d":"2,411"},{"v":1199,"d":"1,199"},{"v":2021,"d":"2,021"},{"v":4927,"d":"4,927"},{"v":1846,"d":"1,846"},{"v":2309,"d":"2,309"},{"v":1199,"d":"1,199"},{"v":2382,"d":"2,382"},{"v":4949,"d":"4,949"},{"v":1598,"d":"1,598"},950,{"v":1068,"d":"1,068"},981,993,765,874,900,932,940,837,678,640,589,416,315,230,149,147,973,951,962,999,917,{"v":1088,"d":"1,088"},973,982,885,815,685,609,417,367,296,218,158,142]
["130606","LA LIBERTAD","LA LIBERTAD","OTUZCO","LA CUESTA",601,270,1,3,6,5,0,5,2,6,2,1,6,1,2,6,7,2,3,2,4,4,13,15,22,27,20,22,17,18,18,10,7,7,3,3,0,1,0,1,331,2,6,5,4,4,3,4,4,3,2,6,1,2,6,7,6,3,3,3,3,17,30,31,28,23,19,12,16,18,17,10,12,11,10,0,1,1,2,5,null,null,38,22,36,126,48,44,27,53,129,78,15,16,22,15,13,15,22,27,20,22,17,18,18,10,7,7,3,3,21,16,22,18,17,30,31,28,23,19,12,16,18,17,10,12,11,10]
["130702","LA LIBERTAD","LA LIBERTAD","PACASMAYO","GUADALUPE",{"v":43006,"d":"43,006"},{"v":21521,"d":"21,521"},237,255,263,287,255,296,353,357,382,387,367,296,332,341,352,368,360,330,330,290,{"v":1328,"d":"1,328"},{"v":1422,"d":"1,422"},{"v":1599,"d":"1,599"},{"v":1645,"d":"1,645"},{"v":1591,"d":"1,591"},{"v":1432,"d":"1,432"},{"v":1196,"d":"1,196"},{"v":1227,"d":"1,227"},{"v":1124,"d":"1,124"},893,713,435,235,243,19,123,114,251,{"v":21485,"d":"21,485"},233,267,247,276,265,273,341,333,294,332,358,296,332,341,340,347,349,350,368,324,{"v":1480,"d":"1,480"},{"v":1706,"d":"1,706"},{"v":1673,"d":"1,673"},{"v":1611,"d":"1,611"},{"v":1629,"d":"1,629"},{"v":1335,"d":"1,335"},{"v":1289,"d":"1,289"},{"v":1068,"d":"1,068"},980,858,610,407,293,280,24,123,110,247,{"v":1272,"d":"1,272"},null,null,{"v":3735,"d":"3,735"},{"v":2083,"d":"2,083"},{"v":3370,"d":"3,370"},{"v":8690,"d":"8,690"},{"v":3643,"d":"3,643"},{"v":3515,"d":"3,515"},{"v":2059,"d":"2,059"},{"v":3878,"d":"3,878"},{"v":8605,"d":"8,605"},{"v":3428,"d":"3,428"},{"v":1297,"d":"1,297"},{"v":1775,"d":"1,775"},{"v":1688,"d":"1,688"},{"v":1678,"d":"1,678"},{"v":1328,"d":"1,328"},{"v":1422,"d":"1,422"},{"v":1599,"d":"1,599"},{"v":1645,"d":"1,645"},{"v":1591,"d":"1,591"},{"v":1432,"d":"1,432"},{"v":1196,"d":"1,196"},{"v":1227,"d":"1,227"},{"v":1124,"d":"1,124"},893,713,435,235,243,{"v":1288,"d":"1,288"},{"v":1573,"d":"1,573"},{"v":1667,"d":"1,667"},{"v":1738,"d":"1,738"},{"v":1480,"d":"1,480"},{"v":1706,"d":"1,706"},{"v":1673,"d":"1,673"},{"v":1611,"d":"1,611"},{"v":1629,"d":"1,629"},{"v":1335,"d":"1,335"},{"v":1289,"d":"1,289"},{"v":1068,"d":"1,068"},980,858,610,407,293,280]
["130704","LA LIBERTAD","LA LIBERTAD","PACASMAYO","PACASMAYO",{"v":31856,"d":"31,856"},{"v":15981,"d":"15,981"},183,159,187,247,192,226,267,256,293,277,236,229,244,256,261,220,244,259,226,203,913,957,{"v":1118,"d":"1,118"},{"v":1246,"d":"1,246"},{"v":1241,"d":"1,241"},{"v":1143,"d":"1,143"},957,939,843,657,564,372,177,189,12,87,96,194,{"v":15875,"d":"15,875"},166,149,185,203,201,237,246,231,231,207,216,215,229,241,235,225,231,263,223,221,979,{"v":1168,"d":"1,168"},{"v":1223,"d":"1,223"},{"v":1216,"d":"1,216"},{"v":1162,"d":"1,162"},{"v":1053,"d":"1,053"},903,899,780,699,544,365,241,288,9,71,95,176,660,null,null,{"v":2752,"d":"2,752"},{"v":1484,"d":"1,484"},{"v":2299,"d":"2,299"},{"v":6644,"d":"6,644"},{"v":2802,"d":"2,802"},{"v":2487,"d":"2,487"},{"v":1424,"d":"1,424"},{"v":2591,"d":"2,591"},{"v":6456,"d":"6,456"},{"v":2917,"d":"2,917"},968,{"v":1319,"d":"1,319"},{"v":1226,"d":"1,226"},{"v":1152,"d":"1,152"},913,957,{"v":1118,"d":"1,118"},{"v":1246,"d":"1,246"},{"v":1241,"d":"1,241"},{"v":1143,"d":"1,143"},957,939,843,657,564,372,177,189,904,{"v":1152,"d":"1,152"},{"v":1136,"d":"1,136"},{"v":1163,"d":"1,163"},979,{"v":1168,"d":"1,168"},{"v":1223,"d":"1,223"},{"v":1216,"d":"1,216"},{"v":1162,"d":"1,162"},{"v":1053,"d":"1,053"},903,899,780,699,544,365,241,288]
["130810","LA LIBERTAD","LA LIBERTAD","PATAZ","PIAS",{"v":1876,"d":"1,876"},902,6,11,20,21,17,16,12,16,12,16,15,14,15,15,9,14,9,15,11,18,42,64,68,73,72,60,59,53,36,32,24,17,7,13,0,4,2,6,974,12,11,14,18,17,22,11,16,12,16,16,16,17,17,10,17,17,19,17,10,60,69,73,76,71,52,38,48,43,36,28,34,20,21,0,9,3,13,41,null,null,176,77,135,385,129,181,97,156,358,182,75,72,68,67,42,64,68,73,72,60,59,53,36,32,24,17,7,13,72,77,76,80,60,69,73,76,71,52,38,48,43,36,28,34,20,21]
["130811","LA LIBERTAD","LA LIBERTAD","PATAZ","SANTIAGO DE CHALLAS",{"v":2147,"d":"2,147"},{"v":1072,"d":"1,072"},16,17,26,23,12,21,19,16,11,17,19,17,11,14,18,21,26,22,27,29,65,77,46,54,61,56,70,63,41,51,41,25,27,13,0,6,10,17,{"v":1075,"d":"1,075"},15,13,20,15,23,18,16,12,22,21,24,22,15,19,21,21,22,18,19,21,79,80,61,52,52,60,64,55,38,31,33,34,23,36,3,9,6,16,66,null,null,214,112,198,350,198,221,116,199,344,195,94,84,79,125,65,77,46,54,61,56,70,63,41,51,41,25,27,13,86,89,101,101,79,80,61,52,52,60,64,55,38,31,33,34,23,36]
["130908","LA LIBERTAD","LA LIBERTAD","SANCHEZ CARRION","SARTIMBAMBA",{"v":17379,"d":"17,379"},{"v":8517,"d":"8,517"},157,165,170,177,171,189,201,195,200,155,147,180,194,162,205,184,201,197,170,157,685,601,563,542,438,459,333,402,283,199,154,117,88,76,11,77,80,166,{"v":8862,"d":"8,862"},154,180,181,143,158,165,198,225,185,154,153,191,206,172,209,205,225,197,201,181,826,718,616,474,463,414,351,326,259,187,215,140,89,101,8,78,76,163,904,null,null,{"v":2107,"d":"2,107"},{"v":1143,"d":"1,143"},{"v":1613,"d":"1,613"},{"v":2737,"d":"2,737"},917,{"v":2087,"d":"2,087"},{"v":1214,"d":"1,214"},{"v":1926,"d":"1,926"},{"v":2644,"d":"2,644"},991,840,940,888,909,685,601,563,542,438,459,333,402,283,199,154,117,88,76,816,927,931,{"v":1009,"d":"1,009"},826,718,616,474,463,414,351,326,259,187,215,140,89,101]
["131003","LA LIBERTAD","LA LIBERTAD","SANTIAGO DE CHUCO","CACHICADAN",{"v":5169,"d":"5,169"},{"v":2540,"d":"2,540"},38,44,50,56,51,41,48,41,44,40,36,31,34,41,37,46,40,41,48,32,162,193,159,195,188,148,146,119,101,86,72,50,40,42,3,19,19,40,{"v":2629,"d":"2,629"},40,43,46,51,37,52,36,44,28,37,42,38,42,50,43,42,49,44,44,37,184,211,194,194,179,143,118,126,97,99,74,63,48,54,1,13,27,42,102,null,null,520,239,435,955,391,494,270,476,954,435,239,214,179,207,162,193,159,195,188,148,146,119,101,86,72,50,40,42,217,197,215,216,184,211,194,194,179,143,118,126,97,99,74,63,48,54]
["131101","LA LIBERTAD","LA LIBERTAD","GRAN CHIMU","CASCAS",{"v":14209,"d":"14,209"},{"v":6828,"d":"6,828"},67,84,95,81,94,90,87,116,107,81,86,78,94,92,105,112,98,102,90,99,417,449,507,545,483,532,377,369,372,333,212,165,110,99,6,32,35,71,{"v":7381,"d":"7,381"},80,70,99,102,90,87,120,122,114,100,101,95,114,111,122,134,112,96,140,107,562,605,553,536,499,458,373,378,345,285,224,156,137,154,5,38,42,85,418,null,null,{"v":1066,"d":"1,066"},603,{"v":1055,"d":"1,055"},{"v":2813,"d":"2,813"},{"v":1291,"d":"1,291"},{"v":1180,"d":"1,180"},689,{"v":1414,"d":"1,414"},{"v":2797,"d":"2,797"},{"v":1301,"d":"1,301"},421,481,455,501,417,449,507,545,483,532,377,369,372,333,212,165,110,99,441,543,543,589,562,605,553,536,499,458,373,378,345,285,224,156,137,154]
["140105","LAMBAYEQUE","LAMBAYEQUE","CHICLAYO","JOSE LEONARDO ORTIZ",{"v":167691,"d":"167,691"},{"v":80859,"d":"80,859"},{"v":1142,"d":"1,142"},{"v":1235,"d":"1,235"},{"v":1258,"d":"1,258"},{"v":1453,"d":"1,453"},{"v":1499,"d":"1,499"},{"v":1590,"d":"1,590"},{"v":1444,"d":"1,444"},{"v":1561,"d":"1,561"},{"v":1454,"d":"1,454"},{"v":1347,"d":"1,347"},{"v":1366,"d":"1,366"},{"v":1331,"d":"1,331"},{"v":1288,"d":"1,288"},{"v":1277,"d":"1,277"},{"v":1462,"d":"1,462"},{"v":1418,"d":"1,418"},{"v":1441,"d":"1,441"},{"v":1382,"d":"1,382"},{"v":1357,"d":"1,357"},{"v":1228,"d":"1,228"},{"v":5736,"d":"5,736"},{"v":6270,"d":"6,270"},{"v":6581,"d":"6,581"},{"v":6904,"d":"6,904"},{"v":5755,"d":"5,755"},{"v":5003,"d":"5,003"},{"v":3990,"d":"3,990"},{"v":3711,"d":"3,711"},{"v":2957,"d":"2,957"},{"v":2168,"d":"2,168"},{"v":1805,"d":"1,805"},{"v":1213,"d":"1,213"},639,594,80,540,602,{"v":1211,"d":"1,211"},{"v":86832,"d":"86,832"},{"v":1136,"d":"1,136"},{"v":1110,"d":"1,110"},{"v":1315,"d":"1,315"},{"v":1408,"d":"1,408"},{"v":1379,"d":"1,379"},{"v":1536,"d":"1,536"},{"v":1444,"d":"1,444"},{"v":1472,"d":"1,472"},{"v":1453,"d":"1,453"},{"v":1383,"d":"1,383"},{"v":1392,"d":"1,392"},{"v":1384,"d":"1,384"},{"v":1339,"d":"1,339"},{"v":1328,"d":"1,328"},{"v":1409,"d":"1,409"},{"v":1447,"d":"1,447"},{"v":1509,"d":"1,509"},{"v":1436,"d":"1,436"},{"v":1360,"d":"1,360"},{"v":1291,"d":"1,291"},{"v":6346,"d":"6,346"},{"v":7446,"d":"7,446"},{"v":6931,"d":"6,931"},{"v":6629,"d":"6,629"},{"v":5942,"d":"5,942"},{"v":5323,"d":"5,323"},{"v":4741,"d":"4,741"},{"v":4046,"d":"4,046"},{"v":3431,"d":"3,431"},{"v":2781,"d":"2,781"},{"v":2253,"d":"2,253"},{"v":1500,"d":"1,500"},956,976,72,525,611,{"v":1204,"d":"1,204"},{"v":4138,"d":"4,138"},null,null,{"v":16680,"d":"16,680"},{"v":8268,"d":"8,268"},{"v":14591,"d":"14,591"},{"v":31944,"d":"31,944"},{"v":9376,"d":"9,376"},{"v":16412,"d":"16,412"},{"v":8468,"d":"8,468"},{"v":16443,"d":"16,443"},{"v":33612,"d":"33,612"},{"v":11897,"d":"11,897"},{"v":6587,"d":"6,587"},{"v":7396,"d":"7,396"},{"v":6724,"d":"6,724"},{"v":6826,"d":"6,826"},{"v":5736,"d":"5,736"},{"v":6270,"d":"6,270"},{"v":6581,"d":"6,581"},{"v":6904,"d":"6,904"},{"v":5755,"d":"5,755"},{"v":5003,"d":"5,003"},{"v":3990,"d":"3,990"},{"v":3711,"d":"3,711"},{"v":2957,"d":"2,957"},{"v":2168,"d":"2,168"},{"v":1805,"d":"1,805"},{"v":1213,"d":"1,213"},639,594,{"v":6348,"d":"6,348"},{"v":7288,"d":"7,288"},{"v":6852,"d":"6,852"},{"v":7043,"d":"7,043"},{"v":6346,"d":"6,346"},{"v":7446,"d":"7,446"},{"v":6931,"d":"6,931"},{"v":6629,"d":"6,629"},{"v":5942,"d":"5,942"},{"v":5323,"d":"5,323"},{"v":4741,"d":"4,741"},{"v":4046,"d":"4,046"},{"v":3431,"d":"3,431"},{"v":2781,"d":"2,781"},{"v":2253,"d":"2,253"},{"v":1500,"d":"1,500"},956,976]
["140112","LAMBAYEQUE","LAMBAYEQUE","CHICLAYO","PIMENTEL",{"v":53686,"d":"53,686"},{"v":26533,"d":"26,533"},255,252,290,299,299,314,425,497,442,485,468,454,489,408,477,527,484,412,468,467,{"v":1858,"d":"1,858"},{"v":2091,"d":"2,091"},{"v":1966,"d":"1,966"},{"v":2046,"d":"2,046"},{"v":1752,"d":"1,752"},{"v":1613,"d":"1,613"},{"v":1555,"d":"1,555"},{"v":1467,"d":"1,467"},{"v":1297,"d":"1,297"},894,740,463,300,279,19,127,128,270,{"v":27153,"d":"27,153"},245,258,286,306,293,317,412,418,406,437,439,434,467,391,423,433,464,469,441,424,{"v":1870,"d":"1,870"},{"v":2123,"d":"2,123"},{"v":2214,"d":"2,214"},{"v":2052,"d":"2,052"},{"v":1882,"d":"1,882"},{"v":1756,"d":"1,756"},{"v":1604,"d":"1,604"},{"v":1578,"d":"1,578"},{"v":1283,"d":"1,283"},978,779,561,356,354,19,130,115,260,610,null,null,{"v":4480,"d":"4,480"},{"v":2797,"d":"2,797"},{"v":4884,"d":"4,884"},{"v":10399,"d":"10,399"},{"v":3973,"d":"3,973"},{"v":4251,"d":"4,251"},{"v":2647,"d":"2,647"},{"v":4858,"d":"4,858"},{"v":11086,"d":"11,086"},{"v":4311,"d":"4,311"},{"v":1395,"d":"1,395"},{"v":2163,"d":"2,163"},{"v":2296,"d":"2,296"},{"v":2358,"d":"2,358"},{"v":1858,"d":"1,858"},{"v":2091,"d":"2,091"},{"v":1966,"d":"1,966"},{"v":2046,"d":"2,046"},{"v":1752,"d":"1,752"},{"v":1613,"d":"1,613"},{"v":1555,"d":"1,555"},{"v":1467,"d":"1,467"},{"v":1297,"d":"1,297"},894,740,463,300,279,{"v":1388,"d":"1,388"},{"v":1990,"d":"1,990"},{"v":2154,"d":"2,154"},{"v":2231,"d":"2,231"},{"v":1870,"d":"1,870"},{"v":2123,"d":"2,123"},{"v":2214,"d":"2,214"},{"v":2052,"d":"2,052"},{"v":1882,"d":"1,882"},{"v":1756,"d":"1,756"},{"v":1604,"d":"1,604"},{"v":1578,"d":"1,578"},{"v":1283,"d":"1,283"},978,779,561,356,354]
["140113","LAMBAYEQUE","LAMBAYEQUE","CHICLAYO","REQUE",{"v":18382,"d":"18,382"},{"v":8923,"d":"8,923"},113,111,117,149,173,177,132,122,136,130,116,121,123,119,132,128,144,138,168,130,624,673,703,662,587,550,489,488,452,332,247,176,123,138,10,52,61,120,{"v":9459,"d":"9,459"},120,120,142,146,155,153,133,134,137,139,117,124,126,122,125,142,126,153,146,150,667,738,701,670,652,588,591,521,446,357,292,209,142,175,8,54,66,127,432,null,null,{"v":1597,"d":"1,597"},784,{"v":1595,"d":"1,595"},{"v":3479,"d":"3,479"},{"v":1468,"d":"1,468"},{"v":1620,"d":"1,620"},794,{"v":1701,"d":"1,701"},{"v":3723,"d":"3,723"},{"v":1621,"d":"1,621"},663,697,611,708,624,673,703,662,587,550,489,488,452,332,247,176,123,138,683,696,614,717,667,738,701,670,652,588,591,521,446,357,292,209,142,175]
["140205","LAMBAYEQUE","LAMBAYEQUE","FERREÑAFE","PITIPO",{"v":21868,"d":"21,868"},{"v":10556,"d":"10,556"},154,172,205,236,237,237,153,180,188,155,160,157,176,170,169,179,209,208,189,200,683,730,643,742,644,600,575,586,471,373,274,232,126,143,14,74,80,163,{"v":11312,"d":"11,312"},164,154,196,223,230,187,184,186,182,163,177,178,199,192,175,216,237,218,221,192,798,849,799,791,719,631,636,548,424,374,353,212,136,168,9,74,90,174,897,null,null,{"v":2234,"d":"2,234"},{"v":1111,"d":"1,111"},{"v":1802,"d":"1,802"},{"v":3790,"d":"3,790"},{"v":1619,"d":"1,619"},{"v":2224,"d":"2,224"},{"v":1237,"d":"1,237"},{"v":2060,"d":"2,060"},{"v":4124,"d":"4,124"},{"v":1667,"d":"1,667"},{"v":1004,"d":"1,004"},913,832,985,683,730,643,742,644,600,575,586,471,373,274,232,126,143,967,902,921,{"v":1084,"d":"1,084"},798,849,799,791,719,631,636,548,424,374,353,212,136,168]
["140306","LAMBAYEQUE","LAMBAYEQUE","LAMBAYEQUE","MORROPE",{"v":56212,"d":"56,212"},{"v":27382,"d":"27,382"},692,663,757,838,988,711,648,619,596,578,574,601,580,503,566,565,487,567,502,476,{"v":1932,"d":"1,932"},{"v":1922,"d":"1,922"},{"v":1839,"d":"1,839"},{"v":1750,"d":"1,750"},{"v":1462,"d":"1,462"},{"v":1300,"d":"1,300"},{"v":1026,"d":"1,026"},967,837,596,497,328,208,207,45,332,360,734,{"v":28830,"d":"28,830"},613,659,733,801,885,774,636,613,535,555,557,596,574,497,519,572,528,569,525,498,{"v":2282,"d":"2,282"},{"v":2270,"d":"2,270"},{"v":2128,"d":"2,128"},{"v":1714,"d":"1,714"},{"v":1639,"d":"1,639"},{"v":1481,"d":"1,481"},{"v":1111,"d":"1,111"},980,854,707,519,394,265,247,43,295,318,650,{"v":2040,"d":"2,040"},null,null,{"v":8265,"d":"8,265"},{"v":3268,"d":"3,268"},{"v":4832,"d":"4,832"},{"v":8344,"d":"8,344"},{"v":2673,"d":"2,673"},{"v":7957,"d":"7,957"},{"v":3259,"d":"3,259"},{"v":5575,"d":"5,575"},{"v":9053,"d":"9,053"},{"v":2986,"d":"2,986"},{"v":3938,"d":"3,938"},{"v":3152,"d":"3,152"},{"v":2824,"d":"2,824"},{"v":2597,"d":"2,597"},{"v":1932,"d":"1,932"},{"v":1922,"d":"1,922"},{"v":1839,"d":"1,839"},{"v":1750,"d":"1,750"},{"v":1462,"d":"1,462"},{"v":1300,"d":"1,300"},{"v":1026,"d":"1,026"},967,837,596,497,328,208,207,{"v":3691,"d":"3,691"},{"v":3113,"d":"3,113"},{"v":2743,"d":"2,743"},{"v":2692,"d":"2,692"},{"v":2282,"d":"2,282"},{"v":2270,"d":"2,270"},{"v":2128,"d":"2,128"},{"v":1714,"d":"1,714"},{"v":1639,"d":"1,639"},{"v":1481,"d":"1,481"},{"v":1111,"d":"1,111"},980,854,707,519,394,265,247]
["140310","LAMBAYEQUE","LAMBAYEQUE","LAMBAYEQUE","SALAS",{"v":16825,"d":"16,825"},{"v":7929,"d":"7,929"},105,117,110,127,159,158,135,148,166,142,165,151,156,163,163,153,147,153,146,114,550,557,518,559,464,421,370,339,330,258,234,175,137,139,6,50,55,111,{"v":8896,"d":"8,896"},95,96,105,138,149,109,154,156,190,168,173,162,167,175,164,221,161,198,176,129,674,736,604,589,499,460,412,382,357,294,239,219,162,183,4,50,45,101,352,null,null,{"v":1683,"d":"1,683"},935,{"v":1367,"d":"1,367"},{"v":2671,"d":"2,671"},{"v":1273,"d":"1,273"},{"v":1695,"d":"1,695"},{"v":1086,"d":"1,086"},{"v":1715,"d":"1,715"},{"v":2946,"d":"2,946"},{"v":1454,"d":"1,454"},618,749,798,713,550,557,518,559,464,421,370,339,330,258,234,175,137,139,583,777,841,885,674,736,604,589,499,460,412,382,357,294,239,219,162,183]
["150105","DIRIS CENTRO","LIMA","LIMA","BREÑA",{"v":105759,"d":"105,759"},{"v":51633,"d":"51,633"},433,517,474,579,522,667,547,530,524,459,503,495,473,513,514,606,574,557,617,594,{"v":2797,"d":"2,797"},{"v":3059,"d":"3,059"},{"v":3315,"d":"3,315"},{"v":3434,"d":"3,434"},{"v":3759,"d":"3,759"},{"v":3801,"d":"3,801"},{"v":3712,"d":"3,712"},{"v":3782,"d":"3,782"},{"v":3621,"d":"3,621"},{"v":2966,"d":"2,966"},{"v":2439,"d":"2,439"},{"v":1930,"d":"1,930"},{"v":1162,"d":"1,162"},{"v":1158,"d":"1,158"},28,200,233,459,{"v":54126,"d":"54,126"},429,433,469,564,522,666,493,483,486,398,450,457,437,473,435,513,530,526,508,549,{"v":2857,"d":"2,857"},{"v":3589,"d":"3,589"},{"v":3689,"d":"3,689"},{"v":3352,"d":"3,352"},{"v":3933,"d":"3,933"},{"v":3876,"d":"3,876"},{"v":3934,"d":"3,934"},{"v":3945,"d":"3,945"},{"v":3796,"d":"3,796"},{"v":3218,"d":"3,218"},{"v":2805,"d":"2,805"},{"v":2054,"d":"2,054"},{"v":1469,"d":"1,469"},{"v":1788,"d":"1,788"},24,197,232,455,{"v":1759,"d":"1,759"},null,null,{"v":6250,"d":"6,250"},{"v":3237,"d":"3,237"},{"v":7067,"d":"7,067"},{"v":21803,"d":"21,803"},{"v":13276,"d":"13,276"},{"v":5850,"d":"5,850"},{"v":2914,"d":"2,914"},{"v":7503,"d":"7,503"},{"v":22729,"d":"22,729"},{"v":15130,"d":"15,130"},{"v":2525,"d":"2,525"},{"v":2727,"d":"2,727"},{"v":2498,"d":"2,498"},{"v":2948,"d":"2,948"},{"v":2797,"d":"2,797"},{"v":3059,"d":"3,059"},{"v":3315,"d":"3,315"},{"v":3434,"d":"3,434"},{"v":3759,"d":"3,759"},{"v":3801,"d":"3,801"},{"v":3712,"d":"3,712"},{"v":3782,"d":"3,782"},{"v":3621,"d":"3,621"},{"v":2966,"d":"2,966"},{"v":2439,"d":"2,439"},{"v":1930,"d":"1,930"},{"v":1162,"d":"1,162"},{"v":1158,"d":"1,158"},{"v":2417,"d":"2,417"},{"v":2526,"d":"2,526"},{"v":2252,"d":"2,252"},{"v":2626,"d":"2,626"},{"v":2857,"d":"2,857"},{"v":3589,"d":"3,589"},{"v":3689,"d":"3,689"},{"v":3352,"d":"3,352"},{"v":3933,"d":"3,933"},{"v":3876,"d":"3,876"},{"v":3934,"d":"3,934"},{"v":3945,"d":"3,945"},{"v":3796,"d":"3,796"},{"v":3218,"d":"3,218"},{"v":2805,"d":"2,805"},{"v":2054,"d":"2,054"},{"v":1469,"d":"1,469"},{"v":1788,"d":"1,788"}]
["150113","DIRIS CENTRO","LIMA","LIMA","JESUS MARIA",{"v":100172,"d":"100,172"},{"v":50020,"d":"50,020"},512,568,594,544,467,633,533,535,534,413,500,465,492,508,542,529,527,495,539,527,{"v":2489,"d":"2,489"},{"v":2605,"d":"2,605"},{"v":3177,"d":"3,177"},{"v":3402,"d":"3,402"},{"v":3882,"d":"3,882"},{"v":3836,"d":"3,836"},{"v":3440,"d":"3,440"},{"v":3292,"d":"3,292"},{"v":3220,"d":"3,220"},{"v":2880,"d":"2,880"},{"v":2629,"d":"2,629"},{"v":2097,"d":"2,097"},{"v":1322,"d":"1,322"},{"v":1292,"d":"1,292"},41,240,272,543,{"v":50152,"d":"50,152"},535,533,613,549,475,563,393,416,381,325,366,351,371,383,373,410,409,392,409,426,{"v":2158,"d":"2,158"},{"v":2801,"d":"2,801"},{"v":3399,"d":"3,399"},{"v":3300,"d":"3,300"},{"v":3905,"d":"3,905"},{"v":3777,"d":"3,777"},{"v":3531,"d":"3,531"},{"v":3444,"d":"3,444"},{"v":3337,"d":"3,337"},{"v":3192,"d":"3,192"},{"v":3005,"d":"3,005"},{"v":2189,"d":"2,189"},{"v":1569,"d":"1,569"},{"v":1872,"d":"1,872"},42,252,283,567,{"v":1929,"d":"1,929"},null,null,{"v":6298,"d":"6,298"},{"v":3093,"d":"3,093"},{"v":6160,"d":"6,160"},{"v":21029,"d":"21,029"},{"v":13440,"d":"13,440"},{"v":5500,"d":"5,500"},{"v":2338,"d":"2,338"},{"v":5794,"d":"5,794"},{"v":21356,"d":"21,356"},{"v":15164,"d":"15,164"},{"v":2685,"d":"2,685"},{"v":2648,"d":"2,648"},{"v":2507,"d":"2,507"},{"v":2617,"d":"2,617"},{"v":2489,"d":"2,489"},{"v":2605,"d":"2,605"},{"v":3177,"d":"3,177"},{"v":3402,"d":"3,402"},{"v":3882,"d":"3,882"},{"v":3836,"d":"3,836"},{"v":3440,"d":"3,440"},{"v":3292,"d":"3,292"},{"v":3220,"d":"3,220"},{"v":2880,"d":"2,880"},{"v":2629,"d":"2,629"},{"v":2097,"d":"2,097"},{"v":1322,"d":"1,322"},{"v":1292,"d":"1,292"},{"v":2705,"d":"2,705"},{"v":2078,"d":"2,078"},{"v":1844,"d":"1,844"},{"v":2046,"d":"2,046"},{"v":2158,"d":"2,158"},{"v":2801,"d":"2,801"},{"v":3399,"d":"3,399"},{"v":3300,"d":"3,300"},{"v":3905,"d":"3,905"},{"v":3777,"d":"3,777"},{"v":3531,"d":"3,531"},{"v":3444,"d":"3,444"},{"v":3337,"d":"3,337"},{"v":3192,"d":"3,192"},{"v":3005,"d":"3,005"},{"v":2189,"d":"2,189"},{"v":1569,"d":"1,569"},{"v":1872,"d":"1,872"}]
["150118","DIRIS ESTE","LIMA","LIMA","LURIGANCHO",{"v":314899,"d":"314,899"},{"v":150550,"d":"150,550"},{"v":1287,"d":"1,287"},{"v":1357,"d":"1,357"},{"v":1685,"d":"1,685"},{"v":1986,"d":"1,986"},{"v":1693,"d":"1,693"},{"v":1672,"d":"1,672"},{"v":2444,"d":"2,444"},{"v":2290,"d":"2,290"},{"v":2379,"d":"2,379"},{"v":2132,"d":"2,132"},{"v":2060,"d":"2,060"},{"v":2006,"d":"2,006"},{"v":1922,"d":"1,922"},{"v":2109,"d":"2,109"},{"v":2213,"d":"2,213"},{"v":2303,"d":"2,303"},{"v":2374,"d":"2,374"},{"v":2354,"d":"2,354"},{"v":2425,"d":"2,425"},{"v":2375,"d":"2,375"},{"v":11177,"d":"11,177"},{"v":12464,"d":"12,464"},{"v":12631,"d":"12,631"},{"v":12123,"d":"12,123"},{"v":11471,"d":"11,471"},{"v":10488,"d":"10,488"},{"v":8936,"d":"8,936"},{"v":8492,"d":"8,492"},{"v":6940,"d":"6,940"},{"v":5008,"d":"5,008"},{"v":3796,"d":"3,796"},{"v":2781,"d":"2,781"},{"v":1631,"d":"1,631"},{"v":1546,"d":"1,546"},65,559,728,{"v":1364,"d":"1,364"},{"v":164349,"d":"164,349"},{"v":1234,"d":"1,234"},{"v":1438,"d":"1,438"},{"v":1622,"d":"1,622"},{"v":1822,"d":"1,822"},{"v":1651,"d":"1,651"},{"v":1540,"d":"1,540"},{"v":2389,"d":"2,389"},{"v":2418,"d":"2,418"},{"v":2383,"d":"2,383"},{"v":2356,"d":"2,356"},{"v":2098,"d":"2,098"},{"v":2105,"d":"2,105"},{"v":2017,"d":"2,017"},{"v":2214,"d":"2,214"},{"v":2119,"d":"2,119"},{"v":2424,"d":"2,424"},{"v":2571,"d":"2,571"},{"v":2475,"d":"2,475"},{"v":2609,"d":"2,609"},{"v":2505,"d":"2,505"},{"v":12217,"d":"12,217"},{"v":15259,"d":"15,259"},{"v":13724,"d":"13,724"},{"v":12177,"d":"12,177"},{"v":12227,"d":"12,227"},{"v":11819,"d":"11,819"},{"v":10714,"d":"10,714"},{"v":9023,"d":"9,023"},{"v":7393,"d":"7,393"},{"v":5816,"d":"5,816"},{"v":4812,"d":"4,812"},{"v":3170,"d":"3,170"},{"v":2034,"d":"2,034"},{"v":1974,"d":"1,974"},63,549,685,{"v":1308,"d":"1,308"},{"v":4868,"d":"4,868"},null,null,{"v":22991,"d":"22,991"},{"v":13275,"d":"13,275"},{"v":28441,"d":"28,441"},{"v":64141,"d":"64,141"},{"v":21702,"d":"21,702"},{"v":23056,"d":"23,056"},{"v":13820,"d":"13,820"},{"v":32590,"d":"32,590"},{"v":69684,"d":"69,684"},{"v":25199,"d":"25,199"},{"v":8008,"d":"8,008"},{"v":10917,"d":"10,917"},{"v":10310,"d":"10,310"},{"v":11831,"d":"11,831"},{"v":11177,"d":"11,177"},{"v":12464,"d":"12,464"},{"v":12631,"d":"12,631"},{"v":12123,"d":"12,123"},{"v":11471,"d":"11,471"},{"v":10488,"d":"10,488"},{"v":8936,"d":"8,936"},{"v":8492,"d":"8,492"},{"v":6940,"d":"6,940"},{"v":5008,"d":"5,008"},{"v":3796,"d":"3,796"},{"v":2781,"d":"2,781"},{"v":1631,"d":"1,631"},{"v":1546,"d":"1,546"},{"v":7767,"d":"7,767"},{"v":11086,"d":"11,086"},{"v":10553,"d":"10,553"},{"v":12584,"d":"12,584"},{"v":12217,"d":"12,217"},{"v":15259,"d":"15,259"},{"v":13724,"d":"13,724"},{"v":12177,"d":"12,177"},{"v":12227,"d":"12,227"},{"v":11819,"d":"11,819"},{"v":10714,"d":"10,714"},{"v":9023,"d":"9,023"},{"v":7393,"d":"7,393"},{"v":5816,"d":"5,816"},{"v":4812,"d":"4,812"},{"v":3170,"d":"3,170"},{"v":2034,"d":"2,034"},{"v":1974,"d":"1,974"}]
["150125","DIRIS NORTE","LIMA","LIMA","PUENTE PIEDRA",{"v":424136,"d":"424,136"},{"v":203575,"d":"203,575"},{"v":1992,"d":"1,992"},{"v":2163,"d":"2,163"},{"v":2512,"d":"2,512"},{"v":2934,"d":"2,934"},{"v":2420,"d":"2,420"},{"v":2688,"d":"2,688"},{"v":3726,"d":"3,726"},{"v":3689,"d":"3,689"},{"v":3557,"d":"3,557"},{"v":3054,"d":"3,054"},{"v":3082,"d":"3,082"},{"v":3107,"d":"3,107"},{"v":2909,"d":"2,909"},{"v":2944,"d":"2,944"},{"v":3295,"d":"3,295"},{"v":3297,"d":"3,297"},{"v":3457,"d":"3,457"},{"v":3272,"d":"3,272"},{"v":3386,"d":"3,386"},{"v":3206,"d":"3,206"},{"v":16301,"d":"16,301"},{"v":17793,"d":"17,793"},{"v":18118,"d":"18,118"},{"v":17071,"d":"17,071"},{"v":15162,"d":"15,162"},{"v":13776,"d":"13,776"},{"v":11244,"d":"11,244"},{"v":10144,"d":"10,144"},{"v":8374,"d":"8,374"},{"v":5658,"d":"5,658"},{"v":4040,"d":"4,040"},{"v":2605,"d":"2,605"},{"v":1494,"d":"1,494"},{"v":1105,"d":"1,105"},151,990,{"v":1002,"d":"1,002"},{"v":2112,"d":"2,112"},{"v":220561,"d":"220,561"},{"v":2010,"d":"2,010"},{"v":2088,"d":"2,088"},{"v":2439,"d":"2,439"},{"v":2796,"d":"2,796"},{"v":2335,"d":"2,335"},{"v":2498,"d":"2,498"},{"v":3671,"d":"3,671"},{"v":3612,"d":"3,612"},{"v":3603,"d":"3,603"},{"v":3215,"d":"3,215"},{"v":3068,"d":"3,068"},{"v":3188,"d":"3,188"},{"v":2984,"d":"2,984"},{"v":3022,"d":"3,022"},{"v":3082,"d":"3,082"},{"v":3422,"d":"3,422"},{"v":3759,"d":"3,759"},{"v":3459,"d":"3,459"},{"v":3441,"d":"3,441"},{"v":3376,"d":"3,376"},{"v":17836,"d":"17,836"},{"v":22201,"d":"22,201"},{"v":20244,"d":"20,244"},{"v":17743,"d":"17,743"},{"v":16773,"d":"16,773"},{"v":14877,"d":"14,877"},{"v":13660,"d":"13,660"},{"v":11189,"d":"11,189"},{"v":8830,"d":"8,830"},{"v":6095,"d":"6,095"},{"v":4374,"d":"4,374"},{"v":2540,"d":"2,540"},{"v":1659,"d":"1,659"},{"v":1472,"d":"1,472"},150,988,{"v":1022,"d":"1,022"},{"v":2131,"d":"2,131"},{"v":5631,"d":"5,631"},null,null,{"v":34924,"d":"34,924"},{"v":19174,"d":"19,174"},{"v":40686,"d":"40,686"},{"v":85515,"d":"85,515"},{"v":23276,"d":"23,276"},{"v":34523,"d":"34,523"},{"v":19728,"d":"19,728"},{"v":46854,"d":"46,854"},{"v":94486,"d":"94,486"},{"v":24970,"d":"24,970"},{"v":12021,"d":"12,021"},{"v":16714,"d":"16,714"},{"v":15337,"d":"15,337"},{"v":16618,"d":"16,618"},{"v":16301,"d":"16,301"},{"v":17793,"d":"17,793"},{"v":18118,"d":"18,118"},{"v":17071,"d":"17,071"},{"v":15162,"d":"15,162"},{"v":13776,"d":"13,776"},{"v":11244,"d":"11,244"},{"v":10144,"d":"10,144"},{"v":8374,"d":"8,374"},{"v":5658,"d":"5,658"},{"v":4040,"d":"4,040"},{"v":2605,"d":"2,605"},{"v":1494,"d":"1,494"},{"v":1105,"d":"1,105"},{"v":11668,"d":"11,668"},{"v":16599,"d":"16,599"},{"v":15344,"d":"15,344"},{"v":17457,"d":"17,457"},{"v":17836,"d":"17,836"},{"v":22201,"d":"22,201"},{"v":20244,"d":"20,244"},{"v":17743,"d":"17,743"},{"v":16773,"d":"16,773"},{"v":14877,"d":"14,877"},{"v":13660,"d":"13,660"},{"v":11189,"d":"11,189"},{"v":8830,"d":"8,830"},{"v":6095,"d":"6,095"},{"v":4374,"d":"4,374"},{"v":2540,"d":"2,540"},{"v":1659,"d":"1,659"},{"v":1472,"d":"1,472"}]
["150132","DIRIS CENTRO","LIMA","LIMA","SAN JUAN DE LURIGANCHO",{"v":1311300,"d":"1,311,300"},{"v":623135,"d":"623,135"},{"v":5693,"d":"5,693"},{"v":6142,"d":"6,142"},{"v":7196,"d":"7,196"},{"v":7843,"d":"7,843"},{"v":7452,"d":"7,452"},{"v":8630,"d":"8,630"},{"v":10005,"d":"10,005"},{"v":10220,"d":"10,220"},{"v":10070,"d":"10,070"},{"v":8677,"d":"8,677"},{"v":8939,"d":"8,939"},{"v":8587,"d":"8,587"},{"v":8890,"d":"8,890"},{"v":8641,"d":"8,641"},{"v":9543,"d":"9,543"},{"v":10077,"d":"10,077"},{"v":9732,"d":"9,732"},{"v":9620,"d":"9,620"},{"v":9436,"d":"9,436"},{"v":8978,"d":"8,978"},{"v":44912,"d":"44,912"},{"v":51197,"d":"51,197"},{"v":55464,"d":"55,464"},{"v":54703,"d":"54,703"},{"v":49780,"d":"49,780"},{"v":42976,"d":"42,976"},{"v":33815,"d":"33,815"},{"v":31045,"d":"31,045"},{"v":27150,"d":"27,150"},{"v":20586,"d":"20,586"},{"v":16088,"d":"16,088"},{"v":10823,"d":"10,823"},{"v":5897,"d":"5,897"},{"v":4328,"d":"4,328"},362,{"v":2645,"d":"2,645"},{"v":3048,"d":"3,048"},{"v":6035,"d":"6,035"},{"v":688165,"d":"688,165"},{"v":5513,"d":"5,513"},{"v":5890,"d":"5,890"},{"v":7052,"d":"7,052"},{"v":7374,"d":"7,374"},{"v":7090,"d":"7,090"},{"v":8243,"d":"8,243"},{"v":10021,"d":"10,021"},{"v":10261,"d":"10,261"},{"v":10323,"d":"10,323"},{"v":9669,"d":"9,669"},{"v":9098,"d":"9,098"},{"v":9008,"d":"9,008"},{"v":9325,"d":"9,325"},{"v":9065,"d":"9,065"},{"v":9133,"d":"9,133"},{"v":10585,"d":"10,585"},{"v":10319,"d":"10,319"},{"v":10272,"d":"10,272"},{"v":9884,"d":"9,884"},{"v":9764,"d":"9,764"},{"v":51003,"d":"51,003"},{"v":65193,"d":"65,193"},{"v":61734,"d":"61,734"},{"v":54722,"d":"54,722"},{"v":53105,"d":"53,105"},{"v":46829,"d":"46,829"},{"v":41241,"d":"41,241"},{"v":36873,"d":"36,873"},{"v":31839,"d":"31,839"},{"v":24874,"d":"24,874"},{"v":18583,"d":"18,583"},{"v":11611,"d":"11,611"},{"v":6728,"d":"6,728"},{"v":5941,"d":"5,941"},381,{"v":2547,"d":"2,547"},{"v":2966,"d":"2,966"},{"v":5844,"d":"5,844"},{"v":16712,"d":"16,712"},null,null,{"v":99454,"d":"99,454"},{"v":56503,"d":"56,503"},{"v":114523,"d":"114,523"},{"v":267783,"d":"267,783"},{"v":84872,"d":"84,872"},{"v":99542,"d":"99,542"},{"v":58699,"d":"58,699"},{"v":135844,"d":"135,844"},{"v":294504,"d":"294,504"},{"v":99576,"d":"99,576"},{"v":34326,"d":"34,326"},{"v":47602,"d":"47,602"},{"v":44600,"d":"44,600"},{"v":47843,"d":"47,843"},{"v":44912,"d":"44,912"},{"v":51197,"d":"51,197"},{"v":55464,"d":"55,464"},{"v":54703,"d":"54,703"},{"v":49780,"d":"49,780"},{"v":42976,"d":"42,976"},{"v":33815,"d":"33,815"},{"v":31045,"d":"31,045"},{"v":27150,"d":"27,150"},{"v":20586,"d":"20,586"},{"v":16088,"d":"16,088"},{"v":10823,"d":"10,823"},{"v":5897,"d":"5,897"},{"v":4328,"d":"4,328"},{"v":32919,"d":"32,919"},{"v":48517,"d":"48,517"},{"v":45629,"d":"45,629"},{"v":50824,"d":"50,824"},{"v":51003,"d":"51,003"},{"v":65193,"d":"65,193"},{"v":61734,"d":"61,734"},{"v":54722,"d":"54,722"},{"v":53105,"d":"53,105"},{"v":46829,"d":"46,829"},{"v":41241,"d":"41,241"},{"v":36873,"d":"36,873"},{"v":31839,"d":"31,839"},{"v":24874,"d":"24,874"},{"v":18583,"d":"18,583"},{"v":11611,"d":"11,611"},{"v":6728,"d":"6,728"},{"v":5941,"d":"5,941"}]
["150138","DIRIS SUR","LIMA","LIMA","SANTA MARIA DEL MAR",{"v":1862,"d":"1,862"},882,8,5,6,8,8,11,8,6,6,8,5,4,7,4,11,10,9,2,7,6,42,55,62,68,66,70,70,60,83,46,33,44,26,18,0,1,7,8,980,7,4,14,8,5,3,13,7,12,8,8,7,11,7,12,5,8,10,8,10,43,71,70,77,79,74,68,72,78,47,53,39,21,21,1,6,1,7,19,null,null,83,43,110,396,250,96,53,132,440,259,35,39,31,34,42,55,62,68,66,70,70,60,83,46,33,44,26,18,38,43,45,41,43,71,70,77,79,74,68,72,78,47,53,39,21,21]
["150139","DIRIS NORTE","LIMA","LIMA","SANTA ROSA",{"v":44978,"d":"44,978"},{"v":21986,"d":"21,986"},151,154,193,196,240,245,434,404,406,396,343,353,299,310,319,327,306,317,347,313,{"v":1454,"d":"1,454"},{"v":1512,"d":"1,512"},{"v":1967,"d":"1,967"},{"v":2060,"d":"2,060"},{"v":1876,"d":"1,876"},{"v":1602,"d":"1,602"},{"v":1307,"d":"1,307"},{"v":1045,"d":"1,045"},{"v":1091,"d":"1,091"},893,592,359,109,66,14,75,76,160,{"v":22992,"d":"22,992"},119,147,208,185,214,217,335,354,348,432,328,348,294,305,287,307,344,329,294,315,{"v":1499,"d":"1,499"},{"v":1937,"d":"1,937"},{"v":2373,"d":"2,373"},{"v":2282,"d":"2,282"},{"v":2060,"d":"2,060"},{"v":1579,"d":"1,579"},{"v":1467,"d":"1,467"},{"v":1216,"d":"1,216"},{"v":1067,"d":"1,067"},768,470,291,146,127,9,62,57,126,762,null,null,{"v":3515,"d":"3,515"},{"v":1878,"d":"1,878"},{"v":3626,"d":"3,626"},{"v":9857,"d":"9,857"},{"v":3110,"d":"3,110"},{"v":3235,"d":"3,235"},{"v":1866,"d":"1,866"},{"v":4045,"d":"4,045"},{"v":10977,"d":"10,977"},{"v":2869,"d":"2,869"},934,{"v":1885,"d":"1,885"},{"v":1624,"d":"1,624"},{"v":1610,"d":"1,610"},{"v":1454,"d":"1,454"},{"v":1512,"d":"1,512"},{"v":1967,"d":"1,967"},{"v":2060,"d":"2,060"},{"v":1876,"d":"1,876"},{"v":1602,"d":"1,602"},{"v":1307,"d":"1,307"},{"v":1045,"d":"1,045"},{"v":1091,"d":"1,091"},893,592,359,109,66,873,{"v":1686,"d":"1,686"},{"v":1562,"d":"1,562"},{"v":1589,"d":"1,589"},{"v":1499,"d":"1,499"},{"v":1937,"d":"1,937"},{"v":2373,"d":"2,373"},{"v":2282,"d":"2,282"},{"v":2060,"d":"2,060"},{"v":1579,"d":"1,579"},{"v":1467,"d":"1,467"},{"v":1216,"d":"1,216"},{"v":1067,"d":"1,067"},768,470,291,146,127]
["150303","LIMA","LIMA","CAJATAMBO","GORGOR",{"v":1516,"d":"1,516"},692,13,12,7,12,23,10,8,9,11,6,8,12,8,10,11,13,17,14,10,9,49,36,35,28,37,47,44,36,43,31,26,19,15,23,0,6,7,14,824,6,20,14,11,15,17,7,10,10,15,9,13,9,12,11,12,21,22,19,10,68,53,48,39,41,41,57,45,34,27,40,22,23,23,0,2,4,6,60,null,null,131,73,104,227,157,147,87,150,271,169,67,44,49,63,49,36,35,28,37,47,44,36,43,31,26,19,15,23,66,59,54,84,68,53,48,39,41,41,57,45,34,27,40,22,23,23]
["150403","LIMA","LIMA","CANTA","HUAMANTANGA",{"v":1104,"d":"1,104"},539,0,5,4,6,18,15,3,0,4,4,1,1,3,6,8,4,10,5,1,0,24,23,17,30,23,20,34,44,30,59,40,37,26,34,0,0,0,0,565,4,3,2,4,17,19,20,1,3,2,1,1,3,6,5,4,4,4,7,4,22,40,42,29,25,34,29,39,35,29,28,44,27,28,1,2,2,4,6,null,null,61,36,48,168,226,77,26,73,198,191,33,26,19,20,24,23,17,30,23,20,34,44,30,59,40,37,26,34,30,45,16,23,22,40,42,29,25,34,29,39,35,29,28,44,27,28]
["150503","LIMA","LIMA","CAÑETE","CALANGO",{"v":2536,"d":"2,536"},{"v":1212,"d":"1,212"},8,12,6,10,9,14,18,13,11,10,11,17,12,5,21,19,8,14,19,14,65,66,66,85,81,95,73,83,100,80,62,49,23,33,1,5,3,8,{"v":1324,"d":"1,324"},9,16,7,12,7,6,14,12,13,13,12,18,12,6,20,13,20,9,17,16,71,90,102,92,93,107,97,73,84,87,61,39,26,50,1,4,5,10,40,null,null,139,79,164,483,347,139,80,194,564,347,45,66,66,74,65,66,66,85,81,95,73,83,100,80,62,49,23,33,51,58,68,75,71,90,102,92,93,107,97,73,84,87,61,39,26,50]
["150509","LIMA","LIMA","CAÑETE","MALA",{"v":34691,"d":"34,691"},{"v":16691,"d":"16,691"},200,183,198,235,222,236,275,273,290,254,265,261,252,237,300,281,308,270,269,268,{"v":1262,"d":"1,262"},{"v":1137,"d":"1,137"},{"v":1186,"d":"1,186"},{"v":1254,"d":"1,254"},{"v":1181,"d":"1,181"},{"v":1148,"d":"1,148"},{"v":1006,"d":"1,006"},922,771,498,451,376,224,198,17,90,110,212,{"v":18000,"d":"18,000"},182,212,212,242,200,292,270,264,224,249,258,262,253,238,275,315,304,321,271,260,{"v":1288,"d":"1,288"},{"v":1485,"d":"1,485"},{"v":1437,"d":"1,437"},{"v":1262,"d":"1,262"},{"v":1307,"d":"1,307"},{"v":1288,"d":"1,288"},{"v":1188,"d":"1,188"},931,703,631,547,353,201,275,11,81,101,193,805,null,null,{"v":2892,"d":"2,892"},{"v":1648,"d":"1,648"},{"v":2936,"d":"2,936"},{"v":6697,"d":"6,697"},{"v":2518,"d":"2,518"},{"v":2867,"d":"2,867"},{"v":1706,"d":"1,706"},{"v":3304,"d":"3,304"},{"v":7413,"d":"7,413"},{"v":2710,"d":"2,710"},{"v":1038,"d":"1,038"},{"v":1328,"d":"1,328"},{"v":1315,"d":"1,315"},{"v":1396,"d":"1,396"},{"v":1262,"d":"1,262"},{"v":1137,"d":"1,137"},{"v":1186,"d":"1,186"},{"v":1254,"d":"1,254"},{"v":1181,"d":"1,181"},{"v":1148,"d":"1,148"},{"v":1006,"d":"1,006"},922,771,498,451,376,224,198,{"v":1048,"d":"1,048"},{"v":1299,"d":"1,299"},{"v":1286,"d":"1,286"},{"v":1471,"d":"1,471"},{"v":1288,"d":"1,288"},{"v":1485,"d":"1,485"},{"v":1437,"d":"1,437"},{"v":1262,"d":"1,262"},{"v":1307,"d":"1,307"},{"v":1288,"d":"1,288"},{"v":1188,"d":"1,188"},931,703,631,547,353,201,275]
["150516","LIMA","LIMA","CAÑETE","ZUÑIGA",{"v":1290,"d":"1,290"},611,11,11,7,20,11,10,7,8,5,7,6,8,6,11,8,6,6,5,7,5,35,47,43,31,25,35,45,35,38,26,33,17,15,21,0,2,9,12,679,7,11,12,8,13,7,6,13,11,11,5,7,5,10,8,9,16,15,6,6,40,66,53,39,32,40,48,38,32,26,24,27,10,18,2,5,2,7,31,null,null,111,42,94,214,150,111,63,118,250,137,60,37,39,29,35,47,43,31,25,35,45,35,38,26,33,17,15,21,51,48,35,52,40,66,53,39,32,40,48,38,32,26,24,27,10,18]
["150606","LIMA","LIMA","HUARAL","IHUARI",{"v":2095,"d":"2,095"},972,13,2,9,8,8,9,7,9,10,10,5,11,11,8,13,7,15,9,13,10,56,57,80,71,49,68,56,67,67,50,50,44,43,27,1,7,6,14,{"v":1123,"d":"1,123"},7,4,7,16,9,7,12,8,11,11,7,14,14,11,15,17,13,13,18,12,69,70,73,66,76,72,69,88,79,51,48,36,43,57,0,3,4,7,25,null,null,101,63,136,391,281,113,83,169,444,314,40,45,48,54,56,57,80,71,49,68,56,67,67,50,50,44,43,27,43,49,61,73,69,70,73,66,76,72,69,88,79,51,48,36,43,57]
["150701","LIMA","LIMA","HUAROCHIRI","MATUCANA",{"v":3971,"d":"3,971"},{"v":1857,"d":"1,857"},21,15,24,23,28,28,18,19,14,21,14,22,21,20,25,25,29,25,20,19,102,102,117,130,122,131,148,117,119,100,85,58,44,51,0,10,11,22,{"v":2114,"d":"2,114"},24,16,26,28,28,27,24,20,14,13,15,23,22,21,22,20,37,29,22,23,115,168,160,140,141,138,160,145,126,102,79,62,58,66,3,12,12,25,79,null,null,247,145,243,765,457,258,151,328,884,493,111,100,102,118,102,102,117,130,122,131,148,117,119,100,85,58,44,51,122,98,103,131,115,168,160,140,141,138,160,145,126,102,79,62,58,66]
["150702","LIMA","LIMA","HUAROCHIRI","ANTIOQUIA",{"v":1209,"d":"1,209"},570,3,7,4,8,6,11,5,5,4,4,5,5,6,5,1,6,3,7,5,8,28,30,36,42,36,42,46,35,51,35,26,31,12,12,1,2,1,3,639,1,9,6,11,9,11,4,5,3,1,7,8,9,7,3,11,10,11,9,5,36,46,36,41,39,50,47,47,35,35,28,27,13,19,0,0,1,1,5,null,null,67,28,71,237,167,75,51,96,260,157,28,29,22,29,28,30,36,42,36,42,46,35,51,35,26,31,12,12,36,24,34,46,36,46,36,41,39,50,47,47,35,35,28,27,13,19]
["150713","LIMA","LIMA","HUAROCHIRI","MARIATANA",{"v":1367,"d":"1,367"},655,6,7,14,7,14,13,8,7,9,9,5,8,5,8,9,8,13,6,10,4,31,33,38,56,44,57,42,37,40,46,22,23,8,8,0,3,3,6,712,9,7,7,8,9,10,9,10,9,8,8,12,8,12,11,12,12,17,5,11,56,39,37,53,54,55,39,40,34,35,26,15,18,17,0,2,7,10,44,null,null,107,49,78,274,147,106,72,111,278,145,48,46,35,41,31,33,38,56,44,57,42,37,40,46,22,23,8,8,40,46,51,57,56,39,37,53,54,55,39,40,34,35,26,15,18,17]
["150719","LIMA","LIMA","HUAROCHIRI","SAN JUAN DE IRIS",609,298,1,0,3,2,0,3,0,3,0,1,1,1,1,0,1,4,1,1,4,0,12,23,30,23,30,28,24,19,23,19,14,6,6,14,0,1,0,1,311,0,1,1,0,1,1,1,1,0,4,2,2,3,0,2,4,4,1,1,2,15,31,28,30,19,20,19,20,25,15,12,22,5,19,0,0,0,0,2,null,null,15,8,39,154,82,14,14,49,136,98,6,7,4,10,12,23,30,23,30,28,24,19,23,19,14,6,6,14,3,7,9,12,15,31,28,30,19,20,19,20,25,15,12,22,5,19]
["150725","LIMA","LIMA","HUAROCHIRI","SAN PEDRO DE HUANCAYRE",198,102,2,0,1,0,2,2,0,0,0,1,1,1,1,1,1,0,1,1,1,1,3,6,5,5,4,8,6,8,7,6,6,8,5,8,0,1,1,2,96,0,0,0,1,1,0,1,2,1,1,1,1,1,1,1,1,1,1,1,1,4,7,7,5,4,3,7,6,6,8,3,8,6,5,0,0,0,0,5,null,null,10,5,11,36,40,9,6,13,32,36,5,3,5,4,3,6,5,5,4,8,6,8,7,6,6,8,5,8,2,5,5,5,4,7,7,5,4,3,7,6,6,8,3,8,6,5]
["150732","LIMA","LIMA","HUAROCHIRI","SURCO",{"v":1290,"d":"1,290"},607,7,7,8,7,8,10,5,3,3,5,3,6,4,4,3,9,7,3,6,3,25,31,39,40,56,52,55,38,48,31,35,20,15,11,0,3,4,7,683,8,8,4,17,10,10,5,9,4,9,4,9,6,5,3,5,11,4,5,11,36,53,48,50,58,48,34,47,42,41,26,23,14,16,0,1,7,8,38,null,null,72,30,65,280,160,97,34,105,285,162,37,26,20,28,25,31,39,40,56,52,55,38,48,31,35,20,15,11,47,37,27,36,36,53,48,50,58,48,34,47,42,41,26,23,14,16]
["150807","LIMA","LIMA","HUAURA","LEONCIO PRADO",{"v":2521,"d":"2,521"},{"v":1119,"d":"1,119"},14,17,13,19,20,28,9,11,11,10,8,11,11,13,14,20,14,14,18,18,87,55,83,75,75,79,62,64,63,65,38,29,20,31,2,7,7,15,{"v":1402,"d":"1,402"},12,12,10,21,13,14,19,12,17,16,12,17,17,20,21,19,25,18,22,18,120,103,95,92,82,91,88,63,78,82,44,48,37,44,1,7,5,13,57,null,null,171,86,178,438,246,175,120,263,511,333,83,69,57,84,87,55,83,75,75,79,62,64,63,65,38,29,20,31,68,78,87,102,120,103,95,92,82,91,88,63,78,82,44,48,37,44]
["150812","LIMA","LIMA","HUAURA","VEGUETA",{"v":30925,"d":"30,925"},{"v":14788,"d":"14,788"},220,246,231,256,291,311,266,266,232,194,228,228,219,219,228,259,236,216,224,212,909,{"v":1100,"d":"1,100"},{"v":1102,"d":"1,102"},{"v":1107,"d":"1,107"},998,897,797,757,640,505,437,357,195,205,24,103,117,233,{"v":16137,"d":"16,137"},195,217,242,258,306,286,238,250,250,197,214,221,212,212,202,234,214,241,227,242,{"v":1109,"d":"1,109"},{"v":1487,"d":"1,487"},{"v":1380,"d":"1,380"},{"v":1201,"d":"1,201"},{"v":1104,"d":"1,104"},{"v":1001,"d":"1,001"},915,846,693,510,424,328,220,261,16,87,108,207,835,null,null,{"v":2969,"d":"2,969"},{"v":1377,"d":"1,377"},{"v":2445,"d":"2,445"},{"v":5658,"d":"5,658"},{"v":2339,"d":"2,339"},{"v":2874,"d":"2,874"},{"v":1315,"d":"1,315"},{"v":3065,"d":"3,065"},{"v":6447,"d":"6,447"},{"v":2436,"d":"2,436"},{"v":1244,"d":"1,244"},{"v":1269,"d":"1,269"},{"v":1122,"d":"1,122"},{"v":1147,"d":"1,147"},909,{"v":1100,"d":"1,100"},{"v":1102,"d":"1,102"},{"v":1107,"d":"1,107"},998,897,797,757,640,505,437,357,195,205,{"v":1218,"d":"1,218"},{"v":1221,"d":"1,221"},{"v":1061,"d":"1,061"},{"v":1158,"d":"1,158"},{"v":1109,"d":"1,109"},{"v":1487,"d":"1,487"},{"v":1380,"d":"1,380"},{"v":1201,"d":"1,201"},{"v":1104,"d":"1,104"},{"v":1001,"d":"1,001"},915,846,693,510,424,328,220,261]
["150906","LIMA","LIMA","OYON","PACHANGARA",{"v":2621,"d":"2,621"},{"v":1241,"d":"1,241"},11,22,24,24,20,37,9,10,17,11,12,15,17,15,14,16,17,17,22,12,69,69,72,71,89,82,56,74,76,60,62,61,31,27,3,7,4,12,{"v":1380,"d":"1,380"},21,24,15,25,36,26,11,14,14,9,13,17,18,16,14,23,18,20,16,13,71,113,79,84,84,72,87,95,81,73,58,57,31,32,2,10,11,22,40,null,null,212,96,172,444,317,225,109,213,501,332,101,84,73,84,69,69,72,71,89,82,56,74,76,60,62,61,31,27,121,74,78,90,71,113,79,84,84,72,87,95,81,73,58,57,31,32]
["151003","LIMA","LIMA","YAUYOS","AYAUCA",{"v":1184,"d":"1,184"},538,8,10,7,6,8,4,6,4,5,6,5,4,5,5,4,7,8,7,8,4,28,28,39,42,42,30,47,40,30,29,20,16,12,14,0,3,5,8,646,5,4,5,10,6,9,8,4,5,2,5,4,5,5,7,6,10,6,6,10,51,52,40,52,45,40,42,46,35,35,24,25,9,28,0,2,3,5,16,null,null,73,36,68,240,121,67,39,119,265,156,39,25,23,34,28,28,39,42,42,30,47,40,30,29,20,16,12,14,30,28,26,38,51,52,40,52,45,40,42,46,35,35,24,25,9,28]
["151013","LIMA","LIMA","YAUYOS","HUAMPARA",188,82,3,0,0,1,2,1,1,0,0,0,1,0,0,0,0,1,0,1,0,0,1,4,5,6,6,4,5,8,7,5,7,3,5,5,0,2,1,3,106,1,0,0,2,2,0,1,0,0,0,1,0,0,0,0,0,0,1,0,1,4,5,6,5,4,6,7,11,6,11,7,7,5,13,0,0,1,1,7,null,null,9,2,5,34,32,7,1,10,39,49,6,2,1,2,1,4,5,6,6,4,5,8,7,5,7,3,5,5,5,1,1,2,4,5,6,5,4,6,7,11,6,11,7,7,5,13]
["151020","LIMA","LIMA","YAUYOS","MADEAN",639,297,3,3,3,8,4,11,2,1,3,3,2,3,3,3,4,3,5,4,7,4,24,14,17,22,15,19,20,27,15,15,12,8,5,5,0,3,0,3,342,6,3,2,6,4,5,3,4,5,2,3,4,4,4,5,5,9,4,6,5,25,26,22,17,22,19,19,27,20,15,13,9,6,13,0,3,3,6,13,null,null,46,22,49,120,60,47,31,62,126,76,21,20,15,23,24,14,17,22,15,19,20,27,15,15,12,8,5,5,21,19,20,29,25,26,22,17,22,19,19,27,20,15,13,9,6,13]
["151025","LIMA","LIMA","YAUYOS","QUINOCAY",647,286,2,0,4,5,4,6,0,1,2,0,1,1,2,2,0,3,3,2,2,1,13,13,11,13,17,21,22,23,31,20,16,17,14,14,0,1,1,2,361,1,1,8,2,6,4,3,3,2,4,2,3,5,5,3,4,6,6,4,3,13,14,19,21,23,17,40,24,19,28,11,17,21,19,0,0,1,1,6,null,null,26,12,29,107,112,39,29,34,144,115,15,9,6,11,13,13,11,13,17,21,22,23,31,20,16,17,14,14,18,16,18,23,13,14,19,21,23,17,40,24,19,28,11,17,21,19]
["151033","LIMA","LIMA","YAUYOS","VITIS",352,165,0,1,1,0,0,3,2,0,1,0,0,1,1,1,0,0,4,2,5,1,9,9,4,4,10,13,13,18,19,10,16,6,6,5,0,0,0,0,187,1,0,1,0,1,1,0,1,0,0,0,1,1,1,0,9,1,1,1,5,10,23,9,8,15,11,16,7,7,7,15,8,12,14,0,1,0,1,2,null,null,9,8,24,62,62,6,13,39,66,63,2,6,3,12,9,9,4,4,10,13,13,18,19,10,16,6,6,5,3,2,3,17,10,23,9,8,15,11,16,7,7,7,15,8,12,14]
["160107","LORETO","LORETO","MAYNAS","NAPO",{"v":16858,"d":"16,858"},{"v":8512,"d":"8,512"},173,163,201,253,264,240,168,167,195,194,191,190,210,213,218,204,204,205,182,200,829,552,514,497,415,411,300,249,208,176,126,115,49,36,10,78,95,183,{"v":8346,"d":"8,346"},166,167,187,204,260,223,213,201,193,237,200,201,222,224,221,244,230,202,186,203,853,525,492,468,396,339,220,193,211,166,125,87,48,39,10,81,85,176,675,null,null,{"v":2399,"d":"2,399"},{"v":1254,"d":"1,254"},{"v":1763,"d":"1,763"},{"v":2386,"d":"2,386"},710,{"v":2452,"d":"2,452"},{"v":1343,"d":"1,343"},{"v":1767,"d":"1,767"},{"v":2108,"d":"2,108"},676,{"v":1054,"d":"1,054"},964,{"v":1022,"d":"1,022"},995,829,552,514,497,415,411,300,249,208,176,126,115,49,36,984,{"v":1067,"d":"1,067"},{"v":1068,"d":"1,068"},{"v":1065,"d":"1,065"},853,525,492,468,396,339,220,193,211,166,125,87,48,39]
["160113","LORETO","LORETO","MAYNAS","SAN JUAN BAUTISTA",{"v":152694,"d":"152,694"},{"v":80455,"d":"80,455"},{"v":1238,"d":"1,238"},{"v":1308,"d":"1,308"},{"v":1446,"d":"1,446"},{"v":1276,"d":"1,276"},{"v":1686,"d":"1,686"},{"v":1528,"d":"1,528"},{"v":1823,"d":"1,823"},{"v":1809,"d":"1,809"},{"v":1951,"d":"1,951"},{"v":1799,"d":"1,799"},{"v":1777,"d":"1,777"},{"v":1715,"d":"1,715"},{"v":1756,"d":"1,756"},{"v":1791,"d":"1,791"},{"v":1858,"d":"1,858"},{"v":1825,"d":"1,825"},{"v":1798,"d":"1,798"},{"v":1770,"d":"1,770"},{"v":1690,"d":"1,690"},{"v":1608,"d":"1,608"},{"v":6511,"d":"6,511"},{"v":6034,"d":"6,034"},{"v":5711,"d":"5,711"},{"v":5594,"d":"5,594"},{"v":4840,"d":"4,840"},{"v":4115,"d":"4,115"},{"v":3567,"d":"3,567"},{"v":2899,"d":"2,899"},{"v":2513,"d":"2,513"},{"v":1951,"d":"1,951"},{"v":1448,"d":"1,448"},998,479,343,96,610,628,{"v":1312,"d":"1,312"},{"v":72239,"d":"72,239"},{"v":1144,"d":"1,144"},{"v":1358,"d":"1,358"},{"v":1313,"d":"1,313"},{"v":1199,"d":"1,199"},{"v":1548,"d":"1,548"},{"v":1503,"d":"1,503"},{"v":1569,"d":"1,569"},{"v":1578,"d":"1,578"},{"v":1377,"d":"1,377"},{"v":1577,"d":"1,577"},{"v":1480,"d":"1,480"},{"v":1438,"d":"1,438"},{"v":1472,"d":"1,472"},{"v":1502,"d":"1,502"},{"v":1508,"d":"1,508"},{"v":1503,"d":"1,503"},{"v":1500,"d":"1,500"},{"v":1497,"d":"1,497"},{"v":1416,"d":"1,416"},{"v":1392,"d":"1,392"},{"v":5730,"d":"5,730"},{"v":5976,"d":"5,976"},{"v":5511,"d":"5,511"},{"v":5607,"d":"5,607"},{"v":4600,"d":"4,600"},{"v":3743,"d":"3,743"},{"v":3003,"d":"3,003"},{"v":2455,"d":"2,455"},{"v":2151,"d":"2,151"},{"v":1625,"d":"1,625"},{"v":1260,"d":"1,260"},809,507,388,85,545,599,{"v":1213,"d":"1,213"},{"v":3608,"d":"3,608"},null,null,{"v":19356,"d":"19,356"},{"v":10798,"d":"10,798"},{"v":15843,"d":"15,843"},{"v":26726,"d":"26,726"},{"v":7732,"d":"7,732"},{"v":17084,"d":"17,084"},{"v":8982,"d":"8,982"},{"v":14514,"d":"14,514"},{"v":24919,"d":"24,919"},{"v":6740,"d":"6,740"},{"v":6954,"d":"6,954"},{"v":8910,"d":"8,910"},{"v":8897,"d":"8,897"},{"v":8691,"d":"8,691"},{"v":6511,"d":"6,511"},{"v":6034,"d":"6,034"},{"v":5711,"d":"5,711"},{"v":5594,"d":"5,594"},{"v":4840,"d":"4,840"},{"v":4115,"d":"4,115"},{"v":3567,"d":"3,567"},{"v":2899,"d":"2,899"},{"v":2513,"d":"2,513"},{"v":1951,"d":"1,951"},{"v":1448,"d":"1,448"},998,479,343,{"v":6562,"d":"6,562"},{"v":7604,"d":"7,604"},{"v":7400,"d":"7,400"},{"v":7308,"d":"7,308"},{"v":5730,"d":"5,730"},{"v":5976,"d":"5,976"},{"v":5511,"d":"5,511"},{"v":5607,"d":"5,607"},{"v":4600,"d":"4,600"},{"v":3743,"d":"3,743"},{"v":3003,"d":"3,003"},{"v":2455,"d":"2,455"},{"v":2151,"d":"2,151"},{"v":1625,"d":"1,625"},{"v":1260,"d":"1,260"},809,507,388]
["160301","LORETO","LORETO","LORETO","NAUTA",{"v":33046,"d":"33,046"},{"v":16980,"d":"16,980"},406,412,504,544,580,631,321,362,349,352,360,373,387,348,336,380,390,362,338,316,{"v":1363,"d":"1,363"},{"v":1112,"d":"1,112"},{"v":1009,"d":"1,009"},958,914,738,672,546,457,368,310,215,151,116,41,204,202,430,{"v":16066,"d":"16,066"},380,416,526,499,563,621,345,334,348,289,349,366,380,341,318,362,346,346,312,300,{"v":1260,"d":"1,260"},{"v":1237,"d":"1,237"},{"v":1048,"d":"1,048"},953,838,638,538,444,359,319,258,187,146,100,30,198,182,403,{"v":1597,"d":"1,597"},null,null,{"v":5194,"d":"5,194"},{"v":2203,"d":"2,203"},{"v":3129,"d":"3,129"},{"v":4837,"d":"4,837"},{"v":1617,"d":"1,617"},{"v":5036,"d":"5,036"},{"v":2093,"d":"2,093"},{"v":3109,"d":"3,109"},{"v":4459,"d":"4,459"},{"v":1369,"d":"1,369"},{"v":2446,"d":"2,446"},{"v":2015,"d":"2,015"},{"v":1804,"d":"1,804"},{"v":1786,"d":"1,786"},{"v":1363,"d":"1,363"},{"v":1112,"d":"1,112"},{"v":1009,"d":"1,009"},958,914,738,672,546,457,368,310,215,151,116,{"v":2384,"d":"2,384"},{"v":1937,"d":"1,937"},{"v":1754,"d":"1,754"},{"v":1666,"d":"1,666"},{"v":1260,"d":"1,260"},{"v":1237,"d":"1,237"},{"v":1048,"d":"1,048"},953,838,638,538,444,359,319,258,187,146,100]
["160304","LORETO","LORETO","LORETO","TROMPETEROS",{"v":11591,"d":"11,591"},{"v":5852,"d":"5,852"},173,139,187,190,229,184,136,149,149,120,122,134,135,142,137,121,127,109,102,96,487,434,444,396,322,279,190,131,97,80,62,27,10,12,17,82,91,183,{"v":5739,"d":"5,739"},141,150,158,186,187,193,189,175,116,166,134,148,149,158,148,150,155,132,117,129,525,469,356,325,242,199,167,103,100,58,62,30,8,14,10,68,73,149,390,null,null,{"v":1912,"d":"1,912"},771,{"v":1119,"d":"1,119"},{"v":1762,"d":"1,762"},288,{"v":1943,"d":"1,943"},892,{"v":1240,"d":"1,240"},{"v":1392,"d":"1,392"},272,918,738,670,555,487,434,444,396,322,279,190,131,97,80,62,27,10,12,822,839,737,683,525,469,356,325,242,199,167,103,100,58,62,30,8,14]
["160503","LORETO","LORETO","REQUENA","CAPELO",{"v":3090,"d":"3,090"},{"v":1550,"d":"1,550"},19,22,37,49,35,30,27,24,22,29,36,30,50,22,30,39,31,30,26,25,107,103,106,121,100,97,66,59,46,51,35,22,12,12,1,12,7,20,{"v":1540,"d":"1,540"},33,29,32,38,34,29,32,31,34,40,39,34,57,25,34,42,45,38,32,31,108,124,108,96,96,76,42,43,31,34,33,21,7,12,3,14,19,35,124,null,null,360,202,261,549,178,405,241,295,461,138,162,132,168,151,107,103,106,121,100,97,66,59,46,51,35,22,12,12,166,166,189,188,108,124,108,96,96,76,42,43,31,34,33,21,7,12]
["160511","LORETO","LORETO","REQUENA","YAQUERANA",{"v":2263,"d":"2,263"},{"v":1130,"d":"1,130"},42,28,63,44,60,32,32,31,25,24,28,24,31,20,24,30,32,16,23,23,93,77,62,62,43,38,30,36,15,15,13,7,2,5,1,15,27,45,{"v":1133,"d":"1,133"},37,34,48,48,51,35,19,27,32,17,31,26,34,23,26,28,31,25,15,18,84,98,77,73,46,48,29,18,16,12,11,10,4,2,2,17,20,39,125,null,null,433,153,216,271,57,405,167,215,291,55,237,144,127,124,93,77,62,62,43,38,30,36,15,15,13,7,2,5,218,130,140,117,84,98,77,73,46,48,29,18,16,12,11,10,4,2]
["160604","LORETO","LORETO","UCAYALI","PAMPA HERMOSA",{"v":5856,"d":"5,856"},{"v":2937,"d":"2,937"},87,71,86,81,108,95,52,65,69,69,69,63,81,66,65,71,72,56,50,52,205,167,169,187,201,145,105,100,75,53,38,36,15,13,3,43,44,92,{"v":2919,"d":"2,919"},70,67,84,89,96,97,65,74,54,77,73,67,86,71,66,68,67,77,62,47,222,237,192,189,155,121,84,73,62,42,38,19,14,14,3,31,39,74,195,null,null,915,411,474,907,230,913,435,568,814,189,433,350,344,301,205,167,169,187,201,145,105,100,75,53,38,36,15,13,406,367,363,321,222,237,192,189,155,121,84,73,62,42,38,19,14,14]
["160705","LORETO","LORETO","DATEM DEL MARAÑON","PASTAZA",{"v":10155,"d":"10,155"},{"v":5178,"d":"5,178"},97,112,182,154,211,207,110,105,101,119,128,126,115,102,101,109,110,126,108,98,432,359,300,315,286,300,203,151,106,73,54,36,27,15,3,44,53,103,{"v":4977,"d":"4,977"},111,148,176,179,224,200,99,128,113,112,136,135,124,110,106,131,120,110,112,108,452,331,316,262,251,225,135,89,76,57,38,32,17,14,7,49,62,118,555,null,null,{"v":1652,"d":"1,652"},663,997,{"v":1555,"d":"1,555"},311,{"v":1761,"d":"1,761"},701,{"v":1003,"d":"1,003"},{"v":1278,"d":"1,278"},234,756,642,572,551,432,359,300,315,286,300,203,151,106,73,54,36,27,15,838,652,611,581,452,331,316,262,251,225,135,89,76,57,38,32,17,14]
["170104","MADRE DE DIOS","MADRE DE DIOS","TAMBOPATA","LABERINTO",{"v":10060,"d":"10,060"},{"v":5671,"d":"5,671"},123,94,116,107,122,100,86,77,83,75,83,71,70,83,72,99,87,86,71,58,284,374,471,430,463,395,364,345,330,189,130,58,50,25,9,51,72,130,{"v":4389,"d":"4,389"},116,67,119,110,103,63,64,76,63,82,82,70,70,82,65,84,69,62,57,65,321,441,396,347,328,227,192,195,145,115,49,27,27,10,9,50,66,123,382,null,null,{"v":1137,"d":"1,137"},497,787,{"v":2468,"d":"2,468"},782,{"v":1015,"d":"1,015"},432,884,{"v":1685,"d":"1,685"},373,562,421,379,401,284,374,471,430,463,395,364,345,330,189,130,58,50,25,515,348,369,337,321,441,396,347,328,227,192,195,145,115,49,27,27,10]
["170203","MADRE DE DIOS","MADRE DE DIOS","MANU","MADRE DE DIOS",{"v":8796,"d":"8,796"},{"v":5045,"d":"5,045"},124,103,163,156,121,102,63,63,70,50,71,65,61,55,66,61,68,62,48,52,248,303,375,419,409,404,348,337,267,154,99,37,14,7,9,65,59,131,{"v":3751,"d":"3,751"},100,102,125,144,95,83,48,56,57,56,67,61,58,52,57,56,60,58,58,50,252,372,391,332,277,220,157,122,89,40,29,13,2,12,11,50,50,106,405,null,null,{"v":1151,"d":"1,151"},373,651,{"v":2292,"d":"2,292"},578,994,341,732,{"v":1499,"d":"1,499"},185,667,348,318,291,248,303,375,419,409,404,348,337,267,154,99,37,14,7,566,300,295,282,252,372,391,332,277,220,157,122,89,40,29,13,2,12]
["180104","MOQUEGUA","MOQUEGUA","MARISCAL NIETO","SAMEGUA",{"v":10667,"d":"10,667"},{"v":5661,"d":"5,661"},58,45,55,58,58,61,72,74,90,67,69,59,79,73,65,72,77,72,66,62,343,424,420,458,529,511,410,337,254,213,192,123,66,49,7,28,30,61,{"v":5006,"d":"5,006"},53,36,54,64,49,68,70,86,85,68,67,57,76,70,62,61,76,60,48,71,294,383,393,425,402,354,325,305,256,213,168,99,64,44,5,22,31,56,261,null,null,766,438,895,{"v":2665,"d":"2,665"},897,757,405,796,{"v":2204,"d":"2,204"},844,274,364,345,349,343,424,420,458,529,511,410,337,254,213,192,123,66,49,256,377,332,316,294,383,393,425,402,354,325,305,256,213,168,99,64,44]
["180107","MOQUEGUA","MOQUEGUA","MARISCAL NIETO","SAN ANTONIO",{"v":29358,"d":"29,358"},{"v":15831,"d":"15,831"},157,132,145,168,96,149,250,257,216,202,197,222,239,237,200,232,258,208,204,220,{"v":1045,"d":"1,045"},{"v":1157,"d":"1,157"},{"v":1079,"d":"1,079"},{"v":1210,"d":"1,210"},{"v":1092,"d":"1,092"},{"v":1379,"d":"1,379"},{"v":1203,"d":"1,203"},{"v":1100,"d":"1,100"},838,639,440,328,179,153,9,75,82,166,{"v":13527,"d":"13,527"},146,143,123,131,103,136,204,207,230,224,186,211,227,225,180,176,206,212,208,184,993,{"v":1069,"d":"1,069"},{"v":1020,"d":"1,020"},886,841,895,{"v":1016,"d":"1,016"},867,702,508,421,295,191,161,10,72,74,155,374,null,null,{"v":2191,"d":"2,191"},{"v":1374,"d":"1,374"},{"v":2626,"d":"2,626"},{"v":7063,"d":"7,063"},{"v":2577,"d":"2,577"},{"v":2044,"d":"2,044"},{"v":1226,"d":"1,226"},{"v":2454,"d":"2,454"},{"v":5525,"d":"5,525"},{"v":2278,"d":"2,278"},698,{"v":1074,"d":"1,074"},{"v":1095,"d":"1,095"},{"v":1122,"d":"1,122"},{"v":1045,"d":"1,045"},{"v":1157,"d":"1,157"},{"v":1079,"d":"1,079"},{"v":1210,"d":"1,210"},{"v":1092,"d":"1,092"},{"v":1379,"d":"1,379"},{"v":1203,"d":"1,203"},{"v":1100,"d":"1,100"},838,639,440,328,179,153,646,{"v":1001,"d":"1,001"},{"v":1029,"d":"1,029"},986,993,{"v":1069,"d":"1,069"},{"v":1020,"d":"1,020"},886,841,895,{"v":1016,"d":"1,016"},867,702,508,421,295,191,161]
["180208","MOQUEGUA","MOQUEGUA","GENERAL SANCHEZ CERRO","PUQUINA",{"v":3140,"d":"3,140"},{"v":1714,"d":"1,714"},10,13,12,5,9,7,7,12,11,13,12,12,14,20,11,20,23,19,18,14,73,69,69,88,93,154,155,141,175,104,104,102,63,62,1,6,4,11,{"v":1426,"d":"1,426"},10,4,12,12,9,20,12,9,9,11,10,10,12,16,10,18,19,18,24,21,79,83,68,74,74,88,95,107,85,84,87,78,72,86,1,6,4,11,48,null,null,123,107,174,700,610,128,93,207,506,492,49,50,69,94,73,69,69,88,93,154,155,141,175,104,104,102,63,62,47,61,58,100,79,83,68,74,74,88,95,107,85,84,87,78,72,86]
["190103","PASCO","PASCO","PASCO","HUARIACA",{"v":6335,"d":"6,335"},{"v":3313,"d":"3,313"},45,32,58,66,55,66,51,65,52,48,61,72,66,52,58,64,62,43,48,41,242,253,257,230,274,228,181,147,125,106,58,47,37,23,0,21,24,48,{"v":3022,"d":"3,022"},47,49,52,42,54,78,55,54,44,47,50,58,54,42,45,63,57,62,53,53,230,216,212,206,194,163,149,140,125,82,82,59,49,56,1,26,21,50,165,null,null,671,345,584,{"v":1317,"d":"1,317"},396,630,323,552,{"v":1064,"d":"1,064"},453,256,282,309,258,242,253,257,230,274,228,181,147,125,106,58,47,37,23,244,278,249,288,230,216,212,206,194,163,149,140,125,82,82,59,49,56]
["190106","PASCO","PASCO","PASCO","PALLANCHACRA",{"v":1453,"d":"1,453"},745,10,8,20,10,17,21,8,9,5,8,8,10,10,8,8,13,12,11,12,7,51,56,59,55,70,55,56,42,30,21,15,10,5,5,0,4,6,11,708,9,12,13,11,15,17,9,10,9,14,9,11,11,9,11,11,9,14,15,13,42,50,48,45,48,41,44,34,31,29,18,24,11,11,0,4,5,10,26,null,null,134,62,126,337,86,139,65,120,260,124,65,51,44,55,51,56,59,55,70,55,56,42,30,21,15,10,5,5,60,59,51,62,42,50,48,45,48,41,44,34,31,29,18,24,11,11]
["190201","PASCO","PASCO","DANIEL ALCIDES CARRION","YANAHUANCA",{"v":12107,"d":"12,107"},{"v":6240,"d":"6,240"},88,86,97,121,127,127,103,105,113,97,98,109,98,89,109,110,119,98,127,103,443,473,385,408,419,446,412,311,248,188,154,117,61,51,7,47,41,93,{"v":5867,"d":"5,867"},88,77,110,99,115,113,80,95,90,86,85,94,85,77,90,101,110,116,115,90,458,444,364,360,412,337,315,284,239,195,177,137,118,111,6,47,41,93,470,null,null,{"v":1271,"d":"1,271"},623,{"v":1146,"d":"1,146"},{"v":2381,"d":"2,381"},819,{"v":1132,"d":"1,132"},579,{"v":1107,"d":"1,107"},{"v":2072,"d":"2,072"},977,519,545,503,557,443,473,385,408,419,446,412,311,248,188,154,117,61,51,489,464,431,532,458,444,364,360,412,337,315,284,239,195,177,137,118,111]
["190302","PASCO","PASCO","OXAPAMPA","CHONTABAMBA",{"v":7935,"d":"7,935"},{"v":4144,"d":"4,144"},55,34,43,51,50,47,79,82,71,84,69,68,51,71,74,63,88,53,74,48,235,303,250,350,358,336,264,218,159,138,111,73,61,33,3,32,23,58,{"v":3791,"d":"3,791"},28,38,48,49,47,34,77,77,60,69,59,57,43,60,60,57,51,64,46,57,269,306,263,326,307,278,198,175,176,126,129,83,40,34,1,15,13,30,134,null,null,733,400,660,{"v":1776,"d":"1,776"},575,643,335,678,{"v":1547,"d":"1,547"},588,233,363,333,326,235,303,250,350,358,336,264,218,159,138,111,73,61,33,210,317,279,275,269,306,263,326,307,278,198,175,176,126,129,83,40,34]
["190304","PASCO","PASCO","OXAPAMPA","PALCAZU",{"v":6652,"d":"6,652"},{"v":3393,"d":"3,393"},89,70,112,130,158,123,56,70,52,57,52,71,65,66,75,70,77,68,70,69,234,207,179,198,218,201,142,126,104,66,55,27,19,17,5,42,47,94,{"v":3259,"d":"3,259"},83,66,105,113,133,121,66,68,68,57,56,75,69,70,76,66,76,66,69,63,261,215,194,194,176,165,109,112,95,62,48,33,22,7,4,38,45,88,384,null,null,{"v":1040,"d":"1,040"},421,580,{"v":1064,"d":"1,064"},288,{"v":1011,"d":"1,011"},423,608,950,267,559,358,329,354,234,207,179,198,218,201,142,126,104,66,55,27,19,17,500,380,346,340,261,215,194,194,176,165,109,112,95,62,48,33,22,7]
["200108","PIURA","PIURA","PIURA","EL TALLAN",{"v":6374,"d":"6,374"},{"v":3156,"d":"3,156"},68,70,75,77,87,91,49,54,68,44,67,68,60,57,52,59,71,55,42,71,222,216,229,244,199,174,147,123,104,64,60,37,28,24,6,36,32,72,{"v":3218,"d":"3,218"},67,76,89,67,92,81,56,67,58,74,65,67,59,55,47,60,63,66,59,61,231,243,271,189,182,180,144,94,88,90,65,52,32,28,2,35,32,71,288,null,null,818,354,551,{"v":1116,"d":"1,116"},317,859,350,594,{"v":1060,"d":"1,060"},355,377,306,304,298,222,216,229,244,199,174,147,123,104,64,60,37,28,24,391,336,293,309,231,243,271,189,182,180,144,94,88,90,65,52,32,28]
["200111","PIURA","PIURA","PIURA","LAS LOMAS",{"v":32309,"d":"32,309"},{"v":16063,"d":"16,063"},189,178,218,248,246,245,233,263,290,236,257,305,322,327,300,332,324,362,259,270,{"v":1159,"d":"1,159"},{"v":1071,"d":"1,071"},{"v":1230,"d":"1,230"},{"v":1122,"d":"1,122"},{"v":1088,"d":"1,088"},{"v":1129,"d":"1,129"},753,772,683,538,423,307,180,204,12,96,93,200,{"v":16246,"d":"16,246"},194,200,199,219,264,236,247,270,258,275,258,308,325,330,284,306,355,342,280,267,{"v":1237,"d":"1,237"},{"v":1232,"d":"1,232"},{"v":1326,"d":"1,326"},{"v":1170,"d":"1,170"},{"v":1029,"d":"1,029"},998,778,756,621,560,448,288,185,201,15,91,103,206,871,null,null,{"v":2908,"d":"2,908"},{"v":1967,"d":"1,967"},{"v":2759,"d":"2,759"},{"v":6094,"d":"6,094"},{"v":2335,"d":"2,335"},{"v":2928,"d":"2,928"},{"v":1942,"d":"1,942"},{"v":3016,"d":"3,016"},{"v":6057,"d":"6,057"},{"v":2303,"d":"2,303"},{"v":1079,"d":"1,079"},{"v":1267,"d":"1,267"},{"v":1511,"d":"1,511"},{"v":1547,"d":"1,547"},{"v":1159,"d":"1,159"},{"v":1071,"d":"1,071"},{"v":1230,"d":"1,230"},{"v":1122,"d":"1,122"},{"v":1088,"d":"1,088"},{"v":1129,"d":"1,129"},753,772,683,538,423,307,180,204,{"v":1076,"d":"1,076"},{"v":1286,"d":"1,286"},{"v":1505,"d":"1,505"},{"v":1550,"d":"1,550"},{"v":1237,"d":"1,237"},{"v":1232,"d":"1,232"},{"v":1326,"d":"1,326"},{"v":1170,"d":"1,170"},{"v":1029,"d":"1,029"},998,778,756,621,560,448,288,185,201]
["200205","PIURA","PIURA","AYABACA","MONTERO",{"v":6175,"d":"6,175"},{"v":3005,"d":"3,005"},21,32,49,37,48,39,34,40,44,34,44,49,46,41,48,50,54,51,44,51,231,225,244,201,205,213,139,138,131,129,110,75,54,54,2,10,11,22,{"v":3170,"d":"3,170"},37,35,35,48,57,47,45,39,43,44,44,49,46,41,44,65,47,69,49,52,233,249,239,196,166,174,163,143,134,161,136,90,66,84,2,21,16,39,139,null,null,471,290,551,{"v":1140,"d":"1,140"},553,523,312,583,{"v":1081,"d":"1,081"},671,187,191,228,250,231,225,244,201,205,213,139,138,131,129,110,75,54,54,212,218,224,282,233,249,239,196,166,174,163,143,134,161,136,90,66,84]
["200305","PIURA","PIURA","HUANCABAMBA","LALAQUIZ",{"v":4330,"d":"4,330"},{"v":2074,"d":"2,074"},28,29,22,22,37,32,22,20,25,18,25,30,21,33,39,35,32,46,34,23,156,176,175,140,138,136,100,115,96,76,65,53,34,41,2,16,12,30,{"v":2256,"d":"2,256"},24,29,20,41,39,35,27,36,31,31,36,42,30,47,54,40,26,43,34,29,167,161,138,135,119,114,124,124,110,101,101,69,43,56,3,15,9,25,112,null,null,310,206,389,804,365,391,240,391,754,480,138,117,148,170,156,176,175,140,138,136,100,115,96,76,65,53,34,41,153,160,209,172,167,161,138,135,119,114,124,124,110,101,101,69,43,56]
["200308","PIURA","PIURA","HUANCABAMBA","SONDORILLO",{"v":10583,"d":"10,583"},{"v":5307,"d":"5,307"},73,98,86,78,113,100,90,90,88,76,100,104,111,116,107,122,99,94,91,82,434,435,438,388,314,281,255,207,167,150,138,91,46,45,2,38,35,77,{"v":5276,"d":"5,276"},71,86,99,99,113,98,76,97,96,88,89,94,100,104,89,91,105,111,92,87,421,455,441,361,245,298,207,193,183,175,165,100,69,78,3,32,39,75,268,null,null,{"v":1096,"d":"1,096"},649,{"v":1042,"d":"1,042"},{"v":1883,"d":"1,883"},637,{"v":1106,"d":"1,106"},600,{"v":1055,"d":"1,055"},{"v":1745,"d":"1,745"},770,448,444,538,488,434,435,438,388,314,281,255,207,167,150,138,91,46,45,468,455,476,486,421,455,441,361,245,298,207,193,183,175,165,100,69,78]
["200410","PIURA","PIURA","MORROPON","YAMANGO",{"v":8733,"d":"8,733"},{"v":4268,"d":"4,268"},36,54,61,69,74,69,55,49,62,46,45,64,64,57,81,64,81,77,62,65,321,318,355,283,292,256,246,222,203,172,153,100,51,61,3,18,18,38,{"v":4465,"d":"4,465"},38,46,55,50,78,81,59,73,70,53,55,79,79,70,92,91,78,81,94,72,353,348,318,239,239,274,245,225,192,192,178,99,83,86,3,20,18,40,241,null,null,684,424,766,{"v":1654,"d":"1,654"},740,737,491,867,{"v":1540,"d":"1,540"},830,294,281,311,349,321,318,355,283,292,256,246,222,203,172,153,100,51,61,267,336,375,416,353,348,318,239,239,274,245,225,192,192,178,99,83,86]
["200507","PIURA","PIURA","PAITA","VICHAYAL",{"v":7996,"d":"7,996"},{"v":3915,"d":"3,915"},43,60,57,67,51,67,61,73,72,43,71,54,53,50,60,61,69,95,42,56,213,285,312,278,284,265,249,206,131,113,151,114,54,55,3,19,24,46,{"v":4081,"d":"4,081"},44,44,43,48,57,71,84,68,80,62,77,59,58,54,62,57,61,65,64,55,273,363,312,278,292,265,227,164,156,148,152,124,55,59,1,16,28,47,217,null,null,719,388,596,{"v":1594,"d":"1,594"},618,737,357,755,{"v":1538,"d":"1,538"},694,278,316,288,323,213,285,312,278,284,265,249,206,131,113,151,114,54,55,236,365,310,302,273,363,312,278,292,265,227,164,156,148,152,124,55,59]
["200601","PIURA","PIURA","SULLANA","SULLANA",{"v":204020,"d":"204,020"},{"v":103542,"d":"103,542"},{"v":1192,"d":"1,192"},{"v":1166,"d":"1,166"},{"v":1433,"d":"1,433"},{"v":1514,"d":"1,514"},{"v":1463,"d":"1,463"},{"v":1522,"d":"1,522"},{"v":1614,"d":"1,614"},{"v":1797,"d":"1,797"},{"v":1819,"d":"1,819"},{"v":1556,"d":"1,556"},{"v":1627,"d":"1,627"},{"v":1782,"d":"1,782"},{"v":1734,"d":"1,734"},{"v":1650,"d":"1,650"},{"v":1815,"d":"1,815"},{"v":1727,"d":"1,727"},{"v":1909,"d":"1,909"},{"v":1979,"d":"1,979"},{"v":1680,"d":"1,680"},{"v":1695,"d":"1,695"},{"v":7684,"d":"7,684"},{"v":8267,"d":"8,267"},{"v":8924,"d":"8,924"},{"v":7976,"d":"7,976"},{"v":7592,"d":"7,592"},{"v":7303,"d":"7,303"},{"v":5733,"d":"5,733"},{"v":4992,"d":"4,992"},{"v":4074,"d":"4,074"},{"v":3109,"d":"3,109"},{"v":2483,"d":"2,483"},{"v":1368,"d":"1,368"},704,659,73,572,620,{"v":1264,"d":"1,264"},{"v":100478,"d":"100,478"},{"v":1144,"d":"1,144"},{"v":1195,"d":"1,195"},{"v":1347,"d":"1,347"},{"v":1528,"d":"1,528"},{"v":1450,"d":"1,450"},{"v":1427,"d":"1,427"},{"v":1530,"d":"1,530"},{"v":1705,"d":"1,705"},{"v":1632,"d":"1,632"},{"v":1555,"d":"1,555"},{"v":1496,"d":"1,496"},{"v":1644,"d":"1,644"},{"v":1600,"d":"1,600"},{"v":1522,"d":"1,522"},{"v":1571,"d":"1,571"},{"v":1690,"d":"1,690"},{"v":1793,"d":"1,793"},{"v":1721,"d":"1,721"},{"v":1648,"d":"1,648"},{"v":1522,"d":"1,522"},{"v":7405,"d":"7,405"},{"v":8376,"d":"8,376"},{"v":8636,"d":"8,636"},{"v":7188,"d":"7,188"},{"v":7029,"d":"7,029"},{"v":6841,"d":"6,841"},{"v":5333,"d":"5,333"},{"v":4773,"d":"4,773"},{"v":4034,"d":"4,034"},{"v":3463,"d":"3,463"},{"v":2835,"d":"2,835"},{"v":1775,"d":"1,775"},{"v":1049,"d":"1,049"},{"v":1021,"d":"1,021"},67,537,607,{"v":1213,"d":"1,213"},{"v":3868,"d":"3,868"},null,null,{"v":18485,"d":"18,485"},{"v":10814,"d":"10,814"},{"v":19326,"d":"19,326"},{"v":42520,"d":"42,520"},{"v":12397,"d":"12,397"},{"v":17653,"d":"17,653"},{"v":9897,"d":"9,897"},{"v":18951,"d":"18,951"},{"v":39800,"d":"39,800"},{"v":14177,"d":"14,177"},{"v":6768,"d":"6,768"},{"v":8308,"d":"8,308"},{"v":8608,"d":"8,608"},{"v":8990,"d":"8,990"},{"v":7684,"d":"7,684"},{"v":8267,"d":"8,267"},{"v":8924,"d":"8,924"},{"v":7976,"d":"7,976"},{"v":7592,"d":"7,592"},{"v":7303,"d":"7,303"},{"v":5733,"d":"5,733"},{"v":4992,"d":"4,992"},{"v":4074,"d":"4,074"},{"v":3109,"d":"3,109"},{"v":2483,"d":"2,483"},{"v":1368,"d":"1,368"},704,659,{"v":6664,"d":"6,664"},{"v":7849,"d":"7,849"},{"v":7833,"d":"7,833"},{"v":8374,"d":"8,374"},{"v":7405,"d":"7,405"},{"v":8376,"d":"8,376"},{"v":8636,"d":"8,636"},{"v":7188,"d":"7,188"},{"v":7029,"d":"7,029"},{"v":6841,"d":"6,841"},{"v":5333,"d":"5,333"},{"v":4773,"d":"4,773"},{"v":4034,"d":"4,034"},{"v":3463,"d":"3,463"},{"v":2835,"d":"2,835"},{"v":1775,"d":"1,775"},{"v":1049,"d":"1,049"},{"v":1021,"d":"1,021"}]
["200703","PIURA","PIURA","TALARA","LA BREA",{"v":16212,"d":"16,212"},{"v":8222,"d":"8,222"},62,67,80,79,106,110,94,150,156,109,119,129,111,122,158,124,101,132,116,114,517,615,718,657,611,491,542,523,439,358,227,138,89,58,4,30,32,66,{"v":7990,"d":"7,990"},62,61,79,100,108,119,104,117,127,134,107,116,100,110,133,106,95,135,110,111,511,626,665,565,585,502,499,490,395,333,261,197,116,111,5,30,32,66,296,null,null,{"v":1261,"d":"1,261"},748,{"v":1362,"d":"1,362"},{"v":3542,"d":"3,542"},{"v":1309,"d":"1,309"},{"v":1234,"d":"1,234"},679,{"v":1358,"d":"1,358"},{"v":3306,"d":"3,306"},{"v":1413,"d":"1,413"},394,619,639,587,517,615,718,657,611,491,542,523,439,358,227,138,89,58,410,601,566,557,511,626,665,565,585,502,499,490,395,333,261,197,116,111]
["200706","PIURA","PIURA","TALARA","MANCORA",{"v":14691,"d":"14,691"},{"v":7472,"d":"7,472"},108,89,107,137,143,141,118,151,138,112,130,120,151,137,149,146,156,138,111,96,434,530,585,650,533,548,356,343,308,251,179,77,55,45,8,48,60,114,{"v":7219,"d":"7,219"},100,95,129,127,120,131,128,110,129,128,126,116,145,132,135,133,132,144,127,88,484,549,585,598,532,460,382,296,268,192,176,95,51,76,2,52,48,106,342,null,null,{"v":1494,"d":"1,494"},877,{"v":1171,"d":"1,171"},{"v":3015,"d":"3,015"},915,{"v":1439,"d":"1,439"},821,{"v":1248,"d":"1,248"},{"v":2853,"d":"2,853"},858,584,660,687,647,434,530,585,650,533,548,356,343,308,251,179,77,55,45,571,626,654,624,484,549,585,598,532,460,382,296,268,192,176,95,51,76]
["210104","PUNO","PUNO","PUNO","ATUNCOLLA",{"v":4897,"d":"4,897"},{"v":2395,"d":"2,395"},30,26,37,32,37,28,30,36,42,41,44,41,49,39,45,49,50,43,48,55,211,194,204,203,166,148,125,92,78,61,46,33,17,15,3,15,15,32,{"v":2502,"d":"2,502"},22,23,27,27,43,23,48,53,33,41,44,41,49,39,47,63,43,54,29,36,195,188,225,189,186,139,124,117,97,79,66,48,29,35,1,7,15,23,104,null,null,424,275,508,938,250,425,295,448,980,354,162,177,218,245,211,194,204,203,166,148,125,92,78,61,46,33,17,15,142,198,220,225,195,188,225,189,186,139,124,117,97,79,66,48,29,35]
["210111","PUNO","PUNO","PUNO","PICHACANI",{"v":6170,"d":"6,170"},{"v":3083,"d":"3,083"},19,28,20,46,39,43,53,51,40,53,34,53,64,34,39,49,50,69,39,48,235,221,221,230,232,201,181,156,169,115,102,57,43,49,0,9,10,20,{"v":3087,"d":"3,087"},32,24,21,32,34,46,48,45,36,49,32,50,61,32,39,41,44,48,49,45,201,205,224,231,214,213,212,181,135,130,118,86,66,63,3,16,16,34,133,null,null,479,305,543,{"v":1221,"d":"1,221"},535,449,265,500,{"v":1275,"d":"1,275"},598,152,240,224,255,235,221,221,230,232,201,181,156,169,115,102,57,43,49,143,224,214,227,201,205,224,231,214,213,212,181,135,130,118,86,66,63]
["210114","PUNO","PUNO","PUNO","TIQUILLACA",{"v":1736,"d":"1,736"},858,7,9,6,11,4,6,14,9,10,11,9,11,12,9,12,8,3,12,7,9,52,59,59,71,65,73,70,54,40,41,35,25,23,12,0,2,5,7,878,5,7,9,9,7,12,10,13,8,8,7,8,9,7,10,9,9,9,10,8,41,57,62,66,66,61,72,52,54,47,44,32,29,21,2,4,1,5,15,null,null,107,56,127,392,176,103,53,116,379,227,37,50,53,39,52,59,59,71,65,73,70,54,40,41,35,25,23,12,37,51,41,45,41,57,62,66,66,61,72,52,54,47,44,32,29,21]
["210208","PUNO","PUNO","AZANGARO","MUÑANI",{"v":7125,"d":"7,125"},{"v":3529,"d":"3,529"},35,50,45,46,52,54,67,76,66,64,76,75,91,70,60,85,98,92,84,78,339,321,270,216,188,188,151,145,97,69,77,52,25,27,3,17,18,37,{"v":3596,"d":"3,596"},29,39,43,38,55,47,63,75,74,69,71,70,85,66,56,69,83,82,62,71,331,338,243,217,202,203,187,152,114,120,71,76,45,50,3,14,15,31,123,null,null,706,496,822,{"v":1158,"d":"1,158"},347,673,441,802,{"v":1204,"d":"1,204"},476,228,327,372,437,339,321,270,216,188,188,151,145,97,69,77,52,25,27,204,328,348,367,331,338,243,217,202,203,187,152,114,120,71,76,45,50]
["210301","PUNO","PUNO","CARABAYA","MACUSANI",{"v":12883,"d":"12,883"},{"v":6352,"d":"6,352"},104,93,107,131,123,131,142,174,154,148,146,161,142,135,134,143,149,146,157,120,606,549,492,431,354,295,262,219,160,108,56,36,23,21,14,55,49,110,{"v":6531,"d":"6,531"},113,98,96,118,103,145,156,152,142,136,139,154,136,129,134,144,156,169,142,118,599,534,469,427,368,302,265,266,181,143,120,81,56,40,10,55,58,120,461,null,null,{"v":1614,"d":"1,614"},849,{"v":1432,"d":"1,432"},{"v":2053,"d":"2,053"},404,{"v":1552,"d":"1,552"},868,{"v":1393,"d":"1,393"},{"v":2097,"d":"2,097"},621,558,749,718,715,606,549,492,431,354,295,262,219,160,108,56,36,23,21,528,731,692,729,599,534,469,427,368,302,265,266,181,143,120,81,56,40]
["210308","PUNO","PUNO","CARABAYA","OLLACHEA",{"v":6114,"d":"6,114"},{"v":2970,"d":"2,970"},45,72,74,91,78,80,69,84,71,72,71,84,73,83,55,58,68,61,56,49,220,201,219,197,180,132,117,93,74,50,40,23,16,14,3,21,24,48,{"v":3144,"d":"3,144"},57,69,53,77,79,103,69,99,60,85,73,86,75,85,56,81,68,60,50,58,260,233,211,166,186,132,147,106,66,53,45,38,32,26,1,27,30,60,195,null,null,891,398,526,938,217,910,425,601,948,260,360,376,366,292,220,201,219,197,180,132,117,93,74,50,40,23,16,14,335,416,375,317,260,233,211,166,186,132,147,106,66,53,45,38,32,26]
["210402","PUNO","PUNO","CHUCUITO","DESAGUADERO",{"v":11036,"d":"11,036"},{"v":5444,"d":"5,444"},83,71,93,101,81,95,115,119,103,96,113,123,112,136,114,103,133,114,100,88,412,373,431,445,380,317,271,198,166,145,90,52,36,35,5,40,43,88,{"v":5592,"d":"5,592"},87,78,78,101,81,108,126,99,101,105,106,116,105,128,111,114,101,109,95,85,398,408,441,429,385,322,284,226,190,152,120,79,52,72,9,49,38,92,275,null,null,{"v":1193,"d":"1,193"},712,973,{"v":2042,"d":"2,042"},524,{"v":1186,"d":"1,186"},668,986,{"v":2087,"d":"2,087"},665,429,528,598,538,412,373,431,445,380,317,271,198,166,145,90,52,36,35,425,539,566,504,398,408,441,429,385,322,284,226,190,152,120,79,52,72]
["210405","PUNO","PUNO","CHUCUITO","PISACOMA",{"v":7035,"d":"7,035"},{"v":3556,"d":"3,556"},15,11,23,21,20,15,60,77,54,77,65,104,58,68,49,76,48,58,53,57,248,216,237,306,222,194,208,195,170,204,122,99,76,50,1,8,7,16,{"v":3479,"d":"3,479"},13,10,18,14,22,16,70,78,56,50,58,93,51,61,46,65,66,46,42,33,210,227,280,247,218,179,211,190,186,174,177,117,83,72,2,4,9,14,73,null,null,542,357,574,{"v":1362,"d":"1,362"},721,498,335,512,{"v":1325,"d":"1,325"},809,90,283,344,292,248,216,237,306,222,194,208,195,170,204,122,99,76,50,77,270,309,252,210,227,280,247,218,179,211,190,186,174,177,117,83,72]
["210602","PUNO","PUNO","HUANCANE","COJATA",{"v":3411,"d":"3,411"},{"v":1664,"d":"1,664"},19,12,14,21,20,21,25,29,26,25,27,36,31,27,33,26,25,23,28,29,145,143,162,123,132,106,99,73,69,49,24,20,14,8,2,10,9,20,{"v":1747,"d":"1,747"},9,16,15,30,17,22,17,31,25,28,24,32,28,24,31,27,32,32,36,29,145,161,158,138,116,102,110,84,79,42,42,36,18,11,0,4,5,10,63,null,null,275,165,345,695,184,266,174,371,708,228,86,126,154,131,145,143,162,123,132,106,99,73,69,49,24,20,14,8,87,123,139,156,145,161,158,138,116,102,110,84,79,42,42,36,18,11]
["210702","PUNO","PUNO","LAMPA","CABANILLA",{"v":5278,"d":"5,278"},{"v":2620,"d":"2,620"},23,30,31,34,37,41,50,47,46,45,33,26,51,43,29,35,44,39,36,33,198,206,235,216,193,177,178,114,99,96,65,37,27,26,2,9,14,24,{"v":2658,"d":"2,658"},11,23,37,28,23,47,41,40,31,26,29,23,45,38,26,38,26,47,33,36,174,240,206,205,184,176,195,161,142,95,73,65,43,51,2,6,5,12,43,null,null,443,241,473,{"v":1113,"d":"1,113"},350,359,220,483,{"v":1127,"d":"1,127"},469,155,229,182,187,198,206,235,216,193,177,178,114,99,96,65,37,27,26,122,185,161,180,174,240,206,205,184,176,195,161,142,95,73,65,43,51]
["210705","PUNO","PUNO","LAMPA","OCUVIRI",{"v":1878,"d":"1,878"},916,8,10,5,19,12,13,16,14,12,13,14,19,20,10,12,13,15,14,14,15,71,102,96,83,72,55,55,36,33,17,9,9,3,7,0,1,7,8,962,5,5,5,8,9,9,19,13,8,16,14,19,20,10,16,22,9,28,15,20,90,88,78,83,58,59,61,51,42,29,22,16,12,3,0,0,5,5,15,null,null,155,84,202,397,78,130,105,213,390,124,54,68,75,71,71,102,96,83,72,55,55,36,33,17,9,9,3,7,32,65,79,94,90,88,78,83,58,59,61,51,42,29,22,16,12,3]
["210803","PUNO","PUNO","MELGAR","CUPI",{"v":1599,"d":"1,599"},811,5,6,12,14,15,20,12,12,12,11,10,9,17,13,19,19,18,20,13,15,63,54,66,68,60,55,48,37,24,18,13,13,8,12,0,3,2,5,788,5,8,9,17,7,12,6,6,9,8,10,9,16,12,20,17,8,23,15,15,63,61,58,69,56,46,43,44,34,21,11,16,16,18,1,3,2,5,13,null,null,138,106,145,334,88,106,96,154,316,116,52,67,68,85,63,54,66,68,60,55,48,37,24,18,13,13,8,12,46,41,67,78,63,61,58,69,56,46,43,44,34,21,11,16,16,18]
["210903","PUNO","PUNO","MOHO","HUAYRAPATA",{"v":2641,"d":"2,641"},{"v":1293,"d":"1,293"},7,14,13,17,22,24,10,14,16,15,12,17,13,18,20,30,29,27,20,30,116,113,118,98,91,74,56,65,59,44,40,25,14,12,0,1,6,7,{"v":1348,"d":"1,348"},11,8,20,18,16,20,15,13,13,13,17,23,17,24,30,25,22,23,20,28,100,118,112,95,89,69,96,73,56,57,33,32,21,21,1,3,8,12,23,null,null,181,137,279,502,194,187,141,266,534,220,73,79,80,136,116,113,118,98,91,74,56,65,59,44,40,25,14,12,73,74,111,118,100,118,112,95,89,69,96,73,56,57,33,32,21,21]
["211005","PUNO","PUNO","SAN ANTONIO DE PUTINA","SINA",{"v":1716,"d":"1,716"},825,7,6,9,9,15,15,20,22,17,22,11,12,18,25,24,11,11,16,16,14,60,66,63,60,73,54,40,40,20,11,16,11,8,3,0,4,3,7,891,2,8,12,13,12,22,22,22,17,8,9,9,13,18,19,22,21,20,16,15,98,86,78,62,55,53,43,24,22,25,15,20,8,2,0,1,1,2,12,null,null,165,105,156,330,69,156,113,215,315,92,46,96,90,68,60,66,63,60,73,54,40,40,20,11,16,11,8,3,47,91,68,94,98,86,78,62,55,53,43,24,22,25,15,20,8,2]
["211105","PUNO","PUNO","SAN ROMAN","SAN MIGUEL",{"v":71207,"d":"71,207"},{"v":38471,"d":"38,471"},550,558,571,595,637,644,838,753,473,427,587,489,636,639,494,440,440,428,514,555,{"v":2420,"d":"2,420"},{"v":3412,"d":"3,412"},{"v":3813,"d":"3,813"},{"v":3764,"d":"3,764"},{"v":3195,"d":"3,195"},{"v":2703,"d":"2,703"},{"v":2343,"d":"2,343"},{"v":1838,"d":"1,838"},{"v":1555,"d":"1,555"},986,617,343,133,81,35,265,285,583,{"v":32736,"d":"32,736"},569,526,553,611,593,621,620,575,261,265,366,307,398,400,320,295,294,358,376,457,{"v":2315,"d":"2,315"},{"v":3358,"d":"3,358"},{"v":3631,"d":"3,631"},{"v":3306,"d":"3,306"},{"v":2803,"d":"2,803"},{"v":2216,"d":"2,216"},{"v":1921,"d":"1,921"},{"v":1526,"d":"1,526"},{"v":1108,"d":"1,108"},782,476,280,145,104,30,290,279,603,{"v":1955,"d":"1,955"},null,null,{"v":7122,"d":"7,122"},{"v":3077,"d":"3,077"},{"v":6901,"d":"6,901"},{"v":17656,"d":"17,656"},{"v":3715,"d":"3,715"},{"v":5867,"d":"5,867"},{"v":2065,"d":"2,065"},{"v":6506,"d":"6,506"},{"v":15403,"d":"15,403"},{"v":2895,"d":"2,895"},{"v":2911,"d":"2,911"},{"v":3135,"d":"3,135"},{"v":2845,"d":"2,845"},{"v":2377,"d":"2,377"},{"v":2420,"d":"2,420"},{"v":3412,"d":"3,412"},{"v":3813,"d":"3,813"},{"v":3764,"d":"3,764"},{"v":3195,"d":"3,195"},{"v":2703,"d":"2,703"},{"v":2343,"d":"2,343"},{"v":1838,"d":"1,838"},{"v":1555,"d":"1,555"},986,617,343,133,81,{"v":2852,"d":"2,852"},{"v":2342,"d":"2,342"},{"v":1791,"d":"1,791"},{"v":1780,"d":"1,780"},{"v":2315,"d":"2,315"},{"v":3358,"d":"3,358"},{"v":3631,"d":"3,631"},{"v":3306,"d":"3,306"},{"v":2803,"d":"2,803"},{"v":2216,"d":"2,216"},{"v":1921,"d":"1,921"},{"v":1526,"d":"1,526"},{"v":1108,"d":"1,108"},782,476,280,145,104]
["211203","PUNO","PUNO","SANDIA","LIMBANI",{"v":2654,"d":"2,654"},{"v":1255,"d":"1,255"},13,8,14,13,14,26,15,10,20,14,14,24,20,24,12,18,21,19,13,25,89,112,108,119,96,82,88,73,57,38,22,15,11,8,2,5,8,14,{"v":1399,"d":"1,399"},14,15,15,13,9,15,12,23,16,24,16,26,22,26,16,16,32,22,25,24,115,128,116,113,101,85,89,93,58,36,28,19,18,19,2,7,7,15,48,null,null,185,114,239,566,151,198,134,292,597,178,62,85,94,96,89,112,108,119,96,82,88,73,57,38,22,15,11,8,66,90,106,119,115,128,116,113,101,85,89,93,58,36,28,19,18,19]
["211301","PUNO","PUNO","YUNGUYO","YUNGUYO",{"v":21874,"d":"21,874"},{"v":10770,"d":"10,770"},98,112,124,155,161,150,193,163,179,174,155,162,180,173,169,182,199,196,177,188,836,783,782,825,730,661,655,518,433,434,336,234,127,126,6,53,45,104,{"v":11104,"d":"11,104"},89,118,133,160,141,141,156,160,134,151,152,159,176,169,173,169,195,211,161,166,808,769,745,737,692,681,675,609,525,473,461,338,244,233,4,52,37,94,449,null,null,{"v":1826,"d":"1,826"},{"v":1099,"d":"1,099"},{"v":1984,"d":"1,984"},{"v":4171,"d":"4,171"},{"v":1690,"d":"1,690"},{"v":1694,"d":"1,694"},{"v":1093,"d":"1,093"},{"v":1904,"d":"1,904"},{"v":4139,"d":"4,139"},{"v":2274,"d":"2,274"},650,859,839,942,836,783,782,825,730,661,655,518,433,434,336,234,127,126,641,742,829,902,808,769,745,737,692,681,675,609,525,473,461,338,244,233]
["220103","SAN MARTIN","SAN MARTIN","MOYOBAMBA","HABANA",{"v":1973,"d":"1,973"},{"v":1015,"d":"1,015"},16,22,17,20,15,13,12,16,10,11,9,18,15,14,8,20,8,20,20,15,72,77,88,83,88,82,60,46,46,35,19,14,3,3,0,6,10,17,958,13,21,20,13,18,11,10,11,16,16,10,19,16,15,7,12,12,17,17,11,85,91,83,80,97,62,50,37,29,20,20,9,5,5,1,7,6,14,102,null,null,179,85,184,447,120,178,79,204,409,88,90,62,64,83,72,77,88,83,88,82,60,46,46,35,19,14,3,3,85,64,67,69,85,91,83,80,97,62,50,37,29,20,20,9,5,5]
["220106","SAN MARTIN","SAN MARTIN","MOYOBAMBA","YANTALO",{"v":3227,"d":"3,227"},{"v":1645,"d":"1,645"},19,15,24,29,26,25,23,30,25,20,18,27,33,27,28,31,34,39,33,26,144,137,136,121,110,113,76,71,68,51,40,22,18,6,3,10,9,20,{"v":1582,"d":"1,582"},24,24,21,18,27,29,24,20,24,30,19,29,35,29,32,33,31,31,32,30,162,131,121,129,101,75,78,58,68,35,31,31,9,11,4,16,8,25,70,null,null,281,192,340,627,205,289,191,355,562,185,113,123,133,163,144,137,136,121,110,113,76,71,68,51,40,22,18,6,114,127,144,157,162,131,121,129,101,75,78,58,68,35,31,31,9,11]
["220301","SAN MARTIN","SAN MARTIN","EL DORADO","SAN JOSE DE SISA",{"v":21978,"d":"21,978"},{"v":11456,"d":"11,456"},144,130,143,148,192,160,194,237,276,217,215,261,221,222,229,195,227,224,189,184,900,903,789,807,793,737,635,540,492,345,238,149,69,51,14,72,72,153,{"v":10522,"d":"10,522"},127,142,166,166,179,138,201,208,227,203,211,256,218,220,211,205,235,241,208,169,982,827,762,744,663,550,441,421,404,305,201,123,82,86,9,67,60,135,523,null,null,{"v":2317,"d":"2,317"},{"v":1318,"d":"1,318"},{"v":2176,"d":"2,176"},{"v":4301,"d":"4,301"},{"v":1344,"d":"1,344"},{"v":2224,"d":"2,224"},{"v":1330,"d":"1,330"},{"v":2186,"d":"2,186"},{"v":3581,"d":"3,581"},{"v":1201,"d":"1,201"},757,{"v":1084,"d":"1,084"},{"v":1148,"d":"1,148"},{"v":1019,"d":"1,019"},900,903,789,807,793,737,635,540,492,345,238,149,69,51,780,977,{"v":1116,"d":"1,116"},{"v":1058,"d":"1,058"},982,827,762,744,663,550,441,421,404,305,201,123,82,86]
["220406","SAN MARTIN","SAN MARTIN","HUALLAGA","TINGO DE SAPOSOA",897,490,5,8,3,0,5,6,2,8,3,1,6,4,7,6,13,3,7,9,12,5,27,25,27,31,36,41,43,38,40,21,23,7,9,9,0,1,4,5,407,3,3,4,5,4,4,5,4,8,9,4,3,5,4,9,5,8,6,9,6,21,28,27,27,30,29,24,30,25,18,13,11,11,5,1,1,2,3,21,null,null,51,45,69,216,109,56,37,64,167,83,21,20,36,36,27,25,27,31,36,41,43,38,40,21,23,7,9,9,19,30,25,34,21,28,27,27,30,29,24,30,25,18,13,11,11,5]
["220502","SAN MARTIN","SAN MARTIN","LAMAS","ALONSO DE ALVARADO",{"v":13421,"d":"13,421"},{"v":6932,"d":"6,932"},103,125,103,124,137,101,132,130,127,147,134,140,161,162,153,171,156,143,126,115,628,519,510,478,442,422,316,286,222,172,113,72,38,24,10,39,64,109,{"v":6489,"d":"6,489"},113,102,129,136,129,113,151,137,141,150,128,134,154,155,136,150,148,156,133,142,651,547,464,423,377,313,253,221,147,147,89,60,40,20,8,62,51,120,512,null,null,{"v":1503,"d":"1,503"},946,{"v":1388,"d":"1,388"},{"v":2454,"d":"2,454"},641,{"v":1563,"d":"1,563"},899,{"v":1473,"d":"1,473"},{"v":2051,"d":"2,051"},503,592,637,750,711,628,519,510,478,442,422,316,286,222,172,113,72,38,24,609,692,707,729,651,547,464,423,377,313,253,221,147,147,89,60,40,20]
["220511","SAN MARTIN","SAN MARTIN","LAMAS","ZAPATERO",{"v":6194,"d":"6,194"},{"v":3195,"d":"3,195"},42,49,48,47,75,56,50,61,74,61,54,64,62,50,71,52,51,70,51,50,230,234,230,210,240,203,196,140,125,85,75,41,26,22,6,22,20,45,{"v":2999,"d":"2,999"},38,47,45,49,57,60,52,61,64,61,56,67,64,52,70,83,63,61,58,40,247,233,189,216,202,148,135,101,127,86,57,59,26,25,4,19,19,40,172,null,null,681,356,565,{"v":1219,"d":"1,219"},374,657,393,578,991,380,261,302,301,274,230,234,230,210,240,203,196,140,125,85,75,41,26,22,236,298,309,305,247,233,189,216,202,148,135,101,127,86,57,59,26,25]
["220603","SAN MARTIN","SAN MARTIN","MARISCAL CACERES","HUICUNGO",{"v":10981,"d":"10,981"},{"v":5659,"d":"5,659"},81,66,85,111,113,94,114,109,133,142,102,108,133,128,116,155,114,106,87,80,432,360,372,376,377,318,314,303,235,173,115,60,29,18,5,40,41,86,{"v":5322,"d":"5,322"},70,66,98,109,117,90,124,109,123,137,104,111,138,133,112,130,125,126,107,90,420,415,352,377,315,284,238,202,166,116,101,57,30,30,8,32,38,74,410,null,null,{"v":1258,"d":"1,258"},752,959,{"v":2060,"d":"2,060"},630,{"v":1258,"d":"1,258"},764,{"v":1032,"d":"1,032"},{"v":1768,"d":"1,768"},500,456,592,587,542,432,360,372,376,377,318,314,303,235,173,115,60,29,18,460,583,598,578,420,415,352,377,315,284,238,202,166,116,101,57,30,30]
["220705","SAN MARTIN","SAN MARTIN","PICOTA","PUCACACA",{"v":3173,"d":"3,173"},{"v":1645,"d":"1,645"},31,17,34,35,32,32,21,16,24,28,20,31,23,20,25,21,20,30,14,24,69,110,104,107,98,102,112,113,102,108,56,32,20,14,0,11,20,33,{"v":1528,"d":"1,528"},29,18,29,22,26,33,25,19,31,10,16,24,18,16,18,16,25,25,13,19,96,108,120,106,94,91,90,96,96,60,41,39,30,29,1,11,18,31,102,null,null,321,139,217,636,332,282,118,236,597,295,149,121,119,109,69,110,104,107,98,102,112,113,102,108,56,32,20,14,124,118,92,98,96,108,120,106,94,91,90,96,96,60,41,39,30,29]
["220805","SAN MARTIN","SAN MARTIN","RIOJA","PARDO MIGUEL",{"v":20986,"d":"20,986"},{"v":10877,"d":"10,877"},146,129,171,194,226,215,230,219,246,198,214,217,217,220,240,240,228,226,207,208,{"v":1021,"d":"1,021"},754,748,711,739,640,545,433,367,314,170,133,59,52,15,76,70,155,{"v":10109,"d":"10,109"},151,146,124,194,198,197,196,206,249,232,219,223,223,226,231,237,222,240,207,169,978,820,724,657,603,559,411,377,312,221,143,111,54,49,14,80,71,160,660,null,null,{"v":2405,"d":"2,405"},{"v":1371,"d":"1,371"},{"v":2190,"d":"2,190"},{"v":3816,"d":"3,816"},{"v":1095,"d":"1,095"},{"v":2335,"d":"2,335"},{"v":1379,"d":"1,379"},{"v":2174,"d":"2,174"},{"v":3331,"d":"3,331"},890,866,{"v":1108,"d":"1,108"},{"v":1108,"d":"1,108"},{"v":1109,"d":"1,109"},{"v":1021,"d":"1,021"},754,748,711,739,640,545,433,367,314,170,133,59,52,813,{"v":1080,"d":"1,080"},{"v":1122,"d":"1,122"},{"v":1075,"d":"1,075"},978,820,724,657,603,559,411,377,312,221,143,111,54,49]
["220808","SAN MARTIN","SAN MARTIN","RIOJA","YORONGOS",{"v":2772,"d":"2,772"},{"v":1423,"d":"1,423"},18,13,18,24,23,21,25,20,18,29,22,18,24,19,23,23,31,19,23,22,111,99,100,104,115,108,101,73,65,44,30,20,14,6,1,8,10,19,{"v":1349,"d":"1,349"},14,26,22,17,15,18,20,25,31,23,25,20,27,21,25,33,27,21,28,22,111,120,102,88,92,95,67,55,49,37,27,29,10,7,2,7,7,15,74,null,null,249,139,255,601,179,256,154,281,499,159,96,113,106,118,111,99,100,104,115,108,101,73,65,44,30,20,14,6,94,117,118,131,111,120,102,88,92,95,67,55,49,37,27,29,10,7]
["220905","SAN MARTIN","SAN MARTIN","SAN MARTIN","CHIPURANA",{"v":3179,"d":"3,179"},{"v":1608,"d":"1,608"},18,25,29,28,31,33,36,38,35,34,30,27,38,49,36,29,35,28,37,25,100,108,122,111,83,89,83,73,70,61,28,17,16,6,0,6,12,19,{"v":1571,"d":"1,571"},22,24,26,20,31,21,40,35,40,42,32,30,42,54,37,33,30,40,28,36,108,136,124,84,111,66,71,60,42,39,25,19,15,8,2,13,9,23,94,null,null,364,215,270,561,198,363,236,308,516,148,131,176,180,154,100,108,122,111,83,89,83,73,70,61,28,17,16,6,123,178,195,167,108,136,124,84,111,66,71,60,42,39,25,19,15,8]
["221002","SAN MARTIN","SAN MARTIN","TOCACHE","NUEVO PROGRESO",{"v":11907,"d":"11,907"},{"v":6061,"d":"6,061"},92,96,79,102,105,96,111,96,124,105,119,110,105,112,107,109,112,108,94,100,465,401,383,425,427,396,348,348,302,208,130,85,35,26,6,50,42,98,{"v":5846,"d":"5,846"},101,69,91,81,88,103,121,123,115,99,125,115,110,118,105,121,130,129,112,128,509,495,416,374,343,332,311,302,196,150,102,63,35,34,7,37,64,107,333,null,null,{"v":1235,"d":"1,235"},653,{"v":1060,"d":"1,060"},{"v":2327,"d":"2,327"},786,{"v":1231,"d":"1,231"},713,{"v":1244,"d":"1,244"},{"v":2078,"d":"2,078"},580,474,532,553,523,465,401,383,425,427,396,348,348,302,208,130,85,35,26,430,561,573,620,509,495,416,374,343,332,311,302,196,150,102,63,35,34]
["221003","SAN MARTIN","SAN MARTIN","TOCACHE","POLVORA",{"v":10410,"d":"10,410"},{"v":5378,"d":"5,378"},101,79,92,97,103,83,97,104,107,91,115,103,105,96,96,90,107,116,77,91,391,402,337,354,335,342,331,305,256,165,107,65,16,22,8,51,50,107,{"v":5032,"d":"5,032"},74,78,75,91,102,91,110,108,104,91,110,100,101,93,88,124,110,106,113,102,456,449,384,369,330,262,244,198,153,88,62,39,19,8,8,38,36,78,397,null,null,{"v":1172,"d":"1,172"},610,961,{"v":2004,"d":"2,004"},631,{"v":1134,"d":"1,134"},622,{"v":1120,"d":"1,120"},{"v":1787,"d":"1,787"},369,472,482,515,481,391,402,337,354,335,342,331,305,256,165,107,65,16,22,420,504,492,555,456,449,384,369,330,262,244,198,153,88,62,39,19,8]
["230104","TACNA","TACNA","TACNA","CIUDAD NUEVA",{"v":31708,"d":"31,708"},{"v":16012,"d":"16,012"},174,193,230,269,225,285,231,231,227,170,188,171,161,164,187,208,217,219,228,211,{"v":1193,"d":"1,193"},{"v":1435,"d":"1,435"},{"v":1497,"d":"1,497"},{"v":1461,"d":"1,461"},{"v":1309,"d":"1,309"},{"v":1201,"d":"1,201"},949,866,755,594,302,158,57,46,21,89,85,184,{"v":15696,"d":"15,696"},187,200,233,264,235,284,224,223,217,192,210,194,182,186,204,186,213,213,225,231,{"v":1273,"d":"1,273"},{"v":1574,"d":"1,574"},{"v":1370,"d":"1,370"},{"v":1179,"d":"1,179"},{"v":1120,"d":"1,120"},{"v":1076,"d":"1,076"},914,940,799,552,281,154,90,71,13,80,107,198,636,null,null,{"v":2594,"d":"2,594"},{"v":1156,"d":"1,156"},{"v":3067,"d":"3,067"},{"v":7283,"d":"7,283"},{"v":1912,"d":"1,912"},{"v":2663,"d":"2,663"},{"v":1184,"d":"1,184"},{"v":3303,"d":"3,303"},{"v":6599,"d":"6,599"},{"v":1947,"d":"1,947"},{"v":1091,"d":"1,091"},{"v":1144,"d":"1,144"},871,{"v":1083,"d":"1,083"},{"v":1193,"d":"1,193"},{"v":1435,"d":"1,435"},{"v":1497,"d":"1,497"},{"v":1461,"d":"1,461"},{"v":1309,"d":"1,309"},{"v":1201,"d":"1,201"},949,866,755,594,302,158,57,46,{"v":1119,"d":"1,119"},{"v":1140,"d":"1,140"},976,{"v":1068,"d":"1,068"},{"v":1273,"d":"1,273"},{"v":1574,"d":"1,574"},{"v":1370,"d":"1,370"},{"v":1179,"d":"1,179"},{"v":1120,"d":"1,120"},{"v":1076,"d":"1,076"},914,940,799,552,281,154,90,71]
["230105","TACNA","TACNA","TACNA","INCLAN",{"v":3532,"d":"3,532"},{"v":1709,"d":"1,709"},9,15,9,20,15,21,9,19,18,11,20,12,12,22,14,16,19,20,14,18,81,95,113,147,163,154,129,129,113,89,75,53,30,25,1,4,5,10,{"v":1823,"d":"1,823"},16,8,13,19,22,20,29,27,34,23,22,14,14,24,16,23,19,26,19,32,100,140,136,116,147,123,103,135,102,97,75,59,45,25,1,7,9,17,69,null,null,178,103,208,835,385,247,122,291,760,403,68,78,80,87,81,95,113,147,163,154,129,129,113,89,75,53,30,25,78,133,90,119,100,140,136,116,147,123,103,135,102,97,75,59,45,25]
["230106","TACNA","TACNA","TACNA","PACHIA",{"v":3243,"d":"3,243"},{"v":1641,"d":"1,641"},7,9,8,9,14,7,11,11,13,5,7,7,13,7,10,9,15,12,11,12,68,99,108,129,146,169,114,161,131,120,72,61,36,30,1,6,1,7,{"v":1602,"d":"1,602"},7,7,6,5,15,13,9,14,8,7,7,8,14,8,11,14,8,11,17,17,81,100,107,124,122,145,136,141,119,113,73,57,33,45,0,5,2,7,36,null,null,108,66,190,827,450,106,66,215,775,440,47,47,44,59,68,99,108,129,146,169,114,161,131,120,72,61,36,30,40,51,48,67,81,100,107,124,122,145,136,141,119,113,73,57,33,45]
["230107","TACNA","TACNA","TACNA","PALCA",{"v":2540,"d":"2,540"},{"v":1306,"d":"1,306"},7,7,7,11,4,9,14,9,18,12,11,8,7,6,10,4,9,20,12,20,63,98,101,123,120,115,98,99,104,60,55,34,20,11,1,4,3,7,{"v":1234,"d":"1,234"},4,5,9,9,10,11,12,11,8,9,13,11,9,8,12,8,13,10,15,15,82,89,118,103,92,98,88,67,96,50,54,38,22,35,1,2,2,4,13,null,null,117,56,193,656,284,112,60,201,566,295,36,62,42,65,63,98,101,123,120,115,98,99,104,60,55,34,20,11,37,51,53,61,82,89,118,103,92,98,88,67,96,50,54,38,22,35]
["230108","TACNA","TACNA","TACNA","POCOLLAY",{"v":21708,"d":"21,708"},{"v":11085,"d":"11,085"},88,75,106,84,66,94,144,134,110,101,111,107,116,109,121,107,134,124,132,145,721,719,838,868,906,{"v":1042,"d":"1,042"},902,822,683,476,359,273,142,126,6,46,42,93,{"v":10623,"d":"10,623"},70,67,88,87,81,103,145,131,119,122,110,108,116,110,115,108,143,143,123,155,719,833,810,771,861,854,773,748,573,491,417,277,126,126,5,36,34,74,304,null,null,{"v":1220,"d":"1,220"},711,{"v":1717,"d":"1,717"},{"v":5378,"d":"5,378"},{"v":2059,"d":"2,059"},{"v":1231,"d":"1,231"},735,{"v":1830,"d":"1,830"},{"v":4817,"d":"4,817"},{"v":2010,"d":"2,010"},419,583,564,642,721,719,838,868,906,{"v":1042,"d":"1,042"},902,822,683,476,359,273,142,126,393,620,559,672,719,833,810,771,861,854,773,748,573,491,417,277,126,126]
["230109","TACNA","TACNA","TACNA","SAMA",{"v":4754,"d":"4,754"},{"v":2304,"d":"2,304"},20,13,16,18,16,18,17,14,18,13,18,13,19,14,16,14,26,20,26,15,92,135,141,169,194,229,172,153,189,159,126,96,57,48,3,10,10,21,{"v":2450,"d":"2,450"},15,13,17,17,9,13,31,18,13,19,25,18,27,20,22,24,24,32,15,32,112,168,154,192,187,188,181,159,170,162,157,92,53,71,1,10,5,16,76,null,null,194,109,268,{"v":1058,"d":"1,058"},675,208,149,327,{"v":1061,"d":"1,061"},705,83,80,80,101,92,135,141,169,194,229,172,153,189,159,126,96,57,48,71,94,112,127,112,168,154,192,187,188,181,159,170,162,157,92,53,71]
["230110","TACNA","TACNA","TACNA","CORONEL GREGORIO ALBARRACIN LANCHIPA",{"v":141935,"d":"141,935"},{"v":73124,"d":"73,124"},623,664,694,740,709,840,{"v":1181,"d":"1,181"},{"v":1182,"d":"1,182"},{"v":1195,"d":"1,195"},{"v":1028,"d":"1,028"},{"v":1034,"d":"1,034"},{"v":1007,"d":"1,007"},{"v":1001,"d":"1,001"},937,{"v":1017,"d":"1,017"},{"v":1136,"d":"1,136"},{"v":1160,"d":"1,160"},{"v":1130,"d":"1,130"},{"v":1202,"d":"1,202"},{"v":1178,"d":"1,178"},{"v":5988,"d":"5,988"},{"v":6480,"d":"6,480"},{"v":6528,"d":"6,528"},{"v":6230,"d":"6,230"},{"v":5743,"d":"5,743"},{"v":5617,"d":"5,617"},{"v":4744,"d":"4,744"},{"v":4230,"d":"4,230"},{"v":3352,"d":"3,352"},{"v":2113,"d":"2,113"},{"v":1242,"d":"1,242"},710,308,181,44,286,337,660,{"v":68811,"d":"68,811"},601,622,708,723,666,786,{"v":1095,"d":"1,095"},{"v":1081,"d":"1,081"},{"v":1013,"d":"1,013"},970,{"v":1017,"d":"1,017"},{"v":1008,"d":"1,008"},{"v":1002,"d":"1,002"},939,979,998,{"v":1090,"d":"1,090"},{"v":1018,"d":"1,018"},{"v":1125,"d":"1,125"},{"v":1128,"d":"1,128"},{"v":5644,"d":"5,644"},{"v":6634,"d":"6,634"},{"v":6073,"d":"6,073"},{"v":5803,"d":"5,803"},{"v":5406,"d":"5,406"},{"v":5203,"d":"5,203"},{"v":4389,"d":"4,389"},{"v":4124,"d":"4,124"},{"v":2965,"d":"2,965"},{"v":1774,"d":"1,774"},{"v":1026,"d":"1,026"},572,360,269,43,298,303,637,{"v":1517,"d":"1,517"},null,null,{"v":10897,"d":"10,897"},{"v":6381,"d":"6,381"},{"v":14848,"d":"14,848"},{"v":33092,"d":"33,092"},{"v":7906,"d":"7,906"},{"v":10290,"d":"10,290"},{"v":6026,"d":"6,026"},{"v":14531,"d":"14,531"},{"v":30998,"d":"30,998"},{"v":6966,"d":"6,966"},{"v":3430,"d":"3,430"},{"v":5426,"d":"5,426"},{"v":4996,"d":"4,996"},{"v":5806,"d":"5,806"},{"v":5988,"d":"5,988"},{"v":6480,"d":"6,480"},{"v":6528,"d":"6,528"},{"v":6230,"d":"6,230"},{"v":5743,"d":"5,743"},{"v":5617,"d":"5,617"},{"v":4744,"d":"4,744"},{"v":4230,"d":"4,230"},{"v":3352,"d":"3,352"},{"v":2113,"d":"2,113"},{"v":1242,"d":"1,242"},710,308,181,{"v":3320,"d":"3,320"},{"v":4945,"d":"4,945"},{"v":4945,"d":"4,945"},{"v":5359,"d":"5,359"},{"v":5644,"d":"5,644"},{"v":6634,"d":"6,634"},{"v":6073,"d":"6,073"},{"v":5803,"d":"5,803"},{"v":5406,"d":"5,406"},{"v":5203,"d":"5,203"},{"v":4389,"d":"4,389"},{"v":4124,"d":"4,124"},{"v":2965,"d":"2,965"},{"v":1774,"d":"1,774"},{"v":1026,"d":"1,026"},572,360,269]
["230111","TACNA","TACNA","TACNA","LA YARADA LOS PALOS",{"v":8709,"d":"8,709"},{"v":4345,"d":"4,345"},65,47,57,80,69,83,37,30,37,24,31,25,39,31,35,43,37,42,42,53,198,230,230,335,377,396,359,359,312,231,210,115,57,29,4,32,33,69,{"v":4364,"d":"4,364"},60,64,54,61,65,57,54,48,43,37,37,32,48,39,43,52,40,33,46,47,252,314,329,349,345,359,283,285,314,220,145,118,53,38,2,20,40,64,157,null,null,585,227,523,{"v":2056,"d":"2,056"},954,612,255,659,{"v":1950,"d":"1,950"},888,318,211,161,217,198,230,230,335,377,396,359,359,312,231,210,115,57,29,304,239,199,218,252,314,329,349,345,359,283,285,314,220,145,118,53,38]
["230201","TACNA","TACNA","CANDARAVE","CANDARAVE",{"v":2645,"d":"2,645"},{"v":1298,"d":"1,298"},5,12,9,10,8,15,9,8,14,11,11,10,12,13,16,13,22,11,14,11,63,79,79,87,93,94,101,110,97,77,67,47,33,37,2,2,3,5,{"v":1347,"d":"1,347"},4,5,7,10,14,12,13,14,14,9,12,12,15,15,19,15,20,17,17,15,74,72,74,77,76,95,99,112,105,70,70,59,58,47,0,1,3,4,11,null,null,122,87,167,564,358,126,101,178,533,409,44,57,62,71,63,79,79,87,93,94,101,110,97,77,67,47,33,37,40,62,73,84,74,72,74,77,76,95,99,112,105,70,70,59,58,47]
["230202","TACNA","TACNA","CANDARAVE","CAIRANI",968,475,2,3,5,5,6,4,3,3,1,3,3,1,2,2,5,3,7,3,3,4,25,30,36,47,54,49,26,28,28,31,19,21,6,7,0,2,0,2,493,1,3,4,5,0,3,4,4,1,1,3,1,2,2,7,4,7,7,4,0,34,35,28,32,41,39,33,40,49,30,12,23,20,14,0,0,1,1,4,null,null,39,22,62,240,112,30,29,73,213,148,21,14,13,20,25,30,36,47,54,49,26,28,28,31,19,21,6,7,13,13,15,22,34,35,28,32,41,39,33,40,49,30,12,23,20,14]
["230203","TACNA","TACNA","CANDARAVE","CAMILACA",{"v":1132,"d":"1,132"},565,4,1,3,1,2,2,3,1,3,3,1,8,1,1,3,3,3,1,3,5,15,33,35,61,51,64,62,45,40,30,32,18,11,16,0,2,2,4,567,2,1,2,6,5,4,4,1,2,0,1,6,1,1,2,4,4,6,4,5,24,41,34,47,53,47,45,46,48,38,37,20,13,13,0,1,1,2,9,null,null,32,12,56,318,147,34,18,74,272,169,11,12,14,15,15,33,35,61,51,64,62,45,40,30,32,18,11,16,16,11,11,23,24,41,34,47,53,47,45,46,48,38,37,20,13,13]
["230204","TACNA","TACNA","CANDARAVE","CURIBAYA",674,334,0,1,4,1,1,1,0,0,3,0,1,0,1,1,1,3,3,0,3,1,10,23,24,27,35,31,30,41,24,23,15,11,8,7,0,0,0,0,340,0,0,3,3,1,0,0,3,1,6,3,0,3,3,1,3,3,0,4,2,13,23,26,22,26,32,25,35,26,22,8,17,13,13,0,0,0,0,1,null,null,12,9,37,188,88,20,13,42,166,99,7,4,4,10,10,23,24,27,35,31,30,41,24,23,15,11,8,7,7,10,10,12,13,23,26,22,26,32,25,35,26,22,8,17,13,13]
["230205","TACNA","TACNA","CANDARAVE","HUANUARA",589,295,2,1,2,4,8,5,0,2,0,1,1,1,1,1,0,3,0,1,1,4,19,24,24,28,19,22,20,18,22,24,14,11,4,8,1,1,1,2,294,3,0,0,3,5,3,1,2,5,2,1,1,1,2,0,2,2,4,2,1,15,27,20,20,18,21,19,28,19,19,12,12,11,13,0,2,1,3,12,null,null,27,6,48,131,83,26,11,45,126,86,17,8,4,9,19,24,24,28,19,22,20,18,22,24,14,11,4,8,11,13,5,11,15,27,20,20,18,21,19,28,19,19,12,12,11,13]
["230206","TACNA","TACNA","CANDARAVE","QUILAHUANI",623,308,2,4,3,3,5,2,2,2,1,2,1,1,3,3,3,2,3,2,4,2,21,17,20,22,24,30,24,20,22,19,15,15,3,6,0,1,1,2,315,0,2,6,2,10,4,1,2,2,5,2,2,5,4,2,4,6,4,4,4,15,19,24,14,21,27,25,29,21,5,15,10,11,8,0,0,0,0,3,null,null,28,16,44,140,80,38,25,42,140,70,17,9,11,13,21,17,20,22,24,30,24,20,22,19,15,15,3,6,20,14,15,22,15,19,24,14,21,27,25,29,21,5,15,10,11,8]
["230301","TACNA","TACNA","JORGE BASADRE","LOCUMBA",{"v":3354,"d":"3,354"},{"v":1655,"d":"1,655"},12,8,14,14,10,16,15,20,25,11,12,15,16,13,13,14,19,18,21,11,91,91,109,150,126,155,148,133,103,97,83,46,19,7,0,4,8,13,{"v":1699,"d":"1,699"},14,16,15,6,14,15,22,25,19,19,17,22,23,19,18,17,16,20,10,14,94,126,133,127,136,120,127,122,112,107,85,31,19,19,0,7,7,15,61,null,null,172,93,214,821,355,204,113,244,765,373,58,87,69,83,91,91,109,150,126,155,148,133,103,97,83,46,19,7,65,100,99,77,94,126,133,127,136,120,127,122,112,107,85,31,19,19]
["230302","TACNA","TACNA","JORGE BASADRE","ILABAYA",{"v":7745,"d":"7,745"},{"v":3740,"d":"3,740"},10,11,14,15,10,22,27,24,31,19,17,19,19,27,20,36,29,31,25,31,153,223,292,327,381,361,330,315,292,247,135,89,79,79,2,5,5,11,{"v":4005,"d":"4,005"},20,17,23,18,14,15,44,35,33,35,33,37,38,55,38,35,41,41,31,34,195,252,315,343,339,307,337,288,289,198,179,104,79,143,0,11,9,21,66,null,null,219,162,432,{"v":2006,"d":"2,006"},921,324,248,512,{"v":1929,"d":"1,929"},992,60,123,102,152,153,223,292,327,381,361,330,315,292,247,135,89,79,79,92,162,201,182,195,252,315,343,339,307,337,288,289,198,179,104,79,143]
["230303","TACNA","TACNA","JORGE BASADRE","ITE",{"v":3713,"d":"3,713"},{"v":1819,"d":"1,819"},16,12,21,18,11,19,13,23,17,12,13,15,12,15,12,17,17,18,22,17,99,120,149,158,188,184,145,168,110,80,44,24,16,14,2,7,9,17,{"v":1894,"d":"1,894"},20,11,10,13,15,8,21,26,25,23,18,21,17,22,16,23,19,24,30,17,132,180,178,154,158,169,146,135,93,67,40,22,13,28,1,12,8,21,69,null,null,190,91,258,992,288,211,121,359,940,263,78,84,67,91,99,120,149,158,188,184,145,168,110,80,44,24,16,14,69,103,94,113,132,180,178,154,158,169,146,135,93,67,40,22,13,28]
["230401","TACNA","TACNA","TARATA","TARATA",{"v":4172,"d":"4,172"},{"v":2061,"d":"2,061"},14,12,20,26,11,11,27,27,21,19,20,17,25,17,25,31,29,26,28,28,117,126,117,146,133,195,143,146,146,124,85,59,54,36,1,7,7,15,{"v":2111,"d":"2,111"},4,16,13,7,13,14,17,23,25,19,22,19,28,19,29,29,28,23,30,28,137,147,108,138,141,137,125,138,173,105,94,83,85,94,0,2,2,4,60,null,null,225,153,299,880,504,192,156,342,787,634,83,105,104,142,117,126,117,146,133,195,143,146,146,124,85,59,54,36,53,98,117,138,137,147,108,138,141,137,125,138,173,105,94,83,85,94]
["230402","TACNA","TACNA","TARATA","HEROES ALBARRACIN",313,159,2,2,1,1,0,2,0,1,0,1,0,1,1,1,0,1,0,1,1,0,3,8,10,14,14,17,11,13,14,13,7,8,3,8,0,2,0,2,154,2,1,1,0,1,2,1,2,1,0,0,1,1,1,0,1,2,0,1,0,4,10,8,12,11,9,17,11,16,10,8,9,3,8,0,1,1,2,5,null,null,11,4,12,79,53,12,5,15,68,54,6,4,3,3,3,8,10,14,14,17,11,13,14,13,7,8,3,8,5,6,3,4,4,10,8,12,11,9,17,11,16,10,8,9,3,8]
["230403","TACNA","TACNA","TARATA","ESTIQUE",373,208,1,2,2,1,5,1,0,0,1,0,2,0,2,0,1,0,0,1,0,1,1,13,17,19,21,23,14,21,13,16,12,11,6,1,0,0,1,1,165,0,1,1,2,2,1,0,8,1,0,1,0,1,0,0,0,0,1,0,1,4,9,15,12,17,13,14,11,14,14,8,6,6,2,0,0,0,0,2,null,null,15,4,15,115,59,17,2,14,82,50,11,2,5,2,1,13,17,19,21,23,14,21,13,16,12,11,6,1,6,10,2,2,4,9,15,12,17,13,14,11,14,14,8,6,6,2]
["230404","TACNA","TACNA","TARATA","ESTIQUE-PAMPA",345,171,3,0,0,0,2,0,0,0,1,0,1,0,1,1,0,1,0,1,1,1,3,5,13,13,14,16,15,17,24,21,9,1,3,4,0,2,1,3,174,1,2,0,0,3,0,0,1,1,0,1,0,1,1,0,1,1,1,1,0,7,5,11,10,12,12,14,15,17,19,12,10,5,10,0,1,0,1,6,null,null,7,4,10,88,62,9,5,13,74,73,5,1,3,4,3,5,13,13,14,16,15,17,24,21,9,1,3,4,6,2,3,4,7,5,11,10,12,12,14,15,17,19,12,10,5,10]
["230405","TACNA","TACNA","TARATA","SITAJARA",361,184,2,0,0,1,0,0,1,0,0,1,1,1,1,1,0,0,0,2,3,0,4,4,12,11,13,18,27,15,17,20,11,7,0,11,1,2,0,2,177,0,1,0,3,2,0,1,1,1,2,2,1,1,1,1,2,1,2,1,1,4,10,10,10,9,10,15,18,13,14,15,9,8,8,0,0,0,0,3,null,null,7,4,11,96,66,14,8,16,72,67,3,2,4,5,4,4,12,11,13,18,27,15,17,20,11,7,0,11,6,5,6,7,4,10,10,10,9,10,15,18,13,14,15,9,8,8]
["230406","TACNA","TACNA","TARATA","SUSAPAYA",494,223,0,1,1,2,0,2,0,1,1,0,1,1,1,1,1,2,2,1,1,1,7,13,9,16,15,26,17,21,17,14,16,12,10,10,0,0,0,0,271,1,4,2,0,1,1,1,1,1,0,2,1,2,1,0,1,1,4,5,1,7,14,10,17,20,26,17,25,20,19,23,17,13,13,0,1,0,1,2,null,null,10,8,22,104,79,15,9,27,115,105,4,4,5,7,7,13,9,16,15,26,17,21,17,14,16,12,10,10,8,4,6,12,7,14,10,17,20,26,17,25,20,19,23,17,13,13]
["230407","TACNA","TACNA","TARATA","TARUCACHI",327,166,3,5,2,1,1,2,0,1,1,0,1,1,1,1,0,0,1,1,1,0,4,9,9,15,15,11,18,15,15,10,9,8,4,1,0,1,2,3,161,4,2,3,1,3,0,1,1,1,1,1,1,1,1,1,2,0,1,1,0,4,10,8,10,10,14,14,10,14,12,11,7,5,6,1,2,2,4,19,null,null,18,4,14,83,47,19,6,15,66,55,12,4,4,3,4,9,9,15,15,11,18,15,15,10,9,8,4,1,13,4,5,4,4,10,8,10,10,14,14,10,14,12,11,7,5,6]
["230408","TACNA","TACNA","TARATA","TICACO",584,278,2,0,3,2,6,4,2,2,2,0,1,1,3,3,1,2,5,4,2,1,8,17,16,18,26,22,18,26,22,15,14,12,10,8,0,0,2,2,306,1,3,4,2,6,2,2,2,3,3,2,2,3,3,1,4,2,4,2,4,12,16,19,15,17,16,20,23,24,15,18,17,19,20,0,1,0,1,5,null,null,25,18,28,126,81,32,17,34,110,113,13,10,9,14,8,17,16,18,26,22,18,26,22,15,14,12,10,8,16,12,11,16,12,16,19,15,17,16,20,23,24,15,18,17,19,20]
["240101","TUMBES","TUMBES","TUMBES","TUMBES",{"v":123440,"d":"123,440"},{"v":61839,"d":"61,839"},714,728,933,{"v":1033,"d":"1,033"},994,{"v":1078,"d":"1,078"},{"v":1093,"d":"1,093"},{"v":1178,"d":"1,178"},{"v":1056,"d":"1,056"},821,860,968,{"v":1015,"d":"1,015"},{"v":1090,"d":"1,090"},772,{"v":1090,"d":"1,090"},{"v":1030,"d":"1,030"},{"v":1061,"d":"1,061"},823,801,{"v":4962,"d":"4,962"},{"v":4570,"d":"4,570"},{"v":4150,"d":"4,150"},{"v":4600,"d":"4,600"},{"v":4655,"d":"4,655"},{"v":5357,"d":"5,357"},{"v":3658,"d":"3,658"},{"v":3541,"d":"3,541"},{"v":2492,"d":"2,492"},{"v":1936,"d":"1,936"},{"v":1314,"d":"1,314"},825,323,318,44,341,373,757,{"v":61601,"d":"61,601"},750,691,836,899,952,988,943,{"v":1074,"d":"1,074"},{"v":1048,"d":"1,048"},{"v":1380,"d":"1,380"},{"v":1446,"d":"1,446"},910,954,{"v":1025,"d":"1,025"},{"v":1476,"d":"1,476"},{"v":1051,"d":"1,051"},940,{"v":1005,"d":"1,005"},{"v":1381,"d":"1,381"},{"v":1276,"d":"1,276"},{"v":4551,"d":"4,551"},{"v":4657,"d":"4,657"},{"v":4066,"d":"4,066"},{"v":3882,"d":"3,882"},{"v":3849,"d":"3,849"},{"v":3639,"d":"3,639"},{"v":3567,"d":"3,567"},{"v":3274,"d":"3,274"},{"v":2638,"d":"2,638"},{"v":2157,"d":"2,157"},{"v":1643,"d":"1,643"},{"v":1132,"d":"1,132"},743,778,43,361,389,795,{"v":2265,"d":"2,265"},null,null,{"v":11456,"d":"11,456"},{"v":6058,"d":"6,058"},{"v":11156,"d":"11,156"},{"v":25961,"d":"25,961"},{"v":7208,"d":"7,208"},{"v":11917,"d":"11,917"},{"v":6451,"d":"6,451"},{"v":11865,"d":"11,865"},{"v":22277,"d":"22,277"},{"v":9091,"d":"9,091"},{"v":4402,"d":"4,402"},{"v":5226,"d":"5,226"},{"v":4705,"d":"4,705"},{"v":4805,"d":"4,805"},{"v":4962,"d":"4,962"},{"v":4570,"d":"4,570"},{"v":4150,"d":"4,150"},{"v":4600,"d":"4,600"},{"v":4655,"d":"4,655"},{"v":5357,"d":"5,357"},{"v":3658,"d":"3,658"},{"v":3541,"d":"3,541"},{"v":2492,"d":"2,492"},{"v":1936,"d":"1,936"},{"v":1314,"d":"1,314"},825,323,318,{"v":4128,"d":"4,128"},{"v":5433,"d":"5,433"},{"v":5811,"d":"5,811"},{"v":5653,"d":"5,653"},{"v":4551,"d":"4,551"},{"v":4657,"d":"4,657"},{"v":4066,"d":"4,066"},{"v":3882,"d":"3,882"},{"v":3849,"d":"3,849"},{"v":3639,"d":"3,639"},{"v":3567,"d":"3,567"},{"v":3274,"d":"3,274"},{"v":2638,"d":"2,638"},{"v":2157,"d":"2,157"},{"v":1643,"d":"1,643"},{"v":1132,"d":"1,132"},743,778]
["240102","TUMBES","TUMBES","TUMBES","CORRALES",{"v":32068,"d":"32,068"},{"v":16187,"d":"16,187"},163,148,223,230,222,218,281,290,296,250,223,284,232,266,186,284,265,239,187,215,{"v":1235,"d":"1,235"},{"v":1082,"d":"1,082"},{"v":1108,"d":"1,108"},{"v":1327,"d":"1,327"},{"v":1301,"d":"1,301"},{"v":1484,"d":"1,484"},954,920,706,533,363,232,112,128,9,72,91,173,{"v":15881,"d":"15,881"},154,169,189,195,214,199,237,283,267,323,372,265,216,248,351,262,275,250,325,367,{"v":1108,"d":"1,108"},{"v":1216,"d":"1,216"},{"v":1085,"d":"1,085"},{"v":1159,"d":"1,159"},{"v":1112,"d":"1,112"},984,932,840,697,540,423,253,193,178,7,75,79,163,601,null,null,{"v":2828,"d":"2,828"},{"v":1472,"d":"1,472"},{"v":2719,"d":"2,719"},{"v":7094,"d":"7,094"},{"v":2074,"d":"2,074"},{"v":2867,"d":"2,867"},{"v":1602,"d":"1,602"},{"v":3016,"d":"3,016"},{"v":6112,"d":"6,112"},{"v":2284,"d":"2,284"},986,{"v":1335,"d":"1,335"},{"v":1191,"d":"1,191"},{"v":1190,"d":"1,190"},{"v":1235,"d":"1,235"},{"v":1082,"d":"1,082"},{"v":1108,"d":"1,108"},{"v":1327,"d":"1,327"},{"v":1301,"d":"1,301"},{"v":1484,"d":"1,484"},954,920,706,533,363,232,112,128,921,{"v":1309,"d":"1,309"},{"v":1452,"d":"1,452"},{"v":1479,"d":"1,479"},{"v":1108,"d":"1,108"},{"v":1216,"d":"1,216"},{"v":1085,"d":"1,085"},{"v":1159,"d":"1,159"},{"v":1112,"d":"1,112"},984,932,840,697,540,423,253,193,178]
["240103","TUMBES","TUMBES","TUMBES","LA CRUZ",{"v":13495,"d":"13,495"},{"v":6788,"d":"6,788"},65,60,72,80,77,90,127,138,121,119,91,136,108,94,78,117,125,90,93,61,454,503,484,560,549,619,414,431,297,217,148,92,37,41,6,34,31,69,{"v":6707,"d":"6,707"},62,63,61,83,81,84,97,108,123,139,153,128,103,89,150,105,123,122,158,137,445,482,449,431,460,437,408,362,341,230,182,141,75,95,5,28,34,66,236,null,null,{"v":1176,"d":"1,176"},612,{"v":1111,"d":"1,111"},{"v":3057,"d":"3,057"},832,{"v":1182,"d":"1,182"},692,{"v":1222,"d":"1,222"},{"v":2547,"d":"2,547"},{"v":1064,"d":"1,064"},354,595,507,486,454,503,484,560,549,619,414,431,297,217,148,92,37,41,350,551,623,645,445,482,449,431,460,437,408,362,341,230,182,141,75,95]
["240104","TUMBES","TUMBES","TUMBES","PAMPAS DE HOSPITAL",{"v":9377,"d":"9,377"},{"v":4662,"d":"4,662"},53,63,60,61,73,77,56,65,74,46,60,63,66,66,35,49,58,75,58,57,318,344,311,364,345,466,280,273,250,155,147,96,41,57,0,25,28,56,{"v":4715,"d":"4,715"},51,40,63,61,55,56,63,77,59,92,101,59,61,61,72,62,65,64,91,70,345,337,339,323,295,325,277,268,238,192,147,114,102,90,5,30,21,54,348,null,null,751,349,777,{"v":2039,"d":"2,039"},746,777,385,843,{"v":1827,"d":"1,827"},883,310,318,290,297,318,344,311,364,345,466,280,273,250,155,147,96,41,57,270,347,354,352,345,337,339,323,295,325,277,268,238,192,147,114,102,90]
["240105","TUMBES","TUMBES","TUMBES","SAN JACINTO",{"v":10894,"d":"10,894"},{"v":5445,"d":"5,445"},46,46,71,67,62,85,67,74,79,70,55,64,71,75,39,73,77,75,57,56,347,343,370,479,475,485,360,353,288,224,156,116,70,70,2,18,28,49,{"v":5449,"d":"5,449"},61,58,64,74,63,65,68,64,68,106,101,66,73,78,85,76,61,71,122,93,327,372,345,349,384,416,339,302,279,236,202,147,133,101,2,28,33,65,184,null,null,786,410,803,{"v":2522,"d":"2,522"},924,858,444,914,{"v":2135,"d":"2,135"},{"v":1098,"d":"1,098"},292,375,304,338,347,343,370,479,475,485,360,353,288,224,156,116,70,70,320,371,403,423,327,372,345,349,384,416,339,302,279,236,202,147,133,101]
["240106","TUMBES","TUMBES","TUMBES","SAN JUAN DE LA VIRGEN",{"v":6894,"d":"6,894"},{"v":3441,"d":"3,441"},32,28,21,45,48,50,47,67,41,44,28,39,55,60,34,51,39,39,36,29,184,202,199,324,321,351,242,204,173,140,103,91,32,42,5,16,16,34,{"v":3453,"d":"3,453"},27,25,44,41,30,35,61,46,34,86,44,35,50,54,62,44,47,60,52,48,220,207,250,251,261,222,195,202,194,140,170,87,70,59,1,12,15,29,131,null,null,490,278,451,{"v":1641,"d":"1,641"},581,508,317,527,{"v":1381,"d":"1,381"},720,174,249,216,194,184,202,199,324,321,351,242,204,173,140,103,91,32,42,167,262,245,251,220,207,250,251,261,222,195,202,194,140,170,87,70,59]
["240201","TUMBES","TUMBES","CONTRALMIRANTE VILLAR","ZORRITOS",{"v":21729,"d":"21,729"},{"v":10900,"d":"10,900"},87,85,89,117,123,103,199,197,221,157,121,173,177,183,102,198,174,208,148,148,870,818,793,783,879,946,675,695,488,360,281,172,68,62,6,39,48,92,{"v":10829,"d":"10,829"},83,95,99,126,119,131,206,194,188,272,235,186,191,198,221,159,210,208,235,233,783,843,743,715,705,594,614,549,472,346,322,250,156,148,9,47,36,88,312,null,null,{"v":1672,"d":"1,672"},{"v":1042,"d":"1,042"},{"v":1984,"d":"1,984"},{"v":4771,"d":"4,771"},{"v":1431,"d":"1,431"},{"v":1934,"d":"1,934"},{"v":1187,"d":"1,187"},{"v":2094,"d":"2,094"},{"v":3920,"d":"3,920"},{"v":1694,"d":"1,694"},501,877,756,876,870,818,793,783,879,946,675,695,488,360,281,172,68,62,522,991,{"v":1031,"d":"1,031"},{"v":1045,"d":"1,045"},783,843,743,715,705,594,614,549,472,346,322,250,156,148]
["240202","TUMBES","TUMBES","CONTRALMIRANTE VILLAR","CASITAS",{"v":6991,"d":"6,991"},{"v":3371,"d":"3,371"},15,15,17,18,14,13,41,29,34,35,12,33,33,36,21,29,58,41,33,49,216,283,215,236,286,388,249,260,199,121,119,89,50,84,0,8,7,16,{"v":3620,"d":"3,620"},7,15,9,10,9,17,29,61,29,43,29,44,45,48,55,41,44,51,60,64,218,303,251,236,241,270,264,231,203,126,174,128,142,123,1,5,2,7,64,null,null,276,218,581,{"v":1634,"d":"1,634"},662,302,284,645,{"v":1493,"d":"1,493"},896,79,152,135,210,216,283,215,236,286,388,249,260,199,121,119,89,50,84,50,179,221,260,218,303,251,236,241,270,264,231,203,126,174,128,142,123]
["240203","TUMBES","TUMBES","CONTRALMIRANTE VILLAR","CANOAS DE PUNTA SAL",{"v":10984,"d":"10,984"},{"v":5485,"d":"5,485"},62,65,66,92,65,58,122,94,124,89,86,109,108,95,58,86,121,111,55,61,434,444,421,402,444,468,286,253,224,157,96,69,30,30,3,27,35,66,{"v":5499,"d":"5,499"},41,62,68,62,71,61,108,109,109,139,157,113,112,98,120,88,86,96,142,106,403,482,420,376,363,328,307,242,178,150,129,74,46,53,3,20,21,43,247,null,null,{"v":1032,"d":"1,032"},579,994,{"v":2274,"d":"2,274"},606,{"v":1100,"d":"1,100"},600,{"v":1133,"d":"1,133"},{"v":2036,"d":"2,036"},630,350,487,456,434,434,444,421,402,444,468,286,253,224,157,96,69,30,30,304,526,600,518,403,482,420,376,363,328,307,242,178,150,129,74,46,53]
["240301","TUMBES","TUMBES","ZARUMILLA","ZARUMILLA",{"v":43687,"d":"43,687"},{"v":21955,"d":"21,955"},163,129,180,224,267,273,415,523,443,402,348,412,445,409,299,394,478,465,329,308,{"v":1683,"d":"1,683"},{"v":1717,"d":"1,717"},{"v":1628,"d":"1,628"},{"v":1569,"d":"1,569"},{"v":1656,"d":"1,656"},{"v":1916,"d":"1,916"},{"v":1244,"d":"1,244"},{"v":1167,"d":"1,167"},844,640,491,292,99,103,18,87,76,173,{"v":21732,"d":"21,732"},169,123,194,245,264,228,369,389,406,574,534,353,382,349,522,381,409,412,569,476,{"v":1658,"d":"1,658"},{"v":1837,"d":"1,837"},{"v":1539,"d":"1,539"},{"v":1390,"d":"1,390"},{"v":1355,"d":"1,355"},{"v":1219,"d":"1,219"},{"v":1250,"d":"1,250"},{"v":1189,"d":"1,189"},911,692,508,406,221,209,17,85,84,179,605,null,null,{"v":3779,"d":"3,779"},{"v":2490,"d":"2,490"},{"v":4037,"d":"4,037"},{"v":9180,"d":"9,180"},{"v":2469,"d":"2,469"},{"v":3848,"d":"3,848"},{"v":2455,"d":"2,455"},{"v":4540,"d":"4,540"},{"v":7942,"d":"7,942"},{"v":2947,"d":"2,947"},963,{"v":2056,"d":"2,056"},{"v":1913,"d":"1,913"},{"v":1974,"d":"1,974"},{"v":1683,"d":"1,683"},{"v":1717,"d":"1,717"},{"v":1628,"d":"1,628"},{"v":1569,"d":"1,569"},{"v":1656,"d":"1,656"},{"v":1916,"d":"1,916"},{"v":1244,"d":"1,244"},{"v":1167,"d":"1,167"},844,640,491,292,99,103,995,{"v":1966,"d":"1,966"},{"v":2140,"d":"2,140"},{"v":2247,"d":"2,247"},{"v":1658,"d":"1,658"},{"v":1837,"d":"1,837"},{"v":1539,"d":"1,539"},{"v":1390,"d":"1,390"},{"v":1355,"d":"1,355"},{"v":1219,"d":"1,219"},{"v":1250,"d":"1,250"},{"v":1189,"d":"1,189"},911,692,508,406,221,209]
["240302","TUMBES","TUMBES","ZARUMILLA","AGUAS VERDES",{"v":34996,"d":"34,996"},{"v":17628,"d":"17,628"},151,163,166,190,201,205,326,351,394,320,269,307,322,356,233,360,323,337,242,254,{"v":1357,"d":"1,357"},{"v":1376,"d":"1,376"},{"v":1459,"d":"1,459"},{"v":1447,"d":"1,447"},{"v":1445,"d":"1,445"},{"v":1545,"d":"1,545"},{"v":1114,"d":"1,114"},908,557,445,257,146,52,50,7,70,81,160,{"v":17368,"d":"17,368"},156,154,172,163,191,197,344,340,338,497,458,293,307,339,456,320,314,330,366,384,{"v":1393,"d":"1,393"},{"v":1615,"d":"1,615"},{"v":1511,"d":"1,511"},{"v":1296,"d":"1,296"},{"v":1137,"d":"1,137"},{"v":1091,"d":"1,091"},984,696,586,341,240,185,86,88,4,66,90,165,557,null,null,{"v":3043,"d":"3,043"},{"v":1931,"d":"1,931"},{"v":3229,"d":"3,229"},{"v":7918,"d":"7,918"},{"v":1507,"d":"1,507"},{"v":3303,"d":"3,303"},{"v":2066,"d":"2,066"},{"v":3758,"d":"3,758"},{"v":6715,"d":"6,715"},{"v":1526,"d":"1,526"},871,{"v":1596,"d":"1,596"},{"v":1487,"d":"1,487"},{"v":1516,"d":"1,516"},{"v":1357,"d":"1,357"},{"v":1376,"d":"1,376"},{"v":1459,"d":"1,459"},{"v":1447,"d":"1,447"},{"v":1445,"d":"1,445"},{"v":1545,"d":"1,545"},{"v":1114,"d":"1,114"},908,557,445,257,146,52,50,836,{"v":1716,"d":"1,716"},{"v":1853,"d":"1,853"},{"v":1714,"d":"1,714"},{"v":1393,"d":"1,393"},{"v":1615,"d":"1,615"},{"v":1511,"d":"1,511"},{"v":1296,"d":"1,296"},{"v":1137,"d":"1,137"},{"v":1091,"d":"1,091"},984,696,586,341,240,185,86,88]
["240303","TUMBES","TUMBES","ZARUMILLA","MATAPALO",{"v":8101,"d":"8,101"},{"v":3974,"d":"3,974"},25,40,43,60,62,31,94,60,60,38,28,61,48,51,46,74,75,50,64,50,309,318,322,385,365,347,199,233,141,91,104,52,27,21,1,12,13,27,{"v":4127,"d":"4,127"},38,37,42,51,49,35,56,87,56,84,80,100,77,82,150,62,71,44,68,105,373,392,372,307,281,236,211,185,123,81,88,53,41,10,2,20,18,40,143,null,null,602,344,741,{"v":1851,"d":"1,851"},436,715,486,938,{"v":1592,"d":"1,592"},396,230,283,234,313,309,318,322,385,365,347,199,233,141,91,104,52,27,21,217,318,489,350,373,392,372,307,281,236,211,185,123,81,88,53,41,10]
["240304","TUMBES","TUMBES","ZARUMILLA","PAPAYAL",{"v":12708,"d":"12,708"},{"v":6272,"d":"6,272"},56,54,57,83,82,80,111,126,120,86,82,96,93,107,63,99,81,84,74,81,479,413,438,491,523,594,401,360,293,203,162,96,44,60,4,23,33,59,{"v":6436,"d":"6,436"},44,41,59,75,70,68,113,115,107,144,153,101,98,113,132,90,97,86,142,156,436,529,461,496,465,400,343,286,309,248,189,98,97,75,3,21,23,47,210,null,null,{"v":1033,"d":"1,033"},527,{"v":1047,"d":"1,047"},{"v":2807,"d":"2,807"},858,{"v":1090,"d":"1,090"},616,{"v":1263,"d":"1,263"},{"v":2451,"d":"2,451"},{"v":1016,"d":"1,016"},332,523,441,419,479,413,438,491,523,594,401,360,293,203,162,96,44,60,289,547,597,571,436,529,461,496,465,400,343,286,309,248,189,98,97,75]
["250101","UCAYALI","UCAYALI","CORONEL PORTILLO","CALLERIA",{"v":189342,"d":"189,342"},{"v":98601,"d":"98,601"},{"v":1508,"d":"1,508"},{"v":1428,"d":"1,428"},{"v":1487,"d":"1,487"},{"v":1544,"d":"1,544"},{"v":1607,"d":"1,607"},{"v":1490,"d":"1,490"},{"v":1840,"d":"1,840"},{"v":1761,"d":"1,761"},{"v":1727,"d":"1,727"},{"v":1463,"d":"1,463"},{"v":1566,"d":"1,566"},{"v":1365,"d":"1,365"},{"v":1486,"d":"1,486"},{"v":1554,"d":"1,554"},{"v":1476,"d":"1,476"},{"v":1487,"d":"1,487"},{"v":1503,"d":"1,503"},{"v":1491,"d":"1,491"},{"v":1338,"d":"1,338"},{"v":1288,"d":"1,288"},{"v":6250,"d":"6,250"},{"v":6366,"d":"6,366"},{"v":6945,"d":"6,945"},{"v":7601,"d":"7,601"},{"v":8224,"d":"8,224"},{"v":7771,"d":"7,771"},{"v":6048,"d":"6,048"},{"v":5351,"d":"5,351"},{"v":4576,"d":"4,576"},{"v":3584,"d":"3,584"},{"v":2524,"d":"2,524"},{"v":1463,"d":"1,463"},842,647,107,783,725,{"v":1598,"d":"1,598"},{"v":90741,"d":"90,741"},{"v":1387,"d":"1,387"},{"v":1349,"d":"1,349"},{"v":1513,"d":"1,513"},{"v":1555,"d":"1,555"},{"v":1687,"d":"1,687"},{"v":1440,"d":"1,440"},{"v":1585,"d":"1,585"},{"v":1581,"d":"1,581"},{"v":1587,"d":"1,587"},{"v":1448,"d":"1,448"},{"v":1514,"d":"1,514"},{"v":1350,"d":"1,350"},{"v":1469,"d":"1,469"},{"v":1537,"d":"1,537"},{"v":1424,"d":"1,424"},{"v":1451,"d":"1,451"},{"v":1462,"d":"1,462"},{"v":1467,"d":"1,467"},{"v":1352,"d":"1,352"},{"v":1269,"d":"1,269"},{"v":5775,"d":"5,775"},{"v":7246,"d":"7,246"},{"v":7180,"d":"7,180"},{"v":6776,"d":"6,776"},{"v":7172,"d":"7,172"},{"v":5892,"d":"5,892"},{"v":4777,"d":"4,777"},{"v":4155,"d":"4,155"},{"v":3787,"d":"3,787"},{"v":3091,"d":"3,091"},{"v":2238,"d":"2,238"},{"v":1542,"d":"1,542"},905,778,91,699,688,{"v":1470,"d":"1,470"},{"v":3672,"d":"3,672"},null,null,{"v":18786,"d":"18,786"},{"v":8997,"d":"8,997"},{"v":15242,"d":"15,242"},{"v":41940,"d":"41,940"},{"v":13636,"d":"13,636"},{"v":17996,"d":"17,996"},{"v":8810,"d":"8,810"},{"v":15642,"d":"15,642"},{"v":35952,"d":"35,952"},{"v":12341,"d":"12,341"},{"v":7574,"d":"7,574"},{"v":8281,"d":"8,281"},{"v":7447,"d":"7,447"},{"v":7107,"d":"7,107"},{"v":6250,"d":"6,250"},{"v":6366,"d":"6,366"},{"v":6945,"d":"6,945"},{"v":7601,"d":"7,601"},{"v":8224,"d":"8,224"},{"v":7771,"d":"7,771"},{"v":6048,"d":"6,048"},{"v":5351,"d":"5,351"},{"v":4576,"d":"4,576"},{"v":3584,"d":"3,584"},{"v":2524,"d":"2,524"},{"v":1463,"d":"1,463"},842,647,{"v":7491,"d":"7,491"},{"v":7641,"d":"7,641"},{"v":7294,"d":"7,294"},{"v":7001,"d":"7,001"},{"v":5775,"d":"5,775"},{"v":7246,"d":"7,246"},{"v":7180,"d":"7,180"},{"v":6776,"d":"6,776"},{"v":7172,"d":"7,172"},{"v":5892,"d":"5,892"},{"v":4777,"d":"4,777"},{"v":4155,"d":"4,155"},{"v":3787,"d":"3,787"},{"v":3091,"d":"3,091"},{"v":2238,"d":"2,238"},{"v":1542,"d":"1,542"},905,778]
["250102","UCAYALI","UCAYALI","CORONEL PORTILLO","CAMPOVERDE",{"v":24469,"d":"24,469"},{"v":12596,"d":"12,596"},229,215,239,239,247,301,200,215,222,185,198,195,200,219,196,223,222,220,198,184,841,833,824,861,839,864,732,685,589,428,310,205,127,111,14,118,111,243,{"v":11873,"d":"11,873"},196,199,225,260,255,238,226,253,242,252,223,223,230,252,220,258,216,217,222,179,846,{"v":1017,"d":"1,017"},880,818,739,674,534,468,423,328,254,137,99,70,20,100,96,208,716,null,null,{"v":2685,"d":"2,685"},{"v":1280,"d":"1,280"},{"v":2056,"d":"2,056"},{"v":4805,"d":"4,805"},{"v":1770,"d":"1,770"},{"v":2792,"d":"2,792"},{"v":1393,"d":"1,393"},{"v":2264,"d":"2,264"},{"v":4113,"d":"4,113"},{"v":1311,"d":"1,311"},{"v":1169,"d":"1,169"},{"v":1123,"d":"1,123"},{"v":1008,"d":"1,008"},{"v":1047,"d":"1,047"},841,833,824,861,839,864,732,685,589,428,310,205,127,111,{"v":1135,"d":"1,135"},{"v":1211,"d":"1,211"},{"v":1148,"d":"1,148"},{"v":1092,"d":"1,092"},846,{"v":1017,"d":"1,017"},880,818,739,674,534,468,423,328,254,137,99,70]
["250103","UCAYALI","UCAYALI","CORONEL PORTILLO","IPARIA",{"v":14766,"d":"14,766"},{"v":7589,"d":"7,589"},222,214,220,273,253,269,185,201,206,160,167,158,176,171,161,184,136,155,141,131,562,435,453,376,443,381,281,242,193,160,122,72,51,35,11,95,127,235,{"v":7177,"d":"7,177"},216,230,227,256,283,237,191,215,189,173,170,165,184,179,164,175,159,142,135,124,562,474,443,354,340,302,194,180,168,143,96,58,30,19,8,98,118,229,637,null,null,{"v":2528,"d":"2,528"},983,{"v":1269,"d":"1,269"},{"v":2176,"d":"2,176"},633,{"v":2552,"d":"2,552"},{"v":1003,"d":"1,003"},{"v":1295,"d":"1,295"},{"v":1813,"d":"1,813"},514,{"v":1182,"d":"1,182"},{"v":1021,"d":"1,021"},833,747,562,435,453,376,443,381,281,242,193,160,122,72,51,35,{"v":1212,"d":"1,212"},{"v":1005,"d":"1,005"},862,735,562,474,443,354,340,302,194,180,168,143,96,58,30,19]
["250104","UCAYALI","UCAYALI","CORONEL PORTILLO","MASISEA",{"v":18125,"d":"18,125"},{"v":9172,"d":"9,172"},202,178,227,260,298,286,216,216,210,180,199,179,206,216,200,190,180,169,160,150,700,537,466,489,546,509,396,371,310,269,202,114,81,60,18,112,90,214,{"v":8953,"d":"8,953"},184,195,218,235,256,276,237,227,237,265,216,200,229,241,217,189,214,197,171,139,667,694,547,493,453,410,301,289,228,171,146,92,53,66,11,84,100,195,655,null,null,{"v":2651,"d":"2,651"},{"v":1161,"d":"1,161"},{"v":1547,"d":"1,547"},{"v":2777,"d":"2,777"},{"v":1036,"d":"1,036"},{"v":2746,"d":"2,746"},{"v":1287,"d":"1,287"},{"v":1671,"d":"1,671"},{"v":2493,"d":"2,493"},756,{"v":1165,"d":"1,165"},{"v":1108,"d":"1,108"},{"v":1000,"d":"1,000"},849,700,537,466,489,546,509,396,371,310,269,202,114,81,60,{"v":1088,"d":"1,088"},{"v":1242,"d":"1,242"},{"v":1103,"d":"1,103"},910,667,694,547,493,453,410,301,289,228,171,146,92,53,66]
["250105","UCAYALI","UCAYALI","CORONEL PORTILLO","YARINACOCHA",{"v":126431,"d":"126,431"},{"v":65984,"d":"65,984"},{"v":1098,"d":"1,098"},{"v":1101,"d":"1,101"},{"v":1153,"d":"1,153"},{"v":1166,"d":"1,166"},{"v":1339,"d":"1,339"},{"v":1328,"d":"1,328"},{"v":1330,"d":"1,330"},{"v":1413,"d":"1,413"},{"v":1474,"d":"1,474"},{"v":1228,"d":"1,228"},{"v":1345,"d":"1,345"},{"v":1135,"d":"1,135"},{"v":1194,"d":"1,194"},{"v":1295,"d":"1,295"},{"v":1211,"d":"1,211"},{"v":1155,"d":"1,155"},{"v":1171,"d":"1,171"},{"v":1225,"d":"1,225"},{"v":1120,"d":"1,120"},{"v":1054,"d":"1,054"},{"v":4936,"d":"4,936"},{"v":5536,"d":"5,536"},{"v":5262,"d":"5,262"},{"v":4590,"d":"4,590"},{"v":4189,"d":"4,189"},{"v":3899,"d":"3,899"},{"v":3279,"d":"3,279"},{"v":2839,"d":"2,839"},{"v":2452,"d":"2,452"},{"v":1738,"d":"1,738"},{"v":1259,"d":"1,259"},696,413,361,80,565,533,{"v":1164,"d":"1,164"},{"v":60447,"d":"60,447"},{"v":1118,"d":"1,118"},{"v":1028,"d":"1,028"},{"v":1074,"d":"1,074"},{"v":1114,"d":"1,114"},{"v":1240,"d":"1,240"},{"v":1288,"d":"1,288"},{"v":1272,"d":"1,272"},{"v":1216,"d":"1,216"},{"v":1296,"d":"1,296"},{"v":1244,"d":"1,244"},{"v":1237,"d":"1,237"},{"v":1068,"d":"1,068"},{"v":1124,"d":"1,124"},{"v":1219,"d":"1,219"},{"v":1113,"d":"1,113"},{"v":1203,"d":"1,203"},{"v":1117,"d":"1,117"},{"v":1176,"d":"1,176"},{"v":1036,"d":"1,036"},{"v":1067,"d":"1,067"},{"v":4677,"d":"4,677"},{"v":5572,"d":"5,572"},{"v":4959,"d":"4,959"},{"v":3925,"d":"3,925"},{"v":3845,"d":"3,845"},{"v":3221,"d":"3,221"},{"v":2775,"d":"2,775"},{"v":2405,"d":"2,405"},{"v":1900,"d":"1,900"},{"v":1409,"d":"1,409"},{"v":1062,"d":"1,062"},674,423,350,108,613,505,{"v":1185,"d":"1,185"},{"v":3444,"d":"3,444"},null,null,{"v":15110,"d":"15,110"},{"v":7251,"d":"7,251"},{"v":12646,"d":"12,646"},{"v":24058,"d":"24,058"},{"v":6919,"d":"6,919"},{"v":14195,"d":"14,195"},{"v":6952,"d":"6,952"},{"v":12352,"d":"12,352"},{"v":21130,"d":"21,130"},{"v":5818,"d":"5,818"},{"v":5857,"d":"5,857"},{"v":6773,"d":"6,773"},{"v":6180,"d":"6,180"},{"v":5725,"d":"5,725"},{"v":4936,"d":"4,936"},{"v":5536,"d":"5,536"},{"v":5262,"d":"5,262"},{"v":4590,"d":"4,590"},{"v":4189,"d":"4,189"},{"v":3899,"d":"3,899"},{"v":3279,"d":"3,279"},{"v":2839,"d":"2,839"},{"v":2452,"d":"2,452"},{"v":1738,"d":"1,738"},{"v":1259,"d":"1,259"},696,413,361,{"v":5574,"d":"5,574"},{"v":6316,"d":"6,316"},{"v":5761,"d":"5,761"},{"v":5599,"d":"5,599"},{"v":4677,"d":"4,677"},{"v":5572,"d":"5,572"},{"v":4959,"d":"4,959"},{"v":3925,"d":"3,925"},{"v":3845,"d":"3,845"},{"v":3221,"d":"3,221"},{"v":2775,"d":"2,775"},{"v":2405,"d":"2,405"},{"v":1900,"d":"1,900"},{"v":1409,"d":"1,409"},{"v":1062,"d":"1,062"},674,423,350]
["250106","UCAYALI","UCAYALI","CORONEL PORTILLO","NUEVA REQUENA",{"v":7797,"d":"7,797"},{"v":3924,"d":"3,924"},126,102,94,95,123,90,81,58,67,61,61,61,53,70,46,60,51,66,50,53,252,239,272,249,255,257,216,200,183,129,93,49,38,24,9,49,77,134,{"v":3873,"d":"3,873"},91,89,82,113,93,107,71,85,88,75,74,76,66,86,55,72,73,79,74,67,285,341,295,254,217,190,170,161,117,81,68,41,25,12,5,40,51,96,362,null,null,{"v":1019,"d":"1,019"},346,594,{"v":1449,"d":"1,449"},516,{"v":1044,"d":"1,044"},431,767,{"v":1287,"d":"1,287"},344,540,357,291,280,252,239,272,249,255,257,216,200,183,129,93,49,38,24,468,426,357,365,285,341,295,254,217,190,170,161,117,81,68,41,25,12]
["250107","UCAYALI","UCAYALI","CORONEL PORTILLO","MANANTAY",{"v":113283,"d":"113,283"},{"v":59609,"d":"59,609"},952,896,921,983,{"v":1262,"d":"1,262"},{"v":1166,"d":"1,166"},{"v":1383,"d":"1,383"},{"v":1385,"d":"1,385"},{"v":1509,"d":"1,509"},{"v":1335,"d":"1,335"},{"v":1273,"d":"1,273"},{"v":1140,"d":"1,140"},{"v":1288,"d":"1,288"},{"v":1337,"d":"1,337"},{"v":1260,"d":"1,260"},{"v":1211,"d":"1,211"},{"v":1227,"d":"1,227"},{"v":1203,"d":"1,203"},{"v":1131,"d":"1,131"},{"v":1070,"d":"1,070"},{"v":4867,"d":"4,867"},{"v":5185,"d":"5,185"},{"v":4458,"d":"4,458"},{"v":3655,"d":"3,655"},{"v":3496,"d":"3,496"},{"v":3363,"d":"3,363"},{"v":2730,"d":"2,730"},{"v":2325,"d":"2,325"},{"v":1895,"d":"1,895"},{"v":1372,"d":"1,372"},998,631,449,253,89,496,456,{"v":1009,"d":"1,009"},{"v":53674,"d":"53,674"},900,838,882,938,{"v":1260,"d":"1,260"},{"v":1098,"d":"1,098"},{"v":1259,"d":"1,259"},{"v":1259,"d":"1,259"},{"v":1171,"d":"1,171"},{"v":1274,"d":"1,274"},{"v":1135,"d":"1,135"},{"v":1039,"d":"1,039"},{"v":1175,"d":"1,175"},{"v":1220,"d":"1,220"},{"v":1123,"d":"1,123"},{"v":1160,"d":"1,160"},{"v":1102,"d":"1,102"},{"v":1083,"d":"1,083"},{"v":1102,"d":"1,102"},973,{"v":4404,"d":"4,404"},{"v":5205,"d":"5,205"},{"v":4138,"d":"4,138"},{"v":3192,"d":"3,192"},{"v":3237,"d":"3,237"},{"v":2873,"d":"2,873"},{"v":2156,"d":"2,156"},{"v":1813,"d":"1,813"},{"v":1473,"d":"1,473"},{"v":1103,"d":"1,103"},890,580,376,243,78,488,412,954,{"v":3311,"d":"3,311"},null,null,{"v":14205,"d":"14,205"},{"v":7526,"d":"7,526"},{"v":12253,"d":"12,253"},{"v":20027,"d":"20,027"},{"v":5598,"d":"5,598"},{"v":13053,"d":"13,053"},{"v":6863,"d":"6,863"},{"v":11684,"d":"11,684"},{"v":17409,"d":"17,409"},{"v":4665,"d":"4,665"},{"v":5014,"d":"5,014"},{"v":6778,"d":"6,778"},{"v":6298,"d":"6,298"},{"v":5842,"d":"5,842"},{"v":4867,"d":"4,867"},{"v":5185,"d":"5,185"},{"v":4458,"d":"4,458"},{"v":3655,"d":"3,655"},{"v":3496,"d":"3,496"},{"v":3363,"d":"3,363"},{"v":2730,"d":"2,730"},{"v":2325,"d":"2,325"},{"v":1895,"d":"1,895"},{"v":1372,"d":"1,372"},998,631,449,253,{"v":4818,"d":"4,818"},{"v":6061,"d":"6,061"},{"v":5692,"d":"5,692"},{"v":5420,"d":"5,420"},{"v":4404,"d":"4,404"},{"v":5205,"d":"5,205"},{"v":4138,"d":"4,138"},{"v":3192,"d":"3,192"},{"v":3237,"d":"3,237"},{"v":2873,"d":"2,873"},{"v":2156,"d":"2,156"},{"v":1813,"d":"1,813"},{"v":1473,"d":"1,473"},{"v":1103,"d":"1,103"},890,580,376,243]
["250201","UCAYALI","UCAYALI","ATALAYA","RAYMONDI",{"v":43141,"d":"43,141"},{"v":22282,"d":"22,282"},689,545,641,766,856,737,561,575,585,523,510,457,480,472,488,450,450,451,402,389,{"v":1742,"d":"1,742"},{"v":1400,"d":"1,400"},{"v":1307,"d":"1,307"},{"v":1230,"d":"1,230"},{"v":1157,"d":"1,157"},{"v":1199,"d":"1,199"},894,708,586,432,282,155,99,64,29,304,385,730,{"v":20859,"d":"20,859"},650,529,620,707,795,770,569,535,578,494,497,456,480,471,475,474,447,462,408,375,{"v":1676,"d":"1,676"},{"v":1558,"d":"1,558"},{"v":1397,"d":"1,397"},{"v":1076,"d":"1,076"},{"v":1032,"d":"1,032"},971,647,493,431,302,213,127,102,42,29,289,361,689,{"v":1653,"d":"1,653"},null,null,{"v":7445,"d":"7,445"},{"v":2791,"d":"2,791"},{"v":3933,"d":"3,933"},{"v":6495,"d":"6,495"},{"v":1618,"d":"1,618"},{"v":7200,"d":"7,200"},{"v":2809,"d":"2,809"},{"v":4017,"d":"4,017"},{"v":5616,"d":"5,616"},{"v":1217,"d":"1,217"},{"v":3497,"d":"3,497"},{"v":2981,"d":"2,981"},{"v":2407,"d":"2,407"},{"v":2142,"d":"2,142"},{"v":1742,"d":"1,742"},{"v":1400,"d":"1,400"},{"v":1307,"d":"1,307"},{"v":1230,"d":"1,230"},{"v":1157,"d":"1,157"},{"v":1199,"d":"1,199"},894,708,586,432,282,155,99,64,{"v":3301,"d":"3,301"},{"v":2946,"d":"2,946"},{"v":2379,"d":"2,379"},{"v":2166,"d":"2,166"},{"v":1676,"d":"1,676"},{"v":1558,"d":"1,558"},{"v":1397,"d":"1,397"},{"v":1076,"d":"1,076"},{"v":1032,"d":"1,032"},971,647,493,431,302,213,127,102,42]
["250202","UCAYALI","UCAYALI","ATALAYA","SEPAHUA",{"v":9632,"d":"9,632"},{"v":4924,"d":"4,924"},125,118,119,121,117,153,135,147,125,110,119,105,109,90,81,78,95,81,87,76,376,345,314,254,284,282,226,201,147,123,80,42,41,18,8,73,52,133,{"v":4708,"d":"4,708"},125,134,114,115,111,154,130,121,176,114,128,117,121,99,89,106,108,109,73,75,348,343,339,244,268,213,158,148,117,78,65,32,13,23,7,62,63,133,333,null,null,{"v":1494,"d":"1,494"},534,884,{"v":1561,"d":"1,561"},451,{"v":1539,"d":"1,539"},632,839,{"v":1370,"d":"1,370"},328,600,670,504,417,376,345,314,254,284,282,226,201,147,123,80,42,41,18,599,695,554,471,348,343,339,244,268,213,158,148,117,78,65,32,13,23]
["250203","UCAYALI","UCAYALI","ATALAYA","TAHUANIA",{"v":11998,"d":"11,998"},{"v":6194,"d":"6,194"},222,236,208,259,238,245,165,147,136,124,162,116,137,132,136,118,133,102,112,106,468,341,330,310,318,297,245,194,160,108,79,51,33,26,10,98,124,235,{"v":5804,"d":"5,804"},217,228,215,243,233,236,168,171,168,146,155,113,134,129,130,130,125,138,117,105,447,357,337,237,253,254,151,119,108,93,61,50,24,12,15,102,115,230,612,null,null,{"v":2258,"d":"2,258"},758,{"v":1027,"d":"1,027"},{"v":1694,"d":"1,694"},457,{"v":2293,"d":"2,293"},786,{"v":1026,"d":"1,026"},{"v":1351,"d":"1,351"},348,{"v":1163,"d":"1,163"},817,683,571,468,341,330,310,318,297,245,194,160,108,79,51,33,26,{"v":1136,"d":"1,136"},889,661,615,447,357,337,237,253,254,151,119,108,93,61,50,24,12]
["250204","UCAYALI","UCAYALI","ATALAYA","YURUA",{"v":3047,"d":"3,047"},{"v":1579,"d":"1,579"},41,44,47,48,41,46,44,35,33,38,28,44,38,38,36,38,35,24,24,35,115,91,98,101,97,81,59,46,40,37,18,19,10,10,5,16,25,43,{"v":1468,"d":"1,468"},35,41,44,42,42,39,51,44,39,38,30,46,40,40,36,47,39,34,39,20,113,123,93,68,61,74,43,32,25,16,10,17,5,2,3,16,19,37,127,null,null,489,209,265,482,134,491,236,295,371,75,221,196,184,156,115,91,98,101,97,81,59,46,40,37,18,19,10,10,204,211,192,179,113,123,93,68,61,74,43,32,25,16,10,17,5,2]
["250301","UCAYALI","UCAYALI","PADRE ABAD","PADRE ABAD",{"v":32743,"d":"32,743"},{"v":16684,"d":"16,684"},284,277,309,335,392,356,293,346,318,253,303,258,293,289,264,288,322,290,266,273,{"v":1219,"d":"1,219"},{"v":1247,"d":"1,247"},{"v":1183,"d":"1,183"},{"v":1199,"d":"1,199"},{"v":1169,"d":"1,169"},{"v":1106,"d":"1,106"},993,885,708,414,252,147,91,62,22,142,142,301,{"v":16059,"d":"16,059"},260,256,328,350,392,327,308,355,361,318,335,292,331,327,291,318,339,281,273,320,{"v":1247,"d":"1,247"},{"v":1478,"d":"1,478"},{"v":1276,"d":"1,276"},{"v":1091,"d":"1,091"},993,984,742,658,486,275,199,137,69,62,21,144,116,276,{"v":1029,"d":"1,029"},null,null,{"v":3724,"d":"3,724"},{"v":1746,"d":"1,746"},{"v":3005,"d":"3,005"},{"v":6535,"d":"6,535"},{"v":1674,"d":"1,674"},{"v":3882,"d":"3,882"},{"v":1887,"d":"1,887"},{"v":3318,"d":"3,318"},{"v":5744,"d":"5,744"},{"v":1228,"d":"1,228"},{"v":1597,"d":"1,597"},{"v":1566,"d":"1,566"},{"v":1407,"d":"1,407"},{"v":1439,"d":"1,439"},{"v":1219,"d":"1,219"},{"v":1247,"d":"1,247"},{"v":1183,"d":"1,183"},{"v":1199,"d":"1,199"},{"v":1169,"d":"1,169"},{"v":1106,"d":"1,106"},993,885,708,414,252,147,91,62,{"v":1586,"d":"1,586"},{"v":1669,"d":"1,669"},{"v":1576,"d":"1,576"},{"v":1531,"d":"1,531"},{"v":1247,"d":"1,247"},{"v":1478,"d":"1,478"},{"v":1276,"d":"1,276"},{"v":1091,"d":"1,091"},993,984,742,658,486,275,199,137,69,62]
["250302","UCAYALI","UCAYALI","PADRE ABAD","IRAZOLA",{"v":17346,"d":"17,346"},{"v":8766,"d":"8,766"},165,164,178,184,234,206,142,155,166,158,139,146,157,164,138,148,154,129,138,161,707,623,676,647,631,587,446,447,319,209,119,75,24,30,5,77,88,175,{"v":8580,"d":"8,580"},155,144,174,165,224,184,153,174,217,181,173,185,199,207,172,205,178,183,174,159,815,821,603,506,513,497,363,298,219,125,97,58,30,29,12,72,83,164,830,null,null,{"v":2037,"d":"2,037"},890,{"v":1629,"d":"1,629"},{"v":3434,"d":"3,434"},776,{"v":2129,"d":"2,129"},{"v":1144,"d":"1,144"},{"v":1969,"d":"1,969"},{"v":2780,"d":"2,780"},558,925,827,744,730,707,623,676,647,631,587,446,447,319,209,119,75,24,30,862,909,936,899,815,821,603,506,513,497,363,298,219,125,97,58,30,29]
["250303","UCAYALI","UCAYALI","PADRE ABAD","CURIMANA",{"v":11397,"d":"11,397"},{"v":5753,"d":"5,753"},132,138,141,167,195,178,99,88,90,88,92,82,80,94,92,93,87,81,75,67,343,371,380,406,424,414,308,298,243,178,106,54,41,28,15,72,60,140,{"v":5644,"d":"5,644"},127,131,133,189,205,147,114,113,95,99,104,95,93,110,103,120,103,107,103,88,405,484,445,379,352,314,232,199,163,106,94,46,29,17,12,69,58,135,522,null,null,{"v":1490,"d":"1,490"},527,856,{"v":2230,"d":"2,230"},650,{"v":1552,"d":"1,552"},636,{"v":1080,"d":"1,080"},{"v":1921,"d":"1,921"},455,773,543,440,403,343,371,380,406,424,414,308,298,243,178,106,54,41,28,785,568,505,521,405,484,445,379,352,314,232,199,163,106,94,46,29,17]
["250304","UCAYALI","UCAYALI","PADRE ABAD","NESHUYA",{"v":11852,"d":"11,852"},{"v":6236,"d":"6,236"},137,128,138,113,139,107,133,139,125,129,103,89,104,131,111,81,118,96,94,94,381,329,398,409,433,463,427,330,281,190,127,86,41,32,15,70,67,145,{"v":5616,"d":"5,616"},120,141,130,131,123,122,120,130,119,127,101,90,106,132,111,97,101,113,84,90,357,476,425,382,366,303,274,221,148,132,115,58,53,18,11,66,54,127,392,null,null,{"v":1480,"d":"1,480"},641,898,{"v":2460,"d":"2,460"},757,{"v":1454,"d":"1,454"},660,{"v":1007,"d":"1,007"},{"v":1971,"d":"1,971"},524,655,633,538,483,381,329,398,409,433,463,427,330,281,190,127,86,41,32,645,618,540,485,357,476,425,382,366,303,274,221,148,132,115,58,53,18]
["250305","UCAYALI","UCAYALI","PADRE ABAD","ALEXANDER VON HUMBOLDT",{"v":6623,"d":"6,623"},{"v":3395,"d":"3,395"},54,55,65,66,66,61,55,62,60,58,64,55,49,43,64,50,55,51,69,49,211,263,252,233,217,275,200,178,175,104,54,38,28,16,3,32,22,57,{"v":3228,"d":"3,228"},49,59,47,55,66,67,61,77,66,62,72,61,55,48,70,53,39,56,51,49,251,331,244,201,236,188,184,118,116,68,55,23,21,29,4,31,18,52,252,null,null,721,312,592,{"v":1355,"d":"1,355"},415,742,321,682,{"v":1171,"d":"1,171"},312,306,296,275,274,211,263,252,233,217,275,200,178,175,104,54,38,28,16,276,333,306,248,251,331,244,201,236,188,184,118,116,68,55,23,21,29]
["250306","UCAYALI","UCAYALI","PADRE ABAD","HUIPOCA",{"v":6918,"d":"6,918"},{"v":3731,"d":"3,731"},35,33,36,34,49,43,80,75,86,80,67,54,62,78,58,78,71,62,72,57,265,338,257,256,253,238,269,188,195,112,72,41,20,17,4,18,17,37,{"v":3187,"d":"3,187"},29,30,23,37,52,38,58,82,82,79,64,52,60,76,54,58,61,50,49,61,283,330,288,198,226,176,170,151,109,65,41,28,17,10,3,15,14,31,89,null,null,672,409,732,{"v":1461,"d":"1,461"},457,626,359,723,{"v":1209,"d":"1,209"},270,187,364,319,340,265,338,257,256,253,238,269,188,195,112,72,41,20,17,171,339,306,279,283,330,288,198,226,176,170,151,109,65,41,28,17,10]
["250307","UCAYALI","UCAYALI","PADRE ABAD","BOQUERON",{"v":7330,"d":"7,330"},{"v":3849,"d":"3,849"},41,30,31,48,31,30,55,61,90,50,100,62,98,69,60,81,59,53,47,82,344,230,330,222,330,311,287,168,206,79,74,45,27,18,3,24,17,43,{"v":3481,"d":"3,481"},25,32,38,45,41,28,85,100,71,98,91,58,92,65,52,87,95,79,77,62,345,274,242,206,274,182,210,123,135,51,53,23,21,21,1,7,18,27,100,null,null,629,420,703,{"v":1648,"d":"1,648"},449,712,470,758,{"v":1237,"d":"1,237"},304,181,286,389,322,344,230,330,222,330,311,287,168,206,79,74,45,27,18,181,382,358,400,345,274,242,206,274,182,210,123,135,51,53,23,21,21]
["250401","UCAYALI","UCAYALI","PURUS","PURUS",{"v":3894,"d":"3,894"},{"v":2010,"d":"2,010"},51,33,60,34,49,58,36,48,44,57,45,29,32,31,38,39,46,33,36,33,123,123,120,112,165,165,90,95,66,36,38,20,13,12,1,27,24,54,{"v":1884,"d":"1,884"},46,38,58,49,51,60,33,48,49,41,43,29,31,31,38,32,42,37,34,36,117,153,135,78,160,111,73,77,50,32,31,27,10,4,3,29,17,49,141,null,null,544,219,315,747,185,545,211,340,634,154,227,243,175,187,123,123,120,112,165,165,90,95,66,36,38,20,13,12,242,231,172,181,117,153,135,78,160,111,73,77,50,32,31,27,10,4]
[]
[]
["FUENTE: BOLETIN DEMOGRAFICO Nº 25, 26, 39 / RENIEC / Padrón Nominal/ CNV"]
["La población de 0-5 años corresponden al reporte de la poblacion del Padrón Nominal con corte al 31/12/2025"]
["OFICINA DE GESTION DE LA INFORMACION - MINISTERIO DE SALUD"]

{"sheet":"DATA","index":6,"n_rows":68113,"n_cols":9,"rows_kept":4500,"cut":true,"hidden":true,"bounds":{"rows_first":2000,"rows_last":500,"rows_between":2000,"halvings":0}}
["UBIGEO","DIRESA","DEPARTAMENTO","PROVINCIA","DISTRITO","SEXO","GRUPO DE EDAD","POBLACION","id"]
["010101","AMAZONAS","AMAZONAS","CHACHAPOYAS","CHACHAPOYAS","Hombre","00-04",{"$f":"'Pob x Genero'!CT9","v":1315},1]
["010102","AMAZONAS","AMAZONAS","CHACHAPOYAS","ASUNCION","Hombre","00-04",{"$f":"'Pob x Genero'!CT10","v":2},2]
["010103","AMAZONAS","AMAZONAS","CHACHAPOYAS","BALSAS","Hombre","00-04",{"$f":"'Pob x Genero'!CT11","v":54},3]
["010104","AMAZONAS","AMAZONAS","CHACHAPOYAS","CHETO","Hombre","00-04",{"$f":"'Pob x Genero'!CT12","v":20},4]
["010105","AMAZONAS","AMAZONAS","CHACHAPOYAS","CHILIQUIN","Hombre","00-04",{"$f":"'Pob x Genero'!CT13","v":23},5]
["010106","AMAZONAS","AMAZONAS","CHACHAPOYAS","CHUQUIBAMBA","Hombre","00-04",{"$f":"'Pob x Genero'!CT14","v":100},6]
["010107","AMAZONAS","AMAZONAS","CHACHAPOYAS","GRANADA","Hombre","00-04",{"$f":"'Pob x Genero'!CT15","v":10},7]
["010108","AMAZONAS","AMAZONAS","CHACHAPOYAS","HUANCAS","Hombre","00-04",{"$f":"'Pob x Genero'!CT16","v":19},8]
["010109","AMAZONAS","AMAZONAS","CHACHAPOYAS","LA JALCA","Hombre","00-04",{"$f":"'Pob x Genero'!CT17","v":224},9]
["010110","AMAZONAS","AMAZONAS","CHACHAPOYAS","LEIMEBAMBA","Hombre","00-04",{"$f":"'Pob x Genero'!CT18","v":115},10]
["010111","AMAZONAS","AMAZONAS","CHACHAPOYAS","LEVANTO","Hombre","00-04",{"$f":"'Pob x Genero'!CT19","v":20},11]
["010112","AMAZONAS","AMAZONAS","CHACHAPOYAS","MAGDALENA","Hombre","00-04",{"$f":"'Pob x Genero'!CT20","v":28},12]
["010113","AMAZONAS","AMAZONAS","CHACHAPOYAS","MARISCAL CASTILLA","Hombre","00-04",{"$f":"'Pob x Genero'!CT21","v":15},13]
["010114","AMAZONAS","AMAZONAS","CHACHAPOYAS","MOLINOPAMPA","Hombre","00-04",{"$f":"'Pob x Genero'!CT22","v":71},14]
["010115","AMAZONAS","AMAZONAS","CHACHAPOYAS","MONTEVIDEO","Hombre","00-04",{"$f":"'Pob x Genero'!CT23","v":10},15]
["010116","AMAZONAS","AMAZONAS","CHACHAPOYAS","OLLEROS","Hombre","00-04",{"$f":"'Pob x Genero'!CT24","v":7},16]
["010117","AMAZONAS","AMAZONAS","CHACHAPOYAS","QUINJALCA","Hombre","00-04",{"$f":"'Pob x Genero'!CT25","v":15},17]
["010118","AMAZONAS","AMAZONAS","CHACHAPOYAS","SAN FRANCISCO DE DAGUAS","Hombre","00-04",{"$f":"'Pob x Genero'!CT26","v":6},18]
["010119","AMAZONAS","AMAZONAS","CHACHAPOYAS","SAN ISIDRO DE MAINO","Hombre","00-04",{"$f":"'Pob x Genero'!CT27","v":12},19]
["010120","AMAZONAS","AMAZONAS","CHACHAPOYAS","SOLOCO","Hombre","00-04",{"$f":"'Pob x Genero'!CT28","v":31},20]
["010121","AMAZONAS","AMAZONAS","CHACHAPOYAS","SONCHE","Hombre","00-04",{"$f":"'Pob x Genero'!CT29","v":7},21]
["010201","AMAZONAS","AMAZONAS","BAGUA","BAGUA","Hombre","00-04",{"$f":"'Pob x Genero'!CT30","v":1192},22]
["010202","AMAZONAS","AMAZONAS","BAGUA","ARAMANGO","Hombre","00-04",{"$f":"'Pob x Genero'!CT31","v":489},23]
["010203","AMAZONAS","AMAZONAS","BAGUA","COPALLIN","Hombre","00-04",{"$f":"'Pob x Genero'!CT32","v":173},24]
["010204","AMAZONAS","AMAZONAS","BAGUA","EL PARCO","Hombre","00-04",{"$f":"'Pob x Genero'!CT33","v":60},25]
["010205","AMAZONAS","AMAZONAS","BAGUA","IMAZA","Hombre","00-04",{"$f":"'Pob x Genero'!CT34","v":3782},26]
["010206","AMAZONAS","AMAZONAS","BAGUA","LA PECA","Hombre","00-04",{"$f":"'Pob x Genero'!CT35","v":203},27]
["010301","AMAZONAS","AMAZONAS","BONGARA","JUMBILLA","Hombre","00-04",{"$f":"'Pob x Genero'!CT36","v":41},28]
["010302","AMAZONAS","AMAZONAS","BONGARA","CHISQUILLA","Hombre","00-04",{"$f":"'Pob x Genero'!CT37","v":10},29]
["010303","AMAZONAS","AMAZONAS","BONGARA","CHURUJA","Hombre","00-04",{"$f":"'Pob x Genero'!CT38","v":12},30]
["010304","AMAZONAS","AMAZONAS","BONGARA","COROSHA","Hombre","00-04",{"$f":"'Pob x Genero'!CT39","v":28},31]
["010305","AMAZONAS","AMAZONAS","BONGARA","CUISPES","Hombre","00-04",{"$f":"'Pob x Genero'!CT40","v":24},32]
["010306","AMAZONAS","AMAZONAS","BONGARA","FLORIDA","Hombre","00-04",{"$f":"'Pob x Genero'!CT41","v":203},33]
["010307","AMAZONAS","AMAZONAS","BONGARA","JAZAN","Hombre","00-04",{"$f":"'Pob x Genero'!CT42","v":229},34]
["010308","AMAZONAS","AMAZONAS","BONGARA","RECTA","Hombre","00-04",{"$f":"'Pob x Genero'!CT43","v":5},35]
["010309","AMAZONAS","AMAZONAS","BONGARA","SAN CARLOS","Hombre","00-04",{"$f":"'Pob x Genero'!CT44","v":12},36]
["010310","AMAZONAS","AMAZONAS","BONGARA","SHIPASBAMBA","Hombre","00-04",{"$f":"'Pob x Genero'!CT45","v":57},37]
["010311","AMAZONAS","AMAZONAS","BONGARA","VALERA","Hombre","00-04",{"$f":"'Pob x Genero'!CT46","v":31},38]
["010312","AMAZONAS","AMAZONAS","BONGARA","YAMBRASBAMBA","Hombre","00-04",{"$f":"'Pob x Genero'!CT47","v":271},39]
["010401","AMAZONAS","AMAZONAS","CONDORCANQUI","NIEVA","Hombre","00-04",{"$f":"'Pob x Genero'!CT48","v":4012},40]
["010402","AMAZONAS","AMAZONAS","CONDORCANQUI","EL CENEPA","Hombre","00-04",{"$f":"'Pob x Genero'!CT49","v":1756},41]
["010403","AMAZONAS","AMAZONAS","CONDORCANQUI","RIO SANTIAGO","Hombre","00-04",{"$f":"'Pob x Genero'!CT50","v":2195},42]
["010501","AMAZONAS","AMAZONAS","LUYA","LAMUD","Hombre","00-04",{"$f":"'Pob x Genero'!CT51","v":64},43]
["010502","AMAZONAS","AMAZONAS","LUYA","CAMPORREDONDO","Hombre","00-04",{"$f":"'Pob x Genero'!CT52","v":358},44]
["010503","AMAZONAS","AMAZONAS","LUYA","COCABAMBA","Hombre","00-04",{"$f":"'Pob x Genero'!CT53","v":99},45]
["010504","AMAZONAS","AMAZONAS","LUYA","COLCAMAR","Hombre","00-04",{"$f":"'Pob x Genero'!CT54","v":52},46]
["010505","AMAZONAS","AMAZONAS","LUYA","CONILA","Hombre","00-04",{"$f":"'Pob x Genero'!CT55","v":61},47]
["010506","AMAZONAS","AMAZONAS","LUYA","INGUILPATA","Hombre","00-04",{"$f":"'Pob x Genero'!CT56","v":10},48]
["010507","AMAZONAS","AMAZONAS","LUYA","LONGUITA","Hombre","00-04",{"$f":"'Pob x Genero'!CT57","v":29},49]
["010508","AMAZONAS","AMAZONAS","LUYA","LONYA CHICO","Hombre","00-04",{"$f":"'Pob x Genero'!CT58","v":37},50]
["010509","AMAZONAS","AMAZONAS","LUYA","LUYA","Hombre","00-04",{"$f":"'Pob x Genero'!CT59","v":154},51]
["010510","AMAZONAS","AMAZONAS","LUYA","LUYA VIEJO","Hombre","00-04",{"$f":"'Pob x Genero'!CT60","v":15},52]
["010511","AMAZONAS","AMAZONAS","LUYA","MARIA","Hombre","00-04",{"$f":"'Pob x Genero'!CT61","v":29},53]
["010512","AMAZONAS","AMAZONAS","LUYA","OCALLI","Hombre","00-04",{"$f":"'Pob x Genero'!CT62","v":124},54]
["010513","AMAZONAS","AMAZONAS","LUYA","OCUMAL","Hombre","00-04",{"$f":"'Pob x Genero'!CT63","v":129},55]
["010514","AMAZONAS","AMAZONAS","LUYA","PISUQUIA","Hombre","00-04",{"$f":"'Pob x Genero'!CT64","v":203},56]
["010515","AMAZONAS","AMAZONAS","LUYA","PROVIDENCIA","Hombre","00-04",{"$f":"'Pob x Genero'!CT65","v":59},57]
["010516","AMAZONAS","AMAZONAS","LUYA","SAN CRISTOBAL","Hombre","00-04",{"$f":"'Pob x Genero'!CT66","v":20},58]
["010517","AMAZONAS","AMAZONAS","LUYA","SAN FRANCISCO DEL YESO","Hombre","00-04",{"$f":"'Pob x Genero'!CT67","v":18},59]
["010518","AMAZONAS","AMAZONAS","LUYA","SAN JERONIMO","Hombre","00-04",{"$f":"'Pob x Genero'!CT68","v":25},60]
["010519","AMAZONAS","AMAZONAS","LUYA","SAN JUAN DE LOPECANCHA","Hombre","00-04",{"$f":"'Pob x Genero'!CT69","v":12},61]
["010520","AMAZONAS","AMAZONAS","LUYA","SANTA CATALINA","Hombre","00-04",{"$f":"'Pob x Genero'!CT70","v":104},62]
["010521","AMAZONAS","AMAZONAS","LUYA","SANTO TOMAS","Hombre","00-04",{"$f":"'Pob x Genero'!CT71","v":99},63]
["010522","AMAZONAS","AMAZONAS","LUYA","TINGO","Hombre","00-04",{"$f":"'Pob x Genero'!CT72","v":51},64]
["010523","AMAZONAS","AMAZONAS","LUYA","TRITA","Hombre","00-04",{"$f":"'Pob x Genero'!CT73","v":47},65]
["010601","AMAZONAS","AMAZONAS","RODRIGUEZ DE MENDOZA","SAN NICOLAS","Hombre","00-04",{"$f":"'Pob x Genero'!CT74","v":167},66]
["010602","AMAZONAS","AMAZONAS","RODRIGUEZ DE MENDOZA","CHIRIMOTO","Hombre","00-04",{"$f":"'Pob x Genero'!CT75","v":137},67]
["010603","AMAZONAS","AMAZONAS","RODRIGUEZ DE MENDOZA","COCHAMAL","Hombre","00-04",{"$f":"'Pob x Genero'!CT76","v":22},68]
["010604","AMAZONAS","AMAZONAS","RODRIGUEZ DE MENDOZA","HUAMBO","Hombre","00-04",{"$f":"'Pob x Genero'!CT77","v":47},69]
["010605","AMAZONAS","AMAZONAS","RODRIGUEZ DE MENDOZA","LIMABAMBA","Hombre","00-04",{"$f":"'Pob x Genero'!CT78","v":51},70]
["010606","AMAZONAS","AMAZONAS","RODRIGUEZ DE MENDOZA","LONGAR","Hombre","00-04",{"$f":"'Pob x Genero'!CT79","v":32},71]
["010607","AMAZONAS","AMAZONAS","RODRIGUEZ DE MENDOZA","MARISCAL BENAVIDES","Hombre","00-04",{"$f":"'Pob x Genero'!CT80","v":75},72]
["010608","AMAZONAS","AMAZONAS","RODRIGUEZ DE MENDOZA","MILPUC","Hombre","00-04",{"$f":"'Pob x Genero'!CT81","v":16},73]
["010609","AMAZONAS","AMAZONAS","RODRIGUEZ DE MENDOZA","OMIA","Hombre","00-04",{"$f":"'Pob x Genero'!CT82","v":410},74]
["010610","AMAZONAS","AMAZONAS","RODRIGUEZ DE MENDOZA","SANTA ROSA","Hombre","00-04",{"$f":"'Pob x Genero'!CT83","v":12},75]
["010611","AMAZONAS","AMAZONAS","RODRIGUEZ DE MENDOZA","TOTORA","Hombre","00-04",{"$f":"'Pob x Genero'!CT84","v":3},76]
["010612","AMAZONAS","AMAZONAS","RODRIGUEZ DE MENDOZA","VISTA ALEGRE","Hombre","00-04",{"$f":"'Pob x Genero'!CT85","v":188},77]
["010701","AMAZONAS","AMAZONAS","UTCUBAMBA","BAGUA GRANDE","Hombre","00-04",{"$f":"'Pob x Genero'!CT86","v":2296},78]
["010702","AMAZONAS","AMAZONAS","UTCUBAMBA","CAJARURO","Hombre","00-04",{"$f":"'Pob x Genero'!CT87","v":863},79]
["010703","AMAZONAS","AMAZONAS","UTCUBAMBA","CUMBA","Hombre","00-04",{"$f":"'Pob x Genero'!CT88","v":358},80]
["010704","AMAZONAS","AMAZONAS","UTCUBAMBA","EL MILAGRO","Hombre","00-04",{"$f":"'Pob x Genero'!CT89","v":298},81]
["010705","AMAZONAS","AMAZONAS","UTCUBAMBA","JAMALCA","Hombre","00-04",{"$f":"'Pob x Genero'!CT90","v":269},82]
["010706","AMAZONAS","AMAZONAS","UTCUBAMBA","LONYA GRANDE","Hombre","00-04",{"$f":"'Pob x Genero'!CT91","v":430},83]
["010707","AMAZONAS","AMAZONAS","UTCUBAMBA","YAMON","Hombre","00-04",{"$f":"'Pob x Genero'!CT92","v":148},84]
["020101","ANCASH","ANCASH","HUARAZ","HUARAZ","Hombre","00-04",{"$f":"'Pob x Genero'!CT93","v":2296},85]
["020102","ANCASH","ANCASH","HUARAZ","COCHABAMBA","Hombre","00-04",{"$f":"'Pob x Genero'!CT94","v":70},86]
["020103","ANCASH","ANCASH","HUARAZ","COLCABAMBA","Hombre","00-04",{"$f":"'Pob x Genero'!CT95","v":4},87]
["020104","ANCASH","ANCASH","HUARAZ","HUANCHAY","Hombre","00-04",{"$f":"'Pob x Genero'!CT96","v":41},88]
["020105","ANCASH","ANCASH","HUARAZ","INDEPENDENCIA","Hombre","00-04",{"$f":"'Pob x Genero'!CT97","v":3302},89]
["020106","ANCASH","ANCASH","HUARAZ","JANGAS","Hombre","00-04",{"$f":"'Pob x Genero'!CT98","v":170},90]
["020107","ANCASH","ANCASH","HUARAZ","LA LIBERTAD","Hombre","00-04",{"$f":"'Pob x Genero'!CT99","v":42},91]
["020108","ANCASH","ANCASH","HUARAZ","OLLEROS","Hombre","00-04",{"$f":"'Pob x Genero'!CT100","v":80},92]
["020109","ANCASH","ANCASH","HUARAZ","PAMPAS","Hombre","00-04",{"$f":"'Pob x Genero'!CT101","v":26},93]
["020110","ANCASH","ANCASH","HUARAZ","PARIACOTO","Hombre","00-04",{"$f":"'Pob x Genero'!CT102","v":204},94]
["020111","ANCASH","ANCASH","HUARAZ","PIRA","Hombre","00-04",{"$f":"'Pob x Genero'!CT103","v":118},95]
["020112","ANCASH","ANCASH","HUARAZ","TARICA","Hombre","00-04",{"$f":"'Pob x Genero'!CT104","v":273},96]
["020201","ANCASH","ANCASH","AIJA","AIJA","Hombre","00-04",{"$f":"'Pob x Genero'!CT105","v":49},97]
["020202","ANCASH","ANCASH","AIJA","CORIS","Hombre","00-04",{"$f":"'Pob x Genero'!CT106","v":68},98]
["020203","ANCASH","ANCASH","AIJA","HUACLLAN","Hombre","00-04",{"$f":"'Pob x Genero'!CT107","v":10},99]
["020204","ANCASH","ANCASH","AIJA","LA MERCED","Hombre","00-04",{"$f":"'Pob x Genero'!CT108","v":47},100]
["020205","ANCASH","ANCASH","AIJA","SUCCHA","Hombre","00-04",{"$f":"'Pob x Genero'!CT109","v":18},101]
["020301","ANCASH","ANCASH","ANTONIO RAYMONDI","LLAMELLIN","Hombre","00-04",{"$f":"'Pob x Genero'!CT110","v":127},102]
["020302","ANCASH","ANCASH","ANTONIO RAYMONDI","ACZO","Hombre","00-04",{"$f":"'Pob x Genero'!CT111","v":81},103]
["020303","ANCASH","ANCASH","ANTONIO RAYMONDI","CHACCHO","Hombre","00-04",{"$f":"'Pob x Genero'!CT112","v":30},104]
["020304","ANCASH","ANCASH","ANTONIO RAYMONDI","CHINGAS","Hombre","00-04",{"$f":"'Pob x Genero'!CT113","v":70},105]
["020305","ANCASH","ANCASH","ANTONIO RAYMONDI","MIRGAS","Hombre","00-04",{"$f":"'Pob x Genero'!CT114","v":165},106]
["020306","ANCASH","ANCASH","ANTONIO RAYMONDI","SAN JUAN DE RONTOY","Hombre","00-04",{"$f":"'Pob x Genero'!CT115","v":69},107]
["020401","ANCASH","ANCASH","ASUNCION","CHACAS","Hombre","00-04",{"$f":"'Pob x Genero'!CT116","v":137},108]
["020402","ANCASH","ANCASH","ASUNCION","ACOCHACA","Hombre","00-04",{"$f":"'Pob x Genero'!CT117","v":66},109]
["020501","ANCASH","ANCASH","BOLOGNESI","CHIQUIAN","Hombre","00-04",{"$f":"'Pob x Genero'!CT118","v":113},110]
["020502","ANCASH","ANCASH","BOLOGNESI","ABELARDO PARDO LEZAMETA","Hombre","00-04",{"$f":"'Pob x Genero'!CT119","v":5},111]
["020503","ANCASH","ANCASH","BOLOGNESI","ANTONIO RAYMONDI","Hombre","00-04",{"$f":"'Pob x Genero'!CT120","v":25},112]
["020504","ANCASH","ANCASH","BOLOGNESI","AQUIA","Hombre","00-04",{"$f":"'Pob x Genero'!CT121","v":50},113]
["020505","ANCASH","ANCASH","BOLOGNESI","CAJACAY","Hombre","00-04",{"$f":"'Pob x Genero'!CT122","v":42},114]
["020506","ANCASH","ANCASH","BOLOGNESI","CANIS","Hombre","00-04",{"$f":"'Pob x Genero'!CT123","v":7},115]
["020507","ANCASH","ANCASH","BOLOGNESI","COLQUIOC","Hombre","00-04",{"$f":"'Pob x Genero'!CT124","v":79},116]
["020508","ANCASH","ANCASH","BOLOGNESI","HUALLANCA","Hombre","00-04",{"$f":"'Pob x Genero'!CT125","v":223},117]
["020509","ANCASH","ANCASH","BOLOGNESI","HUASTA","Hombre","00-04",{"$f":"'Pob x Genero'!CT126","v":60},118]
["020510","ANCASH","ANCASH","BOLOGNESI","HUAYLLACAYAN","Hombre","00-04",{"$f":"'Pob x Genero'!CT127","v":20},119]
["020511","ANCASH","ANCASH","BOLOGNESI","LA PRIMAVERA","Hombre","00-04",{"$f":"'Pob x Genero'!CT128","v":8},120]
["020512","ANCASH","ANCASH","BOLOGNESI","MANGAS","Hombre","00-04",{"$f":"'Pob x Genero'!CT129","v":7},121]
["020513","ANCASH","ANCASH","BOLOGNESI","PACLLON","Hombre","00-04",{"$f":"'Pob x Genero'!CT130","v":25},122]
["020514","ANCASH","ANCASH","BOLOGNESI","SAN MIGUEL DE CORPANQUI","Hombre","00-04",{"$f":"'Pob x Genero'!CT131","v":6},123]
["020515","ANCASH","ANCASH","BOLOGNESI","TICLLOS","Hombre","00-04",{"$f":"'Pob x Genero'!CT132","v":14},124]
["020601","ANCASH","ANCASH","CARHUAZ","CARHUAZ","Hombre","00-04",{"$f":"'Pob x Genero'!CT133","v":616},125]
["020602","ANCASH","ANCASH","CARHUAZ","ACOPAMPA","Hombre","00-04",{"$f":"'Pob x Genero'!CT134","v":108},126]
["020603","ANCASH","ANCASH","CARHUAZ","AMASHCA","Hombre","00-04",{"$f":"'Pob x Genero'!CT135","v":41},127]
["020604","ANCASH","ANCASH","CARHUAZ","ANTA","Hombre","00-04",{"$f":"'Pob x Genero'!CT136","v":94},128]
["020605","ANCASH","ANCASH","CARHUAZ","ATAQUERO","Hombre","00-04",{"$f":"'Pob x Genero'!CT137","v":51},129]
["020606","ANCASH","ANCASH","CARHUAZ","MARCARA","Hombre","00-04",{"$f":"'Pob x Genero'!CT138","v":377},130]
["020607","ANCASH","ANCASH","CARHUAZ","PARIAHUANCA","Hombre","00-04",{"$f":"'Pob x Genero'!CT139","v":54},131]
["020608","ANCASH","ANCASH","CARHUAZ","SAN MIGUEL DE ACO","Hombre","00-04",{"$f":"'Pob x Genero'!CT140","v":89},132]
["020609","ANCASH","ANCASH","CARHUAZ","SHILLA","Hombre","00-04",{"$f":"'Pob x Genero'!CT141","v":80},133]
["020610","ANCASH","ANCASH","CARHUAZ","TINCO","Hombre","00-04",{"$f":"'Pob x Genero'!CT142","v":108},134]
["020611","ANCASH","ANCASH","CARHUAZ","YUNGAR","Hombre","00-04",{"$f":"'Pob x Genero'!CT143","v":128},135]
["020701","ANCASH","ANCASH","CARLOS FERMIN FITZCARRALD","SAN LUIS","Hombre","00-04",{"$f":"'Pob x Genero'!CT144","v":309},136]
["020702","ANCASH","ANCASH","CARLOS FERMIN FITZCARRALD","SAN NICOLAS","Hombre","00-04",{"$f":"'Pob x Genero'!CT145","v":132},137]
["020703","ANCASH","ANCASH","CARLOS FERMIN FITZCARRALD","YAUYA","Hombre","00-04",{"$f":"'Pob x Genero'!CT146","v":123},138]
["020801","ANCASH","ANCASH","CASMA","CASMA","Hombre","00-04",{"$f":"'Pob x Genero'!CT147","v":1439},139]
["020802","ANCASH","ANCASH","CASMA","BUENA VISTA ALTA","Hombre","00-04",{"$f":"'Pob x Genero'!CT148","v":199},140]
["020803","ANCASH","ANCASH","CASMA","COMANDANTE NOEL","Hombre","00-04",{"$f":"'Pob x Genero'!CT149","v":100},141]
["020804","ANCASH","ANCASH","CASMA","YAUTAN","Hombre","00-04",{"$f":"'Pob x Genero'!CT150","v":407},142]
["020901","ANCASH","ANCASH","CORONGO","CORONGO","Hombre","00-04",{"$f":"'Pob x Genero'!CT151","v":41},143]
["020902","ANCASH","ANCASH","CORONGO","ACO","Hombre","00-04",{"$f":"'Pob x Genero'!CT152","v":14},144]
["020903","ANCASH","ANCASH","CORONGO","BAMBAS","Hombre","00-04",{"$f":"'Pob x Genero'!CT153","v":10},145]
["020904","ANCASH","ANCASH","CORONGO","CUSCA","Hombre","00-04",{"$f":"'Pob x Genero'!CT154","v":122},146]
["020905","ANCASH","ANCASH","CORONGO","LA PAMPA","Hombre","00-04",{"$f":"'Pob x Genero'!CT155","v":25},147]
["020906","ANCASH","ANCASH","CORONGO","YANAC","Hombre","00-04",{"$f":"'Pob x Genero'!CT156","v":20},148]
["020907","ANCASH","ANCASH","CORONGO","YUPAN","Hombre","00-04",{"$f":"'Pob x Genero'!CT157","v":16},149]
["021001","ANCASH","ANCASH","HUARI","HUARI","Hombre","00-04",{"$f":"'Pob x Genero'!CT158","v":375},150]
["021002","ANCASH","ANCASH","HUARI","ANRA","Hombre","00-04",{"$f":"'Pob x Genero'!CT159","v":51},151]
["021003","ANCASH","ANCASH","HUARI","CAJAY","Hombre","00-04",{"$f":"'Pob x Genero'!CT160","v":145},152]
["021004","ANCASH","ANCASH","HUARI","CHAVIN DE HUANTAR","Hombre","00-04",{"$f":"'Pob x Genero'!CT161","v":359},153]
["021005","ANCASH","ANCASH","HUARI","HUACACHI","Hombre","00-04",{"$f":"'Pob x Genero'!CT162","v":74},154]
["021006","ANCASH","ANCASH","HUARI","HUACCHIS","Hombre","00-04",{"$f":"'Pob x Genero'!CT163","v":53},155]
["021007","ANCASH","ANCASH","HUARI","HUACHIS","Hombre","00-04",{"$f":"'Pob x Genero'!CT164","v":121},156]
["021008","ANCASH","ANCASH","HUARI","HUANTAR","Hombre","00-04",{"$f":"'Pob x Genero'!CT165","v":103},157]
["021009","ANCASH","ANCASH","HUARI","MASIN","Hombre","00-04",{"$f":"'Pob x Genero'!CT166","v":29},158]
["021010","ANCASH","ANCASH","HUARI","PAUCAS","Hombre","00-04",{"$f":"'Pob x Genero'!CT167","v":63},159]
["021011","ANCASH","ANCASH","HUARI","PONTO","Hombre","00-04",{"$f":"'Pob x Genero'!CT168","v":84},160]
["021012","ANCASH","ANCASH","HUARI","RAHUAPAMPA","Hombre","00-04",{"$f":"'Pob x Genero'!CT169","v":26},161]
["021013","ANCASH","ANCASH","HUARI","RAPAYAN","Hombre","00-04",{"$f":"'Pob x Genero'!CT170","v":60},162]
["021014","ANCASH","ANCASH","HUARI","SAN MARCOS","Hombre","00-04",{"$f":"'Pob x Genero'!CT171","v":767},163]
["021015","ANCASH","ANCASH","HUARI","SAN PEDRO DE CHANA","Hombre","00-04",{"$f":"'Pob x Genero'!CT172","v":152},164]
["021016","ANCASH","ANCASH","HUARI","UCO","Hombre","00-04",{"$f":"'Pob x Genero'!CT173","v":41},165]
["021101","ANCASH","ANCASH","HUARMEY","HUARMEY","Hombre","00-04",{"$f":"'Pob x Genero'!CT174","v":955},166]
["021102","ANCASH","ANCASH","HUARMEY","COCHAPETI","Hombre","00-04",{"$f":"'Pob x Genero'!CT175","v":23},167]
["021103","ANCASH","ANCASH","HUARMEY","CULEBRAS","Hombre","00-04",{"$f":"'Pob x Genero'!CT176","v":130},168]
["021104","ANCASH","ANCASH","HUARMEY","HUAYAN","Hombre","00-04",{"$f":"'Pob x Genero'!CT177","v":36},169]
["021105","ANCASH","ANCASH","HUARMEY","MALVAS","Hombre","00-04",{"$f":"'Pob x Genero'!CT178","v":24},170]
["021201","ANCASH","ANCASH","HUAYLAS","CARAZ","Hombre","00-04",{"$f":"'Pob x Genero'!CT179","v":1304},171]
["021202","ANCASH","ANCASH","HUAYLAS","HUALLANCA","Hombre","00-04",{"$f":"'Pob x Genero'!CT180","v":29},172]
["021203","ANCASH","ANCASH","HUAYLAS","HUATA","Hombre","00-04",{"$f":"'Pob x Genero'!CT181","v":40},173]
["021204","ANCASH","ANCASH","HUAYLAS","HUAYLAS","Hombre","00-04",{"$f":"'Pob x Genero'!CT182","v":40},174]
["021205","ANCASH","ANCASH","HUAYLAS","MATO","Hombre","00-04",{"$f":"'Pob x Genero'!CT183","v":76},175]
["021206","ANCASH","ANCASH","HUAYLAS","PAMPAROMAS","Hombre","00-04",{"$f":"'Pob x Genero'!CT184","v":382},176]
["021207","ANCASH","ANCASH","HUAYLAS","PUEBLO LIBRE","Hombre","00-04",{"$f":"'Pob x Genero'!CT185","v":206},177]
["021208","ANCASH","ANCASH","HUAYLAS","SANTA CRUZ","Hombre","00-04",{"$f":"'Pob x Genero'!CT186","v":202},178]
["021209","ANCASH","ANCASH","HUAYLAS","SANTO TORIBIO","Hombre","00-04",{"$f":"'Pob x Genero'!CT187","v":47},179]
["021210","ANCASH","ANCASH","HUAYLAS","YURACMARCA","Hombre","00-04",{"$f":"'Pob x Genero'!CT188","v":76},180]
["021301","ANCASH","ANCASH","MARISCAL LUZURIAGA","PISCOBAMBA","Hombre","00-04",{"$f":"'Pob x Genero'!CT189","v":118},181]
["021302","ANCASH","ANCASH","MARISCAL LUZURIAGA","CASCA","Hombre","00-04",{"$f":"'Pob x Genero'!CT190","v":119},182]
["021303","ANCASH","ANCASH","MARISCAL LUZURIAGA","ELEAZAR GUZMAN BARRON","Hombre","00-04",{"$f":"'Pob x Genero'!CT191","v":32},183]
["021304","ANCASH","ANCASH","MARISCAL LUZURIAGA","FIDEL OLIVAS ESCUDERO","Hombre","00-04",{"$f":"'Pob x Genero'!CT192","v":62},184]
["021305","ANCASH","ANCASH","MARISCAL LUZURIAGA","LLAMA","Hombre","00-04",{"$f":"'Pob x Genero'!CT193","v":24},185]
["021306","ANCASH","ANCASH","MARISCAL LUZURIAGA","LLUMPA","Hombre","00-04",{"$f":"'Pob x Genero'!CT194","v":211},186]
["021307","ANCASH","ANCASH","MARISCAL LUZURIAGA","LUCMA","Hombre","00-04",{"$f":"'Pob x Genero'!CT195","v":105},187]
["021308","ANCASH","ANCASH","MARISCAL LUZURIAGA","MUSGA","Hombre","00-04",{"$f":"'Pob x Genero'!CT196","v":12},188]
["021401","ANCASH","ANCASH","OCROS","OCROS","Hombre","00-04",{"$f":"'Pob x Genero'!CT197","v":35},189]
["021402","ANCASH","ANCASH","OCROS","ACAS","Hombre","00-04",{"$f":"'Pob x Genero'!CT198","v":9},190]
["021403","ANCASH","ANCASH","OCROS","CAJAMARQUILLA","Hombre","00-04",{"$f":"'Pob x Genero'!CT199","v":3},191]
["021404","ANCASH","ANCASH","OCROS","CARHUAPAMPA","Hombre","00-04",{"$f":"'Pob x Genero'!CT200","v":13},192]
["021405","ANCASH","ANCASH","OCROS","COCHAS","Hombre","00-04",{"$f":"'Pob x Genero'!CT201","v":50},193]
["021406","ANCASH","ANCASH","OCROS","CONGAS","Hombre","00-04",{"$f":"'Pob x Genero'!CT202","v":17},194]
["021407","ANCASH","ANCASH","OCROS","LLIPA","Hombre","00-04",{"$f":"'Pob x Genero'!CT203","v":2},195]
["021408","ANCASH","ANCASH","OCROS","SAN CRISTOBAL DE RAJAN","Hombre","00-04",{"$f":"'Pob x Genero'!CT204","v":3},196]
["021409","ANCASH","ANCASH","OCROS","SAN PEDRO","Hombre","00-04",{"$f":"'Pob x Genero'!CT205","v":16},197]
["021410","ANCASH","ANCASH","OCROS","SANTIAGO DE CHILCAS","Hombre","00-04",{"$f":"'Pob x Genero'!CT206","v":5},198]
["021501","ANCASH","ANCASH","PALLASCA","CABANA","Hombre","00-04",{"$f":"'Pob x Genero'!CT207","v":90},199]
["021502","ANCASH","ANCASH","PALLASCA","BOLOGNESI","Hombre","00-04",{"$f":"'Pob x Genero'!CT208","v":56},200]
["021503","ANCASH","ANCASH","PALLASCA","CONCHUCOS","Hombre","00-04",{"$f":"'Pob x Genero'!CT209","v":363},201]
["021504","ANCASH","ANCASH","PALLASCA","HUACASCHUQUE","Hombre","00-04",{"$f":"'Pob x Genero'!CT210","v":26},202]
["021505","ANCASH","ANCASH","PALLASCA","HUANDOVAL","Hombre","00-04",{"$f":"'Pob x Genero'!CT211","v":29},203]
["021506","ANCASH","ANCASH","PALLASCA","LACABAMBA","Hombre","00-04",{"$f":"'Pob x Genero'!CT212","v":22},204]
["021507","ANCASH","ANCASH","PALLASCA","LLAPO","Hombre","00-04",{"$f":"'Pob x Genero'!CT213","v":15},205]
["021508","ANCASH","ANCASH","PALLASCA","PALLASCA","Hombre","00-04",{"$f":"'Pob x Genero'!CT214","v":87},206]
["021509","ANCASH","ANCASH","PALLASCA","PAMPAS","Hombre","00-04",{"$f":"'Pob x Genero'!CT215","v":187},207]
["021510","ANCASH","ANCASH","PALLASCA","SANTA ROSA","Hombre","00-04",{"$f":"'Pob x Genero'!CT216","v":33},208]
["021511","ANCASH","ANCASH","PALLASCA","TAUCA","Hombre","00-04",{"$f":"'Pob x Genero'!CT217","v":73},209]
["021601","ANCASH","ANCASH","POMABAMBA","POMABAMBA","Hombre","00-04",{"$f":"'Pob x Genero'!CT218","v":603},210]
["021602","ANCASH","ANCASH","POMABAMBA","HUAYLLAN","Hombre","00-04",{"$f":"'Pob x Genero'!CT219","v":105},211]
["021603","ANCASH","ANCASH","POMABAMBA","PAROBAMBA","Hombre","00-04",{"$f":"'Pob x Genero'!CT220","v":231},212]
["021604","ANCASH","ANCASH","POMABAMBA","QUINUABAMBA","Hombre","00-04",{"$f":"'Pob x Genero'!CT221","v":83},213]
["021701","ANCASH","ANCASH","RECUAY","RECUAY","Hombre","00-04",{"$f":"'Pob x Genero'!CT222","v":155},214]
["021702","ANCASH","ANCASH","RECUAY","CATAC","Hombre","00-04",{"$f":"'Pob x Genero'!CT223","v":162},215]
["021703","ANCASH","ANCASH","RECUAY","COTAPARACO","Hombre","00-04",{"$f":"'Pob x Genero'!CT224","v":14},216]
["021704","ANCASH","ANCASH","RECUAY","HUAYLLAPAMPA","Hombre","00-04",{"$f":"'Pob x Genero'!CT225","v":19},217]
["021705","ANCASH","ANCASH","RECUAY","LLACLLIN","Hombre","00-04",{"$f":"'Pob x Genero'!CT226","v":28},218]
["021706","ANCASH","ANCASH","RECUAY","MARCA","Hombre","00-04",{"$f":"'Pob x Genero'!CT227","v":22},219]
["021707","ANCASH","ANCASH","RECUAY","PAMPAS CHICO","Hombre","00-04",{"$f":"'Pob x Genero'!CT228","v":22},220]
["021708","ANCASH","ANCASH","RECUAY","PARARIN","Hombre","00-04",{"$f":"'Pob x Genero'!CT229","v":36},221]
["021709","ANCASH","ANCASH","RECUAY","TAPACOCHA","Hombre","00-04",{"$f":"'Pob x Genero'!CT230","v":8},222]
["021710","ANCASH","ANCASH","RECUAY","TICAPAMPA","Hombre","00-04",{"$f":"'Pob x Genero'!CT231","v":84},223]
["021801","ANCASH","ANCASH","SANTA","CHIMBOTE","Hombre","00-04",{"$f":"'Pob x Genero'!CT232","v":6979},224]
["021802","ANCASH","ANCASH","SANTA","CACERES DEL PERU","Hombre","00-04",{"$f":"'Pob x Genero'!CT233","v":191},225]
["021803","ANCASH","ANCASH","SANTA","COISHCO","Hombre","00-04",{"$f":"'Pob x Genero'!CT234","v":636},226]
["021804","ANCASH","ANCASH","SANTA","MACATE","Hombre","00-04",{"$f":"'Pob x Genero'!CT235","v":94},227]
["021805","ANCASH","ANCASH","SANTA","MORO","Hombre","00-04",{"$f":"'Pob x Genero'!CT236","v":416},228]
["021806","ANCASH","ANCASH","SANTA","NEPEÑA","Hombre","00-04",{"$f":"'Pob x Genero'!CT237","v":439},229]
["021807","ANCASH","ANCASH","SANTA","SAMANCO","Hombre","00-04",{"$f":"'Pob x Genero'!CT238","v":141},230]
["021808","ANCASH","ANCASH","SANTA","SANTA","Hombre","00-04",{"$f":"'Pob x Genero'!CT239","v":821},231]
["021809","ANCASH","ANCASH","SANTA","NUEVO CHIMBOTE","Hombre","00-04",{"$f":"'Pob x Genero'!CT240","v":5429},232]
["021901","ANCASH","ANCASH","SIHUAS","SIHUAS","Hombre","00-04",{"$f":"'Pob x Genero'!CT241","v":256},233]
["021902","ANCASH","ANCASH","SIHUAS","ACOBAMBA","Hombre","00-04",{"$f":"'Pob x Genero'!CT242","v":77},234]
["021903","ANCASH","ANCASH","SIHUAS","ALFONSO UGARTE","Hombre","00-04",{"$f":"'Pob x Genero'!CT243","v":15},235]
["021904","ANCASH","ANCASH","SIHUAS","CASHAPAMPA","Hombre","00-04",{"$f":"'Pob x Genero'!CT244","v":79},236]
["021905","ANCASH","ANCASH","SIHUAS","CHINGALPO","Hombre","00-04",{"$f":"'Pob x Genero'!CT245","v":27},237]
["021906","ANCASH","ANCASH","SIHUAS","HUAYLLABAMBA","Hombre","00-04",{"$f":"'Pob x Genero'!CT246","v":108},238]
["021907","ANCASH","ANCASH","SIHUAS","QUICHES","Hombre","00-04",{"$f":"'Pob x Genero'!CT247","v":104},239]
["021908","ANCASH","ANCASH","SIHUAS","RAGASH","Hombre","00-04",{"$f":"'Pob x Genero'!CT248","v":83},240]
["021909","ANCASH","ANCASH","SIHUAS","SAN JUAN","Hombre","00-04",{"$f":"'Pob x Genero'!CT249","v":279},241]
["021910","ANCASH","ANCASH","SIHUAS","SICSIBAMBA","Hombre","00-04",{"$f":"'Pob x Genero'!CT250","v":44},242]
["022001","ANCASH","ANCASH","YUNGAY","YUNGAY","Hombre","00-04",{"$f":"'Pob x Genero'!CT251","v":827},243]
["022002","ANCASH","ANCASH","YUNGAY","CASCAPARA","Hombre","00-04",{"$f":"'Pob x Genero'!CT252","v":47},244]
["022003","ANCASH","ANCASH","YUNGAY","MANCOS","Hombre","00-04",{"$f":"'Pob x Genero'!CT253","v":232},245]
["022004","ANCASH","ANCASH","YUNGAY","MATACOTO","Hombre","00-04",{"$f":"'Pob x Genero'!CT254","v":43},246]
["022005","ANCASH","ANCASH","YUNGAY","QUILLO","Hombre","00-04",{"$f":"'Pob x Genero'!CT255","v":523},247]
["022006","ANCASH","ANCASH","YUNGAY","RANRAHIRCA","Hombre","00-04",{"$f":"'Pob x Genero'!CT256","v":121},248]
["022007","ANCASH","ANCASH","YUNGAY","SHUPLUY","Hombre","00-04",{"$f":"'Pob x Genero'!CT257","v":65},249]
["022008","ANCASH","ANCASH","YUNGAY","YANAMA","Hombre","00-04",{"$f":"'Pob x Genero'!CT258","v":191},250]
["030101","APURIMAC","APURIMAC","ABANCAY","ABANCAY","Hombre","00-04",{"$f":"'Pob x Genero'!CT259","v":2948},251]
["030102","APURIMAC","APURIMAC","ABANCAY","CHACOCHE","Hombre","00-04",{"$f":"'Pob x Genero'!CT260","v":61},252]
["030103","APURIMAC","APURIMAC","ABANCAY","CIRCA","Hombre","00-04",{"$f":"'Pob x Genero'!CT261","v":29},253]
["030104","APURIMAC","APURIMAC","ABANCAY","CURAHUASI","Hombre","00-04",{"$f":"'Pob x Genero'!CT262","v":676},254]
["030105","APURIMAC","APURIMAC","ABANCAY","HUANIPACA","Hombre","00-04",{"$f":"'Pob x Genero'!CT263","v":101},255]
["030106","APURIMAC","APURIMAC","ABANCAY","LAMBRAMA","Hombre","00-04",{"$f":"'Pob x Genero'!CT264","v":42},256]
["030107","APURIMAC","APURIMAC","ABANCAY","PICHIRHUA","Hombre","00-04",{"$f":"'Pob x Genero'!CT265","v":92},257]
["030108","APURIMAC","APURIMAC","ABANCAY","SAN PEDRO DE CACHORA","Hombre","00-04",{"$f":"'Pob x Genero'!CT266","v":54},258]
["030109","APURIMAC","APURIMAC","ABANCAY","TAMBURCO","Hombre","00-04",{"$f":"'Pob x Genero'!CT267","v":538},259]
["030201","APURIMAC","APURIMAC","ANDAHUAYLAS","ANDAHUAYLAS","Hombre","00-04",{"$f":"'Pob x Genero'!CT268","v":1874},260]
["030202","APURIMAC","APURIMAC","ANDAHUAYLAS","ANDARAPA","Hombre","00-04",{"$f":"'Pob x Genero'!CT269","v":192},261]
["030203","APURIMAC","APURIMAC","ANDAHUAYLAS","CHIARA","Hombre","00-04",{"$f":"'Pob x Genero'!CT270","v":34},262]
["030204","APURIMAC","APURIMAC","ANDAHUAYLAS","HUANCARAMA","Hombre","00-04",{"$f":"'Pob x Genero'!CT271","v":173},263]
["030205","APURIMAC","APURIMAC","ANDAHUAYLAS","HUANCARAY","Hombre","00-04",{"$f":"'Pob x Genero'!CT272","v":149},264]
["030206","APURIMAC","APURIMAC","ANDAHUAYLAS","HUAYANA","Hombre","00-04",{"$f":"'Pob x Genero'!CT273","v":26},265]
["030207","APURIMAC","APURIMAC","ANDAHUAYLAS","KISHUARA","Hombre","00-04",{"$f":"'Pob x Genero'!CT274","v":230},266]
["030208","APURIMAC","APURIMAC","ANDAHUAYLAS","PACOBAMBA","Hombre","00-04",{"$f":"'Pob x Genero'!CT275","v":88},267]
["030209","APURIMAC","APURIMAC","ANDAHUAYLAS","PACUCHA","Hombre","00-04",{"$f":"'Pob x Genero'!CT276","v":216},268]
["030210","APURIMAC","APURIMAC","ANDAHUAYLAS","PAMPACHIRI","Hombre","00-04",{"$f":"'Pob x Genero'!CT277","v":83},269]
["030211","APURIMAC","APURIMAC","ANDAHUAYLAS","POMACOCHA","Hombre","00-04",{"$f":"'Pob x Genero'!CT278","v":18},270]
["030212","APURIMAC","APURIMAC","ANDAHUAYLAS","SAN ANTONIO DE CACHI","Hombre","00-04",{"$f":"'Pob x Genero'!CT279","v":90},271]
["030213","APURIMAC","APURIMAC","ANDAHUAYLAS","SAN JERONIMO","Hombre","00-04",{"$f":"'Pob x Genero'!CT280","v":910},272]
["030214","APURIMAC","APURIMAC","ANDAHUAYLAS","SAN MIGUEL DE CHACCRAMPA","Hombre","00-04",{"$f":"'Pob x Genero'!CT281","v":60},273]
["030215","APURIMAC","APURIMAC","ANDAHUAYLAS","SANTA MARIA DE CHICMO","Hombre","00-04",{"$f":"'Pob x Genero'!CT282","v":286},274]
["030216","APURIMAC","APURIMAC","ANDAHUAYLAS","TALAVERA","Hombre","00-04",{"$f":"'Pob x Genero'!CT283","v":883},275]
["030217","APURIMAC","APURIMAC","ANDAHUAYLAS","TUMAY HUARACA","Hombre","00-04",{"$f":"'Pob x Genero'!CT284","v":47},276]
["030218","APURIMAC","APURIMAC","ANDAHUAYLAS","TURPO","Hombre","00-04",{"$f":"'Pob x Genero'!CT285","v":103},277]
["030219","APURIMAC","APURIMAC","ANDAHUAYLAS","KAQUIABAMBA","Hombre","00-04",{"$f":"'Pob x Genero'!CT286","v":31},278]
["030220","APURIMAC","APURIMAC","ANDAHUAYLAS","JOSÉ MARÍA ARGUEDAS","Hombre","00-04",{"$f":"'Pob x Genero'!CT287","v":209},279]
["030301","APURIMAC","APURIMAC","ANTABAMBA","ANTABAMBA","Hombre","00-04",{"$f":"'Pob x Genero'!CT288","v":89},280]
["030302","APURIMAC","APURIMAC","ANTABAMBA","EL ORO","Hombre","00-04",{"$f":"'Pob x Genero'!CT289","v":21},281]
["030303","APURIMAC","APURIMAC","ANTABAMBA","HUAQUIRCA","Hombre","00-04",{"$f":"'Pob x Genero'!CT290","v":67},282]
["030304","APURIMAC","APURIMAC","ANTABAMBA","JUAN ESPINOZA MEDRANO","Hombre","00-04",{"$f":"'Pob x Genero'!CT291","v":53},283]
["030305","APURIMAC","APURIMAC","ANTABAMBA","OROPESA","Hombre","00-04",{"$f":"'Pob x Genero'!CT292","v":82},284]
["030306","APURIMAC","APURIMAC","ANTABAMBA","PACHACONAS","Hombre","00-04",{"$f":"'Pob x Genero'!CT293","v":35},285]
["030307","APURIMAC","APURIMAC","ANTABAMBA","SABAINO","Hombre","00-04",{"$f":"'Pob x Genero'!CT294","v":40},286]
["030401","APURIMAC","APURIMAC","AYMARAES","CHALHUANCA","Hombre","00-04",{"$f":"'Pob x Genero'!CT295","v":166},287]
["030402","APURIMAC","APURIMAC","AYMARAES","CAPAYA","Hombre","00-04",{"$f":"'Pob x Genero'!CT296","v":25},288]
["030403","APURIMAC","APURIMAC","AYMARAES","CARAYBAMBA","Hombre","00-04",{"$f":"'Pob x Genero'!CT297","v":25},289]
["030404","APURIMAC","APURIMAC","AYMARAES","CHAPIMARCA","Hombre","00-04",{"$f":"'Pob x Genero'!CT298","v":61},290]
["030405","APURIMAC","APURIMAC","AYMARAES","COLCABAMBA","Hombre","00-04",{"$f":"'Pob x Genero'!CT299","v":21},291]
["030406","APURIMAC","APURIMAC","AYMARAES","COTARUSE","Hombre","00-04",{"$f":"'Pob x Genero'!CT300","v":136},292]
["030407","APURIMAC","APURIMAC","AYMARAES","HUAYLLO","Hombre","00-04",{"$f":"'Pob x Genero'!CT301","v":10},293]
["030408","APURIMAC","APURIMAC","AYMARAES","JUSTO APU SAHUARAURA","Hombre","00-04",{"$f":"'Pob x Genero'!CT302","v":16},294]
["030409","APURIMAC","APURIMAC","AYMARAES","LUCRE","Hombre","00-04",{"$f":"'Pob x Genero'!CT303","v":52},295]
["030410","APURIMAC","APURIMAC","AYMARAES","POCOHUANCA","Hombre","00-04",{"$f":"'Pob x Genero'!CT304","v":28},296]
["030411","APURIMAC","APURIMAC","AYMARAES","SAN JUAN DE CHACÑA","Hombre","00-04",{"$f":"'Pob x Genero'!CT305","v":19},297]
["030412","APURIMAC","APURIMAC","AYMARAES","SAÑAYCA","Hombre","00-04",{"$f":"'Pob x Genero'!CT306","v":21},298]
["030413","APURIMAC","APURIMAC","AYMARAES","SORAYA","Hombre","00-04",{"$f":"'Pob x Genero'!CT307","v":15},299]
["030414","APURIMAC","APURIMAC","AYMARAES","TAPAIRIHUA","Hombre","00-04",{"$f":"'Pob x Genero'!CT308","v":71},300]
["030415","APURIMAC","APURIMAC","AYMARAES","TINTAY","Hombre","00-04",{"$f":"'Pob x Genero'!CT309","v":40},301]
["030416","APURIMAC","APURIMAC","AYMARAES","TORAYA","Hombre","00-04",{"$f":"'Pob x Genero'!CT310","v":38},302]
["030417","APURIMAC","APURIMAC","AYMARAES","YANACA","Hombre","00-04",{"$f":"'Pob x Genero'!CT311","v":16},303]
["030501","APURIMAC","APURIMAC","COTABAMBAS","TAMBOBAMBA","Hombre","00-04",{"$f":"'Pob x Genero'!CT312","v":560},304]
["030502","APURIMAC","APURIMAC","COTABAMBAS","COTABAMBAS","Hombre","00-04",{"$f":"'Pob x Genero'!CT313","v":142},305]
["030503","APURIMAC","APURIMAC","COTABAMBAS","COYLLURQUI","Hombre","00-04",{"$f":"'Pob x Genero'!CT314","v":382},306]
["030504","APURIMAC","APURIMAC","COTABAMBAS","HAQUIRA","Hombre","00-04",{"$f":"'Pob x Genero'!CT315","v":374},307]
["030505","APURIMAC","APURIMAC","COTABAMBAS","MARA","Hombre","00-04",{"$f":"'Pob x Genero'!CT316","v":292},308]
["030506","APURIMAC","APURIMAC","COTABAMBAS","CHALLHUAHUACHO","Hombre","00-04",{"$f":"'Pob x Genero'!CT317","v":675},309]
["030601","APURIMAC","APURIMAC","CHINCHEROS","CHINCHEROS","Hombre","00-04",{"$f":"'Pob x Genero'!CT318","v":243},310]
["030602","APURIMAC","APURIMAC","CHINCHEROS","ANCO-HUALLO","Hombre","00-04",{"$f":"'Pob x Genero'!CT319","v":460},311]
["030603","APURIMAC","APURIMAC","CHINCHEROS","COCHARCAS","Hombre","00-04",{"$f":"'Pob x Genero'!CT320","v":68},312]
["030604","APURIMAC","APURIMAC","CHINCHEROS","HUACCANA","Hombre","00-04",{"$f":"'Pob x Genero'!CT321","v":183},313]
["030605","APURIMAC","APURIMAC","CHINCHEROS","OCOBAMBA","Hombre","00-04",{"$f":"'Pob x Genero'!CT322","v":255},314]
["030606","APURIMAC","APURIMAC","CHINCHEROS","ONGOY","Hombre","00-04",{"$f":"'Pob x Genero'!CT323","v":98},315]
["030607","APURIMAC","APURIMAC","CHINCHEROS","URANMARCA","Hombre","00-04",{"$f":"'Pob x Genero'!CT324","v":96},316]
["030608","APURIMAC","APURIMAC","CHINCHEROS","RANRACANCHA","Hombre","00-04",{"$f":"'Pob x Genero'!CT325","v":152},317]
["030609","APURIMAC","APURIMAC","CHINCHEROS","ROCCHACC","Hombre","00-04",{"$f":"'Pob x Genero'!CT326","v":116},318]
["030610","APURIMAC","APURIMAC","CHINCHEROS","EL PORVENIR","Hombre","00-04",{"$f":"'Pob x Genero'!CT327","v":64},319]
["030611","APURIMAC","APURIMAC","CHINCHEROS","LOS CHANKAS","Hombre","00-04",{"$f":"'Pob x Genero'!CT328","v":49},320]
["030612","APURIMAC","APURIMAC","CHINCHEROS","AHUAYRO","Hombre","00-04",{"$f":"'Pob x Genero'!CT329","v":53},321]
["030701","APURIMAC","APURIMAC","GRAU","CHUQUIBAMBILLA","Hombre","00-04",{"$f":"'Pob x Genero'!CT330","v":175},322]
["030702","APURIMAC","APURIMAC","GRAU","CURPAHUASI","Hombre","00-04",{"$f":"'Pob x Genero'!CT331","v":50},323]
["030703","APURIMAC","APURIMAC","GRAU","GAMARRA","Hombre","00-04",{"$f":"'Pob x Genero'!CT332","v":66},324]
["030704","APURIMAC","APURIMAC","GRAU","HUAYLLATI","Hombre","00-04",{"$f":"'Pob x Genero'!CT333","v":37},325]
["030705","APURIMAC","APURIMAC","GRAU","MAMARA","Hombre","00-04",{"$f":"'Pob x Genero'!CT334","v":12},326]
["030706","APURIMAC","APURIMAC","GRAU","MICAELA BASTIDAS","Hombre","00-04",{"$f":"'Pob x Genero'!CT335","v":23},327]
["030707","APURIMAC","APURIMAC","GRAU","PATAYPAMPA","Hombre","00-04",{"$f":"'Pob x Genero'!CT336","v":24},328]
["030708","APURIMAC","APURIMAC","GRAU","PROGRESO","Hombre","00-04",{"$f":"'Pob x Genero'!CT337","v":157},329]
["030709","APURIMAC","APURIMAC","GRAU","SAN ANTONIO","Hombre","00-04",{"$f":"'Pob x Genero'!CT338","v":6},330]
["030710","APURIMAC","APURIMAC","GRAU","SANTA ROSA","Hombre","00-04",{"$f":"'Pob x Genero'!CT339","v":20},331]
["030711","APURIMAC","APURIMAC","GRAU","TURPAY","Hombre","00-04",{"$f":"'Pob x Genero'!CT340","v":9},332]
["030712","APURIMAC","APURIMAC","GRAU","VILCABAMBA","Hombre","00-04",{"$f":"'Pob x Genero'!CT341","v":38},333]
["030713","APURIMAC","APURIMAC","GRAU","VIRUNDO","Hombre","00-04",{"$f":"'Pob x Genero'!CT342","v":20},334]
["030714","APURIMAC","APURIMAC","GRAU","CURASCO","Hombre","00-04",{"$f":"'Pob x Genero'!CT343","v":38},335]
["040101","AREQUIPA","AREQUIPA","AREQUIPA","AREQUIPA","Hombre","00-04",{"$f":"'Pob x Genero'!CT344","v":1295},336]
["040102","AREQUIPA","AREQUIPA","AREQUIPA","ALTO SELVA ALEGRE","Hombre","00-04",{"$f":"'Pob x Genero'!CT345","v":2350},337]
["040103","AREQUIPA","AREQUIPA","AREQUIPA","CAYMA","Hombre","00-04",{"$f":"'Pob x Genero'!CT346","v":3017},338]
["040104","AREQUIPA","AREQUIPA","AREQUIPA","CERRO COLORADO","Hombre","00-04",{"$f":"'Pob x Genero'!CT347","v":6346},339]
["040105","AREQUIPA","AREQUIPA","AREQUIPA","CHARACATO","Hombre","00-04",{"$f":"'Pob x Genero'!CT348","v":433},340]
["040106","AREQUIPA","AREQUIPA","AREQUIPA","CHIGUATA","Hombre","00-04",{"$f":"'Pob x Genero'!CT349","v":141},341]
["040107","AREQUIPA","AREQUIPA","AREQUIPA","JACOBO HUNTER","Hombre","00-04",{"$f":"'Pob x Genero'!CT350","v":1387},342]
["040108","AREQUIPA","AREQUIPA","AREQUIPA","LA JOYA","Hombre","00-04",{"$f":"'Pob x Genero'!CT351","v":1386},343]
["040109","AREQUIPA","AREQUIPA","AREQUIPA","MARIANO MELGAR","Hombre","00-04",{"$f":"'Pob x Genero'!CT352","v":1813},344]
["040110","AREQUIPA","AREQUIPA","AREQUIPA","MIRAFLORES","Hombre","00-04",{"$f":"'Pob x Genero'!CT353","v":1677},345]
["040111","AREQUIPA","AREQUIPA","AREQUIPA","MOLLEBAYA","Hombre","00-04",{"$f":"'Pob x Genero'!CT354","v":183},346]
["040112","AREQUIPA","AREQUIPA","AREQUIPA","PAUCARPATA","Hombre","00-04",{"$f":"'Pob x Genero'!CT355","v":4033},347]
["040113","AREQUIPA","AREQUIPA","AREQUIPA","POCSI","Hombre","00-04",{"$f":"'Pob x Genero'!CT356","v":18},348]
["040114","AREQUIPA","AREQUIPA","AREQUIPA","POLOBAYA","Hombre","00-04",{"$f":"'Pob x Genero'!CT357","v":23},349]
["040115","AREQUIPA","AREQUIPA","AREQUIPA","QUEQUEÑA","Hombre","00-04",{"$f":"'Pob x Genero'!CT358","v":97},350]
["040116","AREQUIPA","AREQUIPA","AREQUIPA","SABANDIA","Hombre","00-04",{"$f":"'Pob x Genero'!CT359","v":158},351]
["040117","AREQUIPA","AREQUIPA","AREQUIPA","SACHACA","Hombre","00-04",{"$f":"'Pob x Genero'!CT360","v":840},352]
["040118","AREQUIPA","AREQUIPA","AREQUIPA","SAN JUAN DE SIGUAS","Hombre","00-04",{"$f":"'Pob x Genero'!CT361","v":19},353]
["040119","AREQUIPA","AREQUIPA","AREQUIPA","SAN JUAN DE TARUCANI","Hombre","00-04",{"$f":"'Pob x Genero'!CT362","v":55},354]
["040120","AREQUIPA","AREQUIPA","AREQUIPA","SANTA ISABEL DE SIGUAS","Hombre","00-04",{"$f":"'Pob x Genero'!CT363","v":12},355]
["040121","AREQUIPA","AREQUIPA","AREQUIPA","SANTA RITA DE SIGUAS","Hombre","00-04",{"$f":"'Pob x Genero'!CT364","v":225},356]
["040122","AREQUIPA","AREQUIPA","AREQUIPA","SOCABAYA","Hombre","00-04",{"$f":"'Pob x Genero'!CT365","v":1856},357]
["040123","AREQUIPA","AREQUIPA","AREQUIPA","TIABAYA","Hombre","00-04",{"$f":"'Pob x Genero'!CT366","v":602},358]
["040124","AREQUIPA","AREQUIPA","AREQUIPA","UCHUMAYO","Hombre","00-04",{"$f":"'Pob x Genero'!CT367","v":533},359]
["040125","AREQUIPA","AREQUIPA","AREQUIPA","VITOR","Hombre","00-04",{"$f":"'Pob x Genero'!CT368","v":105},360]
["040126","AREQUIPA","AREQUIPA","AREQUIPA","YANAHUARA","Hombre","00-04",{"$f":"'Pob x Genero'!CT369","v":709},361]
["040127","AREQUIPA","AREQUIPA","AREQUIPA","YARABAMBA","Hombre","00-04",{"$f":"'Pob x Genero'!CT370","v":109},362]
["040128","AREQUIPA","AREQUIPA","AREQUIPA","YURA","Hombre","00-04",{"$f":"'Pob x Genero'!CT371","v":1575},363]
["040129","AREQUIPA","AREQUIPA","AREQUIPA","JOSE LUIS BUSTAMANTE Y RIVERO","Hombre","00-04",{"$f":"'Pob x Genero'!CT372","v":1855},364]
["040201","AREQUIPA","AREQUIPA","CAMANA","CAMANA","Hombre","00-04",{"$f":"'Pob x Genero'!CT373","v":262},365]
["040202","AREQUIPA","AREQUIPA","CAMANA","JOSE MARIA QUIMPER","Hombre","00-04",{"$f":"'Pob x Genero'!CT374","v":150},366]
["040203","AREQUIPA","AREQUIPA","CAMANA","MARIANO NICOLAS VALCARCEL","Hombre","00-04",{"$f":"'Pob x Genero'!CT375","v":392},367]
["040204","AREQUIPA","AREQUIPA","CAMANA","MARISCAL CACERES","Hombre","00-04",{"$f":"'Pob x Genero'!CT376","v":221},368]
["040205","AREQUIPA","AREQUIPA","CAMANA","NICOLAS DE PIEROLA","Hombre","00-04",{"$f":"'Pob x Genero'!CT377","v":208},369]
["040206","AREQUIPA","AREQUIPA","CAMANA","OCOÑA","Hombre","00-04",{"$f":"'Pob x Genero'!CT378","v":123},370]
["040207","AREQUIPA","AREQUIPA","CAMANA","QUILCA","Hombre","00-04",{"$f":"'Pob x Genero'!CT379","v":37},371]
["040208","AREQUIPA","AREQUIPA","CAMANA","SAMUEL PASTOR","Hombre","00-04",{"$f":"'Pob x Genero'!CT380","v":546},372]
["040301","AREQUIPA","AREQUIPA","CARAVELI","CARAVELI","Hombre","00-04",{"$f":"'Pob x Genero'!CT381","v":225},373]
["040302","AREQUIPA","AREQUIPA","CARAVELI","ACARI","Hombre","00-04",{"$f":"'Pob x Genero'!CT382","v":114},374]
["040303","AREQUIPA","AREQUIPA","CARAVELI","ATICO","Hombre","00-04",{"$f":"'Pob x Genero'!CT383","v":154},375]
["040304","AREQUIPA","AREQUIPA","CARAVELI","ATIQUIPA","Hombre","00-04",{"$f":"'Pob x Genero'!CT384","v":18},376]
["040305","AREQUIPA","AREQUIPA","CARAVELI","BELLA UNION","Hombre","00-04",{"$f":"'Pob x Genero'!CT385","v":116},377]
["040306","AREQUIPA","AREQUIPA","CARAVELI","CAHUACHO","Hombre","00-04",{"$f":"'Pob x Genero'!CT386","v":28},378]
["040307","AREQUIPA","AREQUIPA","CARAVELI","CHALA","Hombre","00-04",{"$f":"'Pob x Genero'!CT387","v":406},379]
["040308","AREQUIPA","AREQUIPA","CARAVELI","CHAPARRA","Hombre","00-04",{"$f":"'Pob x Genero'!CT388","v":93},380]
["040309","AREQUIPA","AREQUIPA","CARAVELI","HUANUHUANU","Hombre","00-04",{"$f":"'Pob x Genero'!CT389","v":111},381]
["040310","AREQUIPA","AREQUIPA","CARAVELI","JAQUI","Hombre","00-04",{"$f":"'Pob x Genero'!CT390","v":38},382]
["040311","AREQUIPA","AREQUIPA","CARAVELI","LOMAS","Hombre","00-04",{"$f":"'Pob x Genero'!CT391","v":47},383]
["040312","AREQUIPA","AREQUIPA","CARAVELI","QUICACHA","Hombre","00-04",{"$f":"'Pob x Genero'!CT392","v":59},384]
["040313","AREQUIPA","AREQUIPA","CARAVELI","YAUCA","Hombre","00-04",{"$f":"'Pob x Genero'!CT393","v":72},385]
["040401","AREQUIPA","AREQUIPA","CASTILLA","APLAO","Hombre","00-04",{"$f":"'Pob x Genero'!CT394","v":279},386]
["040402","AREQUIPA","AREQUIPA","CASTILLA","ANDAGUA","Hombre","00-04",{"$f":"'Pob x Genero'!CT395","v":20},387]
["040403","AREQUIPA","AREQUIPA","CASTILLA","AYO","Hombre","00-04",{"$f":"'Pob x Genero'!CT396","v":6},388]
["040404","AREQUIPA","AREQUIPA","CASTILLA","CHACHAS","Hombre","00-04",{"$f":"'Pob x Genero'!CT397","v":49},389]
["040405","AREQUIPA","AREQUIPA","CASTILLA","CHILCAYMARCA","Hombre","00-04",{"$f":"'Pob x Genero'!CT398","v":25},390]
["040406","AREQUIPA","AREQUIPA","CASTILLA","CHOCO","Hombre","00-04",{"$f":"'Pob x Genero'!CT399","v":20},391]
["040407","AREQUIPA","AREQUIPA","CASTILLA","HUANCARQUI","Hombre","00-04",{"$f":"'Pob x Genero'!CT400","v":37},392]
["040408","AREQUIPA","AREQUIPA","CASTILLA","MACHAGUAY","Hombre","00-04",{"$f":"'Pob x Genero'!CT401","v":12},393]
["040409","AREQUIPA","AREQUIPA","CASTILLA","ORCOPAMPA","Hombre","00-04",{"$f":"'Pob x Genero'!CT402","v":152},394]
["040410","AREQUIPA","AREQUIPA","CASTILLA","PAMPACOLCA","Hombre","00-04",{"$f":"'Pob x Genero'!CT403","v":42},395]
["040411","AREQUIPA","AREQUIPA","CASTILLA","TIPAN","Hombre","00-04",{"$f":"'Pob x Genero'!CT404","v":8},396]
["040412","AREQUIPA","AREQUIPA","CASTILLA","UÑON","Hombre","00-04",{"$f":"'Pob x Genero'!CT405","v":3},397]
["040413","AREQUIPA","AREQUIPA","CASTILLA","URACA","Hombre","00-04",{"$f":"'Pob x Genero'!CT406","v":156},398]
["040414","AREQUIPA","AREQUIPA","CASTILLA","VIRACO","Hombre","00-04",{"$f":"'Pob x Genero'!CT407","v":33},399]
["040501","AREQUIPA","AREQUIPA","CAYLLOMA","CHIVAY","Hombre","00-04",{"$f":"'Pob x Genero'!CT408","v":156},400]
["040502","AREQUIPA","AREQUIPA","CAYLLOMA","ACHOMA","Hombre","00-04",{"$f":"'Pob x Genero'!CT409","v":24},401]
["040503","AREQUIPA","AREQUIPA","CAYLLOMA","CABANACONDE","Hombre","00-04",{"$f":"'Pob x Genero'!CT410","v":31},402]
["040504","AREQUIPA","AREQUIPA","CAYLLOMA","CALLALLI","Hombre","00-04",{"$f":"'Pob x Genero'!CT411","v":38},403]
["040505","AREQUIPA","AREQUIPA","CAYLLOMA","CAYLLOMA","Hombre","00-04",{"$f":"'Pob x Genero'!CT412","v":115},404]
["040506","AREQUIPA","AREQUIPA","CAYLLOMA","COPORAQUE","Hombre","00-04",{"$f":"'Pob x Genero'!CT413","v":41},405]
["040507","AREQUIPA","AREQUIPA","CAYLLOMA","HUAMBO","Hombre","00-04",{"$f":"'Pob x Genero'!CT414","v":20},406]
["040508","AREQUIPA","AREQUIPA","CAYLLOMA","HUANCA","Hombre","00-04",{"$f":"'Pob x Genero'!CT415","v":22},407]
["040509","AREQUIPA","AREQUIPA","CAYLLOMA","ICHUPAMPA","Hombre","00-04",{"$f":"'Pob x Genero'!CT416","v":17},408]
["040510","AREQUIPA","AREQUIPA","CAYLLOMA","LARI","Hombre","00-04",{"$f":"'Pob x Genero'!CT417","v":28},409]
["040511","AREQUIPA","AREQUIPA","CAYLLOMA","LLUTA","Hombre","00-04",{"$f":"'Pob x Genero'!CT418","v":25},410]
["040512","AREQUIPA","AREQUIPA","CAYLLOMA","MACA","Hombre","00-04",{"$f":"'Pob x Genero'!CT419","v":14},411]
["040513","AREQUIPA","AREQUIPA","CAYLLOMA","MADRIGAL","Hombre","00-04",{"$f":"'Pob x Genero'!CT420","v":9},412]
["040514","AREQUIPA","AREQUIPA","CAYLLOMA","SAN ANTONIO DE CHUCA","Hombre","00-04",{"$f":"'Pob x Genero'!CT421","v":31},413]
["040515","AREQUIPA","AREQUIPA","CAYLLOMA","SIBAYO","Hombre","00-04",{"$f":"'Pob x Genero'!CT422","v":9},414]
["040516","AREQUIPA","AREQUIPA","CAYLLOMA","TAPAY","Hombre","00-04",{"$f":"'Pob x Genero'!CT423","v":16},415]
["040517","AREQUIPA","AREQUIPA","CAYLLOMA","TISCO","Hombre","00-04",{"$f":"'Pob x Genero'!CT424","v":26},416]
["040518","AREQUIPA","AREQUIPA","CAYLLOMA","TUTI","Hombre","00-04",{"$f":"'Pob x Genero'!CT425","v":16},417]
["040519","AREQUIPA","AREQUIPA","CAYLLOMA","YANQUE","Hombre","00-04",{"$f":"'Pob x Genero'!CT426","v":49},418]
["040520","AREQUIPA","AREQUIPA","CAYLLOMA","MAJES","Hombre","00-04",{"$f":"'Pob x Genero'!CT427","v":2698},419]
["040601","AREQUIPA","AREQUIPA","CONDESUYOS","CHUQUIBAMBA","Hombre","00-04",{"$f":"'Pob x Genero'!CT428","v":79},420]
["040602","AREQUIPA","AREQUIPA","CONDESUYOS","ANDARAY","Hombre","00-04",{"$f":"'Pob x Genero'!CT429","v":9},421]
["040603","AREQUIPA","AREQUIPA","CONDESUYOS","CAYARANI","Hombre","00-04",{"$f":"'Pob x Genero'!CT430","v":82},422]
["040604","AREQUIPA","AREQUIPA","CONDESUYOS","CHICHAS","Hombre","00-04",{"$f":"'Pob x Genero'!CT431","v":16},423]
["040605","AREQUIPA","AREQUIPA","CONDESUYOS","IRAY","Hombre","00-04",{"$f":"'Pob x Genero'!CT432","v":23},424]
["040606","AREQUIPA","AREQUIPA","CONDESUYOS","RIO GRANDE","Hombre","00-04",{"$f":"'Pob x Genero'!CT433","v":139},425]
["040607","AREQUIPA","AREQUIPA","CONDESUYOS","SALAMANCA","Hombre","00-04",{"$f":"'Pob x Genero'!CT434","v":11},426]
["040608","AREQUIPA","AREQUIPA","CONDESUYOS","YANAQUIHUA","Hombre","00-04",{"$f":"'Pob x Genero'!CT435","v":131},427]
["040701","AREQUIPA","AREQUIPA","ISLAY","MOLLENDO","Hombre","00-04",{"$f":"'Pob x Genero'!CT436","v":693},428]
["040702","AREQUIPA","AREQUIPA","ISLAY","COCACHACRA","Hombre","00-04",{"$f":"'Pob x Genero'!CT437","v":221},429]
["040703","AREQUIPA","AREQUIPA","ISLAY","DEAN VALDIVIA","Hombre","00-04",{"$f":"'Pob x Genero'!CT438","v":208},430]
["040704","AREQUIPA","AREQUIPA","ISLAY","ISLAY","Hombre","00-04",{"$f":"'Pob x Genero'!CT439","v":216},431]
["040705","AREQUIPA","AREQUIPA","ISLAY","MEJIA","Hombre","00-04",{"$f":"'Pob x Genero'!CT440","v":23},432]
["040706","AREQUIPA","AREQUIPA","ISLAY","PUNTA DE BOMBON","Hombre","00-04",{"$f":"'Pob x Genero'!CT441","v":189},433]
["040801","AREQUIPA","AREQUIPA","LA UNION","COTAHUASI","Hombre","00-04",{"$f":"'Pob x Genero'!CT442","v":118},434]
["040802","AREQUIPA","AREQUIPA","LA UNION","ALCA","Hombre","00-04",{"$f":"'Pob x Genero'!CT443","v":60},435]
["040803","AREQUIPA","AREQUIPA","LA UNION","CHARCANA","Hombre","00-04",{"$f":"'Pob x Genero'!CT444","v":21},436]
["040804","AREQUIPA","AREQUIPA","LA UNION","HUAYNACOTAS","Hombre","00-04",{"$f":"'Pob x Genero'!CT445","v":70},437]
["040805","AREQUIPA","AREQUIPA","LA UNION","PAMPAMARCA","Hombre","00-04",{"$f":"'Pob x Genero'!CT446","v":112},438]
["040806","AREQUIPA","AREQUIPA","LA UNION","PUYCA","Hombre","00-04",{"$f":"'Pob x Genero'!CT447","v":76},439]
["040807","AREQUIPA","AREQUIPA","LA UNION","QUECHUALLA","Hombre","00-04",{"$f":"'Pob x Genero'!CT448","v":2},440]
["040808","AREQUIPA","AREQUIPA","LA UNION","SAYLA","Hombre","00-04",{"$f":"'Pob x Genero'!CT449","v":12},441]
["040809","AREQUIPA","AREQUIPA","LA UNION","TAURIA","Hombre","00-04",{"$f":"'Pob x Genero'!CT450","v":34},442]
["040810","AREQUIPA","AREQUIPA","LA UNION","TOMEPAMPA","Hombre","00-04",{"$f":"'Pob x Genero'!CT451","v":14},443]
["040811","AREQUIPA","AREQUIPA","LA UNION","TORO","Hombre","00-04",{"$f":"'Pob x Genero'!CT452","v":7},444]
["050101","AYACUCHO","AYACUCHO","HUAMANGA","AYACUCHO","Hombre","00-04",{"$f":"'Pob x Genero'!CT453","v":3755},445]
["050102","AYACUCHO","AYACUCHO","HUAMANGA","ACOCRO","Hombre","00-04",{"$f":"'Pob x Genero'!CT454","v":363},446]
["050103","AYACUCHO","AYACUCHO","HUAMANGA","ACOS VINCHOS","Hombre","00-04",{"$f":"'Pob x Genero'!CT455","v":220},447]
["050104","AYACUCHO","AYACUCHO","HUAMANGA","CARMEN ALTO","Hombre","00-04",{"$f":"'Pob x Genero'!CT456","v":1380},448]
["050105","AYACUCHO","AYACUCHO","HUAMANGA","CHIARA","Hombre","00-04",{"$f":"'Pob x Genero'!CT457","v":191},449]
["050106","AYACUCHO","AYACUCHO","HUAMANGA","OCROS","Hombre","00-04",{"$f":"'Pob x Genero'!CT458","v":247},450]
["050107","AYACUCHO","AYACUCHO","HUAMANGA","PACAYCASA","Hombre","00-04",{"$f":"'Pob x Genero'!CT459","v":128},451]
["050108","AYACUCHO","AYACUCHO","HUAMANGA","QUINUA","Hombre","00-04",{"$f":"'Pob x Genero'!CT460","v":187},452]
["050109","AYACUCHO","AYACUCHO","HUAMANGA","SAN JOSE DE TICLLAS","Hombre","00-04",{"$f":"'Pob x Genero'!CT461","v":41},453]
["050110","AYACUCHO","AYACUCHO","HUAMANGA","SAN JUAN BAUTISTA","Hombre","00-04",{"$f":"'Pob x Genero'!CT462","v":2333},454]
["050111","AYACUCHO","AYACUCHO","HUAMANGA","SANTIAGO DE PISCHA","Hombre","00-04",{"$f":"'Pob x Genero'!CT463","v":26},455]
["050112","AYACUCHO","AYACUCHO","HUAMANGA","SOCOS","Hombre","00-04",{"$f":"'Pob x Genero'!CT464","v":223},456]
["050113","AYACUCHO","AYACUCHO","HUAMANGA","TAMBILLO","Hombre","00-04",{"$f":"'Pob x Genero'!CT465","v":299},457]
["050114","AYACUCHO","AYACUCHO","HUAMANGA","VINCHOS","Hombre","00-04",{"$f":"'Pob x Genero'!CT466","v":592},458]
["050115","AYACUCHO","AYACUCHO","HUAMANGA","JESUS NAZARENO","Hombre","00-04",{"$f":"'Pob x Genero'!CT467","v":925},459]
["050116","AYACUCHO","AYACUCHO","HUAMANGA","ANDRES AVELINO CACERES DORREGARAY","Hombre","00-04",{"$f":"'Pob x Genero'!CT468","v":1118},460]
["050201","AYACUCHO","AYACUCHO","CANGALLO","CANGALLO","Hombre","00-04",{"$f":"'Pob x Genero'!CT469","v":189},461]
["050202","AYACUCHO","AYACUCHO","CANGALLO","CHUSCHI","Hombre","00-04",{"$f":"'Pob x Genero'!CT470","v":207},462]
["050203","AYACUCHO","AYACUCHO","CANGALLO","LOS MOROCHUCOS","Hombre","00-04",{"$f":"'Pob x Genero'!CT471","v":326},463]
["050204","AYACUCHO","AYACUCHO","CANGALLO","MARIA PARADO DE BELLIDO","Hombre","00-04",{"$f":"'Pob x Genero'!CT472","v":93},464]
["050205","AYACUCHO","AYACUCHO","CANGALLO","PARAS","Hombre","00-04",{"$f":"'Pob x Genero'!CT473","v":184},465]
["050206","AYACUCHO","AYACUCHO","CANGALLO","TOTOS","Hombre","00-04",{"$f":"'Pob x Genero'!CT474","v":88},466]
["050301","AYACUCHO","AYACUCHO","HUANCA SANCOS","SANCOS","Hombre","00-04",{"$f":"'Pob x Genero'!CT475","v":108},467]
["050302","AYACUCHO","AYACUCHO","HUANCA SANCOS","CARAPO","Hombre","00-04",{"$f":"'Pob x Genero'!CT476","v":48},468]
["050303","AYACUCHO","AYACUCHO","HUANCA SANCOS","SACSAMARCA","Hombre","00-04",{"$f":"'Pob x Genero'!CT477","v":25},469]
["050304","AYACUCHO","AYACUCHO","HUANCA SANCOS","SANTIAGO DE LUCANAMARCA","Hombre","00-04",{"$f":"'Pob x Genero'!CT478","v":66},470]
["050401","AYACUCHO","AYACUCHO","HUANTA","HUANTA","Hombre","00-04",{"$f":"'Pob x Genero'!CT479","v":1702},471]
["050402","AYACUCHO","AYACUCHO","HUANTA","AYAHUANCO","Hombre","00-04",{"$f":"'Pob x Genero'!CT480","v":63},472]
["050403","AYACUCHO","AYACUCHO","HUANTA","HUAMANGUILLA","Hombre","00-04",{"$f":"'Pob x Genero'!CT481","v":118},473]
["050404","AYACUCHO","AYACUCHO","HUANTA","IGUAIN","Hombre","00-04",{"$f":"'Pob x Genero'!CT482","v":106},474]
["050405","AYACUCHO","AYACUCHO","HUANTA","LURICOCHA","Hombre","00-04",{"$f":"'Pob x Genero'!CT483","v":305},475]
["050406","AYACUCHO","AYACUCHO","HUANTA","SANTILLANA","Hombre","00-04",{"$f":"'Pob x Genero'!CT484","v":146},476]
["050407","AYACUCHO","AYACUCHO","HUANTA","SIVIA","Hombre","00-04",{"$f":"'Pob x Genero'!CT485","v":506},477]
["050408","AYACUCHO","AYACUCHO","HUANTA","LLOCHEGUA","Hombre","00-04",{"$f":"'Pob x Genero'!CT486","v":473},478]
["050409","AYACUCHO","AYACUCHO","HUANTA","CANAYRE","Hombre","00-04",{"$f":"'Pob x Genero'!CT487","v":234},479]
["050410","AYACUCHO","AYACUCHO","HUANTA","UCHURACCAY","Hombre","00-04",{"$f":"'Pob x Genero'!CT488","v":187},480]
["050411","AYACUCHO","AYACUCHO","HUANTA","PUCACOLPA","Hombre","00-04",{"$f":"'Pob x Genero'!CT489","v":113},481]
["050412","AYACUCHO","AYACUCHO","HUANTA","CHACA","Hombre","00-04",{"$f":"'Pob x Genero'!CT490","v":118},482]
["050413","AYACUCHO","AYACUCHO","HUANTA","PUTIS","Hombre","00-04",{"$f":"'Pob x Genero'!CT491","v":10},483]
["050501","AYACUCHO","AYACUCHO","LA MAR","SAN MIGUEL","Hombre","00-04",{"$f":"'Pob x Genero'!CT492","v":321},484]
["050502","AYACUCHO","AYACUCHO","LA MAR","ANCO","Hombre","00-04",{"$f":"'Pob x Genero'!CT493","v":228},485]
["050503","AYACUCHO","AYACUCHO","LA MAR","AYNA","Hombre","00-04",{"$f":"'Pob x Genero'!CT494","v":327},486]
["050504","AYACUCHO","AYACUCHO","LA MAR","CHILCAS","Hombre","00-04",{"$f":"'Pob x Genero'!CT495","v":43},487]
["050505","AYACUCHO","AYACUCHO","LA MAR","CHUNGUI","Hombre","00-04",{"$f":"'Pob x Genero'!CT496","v":190},488]
["050506","AYACUCHO","AYACUCHO","LA MAR","LUIS CARRANZA","Hombre","00-04",{"$f":"'Pob x Genero'!CT497","v":62},489]
["050507","AYACUCHO","AYACUCHO","LA MAR","SANTA ROSA","Hombre","00-04",{"$f":"'Pob x Genero'!CT498","v":485},490]
["050508","AYACUCHO","AYACUCHO","LA MAR","TAMBO","Hombre","00-04",{"$f":"'Pob x Genero'!CT499","v":513},491]
["050509","AYACUCHO","AYACUCHO","LA MAR","SAMUGARI","Hombre","00-04",{"$f":"'Pob x Genero'!CT500","v":337},492]
["050510","AYACUCHO","AYACUCHO","LA MAR","ANCHIHUAY","Hombre","00-04",{"$f":"'Pob x Genero'!CT501","v":191},493]
["050511","AYACUCHO","AYACUCHO","LA MAR","ORONCCOY","Hombre","00-04",{"$f":"'Pob x Genero'!CT502","v":36},494]
["050512","AYACUCHO","AYACUCHO","LA MAR","UNION PROGRESO","Hombre","00-04",{"$f":"'Pob x Genero'!CT503","v":87},495]
["050513","AYACUCHO","AYACUCHO","LA MAR","RIO MAGDALENA","Hombre","00-04",{"$f":"'Pob x Genero'!CT504","v":66},496]
["050514","AYACUCHO","AYACUCHO","LA MAR","NINABAMBA","Hombre","00-04",{"$f":"'Pob x Genero'!CT505","v":80},497]
["050515","AYACUCHO","AYACUCHO","LA MAR","PATIBAMBA","Hombre","00-04",{"$f":"'Pob x Genero'!CT506","v":54},498]
["050601","AYACUCHO","AYACUCHO","LUCANAS","PUQUIO","Hombre","00-04",{"$f":"'Pob x Genero'!CT507","v":633},499]
["050602","AYACUCHO","AYACUCHO","LUCANAS","AUCARA","Hombre","00-04",{"$f":"'Pob x Genero'!CT508","v":35},500]
["050603","AYACUCHO","AYACUCHO","LUCANAS","CABANA","Hombre","00-04",{"$f":"'Pob x Genero'!CT509","v":31},501]
["050604","AYACUCHO","AYACUCHO","LUCANAS","CARMEN SALCEDO","Hombre","00-04",{"$f":"'Pob x Genero'!CT510","v":28},502]
["050605","AYACUCHO","AYACUCHO","LUCANAS","CHAVIÑA","Hombre","00-04",{"$f":"'Pob x Genero'!CT511","v":62},503]
["050606","AYACUCHO","AYACUCHO","LUCANAS","CHIPAO","Hombre","00-04",{"$f":"'Pob x Genero'!CT512","v":66},504]
["050607","AYACUCHO","AYACUCHO","LUCANAS","HUAC-HUAS","Hombre","00-04",{"$f":"'Pob x Genero'!CT513","v":23},505]
["050608","AYACUCHO","AYACUCHO","LUCANAS","LARAMATE","Hombre","00-04",{"$f":"'Pob x Genero'!CT514","v":37},506]
["050609","AYACUCHO","AYACUCHO","LUCANAS","LEONCIO PRADO","Hombre","00-04",{"$f":"'Pob x Genero'!CT515","v":18},507]
["050610","AYACUCHO","AYACUCHO","LUCANAS","LLAUTA","Hombre","00-04",{"$f":"'Pob x Genero'!CT516","v":31},508]
["050611","AYACUCHO","AYACUCHO","LUCANAS","LUCANAS","Hombre","00-04",{"$f":"'Pob x Genero'!CT517","v":95},509]
["050612","AYACUCHO","AYACUCHO","LUCANAS","OCAÑA","Hombre","00-04",{"$f":"'Pob x Genero'!CT518","v":73},510]
["050613","AYACUCHO","AYACUCHO","LUCANAS","OTOCA","Hombre","00-04",{"$f":"'Pob x Genero'!CT519","v":44},511]
["050614","AYACUCHO","AYACUCHO","LUCANAS","SAISA","Hombre","00-04",{"$f":"'Pob x Genero'!CT520","v":14},512]
["050615","AYACUCHO","AYACUCHO","LUCANAS","SAN CRISTOBAL","Hombre","00-04",{"$f":"'Pob x Genero'!CT521","v":44},513]
["050616","AYACUCHO","AYACUCHO","LUCANAS","SAN JUAN","Hombre","00-04",{"$f":"'Pob x Genero'!CT522","v":11},514]
["050617","AYACUCHO","AYACUCHO","LUCANAS","SAN PEDRO","Hombre","00-04",{"$f":"'Pob x Genero'!CT523","v":88},515]
["050618","AYACUCHO","AYACUCHO","LUCANAS","SAN PEDRO DE PALCO","Hombre","00-04",{"$f":"'Pob x Genero'!CT524","v":25},516]
["050619","AYACUCHO","AYACUCHO","LUCANAS","SANCOS","Hombre","00-04",{"$f":"'Pob x Genero'!CT525","v":163},517]
["050620","AYACUCHO","AYACUCHO","LUCANAS","SANTA ANA DE HUAYCAHUACHO","Hombre","00-04",{"$f":"'Pob x Genero'!CT526","v":20},518]
["050621","AYACUCHO","AYACUCHO","LUCANAS","SANTA LUCIA","Hombre","00-04",{"$f":"'Pob x Genero'!CT527","v":39},519]
["050701","AYACUCHO","AYACUCHO","PARINACOCHAS","CORACORA","Hombre","00-04",{"$f":"'Pob x Genero'!CT528","v":415},520]
["050702","AYACUCHO","AYACUCHO","PARINACOCHAS","CHUMPI","Hombre","00-04",{"$f":"'Pob x Genero'!CT529","v":63},521]
["050703","AYACUCHO","AYACUCHO","PARINACOCHAS","CORONEL CASTAÑEDA","Hombre","00-04",{"$f":"'Pob x Genero'!CT530","v":13},522]
["050704","AYACUCHO","AYACUCHO","PARINACOCHAS","PACAPAUSA","Hombre","00-04",{"$f":"'Pob x Genero'!CT531","v":17},523]
["050705","AYACUCHO","AYACUCHO","PARINACOCHAS","PULLO","Hombre","00-04",{"$f":"'Pob x Genero'!CT532","v":306},524]
["050706","AYACUCHO","AYACUCHO","PARINACOCHAS","PUYUSCA","Hombre","00-04",{"$f":"'Pob x Genero'!CT533","v":67},525]
["050707","AYACUCHO","AYACUCHO","PARINACOCHAS","SAN FRANCISCO DE RAVACAYCO","Hombre","00-04",{"$f":"'Pob x Genero'!CT534","v":28},526]
["050708","AYACUCHO","AYACUCHO","PARINACOCHAS","UPAHUACHO","Hombre","00-04",{"$f":"'Pob x Genero'!CT535","v":33},527]
["050801","AYACUCHO","AYACUCHO","PAUCAR DEL SARA SARA","PAUSA","Hombre","00-04",{"$f":"'Pob x Genero'!CT536","v":118},528]
["050802","AYACUCHO","AYACUCHO","PAUCAR DEL SARA SARA","COLTA","Hombre","00-04",{"$f":"'Pob x Genero'!CT537","v":20},529]
["050803","AYACUCHO","AYACUCHO","PAUCAR DEL SARA SARA","CORCULLA","Hombre","00-04",{"$f":"'Pob x Genero'!CT538","v":7},530]
["050804","AYACUCHO","AYACUCHO","PAUCAR DEL SARA SARA","LAMPA","Hombre","00-04",{"$f":"'Pob x Genero'!CT539","v":72},531]
["050805","AYACUCHO","AYACUCHO","PAUCAR DEL SARA SARA","MARCABAMBA","Hombre","00-04",{"$f":"'Pob x Genero'!CT540","v":15},532]
["050806","AYACUCHO","AYACUCHO","PAUCAR DEL SARA SARA","OYOLO","Hombre","00-04",{"$f":"'Pob x Genero'!CT541","v":48},533]
["050807","AYACUCHO","AYACUCHO","PAUCAR DEL SARA SARA","PARARCA","Hombre","00-04",{"$f":"'Pob x Genero'!CT542","v":14},534]
["050808","AYACUCHO","AYACUCHO","PAUCAR DEL SARA SARA","SAN JAVIER DE ALPABAMBA","Hombre","00-04",{"$f":"'Pob x Genero'!CT543","v":10},535]
["050809","AYACUCHO","AYACUCHO","PAUCAR DEL SARA SARA","SAN JOSE DE USHUA","Hombre","00-04",{"$f":"'Pob x Genero'!CT544","v":10},536]
["050810","AYACUCHO","AYACUCHO","PAUCAR DEL SARA SARA","SARA SARA","Hombre","00-04",{"$f":"'Pob x Genero'!CT545","v":15},537]
["050901","AYACUCHO","AYACUCHO","SUCRE","QUEROBAMBA","Hombre","00-04",{"$f":"'Pob x Genero'!CT546","v":104},538]
["050902","AYACUCHO","AYACUCHO","SUCRE","BELEN","Hombre","00-04",{"$f":"'Pob x Genero'!CT547","v":7},539]
["050903","AYACUCHO","AYACUCHO","SUCRE","CHALCOS","Hombre","00-04",{"$f":"'Pob x Genero'!CT548","v":9},540]
["050904","AYACUCHO","AYACUCHO","SUCRE","CHILCAYOC","Hombre","00-04",{"$f":"'Pob x Genero'!CT549","v":25},541]
["050905","AYACUCHO","AYACUCHO","SUCRE","HUACAÑA","Hombre","00-04",{"$f":"'Pob x Genero'!CT550","v":10},542]
["050906","AYACUCHO","AYACUCHO","SUCRE","MORCOLLA","Hombre","00-04",{"$f":"'Pob x Genero'!CT551","v":26},543]
["050907","AYACUCHO","AYACUCHO","SUCRE","PAICO","Hombre","00-04",{"$f":"'Pob x Genero'!CT552","v":16},544]
["050908","AYACUCHO","AYACUCHO","SUCRE","SAN PEDRO DE LARCAY","Hombre","00-04",{"$f":"'Pob x Genero'!CT553","v":21},545]
["050909","AYACUCHO","AYACUCHO","SUCRE","SAN SALVADOR DE QUIJE","Hombre","00-04",{"$f":"'Pob x Genero'!CT554","v":29},546]
["050910","AYACUCHO","AYACUCHO","SUCRE","SANTIAGO DE PAUCARAY","Hombre","00-04",{"$f":"'Pob x Genero'!CT555","v":14},547]
["050911","AYACUCHO","AYACUCHO","SUCRE","SORAS","Hombre","00-04",{"$f":"'Pob x Genero'!CT556","v":21},548]
["051001","AYACUCHO","AYACUCHO","VICTOR FAJARDO","HUANCAPI","Hombre","00-04",{"$f":"'Pob x Genero'!CT557","v":50},549]
["051002","AYACUCHO","AYACUCHO","VICTOR FAJARDO","ALCAMENCA","Hombre","00-04",{"$f":"'Pob x Genero'!CT558","v":33},550]
["051003","AYACUCHO","AYACUCHO","VICTOR FAJARDO","APONGO","Hombre","00-04",{"$f":"'Pob x Genero'!CT559","v":11},551]
["051004","AYACUCHO","AYACUCHO","VICTOR FAJARDO","ASQUIPATA","Hombre","00-04",{"$f":"'Pob x Genero'!CT560","v":6},552]
["051005","AYACUCHO","AYACUCHO","VICTOR FAJARDO","CANARIA","Hombre","00-04",{"$f":"'Pob x Genero'!CT561","v":103},553]
["051006","AYACUCHO","AYACUCHO","VICTOR FAJARDO","CAYARA","Hombre","00-04",{"$f":"'Pob x Genero'!CT562","v":19},554]
["051007","AYACUCHO","AYACUCHO","VICTOR FAJARDO","COLCA","Hombre","00-04",{"$f":"'Pob x Genero'!CT563","v":24},555]
["051008","AYACUCHO","AYACUCHO","VICTOR FAJARDO","HUAMANQUIQUIA","Hombre","00-04",{"$f":"'Pob x Genero'!CT564","v":31},556]
["051009","AYACUCHO","AYACUCHO","VICTOR FAJARDO","HUANCARAYLLA","Hombre","00-04",{"$f":"'Pob x Genero'!CT565","v":32},557]
["051010","AYACUCHO","AYACUCHO","VICTOR FAJARDO","HUAYA","Hombre","00-04",{"$f":"'Pob x Genero'!CT566","v":45},558]
["051011","AYACUCHO","AYACUCHO","VICTOR FAJARDO","SARHUA","Hombre","00-04",{"$f":"'Pob x Genero'!CT567","v":70},559]
["051012","AYACUCHO","AYACUCHO","VICTOR FAJARDO","VILCANCHOS","Hombre","00-04",{"$f":"'Pob x Genero'!CT568","v":79},560]
["051101","AYACUCHO","AYACUCHO","VILCAS HUAMAN","VILCAS HUAMAN","Hombre","00-04",{"$f":"'Pob x Genero'!CT569","v":216},561]
["051102","AYACUCHO","AYACUCHO","VILCAS HUAMAN","ACCOMARCA","Hombre","00-04",{"$f":"'Pob x Genero'!CT570","v":24},562]
["051103","AYACUCHO","AYACUCHO","VILCAS HUAMAN","CARHUANCA","Hombre","00-04",{"$f":"'Pob x Genero'!CT571","v":19},563]
["051104","AYACUCHO","AYACUCHO","VILCAS HUAMAN","CONCEPCION","Hombre","00-04",{"$f":"'Pob x Genero'!CT572","v":60},564]
["051105","AYACUCHO","AYACUCHO","VILCAS HUAMAN","HUAMBALPA","Hombre","00-04",{"$f":"'Pob x Genero'!CT573","v":38},565]
["051106","AYACUCHO","AYACUCHO","VILCAS HUAMAN","INDEPENDENCIA","Hombre","00-04",{"$f":"'Pob x Genero'!CT574","v":13},566]
["051107","AYACUCHO","AYACUCHO","VILCAS HUAMAN","SAURAMA","Hombre","00-04",{"$f":"'Pob x Genero'!CT575","v":19},567]
["051108","AYACUCHO","AYACUCHO","VILCAS HUAMAN","VISCHONGO","Hombre","00-04",{"$f":"'Pob x Genero'!CT576","v":109},568]
["060101","CAJAMARCA","CAJAMARCA","CAJAMARCA","CAJAMARCA","Hombre","00-04",{"$f":"'Pob x Genero'!CT577","v":10259},569]
["060102","CAJAMARCA","CAJAMARCA","CAJAMARCA","ASUNCION","Hombre","00-04",{"$f":"'Pob x Genero'!CT578","v":251},570]
["060103","CAJAMARCA","CAJAMARCA","CAJAMARCA","CHETILLA","Hombre","00-04",{"$f":"'Pob x Genero'!CT579","v":151},571]
["060104","CAJAMARCA","CAJAMARCA","CAJAMARCA","COSPAN","Hombre","00-04",{"$f":"'Pob x Genero'!CT580","v":306},572]
["060105","CAJAMARCA","CAJAMARCA","CAJAMARCA","ENCAÑADA","Hombre","00-04",{"$f":"'Pob x Genero'!CT581","v":879},573]
["060106","CAJAMARCA","CAJAMARCA","CAJAMARCA","JESUS","Hombre","00-04",{"$f":"'Pob x Genero'!CT582","v":786},574]
["060107","CAJAMARCA","CAJAMARCA","CAJAMARCA","LLACANORA","Hombre","00-04",{"$f":"'Pob x Genero'!CT583","v":297},575]
["060108","CAJAMARCA","CAJAMARCA","CAJAMARCA","LOS BAÑOS DEL INCA","Hombre","00-04",{"$f":"'Pob x Genero'!CT584","v":2282},576]
["060109","CAJAMARCA","CAJAMARCA","CAJAMARCA","MAGDALENA","Hombre","00-04",{"$f":"'Pob x Genero'!CT585","v":351},577]
["060110","CAJAMARCA","CAJAMARCA","CAJAMARCA","MATARA","Hombre","00-04",{"$f":"'Pob x Genero'!CT586","v":124},578]
["060111","CAJAMARCA","CAJAMARCA","CAJAMARCA","NAMORA","Hombre","00-04",{"$f":"'Pob x Genero'!CT587","v":536},579]
["060112","CAJAMARCA","CAJAMARCA","CAJAMARCA","SAN JUAN","Hombre","00-04",{"$f":"'Pob x Genero'!CT588","v":194},580]
["060201","CAJAMARCA","CAJAMARCA","CAJABAMBA","CAJABAMBA","Hombre","00-04",{"$f":"'Pob x Genero'!CT589","v":1615},581]
["060202","CAJAMARCA","CAJAMARCA","CAJABAMBA","CACHACHI","Hombre","00-04",{"$f":"'Pob x Genero'!CT590","v":1558},582]
["060203","CAJAMARCA","CAJAMARCA","CAJABAMBA","CONDEBAMBA","Hombre","00-04",{"$f":"'Pob x Genero'!CT591","v":620},583]
["060204","CAJAMARCA","CAJAMARCA","CAJABAMBA","SITACOCHA","Hombre","00-04",{"$f":"'Pob x Genero'!CT592","v":472},584]
["060301","CAJAMARCA","CAJAMARCA","CELENDIN","CELENDIN","Hombre","00-04",{"$f":"'Pob x Genero'!CT593","v":1222},585]
["060302","CAJAMARCA","CAJAMARCA","CELENDIN","CHUMUCH","Hombre","00-04",{"$f":"'Pob x Genero'!CT594","v":103},586]
["060303","CAJAMARCA","CAJAMARCA","CELENDIN","CORTEGANA","Hombre","00-04",{"$f":"'Pob x Genero'!CT595","v":270},587]
["060304","CAJAMARCA","CAJAMARCA","CELENDIN","HUASMIN","Hombre","00-04",{"$f":"'Pob x Genero'!CT596","v":410},588]
["060305","CAJAMARCA","CAJAMARCA","CELENDIN","JORGE CHAVEZ","Hombre","00-04",{"$f":"'Pob x Genero'!CT597","v":6},589]
["060306","CAJAMARCA","CAJAMARCA","CELENDIN","JOSE GALVEZ","Hombre","00-04",{"$f":"'Pob x Genero'!CT598","v":117},590]
["060307","CAJAMARCA","CAJAMARCA","CELENDIN","MIGUEL IGLESIAS","Hombre","00-04",{"$f":"'Pob x Genero'!CT599","v":140},591]
["060308","CAJAMARCA","CAJAMARCA","CELENDIN","OXAMARCA","Hombre","00-04",{"$f":"'Pob x Genero'!CT600","v":307},592]
["060309","CAJAMARCA","CAJAMARCA","CELENDIN","SOROCHUCO","Hombre","00-04",{"$f":"'Pob x Genero'!CT601","v":245},593]
["060310","CAJAMARCA","CAJAMARCA","CELENDIN","SUCRE","Hombre","00-04",{"$f":"'Pob x Genero'!CT602","v":202},594]
["060311","CAJAMARCA","CAJAMARCA","CELENDIN","UTCO","Hombre","00-04",{"$f":"'Pob x Genero'!CT603","v":31},595]
["060312","CAJAMARCA","CAJAMARCA","CELENDIN","LA LIBERTAD DE PALLAN","Hombre","00-04",{"$f":"'Pob x Genero'!CT604","v":232},596]
["060401","CAJAMARCA","CAJAMARCA","CHOTA","CHOTA","Hombre","00-04",{"$f":"'Pob x Genero'!CT605","v":2034},597]
["060402","CAJAMARCA","CAJAMARCA","CHOTA","ANGUIA","Hombre","00-04",{"$f":"'Pob x Genero'!CT606","v":100},598]
["060403","CAJAMARCA","CAJAMARCA","CHOTA","CHADIN","Hombre","00-04",{"$f":"'Pob x Genero'!CT607","v":122},599]
["060404","CAJAMARCA","CAJAMARCA","CHOTA","CHIGUIRIP","Hombre","00-04",{"$f":"'Pob x Genero'!CT608","v":101},600]
["060405","CAJAMARCA","CAJAMARCA","CHOTA","CHIMBAN","Hombre","00-04",{"$f":"'Pob x Genero'!CT609","v":76},601]
["060406","CAJAMARCA","CAJAMARCA","CHOTA","CHOROPAMPA","Hombre","00-04",{"$f":"'Pob x Genero'!CT610","v":82},602]
["060407","CAJAMARCA","CAJAMARCA","CHOTA","COCHABAMBA","Hombre","00-04",{"$f":"'Pob x Genero'!CT611","v":146},603]
["060408","CAJAMARCA","CAJAMARCA","CHOTA","CONCHAN","Hombre","00-04",{"$f":"'Pob x Genero'!CT612","v":183},604]
["060409","CAJAMARCA","CAJAMARCA","CHOTA","HUAMBOS","Hombre","00-04",{"$f":"'Pob x Genero'!CT613","v":232},605]
["060410","CAJAMARCA","CAJAMARCA","CHOTA","LAJAS","Hombre","00-04",{"$f":"'Pob x Genero'!CT614","v":342},606]
["060411","CAJAMARCA","CAJAMARCA","CHOTA","LLAMA","Hombre","00-04",{"$f":"'Pob x Genero'!CT615","v":185},607]
["060412","CAJAMARCA","CAJAMARCA","CHOTA","MIRACOSTA","Hombre","00-04",{"$f":"'Pob x Genero'!CT616","v":89},608]
["060413","CAJAMARCA","CAJAMARCA","CHOTA","PACCHA","Hombre","00-04",{"$f":"'Pob x Genero'!CT617","v":202},609]
["060414","CAJAMARCA","CAJAMARCA","CHOTA","PION","Hombre","00-04",{"$f":"'Pob x Genero'!CT618","v":48},610]
["060415","CAJAMARCA","CAJAMARCA","CHOTA","QUEROCOTO","Hombre","00-04",{"$f":"'Pob x Genero'!CT619","v":272},611]
["060416","CAJAMARCA","CAJAMARCA","CHOTA","SAN JUAN DE LICUPIS","Hombre","00-04",{"$f":"'Pob x Genero'!CT620","v":21},612]
["060417","CAJAMARCA","CAJAMARCA","CHOTA","TACABAMBA","Hombre","00-04",{"$f":"'Pob x Genero'!CT621","v":470},613]
["060418","CAJAMARCA","CAJAMARCA","CHOTA","TOCMOCHE","Hombre","00-04",{"$f":"'Pob x Genero'!CT622","v":12},614]
["060419","CAJAMARCA","CAJAMARCA","CHOTA","CHALAMARCA","Hombre","00-04",{"$f":"'Pob x Genero'!CT623","v":330},615]
["060501","CAJAMARCA","CAJAMARCA","CONTUMAZA","CONTUMAZA","Hombre","00-04",{"$f":"'Pob x Genero'!CT624","v":217},616]
["060502","CAJAMARCA","CAJAMARCA","CONTUMAZA","CHILETE","Hombre","00-04",{"$f":"'Pob x Genero'!CT625","v":68},617]
["060503","CAJAMARCA","CAJAMARCA","CONTUMAZA","CUPISNIQUE","Hombre","00-04",{"$f":"'Pob x Genero'!CT626","v":39},618]
["060504","CAJAMARCA","CAJAMARCA","CONTUMAZA","GUZMANGO","Hombre","00-04",{"$f":"'Pob x Genero'!CT627","v":112},619]
["060505","CAJAMARCA","CAJAMARCA","CONTUMAZA","SAN BENITO","Hombre","00-04",{"$f":"'Pob x Genero'!CT628","v":119},620]
["060506","CAJAMARCA","CAJAMARCA","CONTUMAZA","SANTA CRUZ DE TOLED","Hombre","00-04",{"$f":"'Pob x Genero'!CT629","v":18},621]
["060507","CAJAMARCA","CAJAMARCA","CONTUMAZA","TANTARICA","Hombre","00-04",{"$f":"'Pob x Genero'!CT630","v":53},622]
["060508","CAJAMARCA","CAJAMARCA","CONTUMAZA","YONAN","Hombre","00-04",{"$f":"'Pob x Genero'!CT631","v":207},623]
["060601","CAJAMARCA","CAJAMARCA","CUTERVO","CUTERVO","Hombre","00-04",{"$f":"'Pob x Genero'!CT632","v":2034},624]
["060602","CAJAMARCA","CAJAMARCA","CUTERVO","CALLAYUC","Hombre","00-04",{"$f":"'Pob x Genero'!CT633","v":385},625]
["060603","CAJAMARCA","CAJAMARCA","CUTERVO","CHOROS","Hombre","00-04",{"$f":"'Pob x Genero'!CT634","v":86},626]
["060604","CAJAMARCA","CAJAMARCA","CUTERVO","CUJILLO","Hombre","00-04",{"$f":"'Pob x Genero'!CT635","v":75},627]
["060605","CAJAMARCA","CAJAMARCA","CUTERVO","LA RAMADA","Hombre","00-04",{"$f":"'Pob x Genero'!CT636","v":130},628]
["060606","CAJAMARCA","CAJAMARCA","CUTERVO","PIMPINGOS","Hombre","00-04",{"$f":"'Pob x Genero'!CT637","v":202},629]
["060607","CAJAMARCA","CAJAMARCA","CUTERVO","QUEROCOTILLO","Hombre","00-04",{"$f":"'Pob x Genero'!CT638","v":500},630]
["060608","CAJAMARCA","CAJAMARCA","CUTERVO","SAN ANDRES DE CUTERVO","Hombre","00-04",{"$f":"'Pob x Genero'!CT639","v":146},631]
["060609","CAJAMARCA","CAJAMARCA","CUTERVO","SAN JUAN DE CUTERVO","Hombre","00-04",{"$f":"'Pob x Genero'!CT640","v":112},632]
["060610","CAJAMARCA","CAJAMARCA","CUTERVO","SAN LUIS DE LUCMA","Hombre","00-04",{"$f":"'Pob x Genero'!CT641","v":93},633]
["060611","CAJAMARCA","CAJAMARCA","CUTERVO","SANTA CRUZ","Hombre","00-04",{"$f":"'Pob x Genero'!CT642","v":85},634]
["060612","CAJAMARCA","CAJAMARCA","CUTERVO","SANTO DOMINGO DE LA CAPILLA","Hombre","00-04",{"$f":"'Pob x Genero'!CT643","v":172},635]
["060613","CAJAMARCA","CAJAMARCA","CUTERVO","SANTO TOMAS","Hombre","00-04",{"$f":"'Pob x Genero'!CT644","v":277},636]
["060614","CAJAMARCA","CAJAMARCA","CUTERVO","SOCOTA","Hombre","00-04",{"$f":"'Pob x Genero'!CT645","v":303},637]
["060615","CAJAMARCA","CAJAMARCA","CUTERVO","TORIBIO CASANOVA","Hombre","00-04",{"$f":"'Pob x Genero'!CT646","v":37},638]
["060701","CAJAMARCA","CAJAMARCA","HUALGAYOC","BAMBAMARCA","Hombre","00-04",{"$f":"'Pob x Genero'!CT647","v":2521},639]
["060702","CAJAMARCA","CAJAMARCA","HUALGAYOC","CHUGUR","Hombre","00-04",{"$f":"'Pob x Genero'!CT648","v":88},640]
["060703","CAJAMARCA","CAJAMARCA","HUALGAYOC","HUALGAYOC","Hombre","00-04",{"$f":"'Pob x Genero'!CT649","v":386},641]
["060801","CAJAMARCA","CAJAMARCA","JAEN","JAEN","Hombre","00-04",{"$f":"'Pob x Genero'!CT650","v":5026},642]
["060802","CAJAMARCA","CAJAMARCA","JAEN","BELLAVISTA","Hombre","00-04",{"$f":"'Pob x Genero'!CT651","v":672},643]
["060803","CAJAMARCA","CAJAMARCA","JAEN","CHONTALI","Hombre","00-04",{"$f":"'Pob x Genero'!CT652","v":400},644]
["060804","CAJAMARCA","CAJAMARCA","JAEN","COLASAY","Hombre","00-04",{"$f":"'Pob x Genero'!CT653","v":401},645]
["060805","CAJAMARCA","CAJAMARCA","JAEN","HUABAL","Hombre","00-04",{"$f":"'Pob x Genero'!CT654","v":412},646]
["060806","CAJAMARCA","CAJAMARCA","JAEN","LAS PIRIAS","Hombre","00-04",{"$f":"'Pob x Genero'!CT655","v":165},647]
["060807","CAJAMARCA","CAJAMARCA","JAEN","POMAHUACA","Hombre","00-04",{"$f":"'Pob x Genero'!CT656","v":455},648]
["060808","CAJAMARCA","CAJAMARCA","JAEN","PUCARA","Hombre","00-04",{"$f":"'Pob x Genero'!CT657","v":278},649]
["060809","CAJAMARCA","CAJAMARCA","JAEN","SALLIQUE","Hombre","00-04",{"$f":"'Pob x Genero'!CT658","v":361},650]
["060810","CAJAMARCA","CAJAMARCA","JAEN","SAN FELIPE","Hombre","00-04",{"$f":"'Pob x Genero'!CT659","v":175},651]
["060811","CAJAMARCA","CAJAMARCA","JAEN","SAN JOSE DEL ALTO","Hombre","00-04",{"$f":"'Pob x Genero'!CT660","v":310},652]
["060812","CAJAMARCA","CAJAMARCA","JAEN","SANTA ROSA","Hombre","00-04",{"$f":"'Pob x Genero'!CT661","v":353},653]
["060901","CAJAMARCA","CAJAMARCA","SAN IGNACIO","SAN IGNACIO","Hombre","00-04",{"$f":"'Pob x Genero'!CT662","v":1555},654]
["060902","CAJAMARCA","CAJAMARCA","SAN IGNACIO","CHIRINOS","Hombre","00-04",{"$f":"'Pob x Genero'!CT663","v":572},655]
["060903","CAJAMARCA","CAJAMARCA","SAN IGNACIO","HUARANGO","Hombre","00-04",{"$f":"'Pob x Genero'!CT664","v":755},656]
["060904","CAJAMARCA","CAJAMARCA","SAN IGNACIO","LA COIPA","Hombre","00-04",{"$f":"'Pob x Genero'!CT665","v":844},657]
["060905","CAJAMARCA","CAJAMARCA","SAN IGNACIO","NAMBALLE","Hombre","00-04",{"$f":"'Pob x Genero'!CT666","v":493},658]
["060906","CAJAMARCA","CAJAMARCA","SAN IGNACIO","SAN JOSE DE LOURDES","Hombre","00-04",{"$f":"'Pob x Genero'!CT667","v":802},659]
["060907","CAJAMARCA","CAJAMARCA","SAN IGNACIO","TABACONAS","Hombre","00-04",{"$f":"'Pob x Genero'!CT668","v":837},660]
["061001","CAJAMARCA","CAJAMARCA","SAN MARCOS","PEDRO GALVEZ","Hombre","00-04",{"$f":"'Pob x Genero'!CT669","v":706},661]
["061002","CAJAMARCA","CAJAMARCA","SAN MARCOS","CHANCAY","Hombre","00-04",{"$f":"'Pob x Genero'!CT670","v":140},662]
["061003","CAJAMARCA","CAJAMARCA","SAN MARCOS","EDUARDO VILLANUEVA","Hombre","00-04",{"$f":"'Pob x Genero'!CT671","v":119},663]
["061004","CAJAMARCA","CAJAMARCA","SAN MARCOS","GREGORIO PITA","Hombre","00-04",{"$f":"'Pob x Genero'!CT672","v":147},664]
["061005","CAJAMARCA","CAJAMARCA","SAN MARCOS","ICHOCAN","Hombre","00-04",{"$f":"'Pob x Genero'!CT673","v":52},665]
["061006","CAJAMARCA","CAJAMARCA","SAN MARCOS","JOSE MANUEL QUIROZ","Hombre","00-04",{"$f":"'Pob x Genero'!CT674","v":140},666]
["061007","CAJAMARCA","CAJAMARCA","SAN MARCOS","JOSE SABOGAL","Hombre","00-04",{"$f":"'Pob x Genero'!CT675","v":791},667]
["061101","CAJAMARCA","CAJAMARCA","SAN MIGUEL","SAN MIGUEL","Hombre","00-04",{"$f":"'Pob x Genero'!CT676","v":363},668]
["061102","CAJAMARCA","CAJAMARCA","SAN MIGUEL","BOLIVAR","Hombre","00-04",{"$f":"'Pob x Genero'!CT677","v":30},669]
["061103","CAJAMARCA","CAJAMARCA","SAN MIGUEL","CALQUIS","Hombre","00-04",{"$f":"'Pob x Genero'!CT678","v":133},670]
["061104","CAJAMARCA","CAJAMARCA","SAN MIGUEL","CATILLUC","Hombre","00-04",{"$f":"'Pob x Genero'!CT679","v":97},671]
["061105","CAJAMARCA","CAJAMARCA","SAN MIGUEL","EL PRADO","Hombre","00-04",{"$f":"'Pob x Genero'!CT680","v":71},672]
["061106","CAJAMARCA","CAJAMARCA","SAN MIGUEL","LA FLORIDA","Hombre","00-04",{"$f":"'Pob x Genero'!CT681","v":32},673]
["061107","CAJAMARCA","CAJAMARCA","SAN MIGUEL","LLAPA","Hombre","00-04",{"$f":"'Pob x Genero'!CT682","v":109},674]
["061108","CAJAMARCA","CAJAMARCA","SAN MIGUEL","NANCHOC","Hombre","00-04",{"$f":"'Pob x Genero'!CT683","v":41},675]
["061109","CAJAMARCA","CAJAMARCA","SAN MIGUEL","NIEPOS","Hombre","00-04",{"$f":"'Pob x Genero'!CT684","v":106},676]
["061110","CAJAMARCA","CAJAMARCA","SAN MIGUEL","SAN GREGORIO","Hombre","00-04",{"$f":"'Pob x Genero'!CT685","v":50},677]
["061111","CAJAMARCA","CAJAMARCA","SAN MIGUEL","SAN SILVESTRE DE COCHAN","Hombre","00-04",{"$f":"'Pob x Genero'!CT686","v":105},678]
["061112","CAJAMARCA","CAJAMARCA","SAN MIGUEL","TONGOD","Hombre","00-04",{"$f":"'Pob x Genero'!CT687","v":86},679]
["061113","CAJAMARCA","CAJAMARCA","SAN MIGUEL","UNION AGUA BLANCA","Hombre","00-04",{"$f":"'Pob x Genero'!CT688","v":76},680]
["061201","CAJAMARCA","CAJAMARCA","SAN PABLO","SAN PABLO","Hombre","00-04",{"$f":"'Pob x Genero'!CT689","v":436},681]
["061202","CAJAMARCA","CAJAMARCA","SAN PABLO","SAN BERNARDINO","Hombre","00-04",{"$f":"'Pob x Genero'!CT690","v":145},682]
["061203","CAJAMARCA","CAJAMARCA","SAN PABLO","SAN LUIS","Hombre","00-04",{"$f":"'Pob x Genero'!CT691","v":21},683]
["061204","CAJAMARCA","CAJAMARCA","SAN PABLO","TUMBADEN","Hombre","00-04",{"$f":"'Pob x Genero'!CT692","v":122},684]
["061301","CAJAMARCA","CAJAMARCA","SANTA CRUZ","SANTA CRUZ","Hombre","00-04",{"$f":"'Pob x Genero'!CT693","v":365},685]
["061302","CAJAMARCA","CAJAMARCA","SANTA CRUZ","ANDABAMBA","Hombre","00-04",{"$f":"'Pob x Genero'!CT694","v":25},686]
["061303","CAJAMARCA","CAJAMARCA","SANTA CRUZ","CATACHE","Hombre","00-04",{"$f":"'Pob x Genero'!CT695","v":329},687]
["061304","CAJAMARCA","CAJAMARCA","SANTA CRUZ","CHANCAYBAÑOS","Hombre","00-04",{"$f":"'Pob x Genero'!CT696","v":93},688]
["061305","CAJAMARCA","CAJAMARCA","SANTA CRUZ","LA ESPERANZA","Hombre","00-04",{"$f":"'Pob x Genero'!CT697","v":55},689]
["061306","CAJAMARCA","CAJAMARCA","SANTA CRUZ","NINABAMBA","Hombre","00-04",{"$f":"'Pob x Genero'!CT698","v":61},690]
["061307","CAJAMARCA","CAJAMARCA","SANTA CRUZ","PULAN","Hombre","00-04",{"$f":"'Pob x Genero'!CT699","v":104},691]
["061308","CAJAMARCA","CAJAMARCA","SANTA CRUZ","SAUCEPAMPA","Hombre","00-04",{"$f":"'Pob x Genero'!CT700","v":34},692]
["061309","CAJAMARCA","CAJAMARCA","SANTA CRUZ","SEXI","Hombre","00-04",{"$f":"'Pob x Genero'!CT701","v":5},693]
["061310","CAJAMARCA","CAJAMARCA","SANTA CRUZ","UTICYACU","Hombre","00-04",{"$f":"'Pob x Genero'!CT702","v":30},694]
["061311","CAJAMARCA","CAJAMARCA","SANTA CRUZ","YAUYUCAN","Hombre","00-04",{"$f":"'Pob x Genero'!CT703","v":82},695]
["070101","CALLAO","CALLAO","CALLAO","CALLAO","Hombre","00-04",{"$f":"'Pob x Genero'!CT704","v":12947},696]
["070102","CALLAO","CALLAO","CALLAO","BELLAVISTA","Hombre","00-04",{"$f":"'Pob x Genero'!CT705","v":1750},697]
["070103","CALLAO","CALLAO","CALLAO","CARMEN DE LA LEGUA REYNOSO","Hombre","00-04",{"$f":"'Pob x Genero'!CT706","v":1249},698]
["070104","CALLAO","CALLAO","CALLAO","LA PERLA","Hombre","00-04",{"$f":"'Pob x Genero'!CT707","v":1155},699]
["070105","CALLAO","CALLAO","CALLAO","LA PUNTA","Hombre","00-04",{"$f":"'Pob x Genero'!CT708","v":93},700]
["070106","CALLAO","CALLAO","CALLAO","VENTANILLA","Hombre","00-04",{"$f":"'Pob x Genero'!CT709","v":11860},701]
["070107","CALLAO","CALLAO","CALLAO","MI PERU","Hombre","00-04",{"$f":"'Pob x Genero'!CT710","v":1357},702]
["080101","CUSCO","CUSCO","CUSCO","CUSCO","Hombre","00-04",{"$f":"'Pob x Genero'!CT711","v":3440},703]
["080102","CUSCO","CUSCO","CUSCO","CCORCA","Hombre","00-04",{"$f":"'Pob x Genero'!CT712","v":77},704]
["080103","CUSCO","CUSCO","CUSCO","POROY","Hombre","00-04",{"$f":"'Pob x Genero'!CT713","v":315},705]
["080104","CUSCO","CUSCO","CUSCO","SAN JERONIMO","Hombre","00-04",{"$f":"'Pob x Genero'!CT714","v":2271},706]
["080105","CUSCO","CUSCO","CUSCO","SAN SEBASTIAN","Hombre","00-04",{"$f":"'Pob x Genero'!CT715","v":3231},707]
["080106","CUSCO","CUSCO","CUSCO","SANTIAGO","Hombre","00-04",{"$f":"'Pob x Genero'!CT716","v":3970},708]
["080107","CUSCO","CUSCO","CUSCO","SAYLLA","Hombre","00-04",{"$f":"'Pob x Genero'!CT717","v":311},709]
["080108","CUSCO","CUSCO","CUSCO","WANCHAQ","Hombre","00-04",{"$f":"'Pob x Genero'!CT718","v":2162},710]
["080201","CUSCO","CUSCO","ACOMAYO","ACOMAYO","Hombre","00-04",{"$f":"'Pob x Genero'!CT719","v":149},711]
["080202","CUSCO","CUSCO","ACOMAYO","ACOPIA","Hombre","00-04",{"$f":"'Pob x Genero'!CT720","v":50},712]
["080203","CUSCO","CUSCO","ACOMAYO","ACOS","Hombre","00-04",{"$f":"'Pob x Genero'!CT721","v":52},713]
["080204","CUSCO","CUSCO","ACOMAYO","MOSOC LLACTA","Hombre","00-04",{"$f":"'Pob x Genero'!CT722","v":22},714]
["080205","CUSCO","CUSCO","ACOMAYO","POMACANCHI","Hombre","00-04",{"$f":"'Pob x Genero'!CT723","v":239},715]
["080206","CUSCO","CUSCO","ACOMAYO","RONDOCAN","Hombre","00-04",{"$f":"'Pob x Genero'!CT724","v":37},716]
["080207","CUSCO","CUSCO","ACOMAYO","SANGARARA","Hombre","00-04",{"$f":"'Pob x Genero'!CT725","v":101},717]
["080301","CUSCO","CUSCO","ANTA","ANTA","Hombre","00-04",{"$f":"'Pob x Genero'!CT726","v":750},718]
["080302","CUSCO","CUSCO","ANTA","ANCAHUASI","Hombre","00-04",{"$f":"'Pob x Genero'!CT727","v":230},719]
["080303","CUSCO","CUSCO","ANTA","CACHIMAYO","Hombre","00-04",{"$f":"'Pob x Genero'!CT728","v":81},720]
["080304","CUSCO","CUSCO","ANTA","CHINCHAYPUJIO","Hombre","00-04",{"$f":"'Pob x Genero'!CT729","v":157},721]
["080305","CUSCO","CUSCO","ANTA","HUAROCONDO","Hombre","00-04",{"$f":"'Pob x Genero'!CT730","v":193},722]
["080306","CUSCO","CUSCO","ANTA","LIMATAMBO","Hombre","00-04",{"$f":"'Pob x Genero'!CT731","v":256},723]
["080307","CUSCO","CUSCO","ANTA","MOLLEPATA","Hombre","00-04",{"$f":"'Pob x Genero'!CT732","v":82},724]
["080308","CUSCO","CUSCO","ANTA","PUCYURA","Hombre","00-04",{"$f":"'Pob x Genero'!CT733","v":142},725]
["080309","CUSCO","CUSCO","ANTA","ZURITE","Hombre","00-04",{"$f":"'Pob x Genero'!CT734","v":105},726]
["080401","CUSCO","CUSCO","CALCA","CALCA","Hombre","00-04",{"$f":"'Pob x Genero'!CT735","v":807},727]
["080402","CUSCO","CUSCO","CALCA","COYA","Hombre","00-04",{"$f":"'Pob x Genero'!CT736","v":101},728]
["080403","CUSCO","CUSCO","CALCA","LAMAY","Hombre","00-04",{"$f":"'Pob x Genero'!CT737","v":180},729]
["080404","CUSCO","CUSCO","CALCA","LARES","Hombre","00-04",{"$f":"'Pob x Genero'!CT738","v":257},730]
["080405","CUSCO","CUSCO","CALCA","PISAC","Hombre","00-04",{"$f":"'Pob x Genero'!CT739","v":389},731]
["080406","CUSCO","CUSCO","CALCA","SAN SALVADOR","Hombre","00-04",{"$f":"'Pob x Genero'!CT740","v":171},732]
["080407","CUSCO","CUSCO","CALCA","TARAY","Hombre","00-04",{"$f":"'Pob x Genero'!CT741","v":147},733]
["080408","CUSCO","CUSCO","CALCA","YANATILE","Hombre","00-04",{"$f":"'Pob x Genero'!CT742","v":247},734]
["080501","CUSCO","CUSCO","CANAS","YANAOCA","Hombre","00-04",{"$f":"'Pob x Genero'!CT743","v":270},735]
["080502","CUSCO","CUSCO","CANAS","CHECCA","Hombre","00-04",{"$f":"'Pob x Genero'!CT744","v":142},736]
["080503","CUSCO","CUSCO","CANAS","KUNTURKANKI","Hombre","00-04",{"$f":"'Pob x Genero'!CT745","v":125},737]
["080504","CUSCO","CUSCO","CANAS","LANGUI","Hombre","00-04",{"$f":"'Pob x Genero'!CT746","v":40},738]
["080505","CUSCO","CUSCO","CANAS","LAYO","Hombre","00-04",{"$f":"'Pob x Genero'!CT747","v":145},739]
["080506","CUSCO","CUSCO","CANAS","PAMPAMARCA","Hombre","00-04",{"$f":"'Pob x Genero'!CT748","v":44},740]
["080507","CUSCO","CUSCO","CANAS","QUEHUE","Hombre","00-04",{"$f":"'Pob x Genero'!CT749","v":52},741]
["080508","CUSCO","CUSCO","CANAS","TUPAC AMARU","Hombre","00-04",{"$f":"'Pob x Genero'!CT750","v":49},742]
["080601","CUSCO","CUSCO","CANCHIS","SICUANI","Hombre","00-04",{"$f":"'Pob x Genero'!CT751","v":2012},743]
["080602","CUSCO","CUSCO","CANCHIS","CHECACUPE","Hombre","00-04",{"$f":"'Pob x Genero'!CT752","v":112},744]
["080603","CUSCO","CUSCO","CANCHIS","COMBAPATA","Hombre","00-04",{"$f":"'Pob x Genero'!CT753","v":199},745]
["080604","CUSCO","CUSCO","CANCHIS","MARANGANI","Hombre","00-04",{"$f":"'Pob x Genero'!CT754","v":246},746]
["080605","CUSCO","CUSCO","CANCHIS","PITUMARCA","Hombre","00-04",{"$f":"'Pob x Genero'!CT755","v":263},747]
["080606","CUSCO","CUSCO","CANCHIS","SAN PABLO","Hombre","00-04",{"$f":"'Pob x Genero'!CT756","v":106},748]
["080607","CUSCO","CUSCO","CANCHIS","SAN PEDRO","Hombre","00-04",{"$f":"'Pob x Genero'!CT757","v":67},749]
["080608","CUSCO","CUSCO","CANCHIS","TINTA","Hombre","00-04",{"$f":"'Pob x Genero'!CT758","v":170},750]
["080701","CUSCO","CUSCO","CHUMBIVILCAS","SANTO TOMAS","Hombre","00-04",{"$f":"'Pob x Genero'!CT759","v":1013},751]
["080702","CUSCO","CUSCO","CHUMBIVILCAS","CAPACMARCA","Hombre","00-04",{"$f":"'Pob x Genero'!CT760","v":137},752]
["080703","CUSCO","CUSCO","CHUMBIVILCAS","CHAMACA","Hombre","00-04",{"$f":"'Pob x Genero'!CT761","v":233},753]
["080704","CUSCO","CUSCO","CHUMBIVILCAS","COLQUEMARCA","Hombre","00-04",{"$f":"'Pob x Genero'!CT762","v":368},754]
["080705","CUSCO","CUSCO","CHUMBIVILCAS","LIVITACA","Hombre","00-04",{"$f":"'Pob x Genero'!CT763","v":387},755]
["080706","CUSCO","CUSCO","CHUMBIVILCAS","LLUSCO","Hombre","00-04",{"$f":"'Pob x Genero'!CT764","v":140},756]
["080707","CUSCO","CUSCO","CHUMBIVILCAS","QUIÑOTA","Hombre","00-04",{"$f":"'Pob x Genero'!CT765","v":157},757]
["080708","CUSCO","CUSCO","CHUMBIVILCAS","VELILLE","Hombre","00-04",{"$f":"'Pob x Genero'!CT766","v":288},758]
["080801","CUSCO","CUSCO","ESPINAR","ESPINAR","Hombre","00-04",{"$f":"'Pob x Genero'!CT767","v":1699},759]
["080802","CUSCO","CUSCO","ESPINAR","CONDOROMA","Hombre","00-04",{"$f":"'Pob x Genero'!CT768","v":14},760]
["080803","CUSCO","CUSCO","ESPINAR","COPORAQUE","Hombre","00-04",{"$f":"'Pob x Genero'!CT769","v":209},761]
["080804","CUSCO","CUSCO","ESPINAR","OCORURO","Hombre","00-04",{"$f":"'Pob x Genero'!CT770","v":44},762]
["080805","CUSCO","CUSCO","ESPINAR","PALLPATA","Hombre","00-04",{"$f":"'Pob x Genero'!CT771","v":205},763]
["080806","CUSCO","CUSCO","ESPINAR","PICHIGUA","Hombre","00-04",{"$f":"'Pob x Genero'!CT772","v":100},764]
["080807","CUSCO","CUSCO","ESPINAR","SUYCKUTAMBO","Hombre","00-04",{"$f":"'Pob x Genero'!CT773","v":36},765]
["080808","CUSCO","CUSCO","ESPINAR","ALTO PICHIGUA","Hombre","00-04",{"$f":"'Pob x Genero'!CT774","v":42},766]
["080901","CUSCO","CUSCO","LA CONVENCION","SANTA ANA","Hombre","00-04",{"$f":"'Pob x Genero'!CT775","v":1388},767]
["080902","CUSCO","CUSCO","LA CONVENCION","ECHARATE","Hombre","00-04",{"$f":"'Pob x Genero'!CT776","v":667},768]
["080903","CUSCO","CUSCO","LA CONVENCION","HUAYOPATA","Hombre","00-04",{"$f":"'Pob x Genero'!CT777","v":110},769]
["080904","CUSCO","CUSCO","LA CONVENCION","MARANURA","Hombre","00-04",{"$f":"'Pob x Genero'!CT778","v":124},770]
["080905","CUSCO","CUSCO","LA CONVENCION","OCOBAMBA","Hombre","00-04",{"$f":"'Pob x Genero'!CT779","v":130},771]
["080906","CUSCO","CUSCO","LA CONVENCION","QUELLOUNO","Hombre","00-04",{"$f":"'Pob x Genero'!CT780","v":289},772]
["080907","CUSCO","CUSCO","LA CONVENCION","KIMBIRI","Hombre","00-04",{"$f":"'Pob x Genero'!CT781","v":822},773]
["080908","CUSCO","CUSCO","LA CONVENCION","SANTA TERESA","Hombre","00-04",{"$f":"'Pob x Genero'!CT782","v":164},774]
["080909","CUSCO","CUSCO","LA CONVENCION","VILCABAMBA","Hombre","00-04",{"$f":"'Pob x Genero'!CT783","v":223},775]
["080910","CUSCO","CUSCO","LA CONVENCION","PICHARI","Hombre","00-04",{"$f":"'Pob x Genero'!CT784","v":1525},776]
["080911","CUSCO","CUSCO","LA CONVENCION","INKAWASI","Hombre","00-04",{"$f":"'Pob x Genero'!CT785","v":146},777]
["080912","CUSCO","CUSCO","LA CONVENCION","VILLA VIRGEN","Hombre","00-04",{"$f":"'Pob x Genero'!CT786","v":126},778]
["080913","CUSCO","CUSCO","LA CONVENCION","VILLA KINTIARINA","Hombre","00-04",{"$f":"'Pob x Genero'!CT787","v":162},779]
["080914","CUSCO","CUSCO","LA CONVENCION","MEGANTONI","Hombre","00-04",{"$f":"'Pob x Genero'!CT788","v":1304},780]
["080915","CUSCO","CUSCO","LA CONVENCION","KUMPIRUSHIATO","Hombre","00-04",{"$f":"'Pob x Genero'!CT789","v":294},781]
["080916","CUSCO","CUSCO","LA CONVENCION","CIELO PUNCO","Hombre","00-04",{"$f":"'Pob x Genero'!CT790","v":111},782]
["080917","CUSCO","CUSCO","LA CONVENCION","MANITEA","Hombre","00-04",{"$f":"'Pob x Genero'!CT791","v":185},783]
["080918","CUSCO","CUSCO","LA CONVENCION","UNION ASHÁNINKA","Hombre","00-04",{"$f":"'Pob x Genero'!CT792","v":453},784]
["081001","CUSCO","CUSCO","PARURO","PARURO","Hombre","00-04",{"$f":"'Pob x Genero'!CT793","v":93},785]
["081002","CUSCO","CUSCO","PARURO","ACCHA","Hombre","00-04",{"$f":"'Pob x Genero'!CT794","v":111},786]
["081003","CUSCO","CUSCO","PARURO","CCAPI","Hombre","00-04",{"$f":"'Pob x Genero'!CT795","v":87},787]
["081004","CUSCO","CUSCO","PARURO","COLCHA","Hombre","00-04",{"$f":"'Pob x Genero'!CT796","v":12},788]
["081005","CUSCO","CUSCO","PARURO","HUANOQUITE","Hombre","00-04",{"$f":"'Pob x Genero'!CT797","v":159},789]
["081006","CUSCO","CUSCO","PARURO","OMACHA","Hombre","00-04",{"$f":"'Pob x Genero'!CT798","v":186},790]
["081007","CUSCO","CUSCO","PARURO","PACCARITAMBO","Hombre","00-04",{"$f":"'Pob x Genero'!CT799","v":38},791]
["081008","CUSCO","CUSCO","PARURO","PILLPINTO","Hombre","00-04",{"$f":"'Pob x Genero'!CT800","v":15},792]
["081009","CUSCO","CUSCO","PARURO","YAURISQUE","Hombre","00-04",{"$f":"'Pob x Genero'!CT801","v":89},793]
["081101","CUSCO","CUSCO","PAUCARTAMBO","PAUCARTAMBO","Hombre","00-04",{"$f":"'Pob x Genero'!CT802","v":531},794]
["081102","CUSCO","CUSCO","PAUCARTAMBO","CAICAY","Hombre","00-04",{"$f":"'Pob x Genero'!CT803","v":83},795]
["081103","CUSCO","CUSCO","PAUCARTAMBO","CHALLABAMBA","Hombre","00-04",{"$f":"'Pob x Genero'!CT804","v":334},796]
["081104","CUSCO","CUSCO","PAUCARTAMBO","COLQUEPATA","Hombre","00-04",{"$f":"'Pob x Genero'!CT805","v":295},797]
["081105","CUSCO","CUSCO","PAUCARTAMBO","HUANCARANI","Hombre","00-04",{"$f":"'Pob x Genero'!CT806","v":258},798]
["081106","CUSCO","CUSCO","PAUCARTAMBO","KOSÑIPATA","Hombre","00-04",{"$f":"'Pob x Genero'!CT807","v":327},799]
["081201","CUSCO","CUSCO","QUISPICANCHI","URCOS","Hombre","00-04",{"$f":"'Pob x Genero'!CT808","v":408},800]
["081202","CUSCO","CUSCO","QUISPICANCHI","ANDAHUAYLILLAS","Hombre","00-04",{"$f":"'Pob x Genero'!CT809","v":212},801]
["081203","CUSCO","CUSCO","QUISPICANCHI","CAMANTI","Hombre","00-04",{"$f":"'Pob x Genero'!CT810","v":132},802]
["081204","CUSCO","CUSCO","QUISPICANCHI","CCARHUAYO","Hombre","00-04",{"$f":"'Pob x Genero'!CT811","v":116},803]
["081205","CUSCO","CUSCO","QUISPICANCHI","CCATCA","Hombre","00-04",{"$f":"'Pob x Genero'!CT812","v":550},804]
["081206","CUSCO","CUSCO","QUISPICANCHI","CUSIPATA","Hombre","00-04",{"$f":"'Pob x Genero'!CT813","v":175},805]
["081207","CUSCO","CUSCO","QUISPICANCHI","HUARO","Hombre","00-04",{"$f":"'Pob x Genero'!CT814","v":156},806]
["081208","CUSCO","CUSCO","QUISPICANCHI","LUCRE","Hombre","00-04",{"$f":"'Pob x Genero'!CT815","v":162},807]
["081209","CUSCO","CUSCO","QUISPICANCHI","MARCAPATA","Hombre","00-04",{"$f":"'Pob x Genero'!CT816","v":180},808]
["081210","CUSCO","CUSCO","QUISPICANCHI","OCONGATE","Hombre","00-04",{"$f":"'Pob x Genero'!CT817","v":910},809]
["081211","CUSCO","CUSCO","QUISPICANCHI","OROPESA","Hombre","00-04",{"$f":"'Pob x Genero'!CT818","v":460},810]
["081212","CUSCO","CUSCO","QUISPICANCHI","QUIQUIJANA","Hombre","00-04",{"$f":"'Pob x Genero'!CT819","v":437},811]
["081301","CUSCO","CUSCO","URUBAMBA","URUBAMBA","Hombre","00-04",{"$f":"'Pob x Genero'!CT820","v":880},812]
["081302","CUSCO","CUSCO","URUBAMBA","CHINCHERO","Hombre","00-04",{"$f":"'Pob x Genero'!CT821","v":425},813]
["081303","CUSCO","CUSCO","URUBAMBA","HUAYLLABAMBA","Hombre","00-04",{"$f":"'Pob x Genero'!CT822","v":190},814]
["081304","CUSCO","CUSCO","URUBAMBA","MACHUPICCHU","Hombre","00-04",{"$f":"'Pob x Genero'!CT823","v":169},815]
["081305","CUSCO","CUSCO","URUBAMBA","MARAS","Hombre","00-04",{"$f":"'Pob x Genero'!CT824","v":213},816]
["081306","CUSCO","CUSCO","URUBAMBA","OLLANTAYTAMBO","Hombre","00-04",{"$f":"'Pob x Genero'!CT825","v":330},817]
["081307","CUSCO","CUSCO","URUBAMBA","YUCAY","Hombre","00-04",{"$f":"'Pob x Genero'!CT826","v":90},818]
["090101","HUANCAVELICA","HUANCAVELICA","HUANCAVELICA","HUANCAVELICA","Hombre","00-04",{"$f":"'Pob x Genero'!CT827","v":1406},819]
["090102","HUANCAVELICA","HUANCAVELICA","HUANCAVELICA","ACOBAMBILLA","Hombre","00-04",{"$f":"'Pob x Genero'!CT828","v":53},820]
["090103","HUANCAVELICA","HUANCAVELICA","HUANCAVELICA","ACORIA","Hombre","00-04",{"$f":"'Pob x Genero'!CT829","v":655},821]
["090104","HUANCAVELICA","HUANCAVELICA","HUANCAVELICA","CONAYCA","Hombre","00-04",{"$f":"'Pob x Genero'!CT830","v":20},822]
["090105","HUANCAVELICA","HUANCAVELICA","HUANCAVELICA","CUENCA","Hombre","00-04",{"$f":"'Pob x Genero'!CT831","v":36},823]
["090106","HUANCAVELICA","HUANCAVELICA","HUANCAVELICA","HUACHOCOLPA","Hombre","00-04",{"$f":"'Pob x Genero'!CT832","v":83},824]
["090107","HUANCAVELICA","HUANCAVELICA","HUANCAVELICA","HUAYLLAHUARA","Hombre","00-04",{"$f":"'Pob x Genero'!CT833","v":6},825]
["090108","HUANCAVELICA","HUANCAVELICA","HUANCAVELICA","IZCUCHACA","Hombre","00-04",{"$f":"'Pob x Genero'!CT834","v":27},826]
["090109","HUANCAVELICA","HUANCAVELICA","HUANCAVELICA","LARIA","Hombre","00-04",{"$f":"'Pob x Genero'!CT835","v":19},827]
["090110","HUANCAVELICA","HUANCAVELICA","HUANCAVELICA","MANTA","Hombre","00-04",{"$f":"'Pob x Genero'!CT836","v":26},828]
["090111","HUANCAVELICA","HUANCAVELICA","HUANCAVELICA","MARISCAL CACERES","Hombre","00-04",{"$f":"'Pob x Genero'!CT837","v":21},829]
["090112","HUANCAVELICA","HUANCAVELICA","HUANCAVELICA","MOYA","Hombre","00-04",{"$f":"'Pob x Genero'!CT838","v":18},830]
["090113","HUANCAVELICA","HUANCAVELICA","HUANCAVELICA","NUEVO OCCORO","Hombre","00-04",{"$f":"'Pob x Genero'!CT839","v":59},831]
["090114","HUANCAVELICA","HUANCAVELICA","HUANCAVELICA","PALCA","Hombre","00-04",{"$f":"'Pob x Genero'!CT840","v":55},832]
["090115","HUANCAVELICA","HUANCAVELICA","HUANCAVELICA","PILCHACA","Hombre","00-04",{"$f":"'Pob x Genero'!CT841","v":6},833]
["090116","HUANCAVELICA","HUANCAVELICA","HUANCAVELICA","VILCA","Hombre","00-04",{"$f":"'Pob x Genero'!CT842","v":45},834]
["090117","HUANCAVELICA","HUANCAVELICA","HUANCAVELICA","YAULI","Hombre","00-04",{"$f":"'Pob x Genero'!CT843","v":1043},835]
["090118","HUANCAVELICA","HUANCAVELICA","HUANCAVELICA","ASCENSION","Hombre","00-04",{"$f":"'Pob x Genero'!CT844","v":453},836]
["090119","HUANCAVELICA","HUANCAVELICA","HUANCAVELICA","HUANDO","Hombre","00-04",{"$f":"'Pob x Genero'!CT845","v":183},837]
["090201","HUANCAVELICA","HUANCAVELICA","ACOBAMBA","ACOBAMBA","Hombre","00-04",{"$f":"'Pob x Genero'!CT846","v":313},838]
["090202","HUANCAVELICA","HUANCAVELICA","ACOBAMBA","ANDABAMBA","Hombre","00-04",{"$f":"'Pob x Genero'!CT847","v":134},839]
["090203","HUANCAVELICA","HUANCAVELICA","ACOBAMBA","ANTA","Hombre","00-04",{"$f":"'Pob x Genero'!CT848","v":145},840]
["090204","HUANCAVELICA","HUANCAVELICA","ACOBAMBA","CAJA","Hombre","00-04",{"$f":"'Pob x Genero'!CT849","v":67},841]
["090205","HUANCAVELICA","HUANCAVELICA","ACOBAMBA","MARCAS","Hombre","00-04",{"$f":"'Pob x Genero'!CT850","v":31},842]
["090206","HUANCAVELICA","HUANCAVELICA","ACOBAMBA","PAUCARA","Hombre","00-04",{"$f":"'Pob x Genero'!CT851","v":504},843]
["090207","HUANCAVELICA","HUANCAVELICA","ACOBAMBA","POMACOCHA","Hombre","00-04",{"$f":"'Pob x Genero'!CT852","v":72},844]
["090208","HUANCAVELICA","HUANCAVELICA","ACOBAMBA","ROSARIO","Hombre","00-04",{"$f":"'Pob x Genero'!CT853","v":162},845]
["090301","HUANCAVELICA","HUANCAVELICA","ANGARAES","LIRCAY","Hombre","00-04",{"$f":"'Pob x Genero'!CT854","v":1171},846]
["090302","HUANCAVELICA","HUANCAVELICA","ANGARAES","ANCHONGA","Hombre","00-04",{"$f":"'Pob x Genero'!CT855","v":308},847]
["090303","HUANCAVELICA","HUANCAVELICA","ANGARAES","CALLANMARCA","Hombre","00-04",{"$f":"'Pob x Genero'!CT856","v":20},848]
["090304","HUANCAVELICA","HUANCAVELICA","ANGARAES","CCOCHACCASA","Hombre","00-04",{"$f":"'Pob x Genero'!CT857","v":203},849]
["090305","HUANCAVELICA","HUANCAVELICA","ANGARAES","CHINCHO","Hombre","00-04",{"$f":"'Pob x Genero'!CT858","v":38},850]
["090306","HUANCAVELICA","HUANCAVELICA","ANGARAES","CONGALLA","Hombre","00-04",{"$f":"'Pob x Genero'!CT859","v":125},851]
["090307","HUANCAVELICA","HUANCAVELICA","ANGARAES","HUANCA-HUANCA","Hombre","00-04",{"$f":"'Pob x Genero'!CT860","v":52},852]
["090308","HUANCAVELICA","HUANCAVELICA","ANGARAES","HUAYLLAY GRANDE","Hombre","00-04",{"$f":"'Pob x Genero'!CT861","v":44},853]
["090309","HUANCAVELICA","HUANCAVELICA","ANGARAES","JULCAMARCA","Hombre","00-04",{"$f":"'Pob x Genero'!CT862","v":45},854]
["090310","HUANCAVELICA","HUANCAVELICA","ANGARAES","SAN ANTONIO DE ANTAPARCO","Hombre","00-04",{"$f":"'Pob x Genero'!CT863","v":14},855]
["090311","HUANCAVELICA","HUANCAVELICA","ANGARAES","SANTO TOMAS DE PATA","Hombre","00-04",{"$f":"'Pob x Genero'!CT864","v":45},856]
["090312","HUANCAVELICA","HUANCAVELICA","ANGARAES","SECCLLA","Hombre","00-04",{"$f":"'Pob x Genero'!CT865","v":110},857]
["090401","HUANCAVELICA","HUANCAVELICA","CASTROVIRREYNA","CASTROVIRREYNA","Hombre","00-04",{"$f":"'Pob x Genero'!CT866","v":137},858]
["090402","HUANCAVELICA","HUANCAVELICA","CASTROVIRREYNA","ARMA","Hombre","00-04",{"$f":"'Pob x Genero'!CT867","v":20},859]
["090403","HUANCAVELICA","HUANCAVELICA","CASTROVIRREYNA","AURAHUA","Hombre","00-04",{"$f":"'Pob x Genero'!CT868","v":37},860]
["090404","HUANCAVELICA","HUANCAVELICA","CASTROVIRREYNA","CAPILLAS","Hombre","00-04",{"$f":"'Pob x Genero'!CT869","v":30},861]
["090405","HUANCAVELICA","HUANCAVELICA","CASTROVIRREYNA","CHUPAMARCA","Hombre","00-04",{"$f":"'Pob x Genero'!CT870","v":28},862]
["090406","HUANCAVELICA","HUANCAVELICA","CASTROVIRREYNA","COCAS","Hombre","00-04",{"$f":"'Pob x Genero'!CT871","v":14},863]
["090407","HUANCAVELICA","HUANCAVELICA","CASTROVIRREYNA","HUACHOS","Hombre","00-04",{"$f":"'Pob x Genero'!CT872","v":29},864]
["090408","HUANCAVELICA","HUANCAVELICA","CASTROVIRREYNA","HUAMATAMBO","Hombre","00-04",{"$f":"'Pob x Genero'!CT873","v":12},865]
["090409","HUANCAVELICA","HUANCAVELICA","CASTROVIRREYNA","MOLLEPAMPA","Hombre","00-04",{"$f":"'Pob x Genero'!CT874","v":17},866]
["090410","HUANCAVELICA","HUANCAVELICA","CASTROVIRREYNA","SAN JUAN","Hombre","00-04",{"$f":"'Pob x Genero'!CT875","v":12},867]
["090411","HUANCAVELICA","HUANCAVELICA","CASTROVIRREYNA","SANTA ANA","Hombre","00-04",{"$f":"'Pob x Genero'!CT876","v":31},868]
["090412","HUANCAVELICA","HUANCAVELICA","CASTROVIRREYNA","TANTARA","Hombre","00-04",{"$f":"'Pob x Genero'!CT877","v":18},869]
["090413","HUANCAVELICA","HUANCAVELICA","CASTROVIRREYNA","TICRAPO","Hombre","00-04",{"$f":"'Pob x Genero'!CT878","v":40},870]
["090501","HUANCAVELICA","HUANCAVELICA","CHURCAMPA","CHURCAMPA","Hombre","00-04",{"$f":"'Pob x Genero'!CT879","v":177},871]
["090502","HUANCAVELICA","HUANCAVELICA","CHURCAMPA","ANCO","Hombre","00-04",{"$f":"'Pob x Genero'!CT880","v":261},872]
["090503","HUANCAVELICA","HUANCAVELICA","CHURCAMPA","CHINCHIHUASI","Hombre","00-04",{"$f":"'Pob x Genero'!CT881","v":71},873]
["090504","HUANCAVELICA","HUANCAVELICA","CHURCAMPA","EL CARMEN","Hombre","00-04",{"$f":"'Pob x Genero'!CT882","v":88},874]
["090505","HUANCAVELICA","HUANCAVELICA","CHURCAMPA","LA MERCED","Hombre","00-04",{"$f":"'Pob x Genero'!CT883","v":17},875]
["090506","HUANCAVELICA","HUANCAVELICA","CHURCAMPA","LOCROJA","Hombre","00-04",{"$f":"'Pob x Genero'!CT884","v":111},876]
["090507","HUANCAVELICA","HUANCAVELICA","CHURCAMPA","PAUCARBAMBA","Hombre","00-04",{"$f":"'Pob x Genero'!CT885","v":219},877]
["090508","HUANCAVELICA","HUANCAVELICA","CHURCAMPA","SAN MIGUEL DE MAYOCC","Hombre","00-04",{"$f":"'Pob x Genero'!CT886","v":27},878]
["090509","HUANCAVELICA","HUANCAVELICA","CHURCAMPA","SAN PEDRO DE CORIS","Hombre","00-04",{"$f":"'Pob x Genero'!CT887","v":106},879]
["090510","HUANCAVELICA","HUANCAVELICA","CHURCAMPA","PACHAMARCA","Hombre","00-04",{"$f":"'Pob x Genero'!CT888","v":79},880]
["090511","HUANCAVELICA","HUANCAVELICA","CHURCAMPA","COSME","Hombre","00-04",{"$f":"'Pob x Genero'!CT889","v":151},881]
["090601","HUANCAVELICA","HUANCAVELICA","HUAYTARA","HUAYTARA","Hombre","00-04",{"$f":"'Pob x Genero'!CT890","v":70},882]
["090602","HUANCAVELICA","HUANCAVELICA","HUAYTARA","AYAVI","Hombre","00-04",{"$f":"'Pob x Genero'!CT891","v":5},883]
["090603","HUANCAVELICA","HUANCAVELICA","HUAYTARA","CORDOVA","Hombre","00-04",{"$f":"'Pob x Genero'!CT892","v":16},884]
["090604","HUANCAVELICA","HUANCAVELICA","HUAYTARA","HUAYACUNDO ARMA","Hombre","00-04",{"$f":"'Pob x Genero'!CT893","v":3},885]
["090605","HUANCAVELICA","HUANCAVELICA","HUAYTARA","LARAMARCA","Hombre","00-04",{"$f":"'Pob x Genero'!CT894","v":8},886]
["090606","HUANCAVELICA","HUANCAVELICA","HUAYTARA","OCOYO","Hombre","00-04",{"$f":"'Pob x Genero'!CT895","v":20},887]
["090607","HUANCAVELICA","HUANCAVELICA","HUAYTARA","PILPICHACA","Hombre","00-04",{"$f":"'Pob x Genero'!CT896","v":141},888]
["090608","HUANCAVELICA","HUANCAVELICA","HUAYTARA","QUERCO","Hombre","00-04",{"$f":"'Pob x Genero'!CT897","v":13},889]
["090609","HUANCAVELICA","HUANCAVELICA","HUAYTARA","QUITO-ARMA","Hombre","00-04",{"$f":"'Pob x Genero'!CT898","v":16},890]
["090610","HUANCAVELICA","HUANCAVELICA","HUAYTARA","SAN ANTONIO DE CUSICANCHA","Hombre","00-04",{"$f":"'Pob x Genero'!CT899","v":46},891]
["090611","HUANCAVELICA","HUANCAVELICA","HUAYTARA","SAN FRANCISCO DE SANGAYAICO","Hombre","00-04",{"$f":"'Pob x Genero'!CT900","v":31},892]
["090612","HUANCAVELICA","HUANCAVELICA","HUAYTARA","SAN ISIDRO","Hombre","00-04",{"$f":"'Pob x Genero'!CT901","v":11},893]
["090613","HUANCAVELICA","HUANCAVELICA","HUAYTARA","SANTIAGO DE CHOCORVOS","Hombre","00-04",{"$f":"'Pob x Genero'!CT902","v":50},894]
["090614","HUANCAVELICA","HUANCAVELICA","HUAYTARA","SANTIAGO DE QUIRAHUARA","Hombre","00-04",{"$f":"'Pob x Genero'!CT903","v":9},895]
["090615","HUANCAVELICA","HUANCAVELICA","HUAYTARA","SANTO DOMINGO DE CAPILLAS","Hombre","00-04",{"$f":"'Pob x Genero'!CT904","v":14},896]
["090616","HUANCAVELICA","HUANCAVELICA","HUAYTARA","TAMBO","Hombre","00-04",{"$f":"'Pob x Genero'!CT905","v":8},897]
["090701","HUANCAVELICA","HUANCAVELICA","TAYACAJA","PAMPAS","Hombre","00-04",{"$f":"'Pob x Genero'!CT906","v":478},898]
["090702","HUANCAVELICA","HUANCAVELICA","TAYACAJA","ACOSTAMBO","Hombre","00-04",{"$f":"'Pob x Genero'!CT907","v":91},899]
["090703","HUANCAVELICA","HUANCAVELICA","TAYACAJA","ACRAQUIA","Hombre","00-04",{"$f":"'Pob x Genero'!CT908","v":122},900]
["090704","HUANCAVELICA","HUANCAVELICA","TAYACAJA","AHUAYCHA","Hombre","00-04",{"$f":"'Pob x Genero'!CT909","v":135},901]
["090705","HUANCAVELICA","HUANCAVELICA","TAYACAJA","COLCABAMBA","Hombre","00-04",{"$f":"'Pob x Genero'!CT910","v":524},902]
["090706","HUANCAVELICA","HUANCAVELICA","TAYACAJA","DANIEL HERNANDEZ","Hombre","00-04",{"$f":"'Pob x Genero'!CT911","v":369},903]
["090707","HUANCAVELICA","HUANCAVELICA","TAYACAJA","HUACHOCOLPA","Hombre","00-04",{"$f":"'Pob x Genero'!CT912","v":69},904]
["090709","HUANCAVELICA","HUANCAVELICA","TAYACAJA","HUARIBAMBA","Hombre","00-04",{"$f":"'Pob x Genero'!CT913","v":96},905]
["090710","HUANCAVELICA","HUANCAVELICA","TAYACAJA","ÑAHUIMPUQUIO","Hombre","00-04",{"$f":"'Pob x Genero'!CT914","v":41},906]
["090711","HUANCAVELICA","HUANCAVELICA","TAYACAJA","PAZOS","Hombre","00-04",{"$f":"'Pob x Genero'!CT915","v":158},907]
["090713","HUANCAVELICA","HUANCAVELICA","TAYACAJA","QUISHUAR","Hombre","00-04",{"$f":"'Pob x Genero'!CT916","v":30},908]
["090714","HUANCAVELICA","HUANCAVELICA","TAYACAJA","SALCABAMBA","Hombre","00-04",{"$f":"'Pob x Genero'!CT917","v":162},909]
["090715","HUANCAVELICA","HUANCAVELICA","TAYACAJA","SALCAHUASI","Hombre","00-04",{"$f":"'Pob x Genero'!CT918","v":96},910]
["090716","HUANCAVELICA","HUANCAVELICA","TAYACAJA","SAN MARCOS DE ROCCHAC","Hombre","00-04",{"$f":"'Pob x Genero'!CT919","v":69},911]
["090717","HUANCAVELICA","HUANCAVELICA","TAYACAJA","SURCUBAMBA","Hombre","00-04",{"$f":"'Pob x Genero'!CT920","v":136},912]
["090718","HUANCAVELICA","HUANCAVELICA","TAYACAJA","TINTAY PUNCU","Hombre","00-04",{"$f":"'Pob x Genero'!CT921","v":85},913]
["090719","HUANCAVELICA","HUANCAVELICA","TAYACAJA","QUICHUAS","Hombre","00-04",{"$f":"'Pob x Genero'!CT922","v":191},914]
["090720","HUANCAVELICA","HUANCAVELICA","TAYACAJA","ANDAYMARCA","Hombre","00-04",{"$f":"'Pob x Genero'!CT923","v":85},915]
["090721","HUANCAVELICA","HUANCAVELICA","TAYACAJA","ROBLE","Hombre","00-04",{"$f":"'Pob x Genero'!CT924","v":64},916]
["090722","HUANCAVELICA","HUANCAVELICA","TAYACAJA","PICHOS","Hombre","00-04",{"$f":"'Pob x Genero'!CT925","v":107},917]
["090723","HUANCAVELICA","HUANCAVELICA","TAYACAJA","SANTIAGO DE TUCUMA","Hombre","00-04",{"$f":"'Pob x Genero'!CT926","v":51},918]
["090724","HUANCAVELICA","HUANCAVELICA","TAYACAJA","LAMBRAS","Hombre","00-04",{"$f":"'Pob x Genero'!CT927","v":43},919]
["090725","HUANCAVELICA","HUANCAVELICA","TAYACAJA","COCHABAMBA","Hombre","00-04",{"$f":"'Pob x Genero'!CT928","v":39},920]
["100101","HUANUCO","HUANUCO","HUANUCO","HUANUCO","Hombre","00-04",{"$f":"'Pob x Genero'!CT929","v":3747},921]
["100102","HUANUCO","HUANUCO","HUANUCO","AMARILIS","Hombre","00-04",{"$f":"'Pob x Genero'!CT930","v":3596},922]
["100103","HUANUCO","HUANUCO","HUANUCO","CHINCHAO","Hombre","00-04",{"$f":"'Pob x Genero'!CT931","v":620},923]
["100104","HUANUCO","HUANUCO","HUANUCO","CHURUBAMBA","Hombre","00-04",{"$f":"'Pob x Genero'!CT932","v":878},924]
["100105","HUANUCO","HUANUCO","HUANUCO","MARGOS","Hombre","00-04",{"$f":"'Pob x Genero'!CT933","v":145},925]
["100106","HUANUCO","HUANUCO","HUANUCO","QUISQUI","Hombre","00-04",{"$f":"'Pob x Genero'!CT934","v":159},926]
["100107","HUANUCO","HUANUCO","HUANUCO","SAN FRANCISCO DE CAYRAN","Hombre","00-04",{"$f":"'Pob x Genero'!CT935","v":216},927]
["100108","HUANUCO","HUANUCO","HUANUCO","SAN PEDRO DE CHAULAN","Hombre","00-04",{"$f":"'Pob x Genero'!CT936","v":160},928]
["100109","HUANUCO","HUANUCO","HUANUCO","SANTA MARIA DEL VALLE","Hombre","00-04",{"$f":"'Pob x Genero'!CT937","v":966},929]
["100110","HUANUCO","HUANUCO","HUANUCO","YARUMAYO","Hombre","00-04",{"$f":"'Pob x Genero'!CT938","v":67},930]
["100111","HUANUCO","HUANUCO","HUANUCO","PILLCO MARCA","Hombre","00-04",{"$f":"'Pob x Genero'!CT939","v":1872},931]
["100112","HUANUCO","HUANUCO","HUANUCO","YACUS","Hombre","00-04",{"$f":"'Pob x Genero'!CT940","v":83},932]
["100113","HUANUCO","HUANUCO","HUANUCO","SAN PABLO DE PILLAO","Hombre","00-04",{"$f":"'Pob x Genero'!CT941","v":456},933]
["100201","HUANUCO","HUANUCO","AMBO","AMBO","Hombre","00-04",{"$f":"'Pob x Genero'!CT942","v":1046},934]
["100202","HUANUCO","HUANUCO","AMBO","CAYNA","Hombre","00-04",{"$f":"'Pob x Genero'!CT943","v":96},935]
["100203","HUANUCO","HUANUCO","AMBO","COLPAS","Hombre","00-04",{"$f":"'Pob x Genero'!CT944","v":60},936]
["100204","HUANUCO","HUANUCO","AMBO","CONCHAMARCA","Hombre","00-04",{"$f":"'Pob x Genero'!CT945","v":187},937]
["100205","HUANUCO","HUANUCO","AMBO","HUACAR","Hombre","00-04",{"$f":"'Pob x Genero'!CT946","v":244},938]
["100206","HUANUCO","HUANUCO","AMBO","SAN FRANCISCO","Hombre","00-04",{"$f":"'Pob x Genero'!CT947","v":62},939]
["100207","HUANUCO","HUANUCO","AMBO","SAN RAFAEL","Hombre","00-04",{"$f":"'Pob x Genero'!CT948","v":516},940]
["100208","HUANUCO","HUANUCO","AMBO","TOMAY KICHWA","Hombre","00-04",{"$f":"'Pob x Genero'!CT949","v":144},941]
["100301","HUANUCO","HUANUCO","DOS DE MAYO","LA UNION","Hombre","00-04",{"$f":"'Pob x Genero'!CT950","v":242},942]
["100307","HUANUCO","HUANUCO","DOS DE MAYO","CHUQUIS","Hombre","00-04",{"$f":"'Pob x Genero'!CT951","v":145},943]
["100311","HUANUCO","HUANUCO","DOS DE MAYO","MARIAS","Hombre","00-04",{"$f":"'Pob x Genero'!CT952","v":355},944]
["100313","HUANUCO","HUANUCO","DOS DE MAYO","PACHAS","Hombre","00-04",{"$f":"'Pob x Genero'!CT953","v":225},945]
["100316","HUANUCO","HUANUCO","DOS DE MAYO","QUIVILLA","Hombre","00-04",{"$f":"'Pob x Genero'!CT954","v":32},946]
["100317","HUANUCO","HUANUCO","DOS DE MAYO","RIPAN","Hombre","00-04",{"$f":"'Pob x Genero'!CT955","v":267},947]
["100321","HUANUCO","HUANUCO","DOS DE MAYO","SHUNQUI","Hombre","00-04",{"$f":"'Pob x Genero'!CT956","v":82},948]
["100322","HUANUCO","HUANUCO","DOS DE MAYO","SILLAPATA","Hombre","00-04",{"$f":"'Pob x Genero'!CT957","v":59},949]
["100323","HUANUCO","HUANUCO","DOS DE MAYO","YANAS","Hombre","00-04",{"$f":"'Pob x Genero'!CT958","v":70},950]
["100401","HUANUCO","HUANUCO","HUACAYBAMBA","HUACAYBAMBA","Hombre","00-04",{"$f":"'Pob x Genero'!CT959","v":270},951]
["100402","HUANUCO","HUANUCO","HUACAYBAMBA","CANCHABAMBA","Hombre","00-04",{"$f":"'Pob x Genero'!CT960","v":113},952]
["100403","HUANUCO","HUANUCO","HUACAYBAMBA","COCHABAMBA","Hombre","00-04",{"$f":"'Pob x Genero'!CT961","v":55},953]
["100404","HUANUCO","HUANUCO","HUACAYBAMBA","PINRA","Hombre","00-04",{"$f":"'Pob x Genero'!CT962","v":248},954]
["100501","HUANUCO","HUANUCO","HUAMALIES","LLATA","Hombre","00-04",{"$f":"'Pob x Genero'!CT963","v":596},955]
["100502","HUANUCO","HUANUCO","HUAMALIES","ARANCAY","Hombre","00-04",{"$f":"'Pob x Genero'!CT964","v":54},956]
["100503","HUANUCO","HUANUCO","HUAMALIES","CHAVIN DE PARIARCA","Hombre","00-04",{"$f":"'Pob x Genero'!CT965","v":133},957]
["100504","HUANUCO","HUANUCO","HUAMALIES","JACAS GRANDE","Hombre","00-04",{"$f":"'Pob x Genero'!CT966","v":174},958]
["100505","HUANUCO","HUANUCO","HUAMALIES","JIRCAN","Hombre","00-04",{"$f":"'Pob x Genero'!CT967","v":55},959]
["100506","HUANUCO","HUANUCO","HUAMALIES","MIRAFLORES","Hombre","00-04",{"$f":"'Pob x Genero'!CT968","v":139},960]
["100507","HUANUCO","HUANUCO","HUAMALIES","MONZON","Hombre","00-04",{"$f":"'Pob x Genero'!CT969","v":578},961]
["100508","HUANUCO","HUANUCO","HUAMALIES","PUNCHAO","Hombre","00-04",{"$f":"'Pob x Genero'!CT970","v":82},962]
["100509","HUANUCO","HUANUCO","HUAMALIES","PUÑOS","Hombre","00-04",{"$f":"'Pob x Genero'!CT971","v":214},963]
["100510","HUANUCO","HUANUCO","HUAMALIES","SINGA","Hombre","00-04",{"$f":"'Pob x Genero'!CT972","v":95},964]
["100511","HUANUCO","HUANUCO","HUAMALIES","TANTAMAYO","Hombre","00-04",{"$f":"'Pob x Genero'!CT973","v":59},965]
["100601","HUANUCO","HUANUCO","LEONCIO PRADO","RUPA-RUPA","Hombre","00-04",{"$f":"'Pob x Genero'!CT974","v":1867},966]
["100602","HUANUCO","HUANUCO","LEONCIO PRADO","DANIEL ALOMIA ROBLES","Hombre","00-04",{"$f":"'Pob x Genero'!CT975","v":287},967]
["100603","HUANUCO","HUANUCO","LEONCIO PRADO","HERMILIO VALDIZAN","Hombre","00-04",{"$f":"'Pob x Genero'!CT976","v":149},968]
["100604","HUANUCO","HUANUCO","LEONCIO PRADO","JOSE CRESPO Y CASTILLO","Hombre","00-04",{"$f":"'Pob x Genero'!CT977","v":907},969]
["100605","HUANUCO","HUANUCO","LEONCIO PRADO","LUYANDO","Hombre","00-04",{"$f":"'Pob x Genero'!CT978","v":526},970]
["100606","HUANUCO","HUANUCO","LEONCIO PRADO","MARIANO DAMASO BERAUN","Hombre","00-04",{"$f":"'Pob x Genero'!CT979","v":443},971]
["100607","HUANUCO","HUANUCO","LEONCIO PRADO","PUCAYACU","Hombre","00-04",{"$f":"'Pob x Genero'!CT980","v":191},972]
["100608","HUANUCO","HUANUCO","LEONCIO PRADO","CASTILLO GRANDE","Hombre","00-04",{"$f":"'Pob x Genero'!CT981","v":525},973]
["100609","HUANUCO","HUANUCO","LEONCIO PRADO","PUEBLO NUEVO","Hombre","00-04",{"$f":"'Pob x Genero'!CT982","v":207},974]
["100610","HUANUCO","HUANUCO","LEONCIO PRADO","SANTO DOMINGO DE ANDA","Hombre","00-04",{"$f":"'Pob x Genero'!CT983","v":125},975]
["100701","HUANUCO","HUANUCO","MARAÑON","HUACRACHUCO","Hombre","00-04",{"$f":"'Pob x Genero'!CT984","v":633},976]
["100702","HUANUCO","HUANUCO","MARAÑON","CHOLON","Hombre","00-04",{"$f":"'Pob x Genero'!CT985","v":313},977]
["100703","HUANUCO","HUANUCO","MARAÑON","SAN BUENAVENTURA","Hombre","00-04",{"$f":"'Pob x Genero'!CT986","v":136},978]
["100704","HUANUCO","HUANUCO","MARAÑON","LA MORADA","Hombre","00-04",{"$f":"'Pob x Genero'!CT987","v":182},979]
["100705","HUANUCO","HUANUCO","MARAÑON","SANTA ROSA DE ALTO YANAJANCA","Hombre","00-04",{"$f":"'Pob x Genero'!CT988","v":126},980]
["100801","HUANUCO","HUANUCO","PACHITEA","PANAO","Hombre","00-04",{"$f":"'Pob x Genero'!CT989","v":1284},981]
["100802","HUANUCO","HUANUCO","PACHITEA","CHAGLLA","Hombre","00-04",{"$f":"'Pob x Genero'!CT990","v":514},982]
["100803","HUANUCO","HUANUCO","PACHITEA","MOLINO","Hombre","00-04",{"$f":"'Pob x Genero'!CT991","v":736},983]
["100804","HUANUCO","HUANUCO","PACHITEA","UMARI","Hombre","00-04",{"$f":"'Pob x Genero'!CT992","v":445},984]
["100901","HUANUCO","HUANUCO","PUERTO INCA","PUERTO INCA","Hombre","00-04",{"$f":"'Pob x Genero'!CT993","v":875},985]
["100902","HUANUCO","HUANUCO","PUERTO INCA","CODO DEL POZUZO","Hombre","00-04",{"$f":"'Pob x Genero'!CT994","v":507},986]
["100903","HUANUCO","HUANUCO","PUERTO INCA","HONORIA","Hombre","00-04",{"$f":"'Pob x Genero'!CT995","v":297},987]
["100904","HUANUCO","HUANUCO","PUERTO INCA","TOURNAVISTA","Hombre","00-04",{"$f":"'Pob x Genero'!CT996","v":317},988]
["100905","HUANUCO","HUANUCO","PUERTO INCA","YUYAPICHIS","Hombre","00-04",{"$f":"'Pob x Genero'!CT997","v":400},989]
["101001","HUANUCO","HUANUCO","LAURICOCHA","JESUS","Hombre","00-04",{"$f":"'Pob x Genero'!CT998","v":180},990]
["101002","HUANUCO","HUANUCO","LAURICOCHA","BAÑOS","Hombre","00-04",{"$f":"'Pob x Genero'!CT999","v":93},991]
["101003","HUANUCO","HUANUCO","LAURICOCHA","JIVIA","Hombre","00-04",{"$f":"'Pob x Genero'!CT1000","v":29},992]
["101004","HUANUCO","HUANUCO","LAURICOCHA","QUEROPALCA","Hombre","00-04",{"$f":"'Pob x Genero'!CT1001","v":25},993]
["101005","HUANUCO","HUANUCO","LAURICOCHA","RONDOS","Hombre","00-04",{"$f":"'Pob x Genero'!CT1002","v":175},994]
["101006","HUANUCO","HUANUCO","LAURICOCHA","SAN FRANCISCO DE ASIS","Hombre","00-04",{"$f":"'Pob x Genero'!CT1003","v":44},995]
["101007","HUANUCO","HUANUCO","LAURICOCHA","SAN MIGUEL DE CAURI","Hombre","00-04",{"$f":"'Pob x Genero'!CT1004","v":177},996]
["101101","HUANUCO","HUANUCO","YAROWILCA","CHAVINILLO","Hombre","00-04",{"$f":"'Pob x Genero'!CT1005","v":227},997]
["101102","HUANUCO","HUANUCO","YAROWILCA","CAHUAC","Hombre","00-04",{"$f":"'Pob x Genero'!CT1006","v":43},998]
["101103","HUANUCO","HUANUCO","YAROWILCA","CHACABAMBA","Hombre","00-04",{"$f":"'Pob x Genero'!CT1007","v":45},999]
["101104","HUANUCO","HUANUCO","YAROWILCA","APARICIO POMARES","Hombre","00-04",{"$f":"'Pob x Genero'!CT1008","v":220},1000]
["101105","HUANUCO","HUANUCO","YAROWILCA","JACAS CHICO","Hombre","00-04",{"$f":"'Pob x Genero'!CT1009","v":43},1001]
["101106","HUANUCO","HUANUCO","YAROWILCA","OBAS","Hombre","00-04",{"$f":"'Pob x Genero'!CT1010","v":131},1002]
["101107","HUANUCO","HUANUCO","YAROWILCA","PAMPAMARCA","Hombre","00-04",{"$f":"'Pob x Genero'!CT1011","v":62},1003]
["101108","HUANUCO","HUANUCO","YAROWILCA","CHORAS","Hombre","00-04",{"$f":"'Pob x Genero'!CT1012","v":73},1004]
["110101","ICA","ICA","ICA","ICA","Hombre","00-04",{"$f":"'Pob x Genero'!CT1013","v":5298},1005]
["110102","ICA","ICA","ICA","LA TINGUIÑA","Hombre","00-04",{"$f":"'Pob x Genero'!CT1014","v":1581},1006]
["110103","ICA","ICA","ICA","LOS AQUIJES","Hombre","00-04",{"$f":"'Pob x Genero'!CT1015","v":932},1007]
["110104","ICA","ICA","ICA","OCUCAJE","Hombre","00-04",{"$f":"'Pob x Genero'!CT1016","v":228},1008]
["110105","ICA","ICA","ICA","PACHACUTEC","Hombre","00-04",{"$f":"'Pob x Genero'!CT1017","v":310},1009]
["110106","ICA","ICA","ICA","PARCONA","Hombre","00-04",{"$f":"'Pob x Genero'!CT1018","v":1963},1010]
["110107","ICA","ICA","ICA","PUEBLO NUEVO","Hombre","00-04",{"$f":"'Pob x Genero'!CT1019","v":228},1011]
["110108","ICA","ICA","ICA","SALAS","Hombre","00-04",{"$f":"'Pob x Genero'!CT1020","v":1851},1012]
["110109","ICA","ICA","ICA","SAN JOSE DE LOS MOLINOS","Hombre","00-04",{"$f":"'Pob x Genero'!CT1021","v":275},1013]
["110110","ICA","ICA","ICA","SAN JUAN BAUTISTA","Hombre","00-04",{"$f":"'Pob x Genero'!CT1022","v":237},1014]
["110111","ICA","ICA","ICA","SANTIAGO","Hombre","00-04",{"$f":"'Pob x Genero'!CT1023","v":1122},1015]
["110112","ICA","ICA","ICA","SUBTANJALLA","Hombre","00-04",{"$f":"'Pob x Genero'!CT1024","v":1177},1016]
["110113","ICA","ICA","ICA","TATE","Hombre","00-04",{"$f":"'Pob x Genero'!CT1025","v":219},1017]
["110114","ICA","ICA","ICA","YAUCA DEL ROSARIO","Hombre","00-04",{"$f":"'Pob x Genero'!CT1026","v":49},1018]
["110201","ICA","ICA","CHINCHA","CHINCHA ALTA","Hombre","00-04",{"$f":"'Pob x Genero'!CT1027","v":3249},1019]
["110202","ICA","ICA","CHINCHA","ALTO LARAN","Hombre","00-04",{"$f":"'Pob x Genero'!CT1028","v":452},1020]
["110203","ICA","ICA","CHINCHA","CHAVIN","Hombre","00-04",{"$f":"'Pob x Genero'!CT1029","v":33},1021]
["110204","ICA","ICA","CHINCHA","CHINCHA BAJA","Hombre","00-04",{"$f":"'Pob x Genero'!CT1030","v":557},1022]
["110205","ICA","ICA","CHINCHA","EL CARMEN","Hombre","00-04",{"$f":"'Pob x Genero'!CT1031","v":622},1023]
["110206","ICA","ICA","CHINCHA","GROCIO PRADO","Hombre","00-04",{"$f":"'Pob x Genero'!CT1032","v":1194},1024]
["110207","ICA","ICA","CHINCHA","PUEBLO NUEVO","Hombre","00-04",{"$f":"'Pob x Genero'!CT1033","v":2136},1025]
["110208","ICA","ICA","CHINCHA","SAN JUAN DE YANAC","Hombre","00-04",{"$f":"'Pob x Genero'!CT1034","v":22},1026]
["110209","ICA","ICA","CHINCHA","SAN PEDRO DE HUACARPANA","Hombre","00-04",{"$f":"'Pob x Genero'!CT1035","v":20},1027]
["110210","ICA","ICA","CHINCHA","SUNAMPE","Hombre","00-04",{"$f":"'Pob x Genero'!CT1036","v":1097},1028]
["110211","ICA","ICA","CHINCHA","TAMBO DE MORA","Hombre","00-04",{"$f":"'Pob x Genero'!CT1037","v":203},1029]
["110301","ICA","ICA","NAZCA","NAZCA","Hombre","00-04",{"$f":"'Pob x Genero'!CT1038","v":1141},1030]
["110302","ICA","ICA","NAZCA","CHANGUILLO","Hombre","00-04",{"$f":"'Pob x Genero'!CT1039","v":76},1031]
["110303","ICA","ICA","NAZCA","EL INGENIO","Hombre","00-04",{"$f":"'Pob x Genero'!CT1040","v":147},1032]
["110304","ICA","ICA","NAZCA","MARCONA","Hombre","00-04",{"$f":"'Pob x Genero'!CT1041","v":800},1033]
["110305","ICA","ICA","NAZCA","VISTA ALEGRE","Hombre","00-04",{"$f":"'Pob x Genero'!CT1042","v":1056},1034]
["110401","ICA","ICA","PALPA","PALPA","Hombre","00-04",{"$f":"'Pob x Genero'!CT1043","v":347},1035]
["110402","ICA","ICA","PALPA","LLIPATA","Hombre","00-04",{"$f":"'Pob x Genero'!CT1044","v":78},1036]
["110403","ICA","ICA","PALPA","RIO GRANDE","Hombre","00-04",{"$f":"'Pob x Genero'!CT1045","v":114},1037]
["110404","ICA","ICA","PALPA","SANTA CRUZ","Hombre","00-04",{"$f":"'Pob x Genero'!CT1046","v":29},1038]
["110405","ICA","ICA","PALPA","TIBILLO","Hombre","00-04",{"$f":"'Pob x Genero'!CT1047","v":11},1039]
["110501","ICA","ICA","PISCO","PISCO","Hombre","00-04",{"$f":"'Pob x Genero'!CT1048","v":2249},1040]
["110502","ICA","ICA","PISCO","HUANCANO","Hombre","00-04",{"$f":"'Pob x Genero'!CT1049","v":55},1041]
["110503","ICA","ICA","PISCO","HUMAY","Hombre","00-04",{"$f":"'Pob x Genero'!CT1050","v":289},1042]
["110504","ICA","ICA","PISCO","INDEPENDENCIA","Hombre","00-04",{"$f":"'Pob x Genero'!CT1051","v":648},1043]
["110505","ICA","ICA","PISCO","PARACAS","Hombre","00-04",{"$f":"'Pob x Genero'!CT1052","v":439},1044]
["110506","ICA","ICA","PISCO","SAN ANDRES","Hombre","00-04",{"$f":"'Pob x Genero'!CT1053","v":1043},1045]
["110507","ICA","ICA","PISCO","SAN CLEMENTE","Hombre","00-04",{"$f":"'Pob x Genero'!CT1054","v":1126},1046]
["110508","ICA","ICA","PISCO","TUPAC AMARU INCA","Hombre","00-04",{"$f":"'Pob x Genero'!CT1055","v":726},1047]
["120101","JUNIN","JUNIN","HUANCAYO","HUANCAYO","Hombre","00-04",{"$f":"'Pob x Genero'!CT1056","v":4005},1048]
["120104","JUNIN","JUNIN","HUANCAYO","CARHUACALLANGA","Hombre","00-04",{"$f":"'Pob x Genero'!CT1057","v":0},1049]
["120105","JUNIN","JUNIN","HUANCAYO","CHACAPAMPA","Hombre","00-04",{"$f":"'Pob x Genero'!CT1058","v":12},1050]
["120106","JUNIN","JUNIN","HUANCAYO","CHICCHE","Hombre","00-04",{"$f":"'Pob x Genero'!CT1059","v":11},1051]
["120107","JUNIN","JUNIN","HUANCAYO","CHILCA","Hombre","00-04",{"$f":"'Pob x Genero'!CT1060","v":3853},1052]
["120108","JUNIN","JUNIN","HUANCAYO","CHONGOS ALTO","Hombre","00-04",{"$f":"'Pob x Genero'!CT1061","v":26},1053]
["120111","JUNIN","JUNIN","HUANCAYO","CHUPURO","Hombre","00-04",{"$f":"'Pob x Genero'!CT1062","v":88},1054]
["120112","JUNIN","JUNIN","HUANCAYO","COLCA","Hombre","00-04",{"$f":"'Pob x Genero'!CT1063","v":21},1055]
["120113","JUNIN","JUNIN","HUANCAYO","CULLHUAS","Hombre","00-04",{"$f":"'Pob x Genero'!CT1064","v":53},1056]
["120114","JUNIN","JUNIN","HUANCAYO","EL TAMBO","Hombre","00-04",{"$f":"'Pob x Genero'!CT1065","v":5211},1057]
["120116","JUNIN","JUNIN","HUANCAYO","HUACRAPUQUIO","Hombre","00-04",{"$f":"'Pob x Genero'!CT1066","v":62},1058]
["120117","JUNIN","JUNIN","HUANCAYO","HUALHUAS","Hombre","00-04",{"$f":"'Pob x Genero'!CT1067","v":234},1059]
["120119","JUNIN","JUNIN","HUANCAYO","HUANCAN","Hombre","00-04",{"$f":"'Pob x Genero'!CT1068","v":1030},1060]
["120120","JUNIN","JUNIN","HUANCAYO","HUASICANCHA","Hombre","00-04",{"$f":"'Pob x Genero'!CT1069","v":14},1061]
["120121","JUNIN","JUNIN","HUANCAYO","HUAYUCACHI","Hombre","00-04",{"$f":"'Pob x Genero'!CT1070","v":479},1062]
["120122","JUNIN","JUNIN","HUANCAYO","INGENIO","Hombre","00-04",{"$f":"'Pob x Genero'!CT1071","v":62},1063]
["120124","JUNIN","JUNIN","HUANCAYO","PARIAHUANCA","Hombre","00-04",{"$f":"'Pob x Genero'!CT1072","v":184},1064]
["120125","JUNIN","JUNIN","HUANCAYO","PILCOMAYO","Hombre","00-04",{"$f":"'Pob x Genero'!CT1073","v":771},1065]
["120126","JUNIN","JUNIN","HUANCAYO","PUCARA","Hombre","00-04",{"$f":"'Pob x Genero'!CT1074","v":164},1066]
["120127","JUNIN","JUNIN","HUANCAYO","QUICHUAY","Hombre","00-04",{"$f":"'Pob x Genero'!CT1075","v":69},1067]
["120128","JUNIN","JUNIN","HUANCAYO","QUILCAS","Hombre","00-04",{"$f":"'Pob x Genero'!CT1076","v":189},1068]
["120129","JUNIN","JUNIN","HUANCAYO","SAN AGUSTIN","Hombre","00-04",{"$f":"'Pob x Genero'!CT1077","v":671},1069]
["120130","JUNIN","JUNIN","HUANCAYO","SAN JERONIMO DE TUNAN","Hombre","00-04",{"$f":"'Pob x Genero'!CT1078","v":472},1070]
["120132","JUNIN","JUNIN","HUANCAYO","SAÑO","Hombre","00-04",{"$f":"'Pob x Genero'!CT1079","v":210},1071]
["120133","JUNIN","JUNIN","HUANCAYO","SAPALLANGA","Hombre","00-04",{"$f":"'Pob x Genero'!CT1080","v":1180},1072]
["120134","JUNIN","JUNIN","HUANCAYO","SICAYA","Hombre","00-04",{"$f":"'Pob x Genero'!CT1081","v":483},1073]
["120135","JUNIN","JUNIN","HUANCAYO","SANTO DOMINGO DE ACOBAMBA","Hombre","00-04",{"$f":"'Pob x Genero'!CT1082","v":185},1074]
["120136","JUNIN","JUNIN","HUANCAYO","VIQUES","Hombre","00-04",{"$f":"'Pob x Genero'!CT1083","v":97},1075]
["120201","JUNIN","JUNIN","CONCEPCION","CONCEPCION","Hombre","00-04",{"$f":"'Pob x Genero'!CT1084","v":620},1076]
["120202","JUNIN","JUNIN","CONCEPCION","ACO","Hombre","00-04",{"$f":"'Pob x Genero'!CT1085","v":46},1077]
["120203","JUNIN","JUNIN","CONCEPCION","ANDAMARCA","Hombre","00-04",{"$f":"'Pob x Genero'!CT1086","v":145},1078]
["120204","JUNIN","JUNIN","CONCEPCION","CHAMBARA","Hombre","00-04",{"$f":"'Pob x Genero'!CT1087","v":90},1079]
["120205","JUNIN","JUNIN","CONCEPCION","COCHAS","Hombre","00-04",{"$f":"'Pob x Genero'!CT1088","v":82},1080]
["120206","JUNIN","JUNIN","CONCEPCION","COMAS","Hombre","00-04",{"$f":"'Pob x Genero'!CT1089","v":160},1081]
["120207","JUNIN","JUNIN","CONCEPCION","HEROINAS TOLEDO","Hombre","00-04",{"$f":"'Pob x Genero'!CT1090","v":35},1082]
["120208","JUNIN","JUNIN","CONCEPCION","MANZANARES","Hombre","00-04",{"$f":"'Pob x Genero'!CT1091","v":53},1083]
["120209","JUNIN","JUNIN","CONCEPCION","MARISCAL CASTILLA","Hombre","00-04",{"$f":"'Pob x Genero'!CT1092","v":62},1084]
["120210","JUNIN","JUNIN","CONCEPCION","MATAHUASI","Hombre","00-04",{"$f":"'Pob x Genero'!CT1093","v":188},1085]
["120211","JUNIN","JUNIN","CONCEPCION","MITO","Hombre","00-04",{"$f":"'Pob x Genero'!CT1094","v":54},1086]
["120212","JUNIN","JUNIN","CONCEPCION","NUEVE DE JULIO","Hombre","00-04",{"$f":"'Pob x Genero'!CT1095","v":96},1087]
["120213","JUNIN","JUNIN","CONCEPCION","ORCOTUNA","Hombre","00-04",{"$f":"'Pob x Genero'!CT1096","v":194},1088]
["120214","JUNIN","JUNIN","CONCEPCION","SAN JOSE DE QUERO","Hombre","00-04",{"$f":"'Pob x Genero'!CT1097","v":152},1089]
["120215","JUNIN","JUNIN","CONCEPCION","SANTA ROSA DE OCOPA","Hombre","00-04",{"$f":"'Pob x Genero'!CT1098","v":64},1090]
["120301","JUNIN","JUNIN","CHANCHAMAYO","CHANCHAMAYO","Hombre","00-04",{"$f":"'Pob x Genero'!CT1099","v":974},1091]
["120302","JUNIN","JUNIN","CHANCHAMAYO","PERENE","Hombre","00-04",{"$f":"'Pob x Genero'!CT1100","v":2561},1092]
["120303","JUNIN","JUNIN","CHANCHAMAYO","PICHANAKI","Hombre","00-04",{"$f":"'Pob x Genero'!CT1101","v":2123},1093]
["120304","JUNIN","JUNIN","CHANCHAMAYO","SAN LUIS DE SHUARO","Hombre","00-04",{"$f":"'Pob x Genero'!CT1102","v":189},1094]
["120305","JUNIN","JUNIN","CHANCHAMAYO","SAN RAMON","Hombre","00-04",{"$f":"'Pob x Genero'!CT1103","v":956},1095]
["120306","JUNIN","JUNIN","CHANCHAMAYO","VITOC","Hombre","00-04",{"$f":"'Pob x Genero'!CT1104","v":44},1096]
["120401","JUNIN","JUNIN","JAUJA","JAUJA","Hombre","00-04",{"$f":"'Pob x Genero'!CT1105","v":538},1097]
["120402","JUNIN","JUNIN","JAUJA","ACOLLA","Hombre","00-04",{"$f":"'Pob x Genero'!CT1106","v":172},1098]
["120403","JUNIN","JUNIN","JAUJA","APATA","Hombre","00-04",{"$f":"'Pob x Genero'!CT1107","v":194},1099]
["120404","JUNIN","JUNIN","JAUJA","ATAURA","Hombre","00-04",{"$f":"'Pob x Genero'!CT1108","v":19},1100]
["120405","JUNIN","JUNIN","JAUJA","CANCHAYLLO","Hombre","00-04",{"$f":"'Pob x Genero'!CT1109","v":41},1101]
["120406","JUNIN","JUNIN","JAUJA","CURICACA","Hombre","00-04",{"$f":"'Pob x Genero'!CT1110","v":55},1102]
["120407","JUNIN","JUNIN","JAUJA","EL MANTARO","Hombre","00-04",{"$f":"'Pob x Genero'!CT1111","v":80},1103]
["120408","JUNIN","JUNIN","JAUJA","HUAMALI","Hombre","00-04",{"$f":"'Pob x Genero'!CT1112","v":56},1104]
["120409","JUNIN","JUNIN","JAUJA","HUARIPAMPA","Hombre","00-04",{"$f":"'Pob x Genero'!CT1113","v":20},1105]
["120410","JUNIN","JUNIN","JAUJA","HUERTAS","Hombre","00-04",{"$f":"'Pob x Genero'!CT1114","v":57},1106]
["120411","JUNIN","JUNIN","JAUJA","JANJAILLO","Hombre","00-04",{"$f":"'Pob x Genero'!CT1115","v":7},1107]
["120412","JUNIN","JUNIN","JAUJA","JULCAN","Hombre","00-04",{"$f":"'Pob x Genero'!CT1116","v":18},1108]
["120413","JUNIN","JUNIN","JAUJA","LEONOR ORDOÑEZ","Hombre","00-04",{"$f":"'Pob x Genero'!CT1117","v":32},1109]
["120414","JUNIN","JUNIN","JAUJA","LLOCLLAPAMPA","Hombre","00-04",{"$f":"'Pob x Genero'!CT1118","v":35},1110]
["120415","JUNIN","JUNIN","JAUJA","MARCO","Hombre","00-04",{"$f":"'Pob x Genero'!CT1119","v":33},1111]
["120416","JUNIN","JUNIN","JAUJA","MASMA","Hombre","00-04",{"$f":"'Pob x Genero'!CT1120","v":67},1112]
["120417","JUNIN","JUNIN","JAUJA","MASMA CHICCHE","Hombre","00-04",{"$f":"'Pob x Genero'!CT1121","v":26},1113]
["120418","JUNIN","JUNIN","JAUJA","MOLINOS","Hombre","00-04",{"$f":"'Pob x Genero'!CT1122","v":51},1114]
["120419","JUNIN","JUNIN","JAUJA","MONOBAMBA","Hombre","00-04",{"$f":"'Pob x Genero'!CT1123","v":46},1115]
["120420","JUNIN","JUNIN","JAUJA","MUQUI","Hombre","00-04",{"$f":"'Pob x Genero'!CT1124","v":27},1116]
["120421","JUNIN","JUNIN","JAUJA","MUQUIYAUYO","Hombre","00-04",{"$f":"'Pob x Genero'!CT1125","v":67},1117]
["120422","JUNIN","JUNIN","JAUJA","PACA","Hombre","00-04",{"$f":"'Pob x Genero'!CT1126","v":19},1118]
["120423","JUNIN","JUNIN","JAUJA","PACCHA","Hombre","00-04",{"$f":"'Pob x Genero'!CT1127","v":38},1119]
["120424","JUNIN","JUNIN","JAUJA","PANCAN","Hombre","00-04",{"$f":"'Pob x Genero'!CT1128","v":46},1120]
["120425","JUNIN","JUNIN","JAUJA","PARCO","Hombre","00-04",{"$f":"'Pob x Genero'!CT1129","v":32},1121]
["120426","JUNIN","JUNIN","JAUJA","POMACANCHA","Hombre","00-04",{"$f":"'Pob x Genero'!CT1130","v":40},1122]
["120427","JUNIN","JUNIN","JAUJA","RICRAN","Hombre","00-04",{"$f":"'Pob x Genero'!CT1131","v":29},1123]
["120428","JUNIN","JUNIN","JAUJA","SAN LORENZO","Hombre","00-04",{"$f":"'Pob x Genero'!CT1132","v":88},1124]
["120429","JUNIN","JUNIN","JAUJA","SAN PEDRO DE CHUNAN","Hombre","00-04",{"$f":"'Pob x Genero'!CT1133","v":15},1125]
["120430","JUNIN","JUNIN","JAUJA","SAUSA","Hombre","00-04",{"$f":"'Pob x Genero'!CT1134","v":109},1126]
["120431","JUNIN","JUNIN","JAUJA","SINCOS","Hombre","00-04",{"$f":"'Pob x Genero'!CT1135","v":109},1127]
["120432","JUNIN","JUNIN","JAUJA","TUNAN MARCA","Hombre","00-04",{"$f":"'Pob x Genero'!CT1136","v":23},1128]
["120433","JUNIN","JUNIN","JAUJA","YAULI","Hombre","00-04",{"$f":"'Pob x Genero'!CT1137","v":36},1129]
["120434","JUNIN","JUNIN","JAUJA","YAUYOS","Hombre","00-04",{"$f":"'Pob x Genero'!CT1138","v":284},1130]
["120501","JUNIN","JUNIN","JUNIN","JUNIN","Hombre","00-04",{"$f":"'Pob x Genero'!CT1139","v":315},1131]
["120502","JUNIN","JUNIN","JUNIN","CARHUAMAYO","Hombre","00-04",{"$f":"'Pob x Genero'!CT1140","v":219},1132]
["120503","JUNIN","JUNIN","JUNIN","ONDORES","Hombre","00-04",{"$f":"'Pob x Genero'!CT1141","v":24},1133]
["120504","JUNIN","JUNIN","JUNIN","ULCUMAYO","Hombre","00-04",{"$f":"'Pob x Genero'!CT1142","v":184},1134]
["120601","JUNIN","JUNIN","SATIPO","SATIPO","Hombre","00-04",{"$f":"'Pob x Genero'!CT1143","v":1774},1135]
["120602","JUNIN","JUNIN","SATIPO","COVIRIALI","Hombre","00-04",{"$f":"'Pob x Genero'!CT1144","v":166},1136]
["120603","JUNIN","JUNIN","SATIPO","LLAYLLA","Hombre","00-04",{"$f":"'Pob x Genero'!CT1145","v":186},1137]
["120604","JUNIN","JUNIN","SATIPO","MAZAMARI","Hombre","00-04",{"$f":"'Pob x Genero'!CT1146","v":1259},1138]
["120605","JUNIN","JUNIN","SATIPO","PAMPA HERMOSA","Hombre","00-04",{"$f":"'Pob x Genero'!CT1147","v":153},1139]
["120606","JUNIN","JUNIN","SATIPO","PANGOA","Hombre","00-04",{"$f":"'Pob x Genero'!CT1148","v":3829},1140]
["120607","JUNIN","JUNIN","SATIPO","RIO NEGRO","Hombre","00-04",{"$f":"'Pob x Genero'!CT1149","v":1116},1141]
["120608","JUNIN","JUNIN","SATIPO","RIO TAMBO","Hombre","00-04",{"$f":"'Pob x Genero'!CT1150","v":2741},1142]
["120609","JUNIN","JUNIN","SATIPO","VIZCATAN DEL ENE","Hombre","00-04",{"$f":"'Pob x Genero'!CT1151","v":297},1143]
["120701","JUNIN","JUNIN","TARMA","TARMA","Hombre","00-04",{"$f":"'Pob x Genero'!CT1152","v":1557},1144]
["120702","JUNIN","JUNIN","TARMA","ACOBAMBA","Hombre","00-04",{"$f":"'Pob x Genero'!CT1153","v":299},1145]
["120703","JUNIN","JUNIN","TARMA","HUARICOLCA","Hombre","00-04",{"$f":"'Pob x Genero'!CT1154","v":49},1146]
["120704","JUNIN","JUNIN","TARMA","HUASAHUASI","Hombre","00-04",{"$f":"'Pob x Genero'!CT1155","v":391},1147]
["120705","JUNIN","JUNIN","TARMA","LA UNION","Hombre","00-04",{"$f":"'Pob x Genero'!CT1156","v":134},1148]
["120706","JUNIN","JUNIN","TARMA","PALCA","Hombre","00-04",{"$f":"'Pob x Genero'!CT1157","v":279},1149]
["120707","JUNIN","JUNIN","TARMA","PALCAMAYO","Hombre","00-04",{"$f":"'Pob x Genero'!CT1158","v":119},1150]
["120708","JUNIN","JUNIN","TARMA","SAN PEDRO DE CAJAS","Hombre","00-04",{"$f":"'Pob x Genero'!CT1159","v":64},1151]
["120709","JUNIN","JUNIN","TARMA","TAPO","Hombre","00-04",{"$f":"'Pob x Genero'!CT1160","v":158},1152]
["120801","JUNIN","JUNIN","YAULI","LA OROYA","Hombre","00-04",{"$f":"'Pob x Genero'!CT1161","v":331},1153]
["120802","JUNIN","JUNIN","YAULI","CHACAPALPA","Hombre","00-04",{"$f":"'Pob x Genero'!CT1162","v":23},1154]
["120803","JUNIN","JUNIN","YAULI","HUAY-HUAY","Hombre","00-04",{"$f":"'Pob x Genero'!CT1163","v":49},1155]
["120804","JUNIN","JUNIN","YAULI","MARCAPOMACOCHA","Hombre","00-04",{"$f":"'Pob x Genero'!CT1164","v":28},1156]
["120805","JUNIN","JUNIN","YAULI","MOROCOCHA","Hombre","00-04",{"$f":"'Pob x Genero'!CT1165","v":58},1157]
["120806","JUNIN","JUNIN","YAULI","PACCHA","Hombre","00-04",{"$f":"'Pob x Genero'!CT1166","v":38},1158]
["120807","JUNIN","JUNIN","YAULI","SANTA BARBARA DE CARHUACAYAN","Hombre","00-04",{"$f":"'Pob x Genero'!CT1167","v":26},1159]
["120808","JUNIN","JUNIN","YAULI","SANTA ROSA DE SACCO","Hombre","00-04",{"$f":"'Pob x Genero'!CT1168","v":220},1160]
["120809","JUNIN","JUNIN","YAULI","SUITUCANCHA","Hombre","00-04",{"$f":"'Pob x Genero'!CT1169","v":40},1161]
["120810","JUNIN","JUNIN","YAULI","YAULI","Hombre","00-04",{"$f":"'Pob x Genero'!CT1170","v":77},1162]
["120901","JUNIN","JUNIN","CHUPACA","CHUPACA","Hombre","00-04",{"$f":"'Pob x Genero'!CT1171","v":1104},1163]
["120902","JUNIN","JUNIN","CHUPACA","AHUAC","Hombre","00-04",{"$f":"'Pob x Genero'!CT1172","v":252},1164]
["120903","JUNIN","JUNIN","CHUPACA","CHONGOS BAJO","Hombre","00-04",{"$f":"'Pob x Genero'!CT1173","v":144},1165]
["120904","JUNIN","JUNIN","CHUPACA","HUACHAC","Hombre","00-04",{"$f":"'Pob x Genero'!CT1174","v":110},1166]
["120905","JUNIN","JUNIN","CHUPACA","HUAMANCACA CHICO","Hombre","00-04",{"$f":"'Pob x Genero'!CT1175","v":316},1167]
["120906","JUNIN","JUNIN","CHUPACA","SAN JUAN DE ISCOS","Hombre","00-04",{"$f":"'Pob x Genero'!CT1176","v":76},1168]
["120907","JUNIN","JUNIN","CHUPACA","SAN JUAN DE JARPA","Hombre","00-04",{"$f":"'Pob x Genero'!CT1177","v":78},1169]
["120908","JUNIN","JUNIN","CHUPACA","TRES DE DICIEMBRE","Hombre","00-04",{"$f":"'Pob x Genero'!CT1178","v":149},1170]
["120909","JUNIN","JUNIN","CHUPACA","YANACANCHA","Hombre","00-04",{"$f":"'Pob x Genero'!CT1179","v":61},1171]
["130101","LA LIBERTAD","LA LIBERTAD","TRUJILLO","TRUJILLO","Hombre","00-04",{"$f":"'Pob x Genero'!CT1180","v":9314},1172]
["130102","LA LIBERTAD","LA LIBERTAD","TRUJILLO","EL PORVENIR","Hombre","00-04",{"$f":"'Pob x Genero'!CT1181","v":5785},1173]
["130103","LA LIBERTAD","LA LIBERTAD","TRUJILLO","FLORENCIA DE MORA","Hombre","00-04",{"$f":"'Pob x Genero'!CT1182","v":2397},1174]
["130104","LA LIBERTAD","LA LIBERTAD","TRUJILLO","HUANCHACO","Hombre","00-04",{"$f":"'Pob x Genero'!CT1183","v":3356},1175]
["130105","LA LIBERTAD","LA LIBERTAD","TRUJILLO","LA ESPERANZA","Hombre","00-04",{"$f":"'Pob x Genero'!CT1184","v":6862},1176]
["130106","LA LIBERTAD","LA LIBERTAD","TRUJILLO","LAREDO","Hombre","00-04",{"$f":"'Pob x Genero'!CT1185","v":1500},1177]
["130107","LA LIBERTAD","LA LIBERTAD","TRUJILLO","MOCHE","Hombre","00-04",{"$f":"'Pob x Genero'!CT1186","v":1648},1178]
["130108","LA LIBERTAD","LA LIBERTAD","TRUJILLO","POROTO","Hombre","00-04",{"$f":"'Pob x Genero'!CT1187","v":138},1179]
["130109","LA LIBERTAD","LA LIBERTAD","TRUJILLO","SALAVERRY","Hombre","00-04",{"$f":"'Pob x Genero'!CT1188","v":910},1180]
["130110","LA LIBERTAD","LA LIBERTAD","TRUJILLO","SIMBAL","Hombre","00-04",{"$f":"'Pob x Genero'!CT1189","v":168},1181]
["130111","LA LIBERTAD","LA LIBERTAD","TRUJILLO","VICTOR LARCO HERRERA","Hombre","00-04",{"$f":"'Pob x Genero'!CT1190","v":2106},1182]
["130112","LA LIBERTAD","LA LIBERTAD","TRUJILLO","ALTO TRUJILLO","Hombre","00-04",{"$f":"'Pob x Genero'!CT1191","v":1193},1183]
["130201","LA LIBERTAD","LA LIBERTAD","ASCOPE","ASCOPE","Hombre","00-04",{"$f":"'Pob x Genero'!CT1192","v":200},1184]
["130202","LA LIBERTAD","LA LIBERTAD","ASCOPE","CHICAMA","Hombre","00-04",{"$f":"'Pob x Genero'!CT1193","v":522},1185]
["130203","LA LIBERTAD","LA LIBERTAD","ASCOPE","CHOCOPE","Hombre","00-04",{"$f":"'Pob x Genero'!CT1194","v":279},1186]
["130204","LA LIBERTAD","LA LIBERTAD","ASCOPE","MAGDALENA DE CAO","Hombre","00-04",{"$f":"'Pob x Genero'!CT1195","v":62},1187]
["130205","LA LIBERTAD","LA LIBERTAD","ASCOPE","PAIJAN","Hombre","00-04",{"$f":"'Pob x Genero'!CT1196","v":1063},1188]
["130206","LA LIBERTAD","LA LIBERTAD","ASCOPE","RAZURI","Hombre","00-04",{"$f":"'Pob x Genero'!CT1197","v":318},1189]
["130207","LA LIBERTAD","LA LIBERTAD","ASCOPE","SANTIAGO DE CAO","Hombre","00-04",{"$f":"'Pob x Genero'!CT1198","v":482},1190]
["130208","LA LIBERTAD","LA LIBERTAD","ASCOPE","CASA GRANDE","Hombre","00-04",{"$f":"'Pob x Genero'!CT1199","v":840},1191]
["130301","LA LIBERTAD","LA LIBERTAD","BOLIVAR","BOLIVAR","Hombre","00-04",{"$f":"'Pob x Genero'!CT1200","v":241},1192]
["130302","LA LIBERTAD","LA LIBERTAD","BOLIVAR","BAMBAMARCA","Hombre","00-04",{"$f":"'Pob x Genero'!CT1201","v":254},1193]
["130303","LA LIBERTAD","LA LIBERTAD","BOLIVAR","CONDORMARCA","Hombre","00-04",{"$f":"'Pob x Genero'!CT1202","v":98},1194]
["130304","LA LIBERTAD","LA LIBERTAD","BOLIVAR","LONGOTEA","Hombre","00-04",{"$f":"'Pob x Genero'!CT1203","v":100},1195]
["130305","LA LIBERTAD","LA LIBERTAD","BOLIVAR","UCHUMARCA","Hombre","00-04",{"$f":"'Pob x Genero'!CT1204","v":93},1196]
["130306","LA LIBERTAD","LA LIBERTAD","BOLIVAR","UCUNCHA","Hombre","00-04",{"$f":"'Pob x Genero'!CT1205","v":54},1197]
["130401","LA LIBERTAD","LA LIBERTAD","CHEPEN","CHEPEN","Hombre","00-04",{"$f":"'Pob x Genero'!CT1206","v":1754},1198]
["130402","LA LIBERTAD","LA LIBERTAD","CHEPEN","PACANGA","Hombre","00-04",{"$f":"'Pob x Genero'!CT1207","v":950},1199]
["130403","LA LIBERTAD","LA LIBERTAD","CHEPEN","PUEBLO NUEVO","Hombre","00-04",{"$f":"'Pob x Genero'!CT1208","v":446},1200]
["130501","LA LIBERTAD","LA LIBERTAD","JULCAN","JULCAN","Hombre","00-04",{"$f":"'Pob x Genero'!CT1209","v":546},1201]
["130502","LA LIBERTAD","LA LIBERTAD","JULCAN","CALAMARCA","Hombre","00-04",{"$f":"'Pob x Genero'!CT1210","v":256},1202]
["130503","LA LIBERTAD","LA LIBERTAD","JULCAN","CARABAMBA","Hombre","00-04",{"$f":"'Pob x Genero'!CT1211","v":306},1203]
["130504","LA LIBERTAD","LA LIBERTAD","JULCAN","HUASO","Hombre","00-04",{"$f":"'Pob x Genero'!CT1212","v":322},1204]
["130601","LA LIBERTAD","LA LIBERTAD","OTUZCO","OTUZCO","Hombre","00-04",{"$f":"'Pob x Genero'!CT1213","v":988},1205]
["130602","LA LIBERTAD","LA LIBERTAD","OTUZCO","AGALLPAMPA","Hombre","00-04",{"$f":"'Pob x Genero'!CT1214","v":381},1206]
["130604","LA LIBERTAD","LA LIBERTAD","OTUZCO","CHARAT","Hombre","00-04",{"$f":"'Pob x Genero'!CT1215","v":55},1207]
["130605","LA LIBERTAD","LA LIBERTAD","OTUZCO","HUARANCHAL","Hombre","00-04",{"$f":"'Pob x Genero'!CT1216","v":187},1208]
["130606","LA LIBERTAD","LA LIBERTAD","OTUZCO","LA CUESTA","Hombre","00-04",{"$f":"'Pob x Genero'!CT1217","v":15},1209]
["130608","LA LIBERTAD","LA LIBERTAD","OTUZCO","MACHE","Hombre","00-04",{"$f":"'Pob x Genero'!CT1218","v":101},1210]
["130610","LA LIBERTAD","LA LIBERTAD","OTUZCO","PARANDAY","Hombre","00-04",{"$f":"'Pob x Genero'!CT1219","v":14},1211]
["130611","LA LIBERTAD","LA LIBERTAD","OTUZCO","SALPO","Hombre","00-04",{"$f":"'Pob x Genero'!CT1220","v":199},1212]
["130613","LA LIBERTAD","LA LIBERTAD","OTUZCO","SINSICAP","Hombre","00-04",{"$f":"'Pob x Genero'!CT1221","v":342},1213]
["130614","LA LIBERTAD","LA LIBERTAD","OTUZCO","USQUIL","Hombre","00-04",{"$f":"'Pob x Genero'!CT1222","v":1196},1214]
["130701","LA LIBERTAD","LA LIBERTAD","PACASMAYO","SAN PEDRO DE LLOC","Hombre","00-04",{"$f":"'Pob x Genero'!CT1223","v":571},1215]
["130702","LA LIBERTAD","LA LIBERTAD","PACASMAYO","GUADALUPE","Hombre","00-04",{"$f":"'Pob x Genero'!CT1224","v":1297},1216]
["130703","LA LIBERTAD","LA LIBERTAD","PACASMAYO","JEQUETEPEQUE","Hombre","00-04",{"$f":"'Pob x Genero'!CT1225","v":131},1217]
["130704","LA LIBERTAD","LA LIBERTAD","PACASMAYO","PACASMAYO","Hombre","00-04",{"$f":"'Pob x Genero'!CT1226","v":968},1218]
["130705","LA LIBERTAD","LA LIBERTAD","PACASMAYO","SAN JOSE","Hombre","00-04",{"$f":"'Pob x Genero'!CT1227","v":414},1219]
["130801","LA LIBERTAD","LA LIBERTAD","PATAZ","TAYABAMBA","Hombre","00-04",{"$f":"'Pob x Genero'!CT1228","v":807},1220]
["130802","LA LIBERTAD","LA LIBERTAD","PATAZ","BULDIBUYO","Hombre","00-04",{"$f":"'Pob x Genero'!CT1229","v":181},1221]
["130803","LA LIBERTAD","LA LIBERTAD","PATAZ","CHILLIA","Hombre","00-04",{"$f":"'Pob x Genero'!CT1230","v":811},1222]
["130804","LA LIBERTAD","LA LIBERTAD","PATAZ","HUANCASPATA","Hombre","00-04",{"$f":"'Pob x Genero'!CT1231","v":309},1223]
["130805","LA LIBERTAD","LA LIBERTAD","PATAZ","HUAYLILLAS","Hombre","00-04",{"$f":"'Pob x Genero'!CT1232","v":37},1224]
["130806","LA LIBERTAD","LA LIBERTAD","PATAZ","HUAYO","Hombre","00-04",{"$f":"'Pob x Genero'!CT1233","v":124},1225]
["130807","LA LIBERTAD","LA LIBERTAD","PATAZ","ONGON","Hombre","00-04",{"$f":"'Pob x Genero'!CT1234","v":51},1226]
["130808","LA LIBERTAD","LA LIBERTAD","PATAZ","PARCOY","Hombre","00-04",{"$f":"'Pob x Genero'!CT1235","v":1047},1227]
["130809","LA LIBERTAD","LA LIBERTAD","PATAZ","PATAZ","Hombre","00-04",{"$f":"'Pob x Genero'!CT1236","v":607},1228]
["130810","LA LIBERTAD","LA LIBERTAD","PATAZ","PIAS","Hombre","00-04",{"$f":"'Pob x Genero'!CT1237","v":75},1229]
["130811","LA LIBERTAD","LA LIBERTAD","PATAZ","SANTIAGO DE CHALLAS","Hombre","00-04",{"$f":"'Pob x Genero'!CT1238","v":94},1230]
["130812","LA LIBERTAD","LA LIBERTAD","PATAZ","TAURIJA","Hombre","00-04",{"$f":"'Pob x Genero'!CT1239","v":120},1231]
["130813","LA LIBERTAD","LA LIBERTAD","PATAZ","URPAY","Hombre","00-04",{"$f":"'Pob x Genero'!CT1240","v":130},1232]
["130901","LA LIBERTAD","LA LIBERTAD","SANCHEZ CARRION","HUAMACHUCO","Hombre","00-04",{"$f":"'Pob x Genero'!CT1241","v":4005},1233]
["130902","LA LIBERTAD","LA LIBERTAD","SANCHEZ CARRION","CHUGAY","Hombre","00-04",{"$f":"'Pob x Genero'!CT1242","v":1108},1234]
["130903","LA LIBERTAD","LA LIBERTAD","SANCHEZ CARRION","COCHORCO","Hombre","00-04",{"$f":"'Pob x Genero'!CT1243","v":704},1235]
["130904","LA LIBERTAD","LA LIBERTAD","SANCHEZ CARRION","CURGOS","Hombre","00-04",{"$f":"'Pob x Genero'!CT1244","v":483},1236]
["130905","LA LIBERTAD","LA LIBERTAD","SANCHEZ CARRION","MARCABAL","Hombre","00-04",{"$f":"'Pob x Genero'!CT1245","v":667},1237]
["130906","LA LIBERTAD","LA LIBERTAD","SANCHEZ CARRION","SANAGORAN","Hombre","00-04",{"$f":"'Pob x Genero'!CT1246","v":865},1238]
["130907","LA LIBERTAD","LA LIBERTAD","SANCHEZ CARRION","SARIN","Hombre","00-04",{"$f":"'Pob x Genero'!CT1247","v":618},1239]
["130908","LA LIBERTAD","LA LIBERTAD","SANCHEZ CARRION","SARTIMBAMBA","Hombre","00-04",{"$f":"'Pob x Genero'!CT1248","v":840},1240]
["131001","LA LIBERTAD","LA LIBERTAD","SANTIAGO DE CHUCO","SANTIAGO DE CHUCO","Hombre","00-04",{"$f":"'Pob x Genero'!CT1249","v":1047},1241]
["131002","LA LIBERTAD","LA LIBERTAD","SANTIAGO DE CHUCO","ANGASMARCA","Hombre","00-04",{"$f":"'Pob x Genero'!CT1250","v":221},1242]
["131003","LA LIBERTAD","LA LIBERTAD","SANTIAGO DE CHUCO","CACHICADAN","Hombre","00-04",{"$f":"'Pob x Genero'!CT1251","v":239},1243]
["131004","LA LIBERTAD","LA LIBERTAD","SANTIAGO DE CHUCO","MOLLEBAMBA","Hombre","00-04",{"$f":"'Pob x Genero'!CT1252","v":52},1244]
["131005","LA LIBERTAD","LA LIBERTAD","SANTIAGO DE CHUCO","MOLLEPATA","Hombre","00-04",{"$f":"'Pob x Genero'!CT1253","v":99},1245]
["131006","LA LIBERTAD","LA LIBERTAD","SANTIAGO DE CHUCO","QUIRUVILCA","Hombre","00-04",{"$f":"'Pob x Genero'!CT1254","v":514},1246]
["131007","LA LIBERTAD","LA LIBERTAD","SANTIAGO DE CHUCO","SANTA CRUZ DE CHUCA","Hombre","00-04",{"$f":"'Pob x Genero'!CT1255","v":111},1247]
["131008","LA LIBERTAD","LA LIBERTAD","SANTIAGO DE CHUCO","SITABAMBA","Hombre","00-04",{"$f":"'Pob x Genero'!CT1256","v":200},1248]
["131101","LA LIBERTAD","LA LIBERTAD","GRAN CHIMU","CASCAS","Hombre","00-04",{"$f":"'Pob x Genero'!CT1257","v":421},1249]
["131102","LA LIBERTAD","LA LIBERTAD","GRAN CHIMU","LUCMA","Hombre","00-04",{"$f":"'Pob x Genero'!CT1258","v":175},1250]
["131103","LA LIBERTAD","LA LIBERTAD","GRAN CHIMU","MARMOT","Hombre","00-04",{"$f":"'Pob x Genero'!CT1259","v":77},1251]
["131104","LA LIBERTAD","LA LIBERTAD","GRAN CHIMU","SAYAPULLO","Hombre","00-04",{"$f":"'Pob x Genero'!CT1260","v":351},1252]
["131201","LA LIBERTAD","LA LIBERTAD","VIRU","VIRU","Hombre","00-04",{"$f":"'Pob x Genero'!CT1261","v":2961},1253]
["131202","LA LIBERTAD","LA LIBERTAD","VIRU","CHAO","Hombre","00-04",{"$f":"'Pob x Genero'!CT1262","v":2922},1254]
["131203","LA LIBERTAD","LA LIBERTAD","VIRU","GUADALUPITO","Hombre","00-04",{"$f":"'Pob x Genero'!CT1263","v":276},1255]
["140101","LAMBAYEQUE","LAMBAYEQUE","CHICLAYO","CHICLAYO","Hombre","00-04",{"$f":"'Pob x Genero'!CT1264","v":9015},1256]
["140102","LAMBAYEQUE","LAMBAYEQUE","CHICLAYO","CHONGOYAPE","Hombre","00-04",{"$f":"'Pob x Genero'!CT1265","v":561},1257]
["140103","LAMBAYEQUE","LAMBAYEQUE","CHICLAYO","ETEN","Hombre","00-04",{"$f":"'Pob x Genero'!CT1266","v":482},1258]
["140104","LAMBAYEQUE","LAMBAYEQUE","CHICLAYO","ETEN PUERTO","Hombre","00-04",{"$f":"'Pob x Genero'!CT1267","v":58},1259]
["140105","LAMBAYEQUE","LAMBAYEQUE","CHICLAYO","JOSE LEONARDO ORTIZ","Hombre","00-04",{"$f":"'Pob x Genero'!CT1268","v":6587},1260]
["140106","LAMBAYEQUE","LAMBAYEQUE","CHICLAYO","LA VICTORIA","Hombre","00-04",{"$f":"'Pob x Genero'!CT1269","v":3418},1261]
["140107","LAMBAYEQUE","LAMBAYEQUE","CHICLAYO","LAGUNAS","Hombre","00-04",{"$f":"'Pob x Genero'!CT1270","v":463},1262]
["140108","LAMBAYEQUE","LAMBAYEQUE","CHICLAYO","MONSEFU","Hombre","00-04",{"$f":"'Pob x Genero'!CT1271","v":1577},1263]
["140109","LAMBAYEQUE","LAMBAYEQUE","CHICLAYO","NUEVA ARICA","Hombre","00-04",{"$f":"'Pob x Genero'!CT1272","v":109},1264]
["140110","LAMBAYEQUE","LAMBAYEQUE","CHICLAYO","OYOTUN","Hombre","00-04",{"$f":"'Pob x Genero'!CT1273","v":253},1265]
["140111","LAMBAYEQUE","LAMBAYEQUE","CHICLAYO","PICSI","Hombre","00-04",{"$f":"'Pob x Genero'!CT1274","v":277},1266]
["140112","LAMBAYEQUE","LAMBAYEQUE","CHICLAYO","PIMENTEL","Hombre","00-04",{"$f":"'Pob x Genero'!CT1275","v":1395},1267]
["140113","LAMBAYEQUE","LAMBAYEQUE","CHICLAYO","REQUE","Hombre","00-04",{"$f":"'Pob x Genero'!CT1276","v":663},1268]
["140114","LAMBAYEQUE","LAMBAYEQUE","CHICLAYO","SANTA ROSA","Hombre","00-04",{"$f":"'Pob x Genero'!CT1277","v":529},1269]
["140115","LAMBAYEQUE","LAMBAYEQUE","CHICLAYO","SAÑA","Hombre","00-04",{"$f":"'Pob x Genero'!CT1278","v":411},1270]
["140116","LAMBAYEQUE","LAMBAYEQUE","CHICLAYO","CAYALTI","Hombre","00-04",{"$f":"'Pob x Genero'!CT1279","v":593},1271]
["140117","LAMBAYEQUE","LAMBAYEQUE","CHICLAYO","PATAPO","Hombre","00-04",{"$f":"'Pob x Genero'!CT1280","v":756},1272]
["140118","LAMBAYEQUE","LAMBAYEQUE","CHICLAYO","POMALCA","Hombre","00-04",{"$f":"'Pob x Genero'!CT1281","v":938},1273]
["140119","LAMBAYEQUE","LAMBAYEQUE","CHICLAYO","PUCALA","Hombre","00-04",{"$f":"'Pob x Genero'!CT1282","v":212},1274]
["140120","LAMBAYEQUE","LAMBAYEQUE","CHICLAYO","TUMAN","Hombre","00-04",{"$f":"'Pob x Genero'!CT1283","v":957},1275]
["140201","LAMBAYEQUE","LAMBAYEQUE","FERREÑAFE","FERREÑAFE","Hombre","00-04",{"$f":"'Pob x Genero'!CT1284","v":1175},1276]
["140202","LAMBAYEQUE","LAMBAYEQUE","FERREÑAFE","CAÑARIS","Hombre","00-04",{"$f":"'Pob x Genero'!CT1285","v":853},1277]
["140203","LAMBAYEQUE","LAMBAYEQUE","FERREÑAFE","INCAHUASI","Hombre","00-04",{"$f":"'Pob x Genero'!CT1286","v":904},1278]
["140204","LAMBAYEQUE","LAMBAYEQUE","FERREÑAFE","MANUEL ANTONIO MESONES MURO","Hombre","00-04",{"$f":"'Pob x Genero'!CT1287","v":201},1279]
["140205","LAMBAYEQUE","LAMBAYEQUE","FERREÑAFE","PITIPO","Hombre","00-04",{"$f":"'Pob x Genero'!CT1288","v":1004},1280]
["140206","LAMBAYEQUE","LAMBAYEQUE","FERREÑAFE","PUEBLO NUEVO","Hombre","00-04",{"$f":"'Pob x Genero'!CT1289","v":633},1281]
["140301","LAMBAYEQUE","LAMBAYEQUE","LAMBAYEQUE","LAMBAYEQUE","Hombre","00-04",{"$f":"'Pob x Genero'!CT1290","v":3101},1282]
["140302","LAMBAYEQUE","LAMBAYEQUE","LAMBAYEQUE","CHOCHOPE","Hombre","00-04",{"$f":"'Pob x Genero'!CT1291","v":89},1283]
["140303","LAMBAYEQUE","LAMBAYEQUE","LAMBAYEQUE","ILLIMO","Hombre","00-04",{"$f":"'Pob x Genero'!CT1292","v":530},1284]
["140304","LAMBAYEQUE","LAMBAYEQUE","LAMBAYEQUE","JAYANCA","Hombre","00-04",{"$f":"'Pob x Genero'!CT1293","v":1109},1285]
["140305","LAMBAYEQUE","LAMBAYEQUE","LAMBAYEQUE","MOCHUMI","Hombre","00-04",{"$f":"'Pob x Genero'!CT1294","v":969},1286]
["140306","LAMBAYEQUE","LAMBAYEQUE","LAMBAYEQUE","MORROPE","Hombre","00-04",{"$f":"'Pob x Genero'!CT1295","v":3938},1287]
["140307","LAMBAYEQUE","LAMBAYEQUE","LAMBAYEQUE","MOTUPE","Hombre","00-04",{"$f":"'Pob x Genero'!CT1296","v":1718},1288]
["140308","LAMBAYEQUE","LAMBAYEQUE","LAMBAYEQUE","OLMOS","Hombre","00-04",{"$f":"'Pob x Genero'!CT1297","v":3035},1289]
["140309","LAMBAYEQUE","LAMBAYEQUE","LAMBAYEQUE","PACORA","Hombre","00-04",{"$f":"'Pob x Genero'!CT1298","v":383},1290]
["140310","LAMBAYEQUE","LAMBAYEQUE","LAMBAYEQUE","SALAS","Hombre","00-04",{"$f":"'Pob x Genero'!CT1299","v":618},1291]
["140311","LAMBAYEQUE","LAMBAYEQUE","LAMBAYEQUE","SAN JOSE","Hombre","00-04",{"$f":"'Pob x Genero'!CT1300","v":1061},1292]
["140312","LAMBAYEQUE","LAMBAYEQUE","LAMBAYEQUE","TUCUME","Hombre","00-04",{"$f":"'Pob x Genero'!CT1301","v":1101},1293]
["150101","DIRIS CENTRO","LIMA","LIMA","LIMA","Hombre","00-04",{"$f":"'Pob x Genero'!CT1302","v":9157},1294]
["150102","DIRIS NORTE","LIMA","LIMA","ANCON","Hombre","00-04",{"$f":"'Pob x Genero'!CT1303","v":2127},1295]
["150103","DIRIS ESTE","LIMA","LIMA","ATE","Hombre","00-04",{"$f":"'Pob x Genero'!CT1304","v":21212},1296]
["150104","DIRIS SUR","LIMA","LIMA","BARRANCO","Hombre","00-04",{"$f":"'Pob x Genero'!CT1305","v":871},1297]
["150105","DIRIS CENTRO","LIMA","LIMA","BREÑA","Hombre","00-04",{"$f":"'Pob x Genero'!CT1306","v":2525},1298]
["150106","DIRIS NORTE","LIMA","LIMA","CARABAYLLO","Hombre","00-04",{"$f":"'Pob x Genero'!CT1307","v":11302},1299]
["150107","DIRIS ESTE","LIMA","LIMA","CHACLACAYO","Hombre","00-04",{"$f":"'Pob x Genero'!CT1308","v":1185},1300]
["150108","DIRIS SUR","LIMA","LIMA","CHORRILLOS","Hombre","00-04",{"$f":"'Pob x Genero'!CT1309","v":9134},1301]
["150109","DIRIS ESTE","LIMA","LIMA","CIENEGUILLA","Hombre","00-04",{"$f":"'Pob x Genero'!CT1310","v":1423},1302]
["150110","DIRIS NORTE","LIMA","LIMA","COMAS","Hombre","00-04",{"$f":"'Pob x Genero'!CT1311","v":16543},1303]
["150111","DIRIS ESTE","LIMA","LIMA","EL AGUSTINO","Hombre","00-04",{"$f":"'Pob x Genero'!CT1312","v":7477},1304]
["150112","DIRIS NORTE","LIMA","LIMA","INDEPENDENCIA","Hombre","00-04",{"$f":"'Pob x Genero'!CT1313","v":6292},1305]
["150113","DIRIS CENTRO","LIMA","LIMA","JESUS MARIA","Hombre","00-04",{"$f":"'Pob x Genero'!CT1314","v":2685},1306]
["150114","DIRIS ESTE","LIMA","LIMA","LA MOLINA","Hombre","00-04",{"$f":"'Pob x Genero'!CT1315","v":3280},1307]
["150115","DIRIS CENTRO","LIMA","LIMA","LA VICTORIA","Hombre","00-04",{"$f":"'Pob x Genero'!CT1316","v":5820},1308]
["150116","DIRIS CENTRO","LIMA","LIMA","LINCE","Hombre","00-04",{"$f":"'Pob x Genero'!CT1317","v":1776},1309]
["150117","DIRIS NORTE","LIMA","LIMA","LOS OLIVOS","Hombre","00-04",{"$f":"'Pob x Genero'!CT1318","v":9918},1310]
["150118","DIRIS ESTE","LIMA","LIMA","LURIGANCHO","Hombre","00-04",{"$f":"'Pob x Genero'!CT1319","v":8008},1311]
["150119","DIRIS SUR","LIMA","LIMA","LURIN","Hombre","00-04",{"$f":"'Pob x Genero'!CT1320","v":3797},1312]
["150120","DIRIS CENTRO","LIMA","LIMA","MAGDALENA DEL MAR","Hombre","00-04",{"$f":"'Pob x Genero'!CT1321","v":1804},1313]
["150121","DIRIS CENTRO","LIMA","LIMA","PUEBLO LIBRE","Hombre","00-04",{"$f":"'Pob x Genero'!CT1322","v":1635},1314]
["150122","DIRIS CENTRO","LIMA","LIMA","MIRAFLORES","Hombre","00-04",{"$f":"'Pob x Genero'!CT1323","v":2561},1315]
["150123","DIRIS SUR","LIMA","LIMA","PACHACAMAC","Hombre","00-04",{"$f":"'Pob x Genero'!CT1324","v":4215},1316]
["150124","DIRIS SUR","LIMA","LIMA","PUCUSANA","Hombre","00-04",{"$f":"'Pob x Genero'!CT1325","v":728},1317]
["150125","DIRIS NORTE","LIMA","LIMA","PUENTE PIEDRA","Hombre","00-04",{"$f":"'Pob x Genero'!CT1326","v":12021},1318]
["150126","DIRIS SUR","LIMA","LIMA","PUNTA HERMOSA","Hombre","00-04",{"$f":"'Pob x Genero'!CT1327","v":345},1319]
["150127","DIRIS SUR","LIMA","LIMA","PUNTA NEGRA","Hombre","00-04",{"$f":"'Pob x Genero'!CT1328","v":233},1320]
["150128","DIRIS NORTE","LIMA","LIMA","RIMAC","Hombre","00-04",{"$f":"'Pob x Genero'!CT1329","v":4968},1321]
["150129","DIRIS SUR","LIMA","LIMA","SAN BARTOLO","Hombre","00-04",{"$f":"'Pob x Genero'!CT1330","v":268},1322]
["150130","DIRIS CENTRO","LIMA","LIMA","SAN BORJA","Hombre","00-04",{"$f":"'Pob x Genero'!CT1331","v":1977},1323]
["150131","DIRIS CENTRO","LIMA","LIMA","SAN ISIDRO","Hombre","00-04",{"$f":"'Pob x Genero'!CT1332","v":1380},1324]
["150132","DIRIS CENTRO","LIMA","LIMA","SAN JUAN DE LURIGANCHO","Hombre","00-04",{"$f":"'Pob x Genero'!CT1333","v":34326},1325]
["150133","DIRIS SUR","LIMA","LIMA","SAN JUAN DE MIRAFLORES","Hombre","00-04",{"$f":"'Pob x Genero'!CT1334","v":11719},1326]
["150134","DIRIS CENTRO","LIMA","LIMA","SAN LUIS","Hombre","00-04",{"$f":"'Pob x Genero'!CT1335","v":1645},1327]
["150135","DIRIS NORTE","LIMA","LIMA","SAN MARTIN DE PORRES","Hombre","00-04",{"$f":"'Pob x Genero'!CT1336","v":17488},1328]
["150136","DIRIS CENTRO","LIMA","LIMA","SAN MIGUEL","Hombre","00-04",{"$f":"'Pob x Genero'!CT1337","v":3557},1329]
["150137","DIRIS ESTE","LIMA","LIMA","SANTA ANITA","Hombre","00-04",{"$f":"'Pob x Genero'!CT1338","v":6946},1330]
["150138","DIRIS SUR","LIMA","LIMA","SANTA MARIA DEL MAR","Hombre","00-04",{"$f":"'Pob x Genero'!CT1339","v":35},1331]
["150139","DIRIS NORTE","LIMA","LIMA","SANTA ROSA","Hombre","00-04",{"$f":"'Pob x Genero'!CT1340","v":934},1332]
["150140","DIRIS SUR","LIMA","LIMA","SANTIAGO DE SURCO","Hombre","00-04",{"$f":"'Pob x Genero'!CT1341","v":7631},1333]
["150141","DIRIS CENTRO","LIMA","LIMA","SURQUILLO","Hombre","00-04",{"$f":"'Pob x Genero'!CT1342","v":2524},1334]
["150142","DIRIS SUR","LIMA","LIMA","VILLA EL SALVADOR","Hombre","00-04",{"$f":"'Pob x Genero'!CT1343","v":13303},1335]
["150143","DIRIS SUR","LIMA","LIMA","VILLA MARIA DEL TRIUNFO","Hombre","00-04",{"$f":"'Pob x Genero'!CT1344","v":13363},1336]
["150201","LIMA","LIMA","BARRANCA","BARRANCA","Hombre","00-04",{"$f":"'Pob x Genero'!CT1345","v":2567},1337]
["150202","LIMA","LIMA","BARRANCA","PARAMONGA","Hombre","00-04",{"$f":"'Pob x Genero'!CT1346","v":544},1338]
["150203","LIMA","LIMA","BARRANCA","PATIVILCA","Hombre","00-04",{"$f":"'Pob x Genero'!CT1347","v":584},1339]
["150204","LIMA","LIMA","BARRANCA","SUPE","Hombre","00-04",{"$f":"'Pob x Genero'!CT1348","v":1075},1340]
["150205","LIMA","LIMA","BARRANCA","SUPE PUERTO","Hombre","00-04",{"$f":"'Pob x Genero'!CT1349","v":421},1341]
["150301","LIMA","LIMA","CAJATAMBO","CAJATAMBO","Hombre","00-04",{"$f":"'Pob x Genero'!CT1350","v":137},1342]
["150302","LIMA","LIMA","CAJATAMBO","COPA","Hombre","00-04",{"$f":"'Pob x Genero'!CT1351","v":14},1343]
["150303","LIMA","LIMA","CAJATAMBO","GORGOR","Hombre","00-04",{"$f":"'Pob x Genero'!CT1352","v":67},1344]
["150304","LIMA","LIMA","CAJATAMBO","HUANCAPON","Hombre","00-04",{"$f":"'Pob x Genero'!CT1353","v":14},1345]
["150305","LIMA","LIMA","CAJATAMBO","MANAS","Hombre","00-04",{"$f":"'Pob x Genero'!CT1354","v":22},1346]
["150401","LIMA","LIMA","CANTA","CANTA","Hombre","00-04",{"$f":"'Pob x Genero'!CT1355","v":109},1347]
["150402","LIMA","LIMA","CANTA","ARAHUAY","Hombre","00-04",{"$f":"'Pob x Genero'!CT1356","v":12},1348]
["150403","LIMA","LIMA","CANTA","HUAMANTANGA","Hombre","00-04",{"$f":"'Pob x Genero'!CT1357","v":33},1349]
["150404","LIMA","LIMA","CANTA","HUAROS","Hombre","00-04",{"$f":"'Pob x Genero'!CT1358","v":26},1350]
["150405","LIMA","LIMA","CANTA","LACHAQUI","Hombre","00-04",{"$f":"'Pob x Genero'!CT1359","v":10},1351]
["150406","LIMA","LIMA","CANTA","SAN BUENAVENTURA","Hombre","00-04",{"$f":"'Pob x Genero'!CT1360","v":26},1352]
["150407","LIMA","LIMA","CANTA","SANTA ROSA DE QUIVES","Hombre","00-04",{"$f":"'Pob x Genero'!CT1361","v":285},1353]
["150501","LIMA","LIMA","CAÑETE","SAN VICENTE DE CAÑETE","Hombre","00-04",{"$f":"'Pob x Genero'!CT1362","v":1793},1354]
["150502","LIMA","LIMA","CAÑETE","ASIA","Hombre","00-04",{"$f":"'Pob x Genero'!CT1363","v":370},1355]
["150503","LIMA","LIMA","CAÑETE","CALANGO","Hombre","00-04",{"$f":"'Pob x Genero'!CT1364","v":45},1356]
["150504","LIMA","LIMA","CAÑETE","CERRO AZUL","Hombre","00-04",{"$f":"'Pob x Genero'!CT1365","v":326},1357]
["150505","LIMA","LIMA","CAÑETE","CHILCA","Hombre","00-04",{"$f":"'Pob x Genero'!CT1366","v":752},1358]
["150506","LIMA","LIMA","CAÑETE","COAYLLO","Hombre","00-04",{"$f":"'Pob x Genero'!CT1367","v":36},1359]
["150507","LIMA","LIMA","CAÑETE","IMPERIAL","Hombre","00-04",{"$f":"'Pob x Genero'!CT1368","v":1463},1360]
["150508","LIMA","LIMA","CAÑETE","LUNAHUANA","Hombre","00-04",{"$f":"'Pob x Genero'!CT1369","v":104},1361]
["150509","LIMA","LIMA","CAÑETE","MALA","Hombre","00-04",{"$f":"'Pob x Genero'!CT1370","v":1038},1362]
["150510","LIMA","LIMA","CAÑETE","NUEVO IMPERIAL","Hombre","00-04",{"$f":"'Pob x Genero'!CT1371","v":996},1363]
["150511","LIMA","LIMA","CAÑETE","PACARAN","Hombre","00-04",{"$f":"'Pob x Genero'!CT1372","v":78},1364]
["150512","LIMA","LIMA","CAÑETE","QUILMANA","Hombre","00-04",{"$f":"'Pob x Genero'!CT1373","v":682},1365]
["150513","LIMA","LIMA","CAÑETE","SAN ANTONIO","Hombre","00-04",{"$f":"'Pob x Genero'!CT1374","v":134},1366]
["150514","LIMA","LIMA","CAÑETE","SAN LUIS","Hombre","00-04",{"$f":"'Pob x Genero'!CT1375","v":535},1367]
["150515","LIMA","LIMA","CAÑETE","SANTA CRUZ DE FLORES","Hombre","00-04",{"$f":"'Pob x Genero'!CT1376","v":78},1368]
["150516","LIMA","LIMA","CAÑETE","ZUÑIGA","Hombre","00-04",{"$f":"'Pob x Genero'!CT1377","v":60},1369]
["150601","LIMA","LIMA","HUARAL","HUARAL","Hombre","00-04",{"$f":"'Pob x Genero'!CT1378","v":3525},1370]
["150602","LIMA","LIMA","HUARAL","ATAVILLOS ALTO","Hombre","00-04",{"$f":"'Pob x Genero'!CT1379","v":5},1371]
["150603","LIMA","LIMA","HUARAL","ATAVILLOS BAJO","Hombre","00-04",{"$f":"'Pob x Genero'!CT1380","v":7},1372]
["150604","LIMA","LIMA","HUARAL","AUCALLAMA","Hombre","00-04",{"$f":"'Pob x Genero'!CT1381","v":583},1373]
["150605","LIMA","LIMA","HUARAL","CHANCAY","Hombre","00-04",{"$f":"'Pob x Genero'!CT1382","v":2333},1374]
["150606","LIMA","LIMA","HUARAL","IHUARI","Hombre","00-04",{"$f":"'Pob x Genero'!CT1383","v":40},1375]
["150607","LIMA","LIMA","HUARAL","LAMPIAN","Hombre","00-04",{"$f":"'Pob x Genero'!CT1384","v":7},1376]
["150608","LIMA","LIMA","HUARAL","PACARAOS","Hombre","00-04",{"$f":"'Pob x Genero'!CT1385","v":16},1377]
["150609","LIMA","LIMA","HUARAL","SAN MIGUEL DE ACOS","Hombre","00-04",{"$f":"'Pob x Genero'!CT1386","v":13},1378]
["150610","LIMA","LIMA","HUARAL","SANTA CRUZ DE ANDAMARCA","Hombre","00-04",{"$f":"'Pob x Genero'!CT1387","v":14},1379]
["150611","LIMA","LIMA","HUARAL","SUMBILCA","Hombre","00-04",{"$f":"'Pob x Genero'!CT1388","v":14},1380]
["150612","LIMA","LIMA","HUARAL","VEINTISIETE DE NOVIEMBRE","Hombre","00-04",{"$f":"'Pob x Genero'!CT1389","v":9},1381]
["150701","LIMA","LIMA","HUAROCHIRI","MATUCANA","Hombre","00-04",{"$f":"'Pob x Genero'!CT1390","v":111},1382]
["150702","LIMA","LIMA","HUAROCHIRI","ANTIOQUIA","Hombre","00-04",{"$f":"'Pob x Genero'!CT1391","v":28},1383]
["150703","LIMA","LIMA","HUAROCHIRI","CALLAHUANCA","Hombre","00-04",{"$f":"'Pob x Genero'!CT1392","v":25},1384]
["150704","LIMA","LIMA","HUAROCHIRI","CARAMPOMA","Hombre","00-04",{"$f":"'Pob x Genero'!CT1393","v":3},1385]
["150705","LIMA","LIMA","HUAROCHIRI","CHICLA","Hombre","00-04",{"$f":"'Pob x Genero'!CT1394","v":72},1386]
["150706","LIMA","LIMA","HUAROCHIRI","CUENCA","Hombre","00-04",{"$f":"'Pob x Genero'!CT1395","v":20},1387]
["150707","LIMA","LIMA","HUAROCHIRI","HUACHUPAMPA","Hombre","00-04",{"$f":"'Pob x Genero'!CT1396","v":10},1388]
["150708","LIMA","LIMA","HUAROCHIRI","HUANZA","Hombre","00-04",{"$f":"'Pob x Genero'!CT1397","v":12},1389]
["150709","LIMA","LIMA","HUAROCHIRI","HUAROCHIRI","Hombre","00-04",{"$f":"'Pob x Genero'!CT1398","v":39},1390]
["150710","LIMA","LIMA","HUAROCHIRI","LAHUAYTAMBO","Hombre","00-04",{"$f":"'Pob x Genero'!CT1399","v":14},1391]
["150711","LIMA","LIMA","HUAROCHIRI","LANGA","Hombre","00-04",{"$f":"'Pob x Genero'!CT1400","v":23},1392]
["150712","LIMA","LIMA","HUAROCHIRI","LARAOS","Hombre","00-04",{"$f":"'Pob x Genero'!CT1401","v":4},1393]
["150713","LIMA","LIMA","HUAROCHIRI","MARIATANA","Hombre","00-04",{"$f":"'Pob x Genero'!CT1402","v":48},1394]
["150714","LIMA","LIMA","HUAROCHIRI","RICARDO PALMA","Hombre","00-04",{"$f":"'Pob x Genero'!CT1403","v":238},1395]
["150715","LIMA","LIMA","HUAROCHIRI","SAN ANDRES DE TUPICOCHA","Hombre","00-04",{"$f":"'Pob x Genero'!CT1404","v":44},1396]
["150716","LIMA","LIMA","HUAROCHIRI","SAN ANTONIO","Hombre","00-04",{"$f":"'Pob x Genero'!CT1405","v":1393},1397]
["150717","LIMA","LIMA","HUAROCHIRI","SAN BARTOLOME","Hombre","00-04",{"$f":"'Pob x Genero'!CT1406","v":28},1398]
["150718","LIMA","LIMA","HUAROCHIRI","SAN DAMIAN","Hombre","00-04",{"$f":"'Pob x Genero'!CT1407","v":44},1399]
["150719","LIMA","LIMA","HUAROCHIRI","SAN JUAN DE IRIS","Hombre","00-04",{"$f":"'Pob x Genero'!CT1408","v":6},1400]
["150720","LIMA","LIMA","HUAROCHIRI","SAN JUAN DE TANTARANCHE","Hombre","00-04",{"$f":"'Pob x Genero'!CT1409","v":9},1401]
["150721","LIMA","LIMA","HUAROCHIRI","SAN LORENZO DE QUINTI","Hombre","00-04",{"$f":"'Pob x Genero'!CT1410","v":21},1402]
["150722","LIMA","LIMA","HUAROCHIRI","SAN MATEO","Hombre","00-04",{"$f":"'Pob x Genero'!CT1411","v":145},1403]
["150723","LIMA","LIMA","HUAROCHIRI","SAN MATEO DE OTAO","Hombre","00-04",{"$f":"'Pob x Genero'!CT1412","v":29},1404]
["150724","LIMA","LIMA","HUAROCHIRI","SAN PEDRO DE CASTA","Hombre","00-04",{"$f":"'Pob x Genero'!CT1413","v":25},1405]
["150725","LIMA","LIMA","HUAROCHIRI","SAN PEDRO DE HUANCAYRE","Hombre","00-04",{"$f":"'Pob x Genero'!CT1414","v":5},1406]
["150726","LIMA","LIMA","HUAROCHIRI","SANGALLAYA","Hombre","00-04",{"$f":"'Pob x Genero'!CT1415","v":22},1407]
["150727","LIMA","LIMA","HUAROCHIRI","SANTA CRUZ DE COCACHACRA","Hombre","00-04",{"$f":"'Pob x Genero'!CT1416","v":81},1408]
["150728","LIMA","LIMA","HUAROCHIRI","SANTA EULALIA","Hombre","00-04",{"$f":"'Pob x Genero'!CT1417","v":373},1409]
["150729","LIMA","LIMA","HUAROCHIRI","SANTIAGO DE ANCHUCAYA","Hombre","00-04",{"$f":"'Pob x Genero'!CT1418","v":9},1410]
["150730","LIMA","LIMA","HUAROCHIRI","SANTIAGO DE TUNA","Hombre","00-04",{"$f":"'Pob x Genero'!CT1419","v":13},1411]
["150731","LIMA","LIMA","HUAROCHIRI","SANTO DOMINGO DE LOS OLLEROS","Hombre","00-04",{"$f":"'Pob x Genero'!CT1420","v":172},1412]
["150732","LIMA","LIMA","HUAROCHIRI","SURCO","Hombre","00-04",{"$f":"'Pob x Genero'!CT1421","v":37},1413]
["150801","LIMA","LIMA","HUAURA","HUACHO","Hombre","00-04",{"$f":"'Pob x Genero'!CT1422","v":1678},1414]
["150802","LIMA","LIMA","HUAURA","AMBAR","Hombre","00-04",{"$f":"'Pob x Genero'!CT1423","v":86},1415]
["150803","LIMA","LIMA","HUAURA","CALETA DE CARQUIN","Hombre","00-04",{"$f":"'Pob x Genero'!CT1424","v":220},1416]
["150804","LIMA","LIMA","HUAURA","CHECRAS","Hombre","00-04",{"$f":"'Pob x Genero'!CT1425","v":16},1417]
["150805","LIMA","LIMA","HUAURA","HUALMAY","Hombre","00-04",{"$f":"'Pob x Genero'!CT1426","v":884},1418]
["150806","LIMA","LIMA","HUAURA","HUAURA","Hombre","00-04",{"$f":"'Pob x Genero'!CT1427","v":1207},1419]
["150807","LIMA","LIMA","HUAURA","LEONCIO PRADO","Hombre","00-04",{"$f":"'Pob x Genero'!CT1428","v":83},1420]
["150808","LIMA","LIMA","HUAURA","PACCHO","Hombre","00-04",{"$f":"'Pob x Genero'!CT1429","v":28},1421]
["150809","LIMA","LIMA","HUAURA","SANTA LEONOR","Hombre","00-04",{"$f":"'Pob x Genero'!CT1430","v":29},1422]
["150810","LIMA","LIMA","HUAURA","SANTA MARIA","Hombre","00-04",{"$f":"'Pob x Genero'!CT1431","v":1546},1423]
["150811","LIMA","LIMA","HUAURA","SAYAN","Hombre","00-04",{"$f":"'Pob x Genero'!CT1432","v":979},1424]
["150812","LIMA","LIMA","HUAURA","VEGUETA","Hombre","00-04",{"$f":"'Pob x Genero'!CT1433","v":1244},1425]
["150901","LIMA","LIMA","OYON","OYON","Hombre","00-04",{"$f":"'Pob x Genero'!CT1434","v":254},1426]
["150902","LIMA","LIMA","OYON","ANDAJES","Hombre","00-04",{"$f":"'Pob x Genero'!CT1435","v":13},1427]
["150903","LIMA","LIMA","OYON","CAUJUL","Hombre","00-04",{"$f":"'Pob x Genero'!CT1436","v":21},1428]
["150904","LIMA","LIMA","OYON","COCHAMARCA","Hombre","00-04",{"$f":"'Pob x Genero'!CT1437","v":37},1429]
["150905","LIMA","LIMA","OYON","NAVAN","Hombre","00-04",{"$f":"'Pob x Genero'!CT1438","v":21},1430]
["150906","LIMA","LIMA","OYON","PACHANGARA","Hombre","00-04",{"$f":"'Pob x Genero'!CT1439","v":101},1431]
["151001","LIMA","LIMA","YAUYOS","YAUYOS","Hombre","00-04",{"$f":"'Pob x Genero'!CT1440","v":43},1432]
["151002","LIMA","LIMA","YAUYOS","ALIS","Hombre","00-04",{"$f":"'Pob x Genero'!CT1441","v":7},1433]
["151003","LIMA","LIMA","YAUYOS","AYAUCA","Hombre","00-04",{"$f":"'Pob x Genero'!CT1442","v":39},1434]
["151004","LIMA","LIMA","YAUYOS","AYAVIRI","Hombre","00-04",{"$f":"'Pob x Genero'!CT1443","v":20},1435]
["151005","LIMA","LIMA","YAUYOS","AZANGARO","Hombre","00-04",{"$f":"'Pob x Genero'!CT1444","v":17},1436]
["151006","LIMA","LIMA","YAUYOS","CACRA","Hombre","00-04",{"$f":"'Pob x Genero'!CT1445","v":16},1437]
["151007","LIMA","LIMA","YAUYOS","CARANIA","Hombre","00-04",{"$f":"'Pob x Genero'!CT1446","v":6},1438]
["151008","LIMA","LIMA","YAUYOS","CATAHUASI","Hombre","00-04",{"$f":"'Pob x Genero'!CT1447","v":28},1439]
["151009","LIMA","LIMA","YAUYOS","CHOCOS","Hombre","00-04",{"$f":"'Pob x Genero'!CT1448","v":14},1440]
["151010","LIMA","LIMA","YAUYOS","COCHAS","Hombre","00-04",{"$f":"'Pob x Genero'!CT1449","v":5},1441]
["151011","LIMA","LIMA","YAUYOS","COLONIA","Hombre","00-04",{"$f":"'Pob x Genero'!CT1450","v":32},1442]
["151012","LIMA","LIMA","YAUYOS","HONGOS","Hombre","00-04",{"$f":"'Pob x Genero'!CT1451","v":12},1443]
["151013","LIMA","LIMA","YAUYOS","HUAMPARA","Hombre","00-04",{"$f":"'Pob x Genero'!CT1452","v":6},1444]
["151014","LIMA","LIMA","YAUYOS","HUANCAYA","Hombre","00-04",{"$f":"'Pob x Genero'!CT1453","v":5},1445]
["151015","LIMA","LIMA","YAUYOS","HUANGASCAR","Hombre","00-04",{"$f":"'Pob x Genero'!CT1454","v":12},1446]
["151016","LIMA","LIMA","YAUYOS","HUANTAN","Hombre","00-04",{"$f":"'Pob x Genero'!CT1455","v":13},1447]
["151017","LIMA","LIMA","YAUYOS","HUAÑEC","Hombre","00-04",{"$f":"'Pob x Genero'!CT1456","v":3},1448]
["151018","LIMA","LIMA","YAUYOS","LARAOS","Hombre","00-04",{"$f":"'Pob x Genero'!CT1457","v":11},1449]
["151019","LIMA","LIMA","YAUYOS","LINCHA","Hombre","00-04",{"$f":"'Pob x Genero'!CT1458","v":22},1450]
["151020","LIMA","LIMA","YAUYOS","MADEAN","Hombre","00-04",{"$f":"'Pob x Genero'!CT1459","v":21},1451]
["151021","LIMA","LIMA","YAUYOS","MIRAFLORES","Hombre","00-04",{"$f":"'Pob x Genero'!CT1460","v":1},1452]
["151022","LIMA","LIMA","YAUYOS","OMAS","Hombre","00-04",{"$f":"'Pob x Genero'!CT1461","v":11},1453]
["151023","LIMA","LIMA","YAUYOS","PUTINZA","Hombre","00-04",{"$f":"'Pob x Genero'!CT1462","v":12},1454]
["151024","LIMA","LIMA","YAUYOS","QUINCHES","Hombre","00-04",{"$f":"'Pob x Genero'!CT1463","v":3},1455]
["151025","LIMA","LIMA","YAUYOS","QUINOCAY","Hombre","00-04",{"$f":"'Pob x Genero'!CT1464","v":15},1456]
["151026","LIMA","LIMA","YAUYOS","SAN JOAQUIN","Hombre","00-04",{"$f":"'Pob x Genero'!CT1465","v":3},1457]
["151027","LIMA","LIMA","YAUYOS","SAN PEDRO DE PILAS","Hombre","00-04",{"$f":"'Pob x Genero'!CT1466","v":5},1458]
["151028","LIMA","LIMA","YAUYOS","TANTA","Hombre","00-04",{"$f":"'Pob x Genero'!CT1467","v":6},1459]
["151029","LIMA","LIMA","YAUYOS","TAURIPAMPA","Hombre","00-04",{"$f":"'Pob x Genero'!CT1468","v":13},1460]
["151030","LIMA","LIMA","YAUYOS","TOMAS","Hombre","00-04",{"$f":"'Pob x Genero'!CT1469","v":8},1461]
["151031","LIMA","LIMA","YAUYOS","TUPE","Hombre","00-04",{"$f":"'Pob x Genero'!CT1470","v":22},1462]
["151032","LIMA","LIMA","YAUYOS","VIÑAC","Hombre","00-04",{"$f":"'Pob x Genero'!CT1471","v":61},1463]
["151033","LIMA","LIMA","YAUYOS","VITIS","Hombre","00-04",{"$f":"'Pob x Genero'!CT1472","v":2},1464]
["160101","LORETO","LORETO","MAYNAS","IQUITOS","Hombre","00-04",{"$f":"'Pob x Genero'!CT1473","v":4064},1465]
["160102","LORETO","LORETO","MAYNAS","ALTO NANAY","Hombre","00-04",{"$f":"'Pob x Genero'!CT1474","v":176},1466]
["160103","LORETO","LORETO","MAYNAS","FERNANDO LORES","Hombre","00-04",{"$f":"'Pob x Genero'!CT1475","v":818},1467]
["160104","LORETO","LORETO","MAYNAS","INDIANA","Hombre","00-04",{"$f":"'Pob x Genero'!CT1476","v":662},1468]
["160105","LORETO","LORETO","MAYNAS","LAS AMAZONAS","Hombre","00-04",{"$f":"'Pob x Genero'!CT1477","v":511},1469]
["160106","LORETO","LORETO","MAYNAS","MAZAN","Hombre","00-04",{"$f":"'Pob x Genero'!CT1478","v":964},1470]
["160107","LORETO","LORETO","MAYNAS","NAPO","Hombre","00-04",{"$f":"'Pob x Genero'!CT1479","v":1054},1471]
["160108","LORETO","LORETO","MAYNAS","PUNCHANA","Hombre","00-04",{"$f":"'Pob x Genero'!CT1480","v":4033},1472]
["160110","LORETO","LORETO","MAYNAS","TORRES CAUSANA","Hombre","00-04",{"$f":"'Pob x Genero'!CT1481","v":598},1473]
["160112","LORETO","LORETO","MAYNAS","BELEN","Hombre","00-04",{"$f":"'Pob x Genero'!CT1482","v":3150},1474]
["160113","LORETO","LORETO","MAYNAS","SAN JUAN BAUTISTA","Hombre","00-04",{"$f":"'Pob x Genero'!CT1483","v":6954},1475]
["160201","LORETO","LORETO","ALTO AMAZONAS","YURIMAGUAS","Hombre","00-04",{"$f":"'Pob x Genero'!CT1484","v":5556},1476]
["160202","LORETO","LORETO","ALTO AMAZONAS","BALSAPUERTO","Hombre","00-04",{"$f":"'Pob x Genero'!CT1485","v":2208},1477]
["160205","LORETO","LORETO","ALTO AMAZONAS","JEBEROS","Hombre","00-04",{"$f":"'Pob x Genero'!CT1486","v":554},1478]
["160206","LORETO","LORETO","ALTO AMAZONAS","LAGUNAS","Hombre","00-04",{"$f":"'Pob x Genero'!CT1487","v":762},1479]
["160210","LORETO","LORETO","ALTO AMAZONAS","SANTA CRUZ","Hombre","00-04",{"$f":"'Pob x Genero'!CT1488","v":341},1480]
["160211","LORETO","LORETO","ALTO AMAZONAS","TENIENTE CESAR LOPEZ ROJAS","Hombre","00-04",{"$f":"'Pob x Genero'!CT1489","v":420},1481]
["160301","LORETO","LORETO","LORETO","NAUTA","Hombre","00-04",{"$f":"'Pob x Genero'!CT1490","v":2446},1482]
["160302","LORETO","LORETO","LORETO","PARINARI","Hombre","00-04",{"$f":"'Pob x Genero'!CT1491","v":319},1483]
["160303","LORETO","LORETO","LORETO","TIGRE","Hombre","00-04",{"$f":"'Pob x Genero'!CT1492","v":718},1484]
["160304","LORETO","LORETO","LORETO","TROMPETEROS","Hombre","00-04",{"$f":"'Pob x Genero'!CT1493","v":918},1485]
["160305","LORETO","LORETO","LORETO","URARINAS","Hombre","00-04",{"$f":"'Pob x Genero'!CT1494","v":1243},1486]
["160401","LORETO","LORETO","MARISCAL RAMON CASTILLA","RAMON CASTILLA","Hombre","00-04",{"$f":"'Pob x Genero'!CT1495","v":1738},1487]
["160402","LORETO","LORETO","MARISCAL RAMON CASTILLA","PEBAS","Hombre","00-04",{"$f":"'Pob x Genero'!CT1496","v":851},1488]
["160403","LORETO","LORETO","MARISCAL RAMON CASTILLA","YAVARI","Hombre","00-04",{"$f":"'Pob x Genero'!CT1497","v":833},1489]
["160404","LORETO","LORETO","MARISCAL RAMON CASTILLA","SAN PABLO","Hombre","00-04",{"$f":"'Pob x Genero'!CT1498","v":1019},1490]
["160405","LORETO","LORETO","MARISCAL RAMON CASTILLA","SANTA ROSA DE LORETO","Hombre","00-04",{"$f":"'Pob x Genero'!CT1499","v":161},1491]
["160501","LORETO","LORETO","REQUENA","REQUENA","Hombre","00-04",{"$f":"'Pob x Genero'!CT1500","v":1778},1492]
["160502","LORETO","LORETO","REQUENA","ALTO TAPICHE","Hombre","00-04",{"$f":"'Pob x Genero'!CT1501","v":237},1493]
["160503","LORETO","LORETO","REQUENA","CAPELO","Hombre","00-04",{"$f":"'Pob x Genero'!CT1502","v":162},1494]
["160504","LORETO","LORETO","REQUENA","EMILIO SAN MARTIN","Hombre","00-04",{"$f":"'Pob x Genero'!CT1503","v":382},1495]
["160505","LORETO","LORETO","REQUENA","MAQUIA","Hombre","00-04",{"$f":"'Pob x Genero'!CT1504","v":646},1496]
["160506","LORETO","LORETO","REQUENA","PUINAHUA","Hombre","00-04",{"$f":"'Pob x Genero'!CT1505","v":337},1497]
["160507","LORETO","LORETO","REQUENA","SAQUENA","Hombre","00-04",{"$f":"'Pob x Genero'!CT1506","v":216},1498]
["160508","LORETO","LORETO","REQUENA","SOPLIN","Hombre","00-04",{"$f":"'Pob x Genero'!CT1507","v":52},1499]
["160509","LORETO","LORETO","REQUENA","TAPICHE","Hombre","00-04",{"$f":"'Pob x Genero'!CT1508","v":69},1500]
["160510","LORETO","LORETO","REQUENA","JENARO HERRERA","Hombre","00-04",{"$f":"'Pob x Genero'!CT1509","v":267},1501]
["160511","LORETO","LORETO","REQUENA","YAQUERANA","Hombre","00-04",{"$f":"'Pob x Genero'!CT1510","v":237},1502]
["160601","LORETO","LORETO","UCAYALI","CONTAMANA","Hombre","00-04",{"$f":"'Pob x Genero'!CT1511","v":1989},1503]
["160602","LORETO","LORETO","UCAYALI","INAHUAYA","Hombre","00-04",{"$f":"'Pob x Genero'!CT1512","v":117},1504]
["160603","LORETO","LORETO","UCAYALI","PADRE MARQUEZ","Hombre","00-04",{"$f":"'Pob x Genero'!CT1513","v":428},1505]
["160604","LORETO","LORETO","UCAYALI","PAMPA HERMOSA","Hombre","00-04",{"$f":"'Pob x Genero'!CT1514","v":433},1506]
["160605","LORETO","LORETO","UCAYALI","SARAYACU","Hombre","00-04",{"$f":"'Pob x Genero'!CT1515","v":942},1507]
["160606","LORETO","LORETO","UCAYALI","VARGAS GUERRA","Hombre","00-04",{"$f":"'Pob x Genero'!CT1516","v":698},1508]
["160701","LORETO","LORETO","DATEM DEL MARAÑON","BARRANCA","Hombre","00-04",{"$f":"'Pob x Genero'!CT1517","v":1695},1509]
["160702","LORETO","LORETO","DATEM DEL MARAÑON","CAHUAPANAS","Hombre","00-04",{"$f":"'Pob x Genero'!CT1518","v":966},1510]
["160703","LORETO","LORETO","DATEM DEL MARAÑON","MANSERICHE","Hombre","00-04",{"$f":"'Pob x Genero'!CT1519","v":1117},1511]
["160704","LORETO","LORETO","DATEM DEL MARAÑON","MORONA","Hombre","00-04",{"$f":"'Pob x Genero'!CT1520","v":905},1512]
["160705","LORETO","LORETO","DATEM DEL MARAÑON","PASTAZA","Hombre","00-04",{"$f":"'Pob x Genero'!CT1521","v":756},1513]
["160706","LORETO","LORETO","DATEM DEL MARAÑON","ANDOAS","Hombre","00-04",{"$f":"'Pob x Genero'!CT1522","v":1221},1514]
["160801","LORETO","LORETO","PUTUMAYO","PUTUMAYO","Hombre","00-04",{"$f":"'Pob x Genero'!CT1523","v":272},1515]
["160802","LORETO","LORETO","PUTUMAYO","ROSA PANDURO","Hombre","00-04",{"$f":"'Pob x Genero'!CT1524","v":34},1516]
["160803","LORETO","LORETO","PUTUMAYO","TENIENTE MANUEL CLAVERO","Hombre","00-04",{"$f":"'Pob x Genero'!CT1525","v":181},1517]
["160804","LORETO","LORETO","PUTUMAYO","YAGUAS","Hombre","00-04",{"$f":"'Pob x Genero'!CT1526","v":89},1518]
["170101","MADRE DE DIOS","MADRE DE DIOS","TAMBOPATA","TAMBOPATA","Hombre","00-04",{"$f":"'Pob x Genero'!CT1527","v":4806},1519]
["170102","MADRE DE DIOS","MADRE DE DIOS","TAMBOPATA","INAMBARI","Hombre","00-04",{"$f":"'Pob x Genero'!CT1528","v":1338},1520]
["170103","MADRE DE DIOS","MADRE DE DIOS","TAMBOPATA","LAS PIEDRAS","Hombre","00-04",{"$f":"'Pob x Genero'!CT1529","v":887},1521]
["170104","MADRE DE DIOS","MADRE DE DIOS","TAMBOPATA","LABERINTO","Hombre","00-04",{"$f":"'Pob x Genero'!CT1530","v":562},1522]
["170201","MADRE DE DIOS","MADRE DE DIOS","MANU","MANU","Hombre","00-04",{"$f":"'Pob x Genero'!CT1531","v":140},1523]
["170202","MADRE DE DIOS","MADRE DE DIOS","MANU","FITZCARRALD","Hombre","00-04",{"$f":"'Pob x Genero'!CT1532","v":107},1524]
["170203","MADRE DE DIOS","MADRE DE DIOS","MANU","MADRE DE DIOS","Hombre","00-04",{"$f":"'Pob x Genero'!CT1533","v":667},1525]
["170204","MADRE DE DIOS","MADRE DE DIOS","MANU","HUEPETUHE","Hombre","00-04",{"$f":"'Pob x Genero'!CT1534","v":325},1526]
["170301","MADRE DE DIOS","MADRE DE DIOS","TAHUAMANU","IÑAPARI","Hombre","00-04",{"$f":"'Pob x Genero'!CT1535","v":109},1527]
["170302","MADRE DE DIOS","MADRE DE DIOS","TAHUAMANU","IBERIA","Hombre","00-04",{"$f":"'Pob x Genero'!CT1536","v":291},1528]
["170303","MADRE DE DIOS","MADRE DE DIOS","TAHUAMANU","TAHUAMANU","Hombre","00-04",{"$f":"'Pob x Genero'!CT1537","v":216},1529]
["180101","MOQUEGUA","MOQUEGUA","MARISCAL NIETO","MOQUEGUA","Hombre","00-04",{"$f":"'Pob x Genero'!CT1538","v":1511},1530]
["180102","MOQUEGUA","MOQUEGUA","MARISCAL NIETO","CARUMAS","Hombre","00-04",{"$f":"'Pob x Genero'!CT1539","v":13},1531]
["180103","MOQUEGUA","MOQUEGUA","MARISCAL NIETO","CUCHUMBAYA","Hombre","00-04",{"$f":"'Pob x Genero'!CT1540","v":10},1532]
["180104","MOQUEGUA","MOQUEGUA","MARISCAL NIETO","SAMEGUA","Hombre","00-04",{"$f":"'Pob x Genero'!CT1541","v":274},1533]
["180105","MOQUEGUA","MOQUEGUA","MARISCAL NIETO","SAN CRISTOBAL","Hombre","00-04",{"$f":"'Pob x Genero'!CT1542","v":25},1534]
["180106","MOQUEGUA","MOQUEGUA","MARISCAL NIETO","TORATA","Hombre","00-04",{"$f":"'Pob x Genero'!CT1543","v":123},1535]
["180107","MOQUEGUA","MOQUEGUA","MARISCAL NIETO","SAN ANTONIO","Hombre","00-04",{"$f":"'Pob x Genero'!CT1544","v":698},1536]
["180201","MOQUEGUA","MOQUEGUA","GENERAL SANCHEZ CERRO","OMATE","Hombre","00-04",{"$f":"'Pob x Genero'!CT1545","v":57},1537]
["180202","MOQUEGUA","MOQUEGUA","GENERAL SANCHEZ CERRO","CHOJATA","Hombre","00-04",{"$f":"'Pob x Genero'!CT1546","v":12},1538]
["180203","MOQUEGUA","MOQUEGUA","GENERAL SANCHEZ CERRO","COALAQUE","Hombre","00-04",{"$f":"'Pob x Genero'!CT1547","v":20},1539]
["180204","MOQUEGUA","MOQUEGUA","GENERAL SANCHEZ CERRO","ICHUÑA","Hombre","00-04",{"$f":"'Pob x Genero'!CT1548","v":57},1540]
["180205","MOQUEGUA","MOQUEGUA","GENERAL SANCHEZ CERRO","LA CAPILLA","Hombre","00-04",{"$f":"'Pob x Genero'!CT1549","v":5},1541]
["180206","MOQUEGUA","MOQUEGUA","GENERAL SANCHEZ CERRO","LLOQUE","Hombre","00-04",{"$f":"'Pob x Genero'!CT1550","v":5},1542]
["180207","MOQUEGUA","MOQUEGUA","GENERAL SANCHEZ CERRO","MATALAQUE","Hombre","00-04",{"$f":"'Pob x Genero'!CT1551","v":7},1543]
["180208","MOQUEGUA","MOQUEGUA","GENERAL SANCHEZ CERRO","PUQUINA","Hombre","00-04",{"$f":"'Pob x Genero'!CT1552","v":49},1544]
["180209","MOQUEGUA","MOQUEGUA","GENERAL SANCHEZ CERRO","QUINISTAQUILLAS","Hombre","00-04",{"$f":"'Pob x Genero'!CT1553","v":10},1545]
["180210","MOQUEGUA","MOQUEGUA","GENERAL SANCHEZ CERRO","UBINAS","Hombre","00-04",{"$f":"'Pob x Genero'!CT1554","v":27},1546]
["180211","MOQUEGUA","MOQUEGUA","GENERAL SANCHEZ CERRO","YUNGA","Hombre","00-04",{"$f":"'Pob x Genero'!CT1555","v":12},1547]
["180301","MOQUEGUA","MOQUEGUA","ILO","ILO","Hombre","00-04",{"$f":"'Pob x Genero'!CT1556","v":1984},1548]
["180302","MOQUEGUA","MOQUEGUA","ILO","EL ALGARROBAL","Hombre","00-04",{"$f":"'Pob x Genero'!CT1557","v":205},1549]
["180303","MOQUEGUA","MOQUEGUA","ILO","PACOCHA","Hombre","00-04",{"$f":"'Pob x Genero'!CT1558","v":131},1550]
["190101","PASCO","PASCO","PASCO","CHAUPIMARCA","Hombre","00-04",{"$f":"'Pob x Genero'!CT1559","v":985},1551]
["190102","PASCO","PASCO","PASCO","HUACHON","Hombre","00-04",{"$f":"'Pob x Genero'!CT1560","v":140},1552]
["190103","PASCO","PASCO","PASCO","HUARIACA","Hombre","00-04",{"$f":"'Pob x Genero'!CT1561","v":256},1553]
["190104","PASCO","PASCO","PASCO","HUAYLLAY","Hombre","00-04",{"$f":"'Pob x Genero'!CT1562","v":269},1554]
["190105","PASCO","PASCO","PASCO","NINACACA","Hombre","00-04",{"$f":"'Pob x Genero'!CT1563","v":172},1555]
["190106","PASCO","PASCO","PASCO","PALLANCHACRA","Hombre","00-04",{"$f":"'Pob x Genero'!CT1564","v":65},1556]
["190107","PASCO","PASCO","PASCO","PAUCARTAMBO","Hombre","00-04",{"$f":"'Pob x Genero'!CT1565","v":406},1557]
["190108","PASCO","PASCO","PASCO","SAN FRANCISCO DE ASIS DE YARUSYACAN","Hombre","00-04",{"$f":"'Pob x Genero'!CT1566","v":207},1558]
["190109","PASCO","PASCO","PASCO","SIMON BOLIVAR","Hombre","00-04",{"$f":"'Pob x Genero'!CT1567","v":411},1559]
["190110","PASCO","PASCO","PASCO","TICLACAYAN","Hombre","00-04",{"$f":"'Pob x Genero'!CT1568","v":145},1560]
["190111","PASCO","PASCO","PASCO","TINYAHUARCO","Hombre","00-04",{"$f":"'Pob x Genero'!CT1569","v":170},1561]
["190112","PASCO","PASCO","PASCO","VICCO","Hombre","00-04",{"$f":"'Pob x Genero'!CT1570","v":107},1562]
["190113","PASCO","PASCO","PASCO","YANACANCHA","Hombre","00-04",{"$f":"'Pob x Genero'!CT1571","v":741},1563]
["190201","PASCO","PASCO","DANIEL ALCIDES CARRION","YANAHUANCA","Hombre","00-04",{"$f":"'Pob x Genero'!CT1572","v":519},1564]
["190202","PASCO","PASCO","DANIEL ALCIDES CARRION","CHACAYAN","Hombre","00-04",{"$f":"'Pob x Genero'!CT1573","v":49},1565]
["190203","PASCO","PASCO","DANIEL ALCIDES CARRION","GOYLLARISQUIZGA","Hombre","00-04",{"$f":"'Pob x Genero'!CT1574","v":15},1566]
["190204","PASCO","PASCO","DANIEL ALCIDES CARRION","PAUCAR","Hombre","00-04",{"$f":"'Pob x Genero'!CT1575","v":75},1567]
["190205","PASCO","PASCO","DANIEL ALCIDES CARRION","SAN PEDRO DE PILLAO","Hombre","00-04",{"$f":"'Pob x Genero'!CT1576","v":50},1568]
["190206","PASCO","PASCO","DANIEL ALCIDES CARRION","SANTA ANA DE TUSI","Hombre","00-04",{"$f":"'Pob x Genero'!CT1577","v":207},1569]
["190207","PASCO","PASCO","DANIEL ALCIDES CARRION","TAPUC","Hombre","00-04",{"$f":"'Pob x Genero'!CT1578","v":74},1570]
["190208","PASCO","PASCO","DANIEL ALCIDES CARRION","VILCABAMBA","Hombre","00-04",{"$f":"'Pob x Genero'!CT1579","v":29},1571]
["190301","PASCO","PASCO","OXAPAMPA","OXAPAMPA","Hombre","00-04",{"$f":"'Pob x Genero'!CT1580","v":738},1572]
["190302","PASCO","PASCO","OXAPAMPA","CHONTABAMBA","Hombre","00-04",{"$f":"'Pob x Genero'!CT1581","v":233},1573]
["190303","PASCO","PASCO","OXAPAMPA","HUANCABAMBA","Hombre","00-04",{"$f":"'Pob x Genero'!CT1582","v":325},1574]
["190304","PASCO","PASCO","OXAPAMPA","PALCAZU","Hombre","00-04",{"$f":"'Pob x Genero'!CT1583","v":559},1575]
["190305","PASCO","PASCO","OXAPAMPA","POZUZO","Hombre","00-04",{"$f":"'Pob x Genero'!CT1584","v":297},1576]
["190306","PASCO","PASCO","OXAPAMPA","PUERTO BERMUDEZ","Hombre","00-04",{"$f":"'Pob x Genero'!CT1585","v":1522},1577]
["190307","PASCO","PASCO","OXAPAMPA","VILLA RICA","Hombre","00-04",{"$f":"'Pob x Genero'!CT1586","v":768},1578]
["190308","PASCO","PASCO","OXAPAMPA","CONSTITUCIÓN","Hombre","00-04",{"$f":"'Pob x Genero'!CT1587","v":1251},1579]
["200101","PIURA","PIURA","PIURA","PIURA","Hombre","00-04",{"$f":"'Pob x Genero'!CT1588","v":5046},1580]
["200104","PIURA","PIURA","PIURA","CASTILLA","Hombre","00-04",{"$f":"'Pob x Genero'!CT1589","v":6680},1581]
["200105","PIURA","PIURA","PIURA","CATACAOS","Hombre","00-04",{"$f":"'Pob x Genero'!CT1590","v":3505},1582]
["200107","PIURA","PIURA","PIURA","CURA MORI","Hombre","00-04",{"$f":"'Pob x Genero'!CT1591","v":1014},1583]
["200108","PIURA","PIURA","PIURA","EL TALLAN","Hombre","00-04",{"$f":"'Pob x Genero'!CT1592","v":377},1584]
["200109","PIURA","PIURA","PIURA","LA ARENA","Hombre","00-04",{"$f":"'Pob x Genero'!CT1593","v":1984},1585]
["200110","PIURA","PIURA","PIURA","LA UNION","Hombre","00-04",{"$f":"'Pob x Genero'!CT1594","v":2028},1586]
["200111","PIURA","PIURA","PIURA","LAS LOMAS","Hombre","00-04",{"$f":"'Pob x Genero'!CT1595","v":1079},1587]
["200114","PIURA","PIURA","PIURA","TAMBO GRANDE","Hombre","00-04",{"$f":"'Pob x Genero'!CT1596","v":6052},1588]
["200115","PIURA","PIURA","PIURA","VEINTISEIS DE OCTUBRE","Hombre","00-04",{"$f":"'Pob x Genero'!CT1597","v":7026},1589]
["200201","PIURA","PIURA","AYABACA","AYABACA","Hombre","00-04",{"$f":"'Pob x Genero'!CT1598","v":1442},1590]
["200202","PIURA","PIURA","AYABACA","FRIAS","Hombre","00-04",{"$f":"'Pob x Genero'!CT1599","v":844},1591]
["200203","PIURA","PIURA","AYABACA","JILILI","Hombre","00-04",{"$f":"'Pob x Genero'!CT1600","v":90},1592]
["200204","PIURA","PIURA","AYABACA","LAGUNAS","Hombre","00-04",{"$f":"'Pob x Genero'!CT1601","v":324},1593]
["200205","PIURA","PIURA","AYABACA","MONTERO","Hombre","00-04",{"$f":"'Pob x Genero'!CT1602","v":187},1594]
["200206","PIURA","PIURA","AYABACA","PACAIPAMPA","Hombre","00-04",{"$f":"'Pob x Genero'!CT1603","v":1407},1595]
["200207","PIURA","PIURA","AYABACA","PAIMAS","Hombre","00-04",{"$f":"'Pob x Genero'!CT1604","v":440},1596]
["200208","PIURA","PIURA","AYABACA","SAPILLICA","Hombre","00-04",{"$f":"'Pob x Genero'!CT1605","v":570},1597]
["200209","PIURA","PIURA","AYABACA","SICCHEZ","Hombre","00-04",{"$f":"'Pob x Genero'!CT1606","v":39},1598]
["200210","PIURA","PIURA","AYABACA","SUYO","Hombre","00-04",{"$f":"'Pob x Genero'!CT1607","v":483},1599]
["200301","PIURA","PIURA","HUANCABAMBA","HUANCABAMBA","Hombre","00-04",{"$f":"'Pob x Genero'!CT1608","v":1249},1600]
["200302","PIURA","PIURA","HUANCABAMBA","CANCHAQUE","Hombre","00-04",{"$f":"'Pob x Genero'!CT1609","v":196},1601]
["200303","PIURA","PIURA","HUANCABAMBA","EL CARMEN DE LA FRONTERA","Hombre","00-04",{"$f":"'Pob x Genero'!CT1610","v":502},1602]
["200304","PIURA","PIURA","HUANCABAMBA","HUARMACA","Hombre","00-04",{"$f":"'Pob x Genero'!CT1611","v":1886},1603]
["200305","PIURA","PIURA","HUANCABAMBA","LALAQUIZ","Hombre","00-04",{"$f":"'Pob x Genero'!CT1612","v":138},1604]
["200306","PIURA","PIURA","HUANCABAMBA","SAN MIGUEL DE EL FAIQUE","Hombre","00-04",{"$f":"'Pob x Genero'!CT1613","v":446},1605]
["200307","PIURA","PIURA","HUANCABAMBA","SONDOR","Hombre","00-04",{"$f":"'Pob x Genero'!CT1614","v":289},1606]
["200308","PIURA","PIURA","HUANCABAMBA","SONDORILLO","Hombre","00-04",{"$f":"'Pob x Genero'!CT1615","v":448},1607]
["200401","PIURA","PIURA","MORROPON","CHULUCANAS","Hombre","00-04",{"$f":"'Pob x Genero'!CT1616","v":3675},1608]
["200402","PIURA","PIURA","MORROPON","BUENOS AIRES","Hombre","00-04",{"$f":"'Pob x Genero'!CT1617","v":388},1609]
["200403","PIURA","PIURA","MORROPON","CHALACO","Hombre","00-04",{"$f":"'Pob x Genero'!CT1618","v":270},1610]
["200404","PIURA","PIURA","MORROPON","LA MATANZA","Hombre","00-04",{"$f":"'Pob x Genero'!CT1619","v":669},1611]
["200405","PIURA","PIURA","MORROPON","MORROPON","Hombre","00-04",{"$f":"'Pob x Genero'!CT1620","v":476},1612]
["200406","PIURA","PIURA","MORROPON","SALITRAL","Hombre","00-04",{"$f":"'Pob x Genero'!CT1621","v":413},1613]
["200407","PIURA","PIURA","MORROPON","SAN JUAN DE BIGOTE","Hombre","00-04",{"$f":"'Pob x Genero'!CT1622","v":259},1614]
["200408","PIURA","PIURA","MORROPON","SANTA CATALINA DE MOSSA","Hombre","00-04",{"$f":"'Pob x Genero'!CT1623","v":100},1615]
["200409","PIURA","PIURA","MORROPON","SANTO DOMINGO","Hombre","00-04",{"$f":"'Pob x Genero'!CT1624","v":132},1616]
["200410","PIURA","PIURA","MORROPON","YAMANGO","Hombre","00-04",{"$f":"'Pob x Genero'!CT1625","v":294},1617]
["200501","PIURA","PIURA","PAITA","PAITA","Hombre","00-04",{"$f":"'Pob x Genero'!CT1626","v":4093},1618]
["200502","PIURA","PIURA","PAITA","AMOTAPE","Hombre","00-04",{"$f":"'Pob x Genero'!CT1627","v":92},1619]
["200503","PIURA","PIURA","PAITA","ARENAL","Hombre","00-04",{"$f":"'Pob x Genero'!CT1628","v":43},1620]
["200504","PIURA","PIURA","PAITA","COLAN","Hombre","00-04",{"$f":"'Pob x Genero'!CT1629","v":728},1621]
["200505","PIURA","PIURA","PAITA","LA HUACA","Hombre","00-04",{"$f":"'Pob x Genero'!CT1630","v":532},1622]
["200506","PIURA","PIURA","PAITA","TAMARINDO","Hombre","00-04",{"$f":"'Pob x Genero'!CT1631","v":179},1623]
["200507","PIURA","PIURA","PAITA","VICHAYAL","Hombre","00-04",{"$f":"'Pob x Genero'!CT1632","v":278},1624]
["200601","PIURA","PIURA","SULLANA","SULLANA","Hombre","00-04",{"$f":"'Pob x Genero'!CT1633","v":6768},1625]
["200602","PIURA","PIURA","SULLANA","BELLAVISTA","Hombre","00-04",{"$f":"'Pob x Genero'!CT1634","v":1518},1626]
["200603","PIURA","PIURA","SULLANA","IGNACIO ESCUDERO","Hombre","00-04",{"$f":"'Pob x Genero'!CT1635","v":854},1627]
["200604","PIURA","PIURA","SULLANA","LANCONES","Hombre","00-04",{"$f":"'Pob x Genero'!CT1636","v":523},1628]
["200605","PIURA","PIURA","SULLANA","MARCAVELICA","Hombre","00-04",{"$f":"'Pob x Genero'!CT1637","v":1183},1629]
["200606","PIURA","PIURA","SULLANA","MIGUEL CHECA","Hombre","00-04",{"$f":"'Pob x Genero'!CT1638","v":414},1630]
["200607","PIURA","PIURA","SULLANA","QUERECOTILLO","Hombre","00-04",{"$f":"'Pob x Genero'!CT1639","v":885},1631]
["200608","PIURA","PIURA","SULLANA","SALITRAL","Hombre","00-04",{"$f":"'Pob x Genero'!CT1640","v":214},1632]
["200701","PIURA","PIURA","TALARA","PARIÑAS","Hombre","00-04",{"$f":"'Pob x Genero'!CT1641","v":3630},1633]
["200702","PIURA","PIURA","TALARA","EL ALTO","Hombre","00-04",{"$f":"'Pob x Genero'!CT1642","v":334},1634]
["200703","PIURA","PIURA","TALARA","LA BREA","Hombre","00-04",{"$f":"'Pob x Genero'!CT1643","v":394},1635]
["200704","PIURA","PIURA","TALARA","LOBITOS","Hombre","00-04",{"$f":"'Pob x Genero'!CT1644","v":41},1636]
["200705","PIURA","PIURA","TALARA","LOS ORGANOS","Hombre","00-04",{"$f":"'Pob x Genero'!CT1645","v":390},1637]
["200706","PIURA","PIURA","TALARA","MANCORA","Hombre","00-04",{"$f":"'Pob x Genero'!CT1646","v":584},1638]
["200801","PIURA","PIURA","SECHURA","SECHURA","Hombre","00-04",{"$f":"'Pob x Genero'!CT1647","v":2547},1639]
["200802","PIURA","PIURA","SECHURA","BELLAVISTA DE LA UNION","Hombre","00-04",{"$f":"'Pob x Genero'!CT1648","v":246},1640]
["200803","PIURA","PIURA","SECHURA","BERNAL","Hombre","00-04",{"$f":"'Pob x Genero'!CT1649","v":359},1641]
["200804","PIURA","PIURA","SECHURA","CRISTO NOS VALGA","Hombre","00-04",{"$f":"'Pob x Genero'!CT1650","v":250},1642]
["200805","PIURA","PIURA","SECHURA","VICE","Hombre","00-04",{"$f":"'Pob x Genero'!CT1651","v":1099},1643]
["200806","PIURA","PIURA","SECHURA","RINCONADA LLICUAR","Hombre","00-04",{"$f":"'Pob x Genero'!CT1652","v":162},1644]
["210101","PUNO","PUNO","PUNO","PUNO","Hombre","00-04",{"$f":"'Pob x Genero'!CT1653","v":3889},1645]
["210102","PUNO","PUNO","PUNO","ACORA","Hombre","00-04",{"$f":"'Pob x Genero'!CT1654","v":491},1646]
["210103","PUNO","PUNO","PUNO","AMANTANI","Hombre","00-04",{"$f":"'Pob x Genero'!CT1655","v":104},1647]
["210104","PUNO","PUNO","PUNO","ATUNCOLLA","Hombre","00-04",{"$f":"'Pob x Genero'!CT1656","v":162},1648]
["210105","PUNO","PUNO","PUNO","CAPACHICA","Hombre","00-04",{"$f":"'Pob x Genero'!CT1657","v":193},1649]
["210106","PUNO","PUNO","PUNO","CHUCUITO","Hombre","00-04",{"$f":"'Pob x Genero'!CT1658","v":133},1650]
["210107","PUNO","PUNO","PUNO","COATA","Hombre","00-04",{"$f":"'Pob x Genero'!CT1659","v":214},1651]
["210108","PUNO","PUNO","PUNO","HUATA","Hombre","00-04",{"$f":"'Pob x Genero'!CT1660","v":97},1652]
["210109","PUNO","PUNO","PUNO","MAÑAZO","Hombre","00-04",{"$f":"'Pob x Genero'!CT1661","v":157},1653]
["210110","PUNO","PUNO","PUNO","PAUCARCOLLA","Hombre","00-04",{"$f":"'Pob x Genero'!CT1662","v":139},1654]
["210111","PUNO","PUNO","PUNO","PICHACANI","Hombre","00-04",{"$f":"'Pob x Genero'!CT1663","v":152},1655]
["210112","PUNO","PUNO","PUNO","PLATERIA","Hombre","00-04",{"$f":"'Pob x Genero'!CT1664","v":142},1656]
["210113","PUNO","PUNO","PUNO","SAN ANTONIO","Hombre","00-04",{"$f":"'Pob x Genero'!CT1665","v":31},1657]
["210114","PUNO","PUNO","PUNO","TIQUILLACA","Hombre","00-04",{"$f":"'Pob x Genero'!CT1666","v":37},1658]
["210115","PUNO","PUNO","PUNO","VILQUE","Hombre","00-04",{"$f":"'Pob x Genero'!CT1667","v":90},1659]
["210201","PUNO","PUNO","AZANGARO","AZANGARO","Hombre","00-04",{"$f":"'Pob x Genero'!CT1668","v":1215},1660]
["210202","PUNO","PUNO","AZANGARO","ACHAYA","Hombre","00-04",{"$f":"'Pob x Genero'!CT1669","v":112},1661]
["210203","PUNO","PUNO","AZANGARO","ARAPA","Hombre","00-04",{"$f":"'Pob x Genero'!CT1670","v":169},1662]
["210204","PUNO","PUNO","AZANGARO","ASILLO","Hombre","00-04",{"$f":"'Pob x Genero'!CT1671","v":410},1663]
["210205","PUNO","PUNO","AZANGARO","CAMINACA","Hombre","00-04",{"$f":"'Pob x Genero'!CT1672","v":93},1664]
["210206","PUNO","PUNO","AZANGARO","CHUPA","Hombre","00-04",{"$f":"'Pob x Genero'!CT1673","v":149},1665]
["210207","PUNO","PUNO","AZANGARO","JOSE DOMINGO CHOQUEHUANCA","Hombre","00-04",{"$f":"'Pob x Genero'!CT1674","v":134},1666]
["210208","PUNO","PUNO","AZANGARO","MUÑANI","Hombre","00-04",{"$f":"'Pob x Genero'!CT1675","v":228},1667]
["210209","PUNO","PUNO","AZANGARO","POTONI","Hombre","00-04",{"$f":"'Pob x Genero'!CT1676","v":129},1668]
["210210","PUNO","PUNO","AZANGARO","SAMAN","Hombre","00-04",{"$f":"'Pob x Genero'!CT1677","v":311},1669]
["210211","PUNO","PUNO","AZANGARO","SAN ANTON","Hombre","00-04",{"$f":"'Pob x Genero'!CT1678","v":217},1670]
["210212","PUNO","PUNO","AZANGARO","SAN JOSE","Hombre","00-04",{"$f":"'Pob x Genero'!CT1679","v":112},1671]
["210213","PUNO","PUNO","AZANGARO","SAN JUAN DE SALINAS","Hombre","00-04",{"$f":"'Pob x Genero'!CT1680","v":59},1672]
["210214","PUNO","PUNO","AZANGARO","SANTIAGO DE PUPUJA","Hombre","00-04",{"$f":"'Pob x Genero'!CT1681","v":90},1673]
["210215","PUNO","PUNO","AZANGARO","TIRAPATA","Hombre","00-04",{"$f":"'Pob x Genero'!CT1682","v":83},1674]
["210301","PUNO","PUNO","CARABAYA","MACUSANI","Hombre","00-04",{"$f":"'Pob x Genero'!CT1683","v":558},1675]
["210302","PUNO","PUNO","CARABAYA","AJOYANI","Hombre","00-04",{"$f":"'Pob x Genero'!CT1684","v":71},1676]
["210303","PUNO","PUNO","CARABAYA","AYAPATA","Hombre","00-04",{"$f":"'Pob x Genero'!CT1685","v":194},1677]
["210304","PUNO","PUNO","CARABAYA","COASA","Hombre","00-04",{"$f":"'Pob x Genero'!CT1686","v":206},1678]
["210305","PUNO","PUNO","CARABAYA","CORANI","Hombre","00-04",{"$f":"'Pob x Genero'!CT1687","v":147},1679]
["210306","PUNO","PUNO","CARABAYA","CRUCERO","Hombre","00-04",{"$f":"'Pob x Genero'!CT1688","v":299},1680]
["210307","PUNO","PUNO","CARABAYA","ITUATA","Hombre","00-04",{"$f":"'Pob x Genero'!CT1689","v":184},1681]
["210308","PUNO","PUNO","CARABAYA","OLLACHEA","Hombre","00-04",{"$f":"'Pob x Genero'!CT1690","v":360},1682]
["210309","PUNO","PUNO","CARABAYA","SAN GABAN","Hombre","00-04",{"$f":"'Pob x Genero'!CT1691","v":385},1683]
["210310","PUNO","PUNO","CARABAYA","USICAYOS","Hombre","00-04",{"$f":"'Pob x Genero'!CT1692","v":117},1684]
["210401","PUNO","PUNO","CHUCUITO","JULI","Hombre","00-04",{"$f":"'Pob x Genero'!CT1693","v":493},1685]
["210402","PUNO","PUNO","CHUCUITO","DESAGUADERO","Hombre","00-04",{"$f":"'Pob x Genero'!CT1694","v":429},1686]
["210403","PUNO","PUNO","CHUCUITO","HUACULLANI","Hombre","00-04",{"$f":"'Pob x Genero'!CT1695","v":113},1687]
["210404","PUNO","PUNO","CHUCUITO","KELLUYO","Hombre","00-04",{"$f":"'Pob x Genero'!CT1696","v":140},1688]
["210405","PUNO","PUNO","CHUCUITO","PISACOMA","Hombre","00-04",{"$f":"'Pob x Genero'!CT1697","v":90},1689]
["210406","PUNO","PUNO","CHUCUITO","POMATA","Hombre","00-04",{"$f":"'Pob x Genero'!CT1698","v":261},1690]
["210407","PUNO","PUNO","CHUCUITO","ZEPITA","Hombre","00-04",{"$f":"'Pob x Genero'!CT1699","v":388},1691]
["210501","PUNO","PUNO","EL COLLAO","ILAVE","Hombre","00-04",{"$f":"'Pob x Genero'!CT1700","v":1317},1692]
["210502","PUNO","PUNO","EL COLLAO","CAPAZO","Hombre","00-04",{"$f":"'Pob x Genero'!CT1701","v":16},1693]
["210503","PUNO","PUNO","EL COLLAO","PILCUYO","Hombre","00-04",{"$f":"'Pob x Genero'!CT1702","v":175},1694]
["210504","PUNO","PUNO","EL COLLAO","SANTA ROSA","Hombre","00-04",{"$f":"'Pob x Genero'!CT1703","v":89},1695]
["210505","PUNO","PUNO","EL COLLAO","CONDURIRI","Hombre","00-04",{"$f":"'Pob x Genero'!CT1704","v":57},1696]
["210601","PUNO","PUNO","HUANCANE","HUANCANE","Hombre","00-04",{"$f":"'Pob x Genero'!CT1705","v":573},1697]
["210602","PUNO","PUNO","HUANCANE","COJATA","Hombre","00-04",{"$f":"'Pob x Genero'!CT1706","v":86},1698]
["210603","PUNO","PUNO","HUANCANE","HUATASANI","Hombre","00-04",{"$f":"'Pob x Genero'!CT1707","v":70},1699]
["210604","PUNO","PUNO","HUANCANE","INCHUPALLA","Hombre","00-04",{"$f":"'Pob x Genero'!CT1708","v":49},1700]
["210605","PUNO","PUNO","HUANCANE","PUSI","Hombre","00-04",{"$f":"'Pob x Genero'!CT1709","v":126},1701]
["210606","PUNO","PUNO","HUANCANE","ROSASPATA","Hombre","00-04",{"$f":"'Pob x Genero'!CT1710","v":91},1702]
["210607","PUNO","PUNO","HUANCANE","TARACO","Hombre","00-04",{"$f":"'Pob x Genero'!CT1711","v":344},1703]
["210608","PUNO","PUNO","HUANCANE","VILQUE CHICO","Hombre","00-04",{"$f":"'Pob x Genero'!CT1712","v":150},1704]
["210701","PUNO","PUNO","LAMPA","LAMPA","Hombre","00-04",{"$f":"'Pob x Genero'!CT1713","v":344},1705]
["210702","PUNO","PUNO","LAMPA","CABANILLA","Hombre","00-04",{"$f":"'Pob x Genero'!CT1714","v":155},1706]
["210703","PUNO","PUNO","LAMPA","CALAPUJA","Hombre","00-04",{"$f":"'Pob x Genero'!CT1715","v":45},1707]
["210704","PUNO","PUNO","LAMPA","NICASIO","Hombre","00-04",{"$f":"'Pob x Genero'!CT1716","v":69},1708]
["210705","PUNO","PUNO","LAMPA","OCUVIRI","Hombre","00-04",{"$f":"'Pob x Genero'!CT1717","v":54},1709]
["210706","PUNO","PUNO","LAMPA","PALCA","Hombre","00-04",{"$f":"'Pob x Genero'!CT1718","v":54},1710]
["210707","PUNO","PUNO","LAMPA","PARATIA","Hombre","00-04",{"$f":"'Pob x Genero'!CT1719","v":53},1711]
["210708","PUNO","PUNO","LAMPA","PUCARA","Hombre","00-04",{"$f":"'Pob x Genero'!CT1720","v":129},1712]
["210709","PUNO","PUNO","LAMPA","SANTA LUCIA","Hombre","00-04",{"$f":"'Pob x Genero'!CT1721","v":253},1713]
["210710","PUNO","PUNO","LAMPA","VILAVILA","Hombre","00-04",{"$f":"'Pob x Genero'!CT1722","v":21},1714]
["210801","PUNO","PUNO","MELGAR","AYAVIRI","Hombre","00-04",{"$f":"'Pob x Genero'!CT1723","v":726},1715]
["210802","PUNO","PUNO","MELGAR","ANTAUTA","Hombre","00-04",{"$f":"'Pob x Genero'!CT1724","v":188},1716]
["210803","PUNO","PUNO","MELGAR","CUPI","Hombre","00-04",{"$f":"'Pob x Genero'!CT1725","v":52},1717]
["210804","PUNO","PUNO","MELGAR","LLALLI","Hombre","00-04",{"$f":"'Pob x Genero'!CT1726","v":105},1718]
["210805","PUNO","PUNO","MELGAR","MACARI","Hombre","00-04",{"$f":"'Pob x Genero'!CT1727","v":251},1719]
["210806","PUNO","PUNO","MELGAR","NUÑOA","Hombre","00-04",{"$f":"'Pob x Genero'!CT1728","v":270},1720]
["210807","PUNO","PUNO","MELGAR","ORURILLO","Hombre","00-04",{"$f":"'Pob x Genero'!CT1729","v":176},1721]
["210808","PUNO","PUNO","MELGAR","SANTA ROSA","Hombre","00-04",{"$f":"'Pob x Genero'!CT1730","v":160},1722]
["210809","PUNO","PUNO","MELGAR","UMACHIRI","Hombre","00-04",{"$f":"'Pob x Genero'!CT1731","v":98},1723]
["210901","PUNO","PUNO","MOHO","MOHO","Hombre","00-04",{"$f":"'Pob x Genero'!CT1732","v":258},1724]
["210902","PUNO","PUNO","MOHO","CONIMA","Hombre","00-04",{"$f":"'Pob x Genero'!CT1733","v":53},1725]
["210903","PUNO","PUNO","MOHO","HUAYRAPATA","Hombre","00-04",{"$f":"'Pob x Genero'!CT1734","v":73},1726]
["210904","PUNO","PUNO","MOHO","TILALI","Hombre","00-04",{"$f":"'Pob x Genero'!CT1735","v":61},1727]
["211001","PUNO","PUNO","SAN ANTONIO DE PUTINA","PUTINA","Hombre","00-04",{"$f":"'Pob x Genero'!CT1736","v":473},1728]
["211002","PUNO","PUNO","SAN ANTONIO DE PUTINA","ANANEA","Hombre","00-04",{"$f":"'Pob x Genero'!CT1737","v":66},1729]
["211003","PUNO","PUNO","SAN ANTONIO DE PUTINA","PEDRO VILCA APAZA","Hombre","00-04",{"$f":"'Pob x Genero'!CT1738","v":53},1730]
["211004","PUNO","PUNO","SAN ANTONIO DE PUTINA","QUILCAPUNCU","Hombre","00-04",{"$f":"'Pob x Genero'!CT1739","v":152},1731]
["211005","PUNO","PUNO","SAN ANTONIO DE PUTINA","SINA","Hombre","00-04",{"$f":"'Pob x Genero'!CT1740","v":46},1732]
["211101","PUNO","PUNO","SAN ROMAN","JULIACA","Hombre","00-04",{"$f":"'Pob x Genero'!CT1741","v":9265},1733]
["211102","PUNO","PUNO","SAN ROMAN","CABANA","Hombre","00-04",{"$f":"'Pob x Genero'!CT1742","v":117},1734]
["211103","PUNO","PUNO","SAN ROMAN","CABANILLAS","Hombre","00-04",{"$f":"'Pob x Genero'!CT1743","v":132},1735]
["211104","PUNO","PUNO","SAN ROMAN","CARACOTO","Hombre","00-04",{"$f":"'Pob x Genero'!CT1744","v":461},1736]
["211105","PUNO","PUNO","SAN ROMAN","SAN MIGUEL","Hombre","00-04",{"$f":"'Pob x Genero'!CT1745","v":2911},1737]
["211201","PUNO","PUNO","SANDIA","SANDIA","Hombre","00-04",{"$f":"'Pob x Genero'!CT1746","v":325},1738]
["211202","PUNO","PUNO","SANDIA","CUYOCUYO","Hombre","00-04",{"$f":"'Pob x Genero'!CT1747","v":102},1739]
["211203","PUNO","PUNO","SANDIA","LIMBANI","Hombre","00-04",{"$f":"'Pob x Genero'!CT1748","v":62},1740]
["211204","PUNO","PUNO","SANDIA","PATAMBUCO","Hombre","00-04",{"$f":"'Pob x Genero'!CT1749","v":115},1741]
["211205","PUNO","PUNO","SANDIA","PHARA","Hombre","00-04",{"$f":"'Pob x Genero'!CT1750","v":112},1742]
["211206","PUNO","PUNO","SANDIA","QUIACA","Hombre","00-04",{"$f":"'Pob x Genero'!CT1751","v":92},1743]
["211207","PUNO","PUNO","SANDIA","SAN JUAN DEL ORO","Hombre","00-04",{"$f":"'Pob x Genero'!CT1752","v":96},1744]
["211208","PUNO","PUNO","SANDIA","YANAHUAYA","Hombre","00-04",{"$f":"'Pob x Genero'!CT1753","v":52},1745]
["211209","PUNO","PUNO","SANDIA","ALTO INAMBARI","Hombre","00-04",{"$f":"'Pob x Genero'!CT1754","v":172},1746]
["211210","PUNO","PUNO","SANDIA","SAN PEDRO DE PUTINA PUNCO","Hombre","00-04",{"$f":"'Pob x Genero'!CT1755","v":345},1747]
["211301","PUNO","PUNO","YUNGUYO","YUNGUYO","Hombre","00-04",{"$f":"'Pob x Genero'!CT1756","v":650},1748]
["211302","PUNO","PUNO","YUNGUYO","ANAPIA","Hombre","00-04",{"$f":"'Pob x Genero'!CT1757","v":25},1749]
["211303","PUNO","PUNO","YUNGUYO","COPANI","Hombre","00-04",{"$f":"'Pob x Genero'!CT1758","v":110},1750]
["211304","PUNO","PUNO","YUNGUYO","CUTURAPI","Hombre","00-04",{"$f":"'Pob x Genero'!CT1759","v":20},1751]
["211305","PUNO","PUNO","YUNGUYO","OLLARAYA","Hombre","00-04",{"$f":"'Pob x Genero'!CT1760","v":30},1752]
["211306","PUNO","PUNO","YUNGUYO","TINICACHI","Hombre","00-04",{"$f":"'Pob x Genero'!CT1761","v":17},1753]
["211307","PUNO","PUNO","YUNGUYO","UNICACHI","Hombre","00-04",{"$f":"'Pob x Genero'!CT1762","v":19},1754]
["220101","SAN MARTIN","SAN MARTIN","MOYOBAMBA","MOYOBAMBA","Hombre","00-04",{"$f":"'Pob x Genero'!CT1763","v":3232},1755]
["220102","SAN MARTIN","SAN MARTIN","MOYOBAMBA","CALZADA","Hombre","00-04",{"$f":"'Pob x Genero'!CT1764","v":181},1756]
["220103","SAN MARTIN","SAN MARTIN","MOYOBAMBA","HABANA","Hombre","00-04",{"$f":"'Pob x Genero'!CT1765","v":90},1757]
["220104","SAN MARTIN","SAN MARTIN","MOYOBAMBA","JEPELACIO","Hombre","00-04",{"$f":"'Pob x Genero'!CT1766","v":626},1758]
["220105","SAN MARTIN","SAN MARTIN","MOYOBAMBA","SORITOR","Hombre","00-04",{"$f":"'Pob x Genero'!CT1767","v":927},1759]
["220106","SAN MARTIN","SAN MARTIN","MOYOBAMBA","YANTALO","Hombre","00-04",{"$f":"'Pob x Genero'!CT1768","v":113},1760]
["220201","SAN MARTIN","SAN MARTIN","BELLAVISTA","BELLAVISTA","Hombre","00-04",{"$f":"'Pob x Genero'!CT1769","v":858},1761]
["220202","SAN MARTIN","SAN MARTIN","BELLAVISTA","ALTO BIAVO","Hombre","00-04",{"$f":"'Pob x Genero'!CT1770","v":658},1762]
["220203","SAN MARTIN","SAN MARTIN","BELLAVISTA","BAJO BIAVO","Hombre","00-04",{"$f":"'Pob x Genero'!CT1771","v":871},1763]
["220204","SAN MARTIN","SAN MARTIN","BELLAVISTA","HUALLAGA","Hombre","00-04",{"$f":"'Pob x Genero'!CT1772","v":108},1764]
["220205","SAN MARTIN","SAN MARTIN","BELLAVISTA","SAN PABLO","Hombre","00-04",{"$f":"'Pob x Genero'!CT1773","v":446},1765]
["220206","SAN MARTIN","SAN MARTIN","BELLAVISTA","SAN RAFAEL","Hombre","00-04",{"$f":"'Pob x Genero'!CT1774","v":247},1766]
["220301","SAN MARTIN","SAN MARTIN","EL DORADO","SAN JOSE DE SISA","Hombre","00-04",{"$f":"'Pob x Genero'!CT1775","v":757},1767]
["220302","SAN MARTIN","SAN MARTIN","EL DORADO","AGUA BLANCA","Hombre","00-04",{"$f":"'Pob x Genero'!CT1776","v":76},1768]
["220303","SAN MARTIN","SAN MARTIN","EL DORADO","SAN MARTIN","Hombre","00-04",{"$f":"'Pob x Genero'!CT1777","v":625},1769]
["220304","SAN MARTIN","SAN MARTIN","EL DORADO","SANTA ROSA","Hombre","00-04",{"$f":"'Pob x Genero'!CT1778","v":302},1770]
["220305","SAN MARTIN","SAN MARTIN","EL DORADO","SHATOJA","Hombre","00-04",{"$f":"'Pob x Genero'!CT1779","v":142},1771]
["220401","SAN MARTIN","SAN MARTIN","HUALLAGA","SAPOSOA","Hombre","00-04",{"$f":"'Pob x Genero'!CT1780","v":576},1772]
["220402","SAN MARTIN","SAN MARTIN","HUALLAGA","ALTO SAPOSOA","Hombre","00-04",{"$f":"'Pob x Genero'!CT1781","v":186},1773]
["220403","SAN MARTIN","SAN MARTIN","HUALLAGA","EL ESLABON","Hombre","00-04",{"$f":"'Pob x Genero'!CT1782","v":95},1774]
["220404","SAN MARTIN","SAN MARTIN","HUALLAGA","PISCOYACU","Hombre","00-04",{"$f":"'Pob x Genero'!CT1783","v":180},1775]
["220405","SAN MARTIN","SAN MARTIN","HUALLAGA","SACANCHE","Hombre","00-04",{"$f":"'Pob x Genero'!CT1784","v":113},1776]
["220406","SAN MARTIN","SAN MARTIN","HUALLAGA","TINGO DE SAPOSOA","Hombre","00-04",{"$f":"'Pob x Genero'!CT1785","v":21},1777]
["220501","SAN MARTIN","SAN MARTIN","LAMAS","LAMAS","Hombre","00-04",{"$f":"'Pob x Genero'!CT1786","v":593},1778]
["220502","SAN MARTIN","SAN MARTIN","LAMAS","ALONSO DE ALVARADO","Hombre","00-04",{"$f":"'Pob x Genero'!CT1787","v":592},1779]
["220503","SAN MARTIN","SAN MARTIN","LAMAS","BARRANQUITA","Hombre","00-04",{"$f":"'Pob x Genero'!CT1788","v":329},1780]
["220504","SAN MARTIN","SAN MARTIN","LAMAS","CAYNARACHI","Hombre","00-04",{"$f":"'Pob x Genero'!CT1789","v":685},1781]
["220505","SAN MARTIN","SAN MARTIN","LAMAS","CUÑUMBUQUI","Hombre","00-04",{"$f":"'Pob x Genero'!CT1790","v":180},1782]
["220506","SAN MARTIN","SAN MARTIN","LAMAS","PINTO RECODO","Hombre","00-04",{"$f":"'Pob x Genero'!CT1791","v":329},1783]
["220507","SAN MARTIN","SAN MARTIN","LAMAS","RUMISAPA","Hombre","00-04",{"$f":"'Pob x Genero'!CT1792","v":141},1784]
["220508","SAN MARTIN","SAN MARTIN","LAMAS","SAN ROQUE DE CUMBAZA","Hombre","00-04",{"$f":"'Pob x Genero'!CT1793","v":64},1785]
["220509","SAN MARTIN","SAN MARTIN","LAMAS","SHANAO","Hombre","00-04",{"$f":"'Pob x Genero'!CT1794","v":79},1786]
["220510","SAN MARTIN","SAN MARTIN","LAMAS","TABALOSOS","Hombre","00-04",{"$f":"'Pob x Genero'!CT1795","v":599},1787]
["220511","SAN MARTIN","SAN MARTIN","LAMAS","ZAPATERO","Hombre","00-04",{"$f":"'Pob x Genero'!CT1796","v":261},1788]
["220601","SAN MARTIN","SAN MARTIN","MARISCAL CACERES","JUANJUI","Hombre","00-04",{"$f":"'Pob x Genero'!CT1797","v":1522},1789]
["220602","SAN MARTIN","SAN MARTIN","MARISCAL CACERES","CAMPANILLA","Hombre","00-04",{"$f":"'Pob x Genero'!CT1798","v":620},1790]
["220603","SAN MARTIN","SAN MARTIN","MARISCAL CACERES","HUICUNGO","Hombre","00-04",{"$f":"'Pob x Genero'!CT1799","v":456},1791]
["220604","SAN MARTIN","SAN MARTIN","MARISCAL CACERES","PACHIZA","Hombre","00-04",{"$f":"'Pob x Genero'!CT1800","v":332},1792]
["220605","SAN MARTIN","SAN MARTIN","MARISCAL CACERES","PAJARILLO","Hombre","00-04",{"$f":"'Pob x Genero'!CT1801","v":305},1793]
["220701","SAN MARTIN","SAN MARTIN","PICOTA","PICOTA","Hombre","00-04",{"$f":"'Pob x Genero'!CT1802","v":481},1794]
["220702","SAN MARTIN","SAN MARTIN","PICOTA","BUENOS AIRES","Hombre","00-04",{"$f":"'Pob x Genero'!CT1803","v":143},1795]
["220703","SAN MARTIN","SAN MARTIN","PICOTA","CASPISAPA","Hombre","00-04",{"$f":"'Pob x Genero'!CT1804","v":73},1796]
["220704","SAN MARTIN","SAN MARTIN","PICOTA","PILLUANA","Hombre","00-04",{"$f":"'Pob x Genero'!CT1805","v":39},1797]
["220705","SAN MARTIN","SAN MARTIN","PICOTA","PUCACACA","Hombre","00-04",{"$f":"'Pob x Genero'!CT1806","v":149},1798]
["220706","SAN MARTIN","SAN MARTIN","PICOTA","SAN CRISTOBAL","Hombre","00-04",{"$f":"'Pob x Genero'!CT1807","v":34},1799]
["220707","SAN MARTIN","SAN MARTIN","PICOTA","SAN HILARION","Hombre","00-04",{"$f":"'Pob x Genero'!CT1808","v":163},1800]
["220708","SAN MARTIN","SAN MARTIN","PICOTA","SHAMBOYACU","Hombre","00-04",{"$f":"'Pob x Genero'!CT1809","v":521},1801]
["220709","SAN MARTIN","SAN MARTIN","PICOTA","TINGO DE PONASA","Hombre","00-04",{"$f":"'Pob x Genero'!CT1810","v":202},1802]
["220710","SAN MARTIN","SAN MARTIN","PICOTA","TRES UNIDOS","Hombre","00-04",{"$f":"'Pob x Genero'!CT1811","v":199},1803]
["220801","SAN MARTIN","SAN MARTIN","RIOJA","RIOJA","Hombre","00-04",{"$f":"'Pob x Genero'!CT1812","v":1002},1804]
["220802","SAN MARTIN","SAN MARTIN","RIOJA","AWAJUN","Hombre","00-04",{"$f":"'Pob x Genero'!CT1813","v":674},1805]
["220803","SAN MARTIN","SAN MARTIN","RIOJA","ELIAS SOPLIN VARGAS","Hombre","00-04",{"$f":"'Pob x Genero'!CT1814","v":1125},1806]
["220804","SAN MARTIN","SAN MARTIN","RIOJA","NUEVA CAJAMARCA","Hombre","00-04",{"$f":"'Pob x Genero'!CT1815","v":1884},1807]
["220805","SAN MARTIN","SAN MARTIN","RIOJA","PARDO MIGUEL","Hombre","00-04",{"$f":"'Pob x Genero'!CT1816","v":866},1808]
["220806","SAN MARTIN","SAN MARTIN","RIOJA","POSIC","Hombre","00-04",{"$f":"'Pob x Genero'!CT1817","v":110},1809]
["220807","SAN MARTIN","SAN MARTIN","RIOJA","SAN FERNANDO","Hombre","00-04",{"$f":"'Pob x Genero'!CT1818","v":137},1810]
["220808","SAN MARTIN","SAN MARTIN","RIOJA","YORONGOS","Hombre","00-04",{"$f":"'Pob x Genero'!CT1819","v":96},1811]
["220809","SAN MARTIN","SAN MARTIN","RIOJA","YURACYACU","Hombre","00-04",{"$f":"'Pob x Genero'!CT1820","v":112},1812]
["220901","SAN MARTIN","SAN MARTIN","SAN MARTIN","TARAPOTO","Hombre","00-04",{"$f":"'Pob x Genero'!CT1821","v":2637},1813]
["220902","SAN MARTIN","SAN MARTIN","SAN MARTIN","ALBERTO LEVEAU","Hombre","00-04",{"$f":"'Pob x Genero'!CT1822","v":23},1814]
["220903","SAN MARTIN","SAN MARTIN","SAN MARTIN","CACATACHI","Hombre","00-04",{"$f":"'Pob x Genero'!CT1823","v":138},1815]
["220904","SAN MARTIN","SAN MARTIN","SAN MARTIN","CHAZUTA","Hombre","00-04",{"$f":"'Pob x Genero'!CT1824","v":517},1816]
["220905","SAN MARTIN","SAN MARTIN","SAN MARTIN","CHIPURANA","Hombre","00-04",{"$f":"'Pob x Genero'!CT1825","v":131},1817]
["220906","SAN MARTIN","SAN MARTIN","SAN MARTIN","EL PORVENIR","Hombre","00-04",{"$f":"'Pob x Genero'!CT1826","v":162},1818]
["220907","SAN MARTIN","SAN MARTIN","SAN MARTIN","HUIMBAYOC","Hombre","00-04",{"$f":"'Pob x Genero'!CT1827","v":248},1819]
["220908","SAN MARTIN","SAN MARTIN","SAN MARTIN","JUAN GUERRA","Hombre","00-04",{"$f":"'Pob x Genero'!CT1828","v":154},1820]
["220909","SAN MARTIN","SAN MARTIN","SAN MARTIN","LA BANDA DE SHILCAYO","Hombre","00-04",{"$f":"'Pob x Genero'!CT1829","v":2284},1821]
["220910","SAN MARTIN","SAN MARTIN","SAN MARTIN","MORALES","Hombre","00-04",{"$f":"'Pob x Genero'!CT1830","v":1395},1822]
["220911","SAN MARTIN","SAN MARTIN","SAN MARTIN","PAPAPLAYA","Hombre","00-04",{"$f":"'Pob x Genero'!CT1831","v":161},1823]
["220912","SAN MARTIN","SAN MARTIN","SAN MARTIN","SAN ANTONIO","Hombre","00-04",{"$f":"'Pob x Genero'!CT1832","v":65},1824]
["220913","SAN MARTIN","SAN MARTIN","SAN MARTIN","SAUCE","Hombre","00-04",{"$f":"'Pob x Genero'!CT1833","v":285},1825]
["220914","SAN MARTIN","SAN MARTIN","SAN MARTIN","SHAPAJA","Hombre","00-04",{"$f":"'Pob x Genero'!CT1834","v":77},1826]
["221001","SAN MARTIN","SAN MARTIN","TOCACHE","TOCACHE","Hombre","00-04",{"$f":"'Pob x Genero'!CT1835","v":1159},1827]
["221002","SAN MARTIN","SAN MARTIN","TOCACHE","NUEVO PROGRESO","Hombre","00-04",{"$f":"'Pob x Genero'!CT1836","v":474},1828]
["221003","SAN MARTIN","SAN MARTIN","TOCACHE","POLVORA","Hombre","00-04",{"$f":"'Pob x Genero'!CT1837","v":472},1829]
["221004","SAN MARTIN","SAN MARTIN","TOCACHE","SHUNTE","Hombre","00-04",{"$f":"'Pob x Genero'!CT1838","v":74},1830]
["221005","SAN MARTIN","SAN MARTIN","TOCACHE","UCHIZA","Hombre","00-04",{"$f":"'Pob x Genero'!CT1839","v":759},1831]
["221006","SAN MARTIN","SAN MARTIN","TOCACHE","SANTA LUCIA","Hombre","00-04",{"$f":"'Pob x Genero'!CT1840","v":76},1832]
["230101","TACNA","TACNA","TACNA","TACNA","Hombre","00-04",{"$f":"'Pob x Genero'!CT1841","v":2615},1833]
["230102","TACNA","TACNA","TACNA","ALTO DE LA ALIANZA","Hombre","00-04",{"$f":"'Pob x Genero'!CT1842","v":861},1834]
["230103","TACNA","TACNA","TACNA","CALANA","Hombre","00-04",{"$f":"'Pob x Genero'!CT1843","v":110},1835]
["230104","TACNA","TACNA","TACNA","CIUDAD NUEVA","Hombre","00-04",{"$f":"'Pob x Genero'!CT1844","v":1091},1836]
["230105","TACNA","TACNA","TACNA","INCLAN","Hombre","00-04",{"$f":"'Pob x Genero'!CT1845","v":68},1837]
["230106","TACNA","TACNA","TACNA","PACHIA","Hombre","00-04",{"$f":"'Pob x Genero'!CT1846","v":47},1838]
["230107","TACNA","TACNA","TACNA","PALCA","Hombre","00-04",{"$f":"'Pob x Genero'!CT1847","v":36},1839]
["230108","TACNA","TACNA","TACNA","POCOLLAY","Hombre","00-04",{"$f":"'Pob x Genero'!CT1848","v":419},1840]
["230109","TACNA","TACNA","TACNA","SAMA","Hombre","00-04",{"$f":"'Pob x Genero'!CT1849","v":83},1841]
["230110","TACNA","TACNA","TACNA","CORONEL GREGORIO ALBARRACIN LANCHIPA","Hombre","00-04",{"$f":"'Pob x Genero'!CT1850","v":3430},1842]
["230111","TACNA","TACNA","TACNA","LA YARADA LOS PALOS","Hombre","00-04",{"$f":"'Pob x Genero'!CT1851","v":318},1843]
["230201","TACNA","TACNA","CANDARAVE","CANDARAVE","Hombre","00-04",{"$f":"'Pob x Genero'!CT1852","v":44},1844]
["230202","TACNA","TACNA","CANDARAVE","CAIRANI","Hombre","00-04",{"$f":"'Pob x Genero'!CT1853","v":21},1845]
["230203","TACNA","TACNA","CANDARAVE","CAMILACA","Hombre","00-04",{"$f":"'Pob x Genero'!CT1854","v":11},1846]
["230204","TACNA","TACNA","CANDARAVE","CURIBAYA","Hombre","00-04",{"$f":"'Pob x Genero'!CT1855","v":7},1847]
["230205","TACNA","TACNA","CANDARAVE","HUANUARA","Hombre","00-04",{"$f":"'Pob x Genero'!CT1856","v":17},1848]
["230206","TACNA","TACNA","CANDARAVE","QUILAHUANI","Hombre","00-04",{"$f":"'Pob x Genero'!CT1857","v":17},1849]
["230301","TACNA","TACNA","JORGE BASADRE","LOCUMBA","Hombre","00-04",{"$f":"'Pob x Genero'!CT1858","v":58},1850]
["230302","TACNA","TACNA","JORGE BASADRE","ILABAYA","Hombre","00-04",{"$f":"'Pob x Genero'!CT1859","v":60},1851]
["230303","TACNA","TACNA","JORGE BASADRE","ITE","Hombre","00-04",{"$f":"'Pob x Genero'!CT1860","v":78},1852]
["230401","TACNA","TACNA","TARATA","TARATA","Hombre","00-04",{"$f":"'Pob x Genero'!CT1861","v":83},1853]
["230402","TACNA","TACNA","TARATA","HEROES ALBARRACIN","Hombre","00-04",{"$f":"'Pob x Genero'!CT1862","v":6},1854]
["230403","TACNA","TACNA","TARATA","ESTIQUE","Hombre","00-04",{"$f":"'Pob x Genero'!CT1863","v":11},1855]
["230404","TACNA","TACNA","TARATA","ESTIQUE-PAMPA","Hombre","00-04",{"$f":"'Pob x Genero'!CT1864","v":5},1856]
["230405","TACNA","TACNA","TARATA","SITAJARA","Hombre","00-04",{"$f":"'Pob x Genero'!CT1865","v":3},1857]
["230406","TACNA","TACNA","TARATA","SUSAPAYA","Hombre","00-04",{"$f":"'Pob x Genero'!CT1866","v":4},1858]
["230407","TACNA","TACNA","TARATA","TARUCACHI","Hombre","00-04",{"$f":"'Pob x Genero'!CT1867","v":12},1859]
["230408","TACNA","TACNA","TARATA","TICACO","Hombre","00-04",{"$f":"'Pob x Genero'!CT1868","v":13},1860]
["240101","TUMBES","TUMBES","TUMBES","TUMBES","Hombre","00-04",{"$f":"'Pob x Genero'!CT1869","v":4402},1861]
["240102","TUMBES","TUMBES","TUMBES","CORRALES","Hombre","00-04",{"$f":"'Pob x Genero'!CT1870","v":986},1862]
["240103","TUMBES","TUMBES","TUMBES","LA CRUZ","Hombre","00-04",{"$f":"'Pob x Genero'!CT1871","v":354},1863]
["240104","TUMBES","TUMBES","TUMBES","PAMPAS DE HOSPITAL","Hombre","00-04",{"$f":"'Pob x Genero'!CT1872","v":310},1864]
["240105","TUMBES","TUMBES","TUMBES","SAN JACINTO","Hombre","00-04",{"$f":"'Pob x Genero'!CT1873","v":292},1865]
["240106","TUMBES","TUMBES","TUMBES","SAN JUAN DE LA VIRGEN","Hombre","00-04",{"$f":"'Pob x Genero'!CT1874","v":174},1866]
["240201","TUMBES","TUMBES","CONTRALMIRANTE VILLAR","ZORRITOS","Hombre","00-04",{"$f":"'Pob x Genero'!CT1875","v":501},1867]
["240202","TUMBES","TUMBES","CONTRALMIRANTE VILLAR","CASITAS","Hombre","00-04",{"$f":"'Pob x Genero'!CT1876","v":79},1868]
["240203","TUMBES","TUMBES","CONTRALMIRANTE VILLAR","CANOAS DE PUNTA SAL","Hombre","00-04",{"$f":"'Pob x Genero'!CT1877","v":350},1869]
["240301","TUMBES","TUMBES","ZARUMILLA","ZARUMILLA","Hombre","00-04",{"$f":"'Pob x Genero'!CT1878","v":963},1870]
["240302","TUMBES","TUMBES","ZARUMILLA","AGUAS VERDES","Hombre","00-04",{"$f":"'Pob x Genero'!CT1879","v":871},1871]
["240303","TUMBES","TUMBES","ZARUMILLA","MATAPALO","Hombre","00-04",{"$f":"'Pob x Genero'!CT1880","v":230},1872]
["240304","TUMBES","TUMBES","ZARUMILLA","PAPAYAL","Hombre","00-04",{"$f":"'Pob x Genero'!CT1881","v":332},1873]
["250101","UCAYALI","UCAYALI","CORONEL PORTILLO","CALLERIA","Hombre","00-04",{"$f":"'Pob x Genero'!CT1882","v":7574},1874]
["250102","UCAYALI","UCAYALI","CORONEL PORTILLO","CAMPOVERDE","Hombre","00-04",{"$f":"'Pob x Genero'!CT1883","v":1169},1875]
["250103","UCAYALI","UCAYALI","CORONEL PORTILLO","IPARIA","Hombre","00-04",{"$f":"'Pob x Genero'!CT1884","v":1182},1876]
["250104","UCAYALI","UCAYALI","CORONEL PORTILLO","MASISEA","Hombre","00-04",{"$f":"'Pob x Genero'!CT1885","v":1165},1877]
["250105","UCAYALI","UCAYALI","CORONEL PORTILLO","YARINACOCHA","Hombre","00-04",{"$f":"'Pob x Genero'!CT1886","v":5857},1878]
["250106","UCAYALI","UCAYALI","CORONEL PORTILLO","NUEVA REQUENA","Hombre","00-04",{"$f":"'Pob x Genero'!CT1887","v":540},1879]
["250107","UCAYALI","UCAYALI","CORONEL PORTILLO","MANANTAY","Hombre","00-04",{"$f":"'Pob x Genero'!CT1888","v":5014},1880]
["250201","UCAYALI","UCAYALI","ATALAYA","RAYMONDI","Hombre","00-04",{"$f":"'Pob x Genero'!CT1889","v":3497},1881]
["250202","UCAYALI","UCAYALI","ATALAYA","SEPAHUA","Hombre","00-04",{"$f":"'Pob x Genero'!CT1890","v":600},1882]
["250203","UCAYALI","UCAYALI","ATALAYA","TAHUANIA","Hombre","00-04",{"$f":"'Pob x Genero'!CT1891","v":1163},1883]
["250204","UCAYALI","UCAYALI","ATALAYA","YURUA","Hombre","00-04",{"$f":"'Pob x Genero'!CT1892","v":221},1884]
["250301","UCAYALI","UCAYALI","PADRE ABAD","PADRE ABAD","Hombre","00-04",{"$f":"'Pob x Genero'!CT1893","v":1597},1885]
["250302","UCAYALI","UCAYALI","PADRE ABAD","IRAZOLA","Hombre","00-04",{"$f":"'Pob x Genero'!CT1894","v":925},1886]
["250303","UCAYALI","UCAYALI","PADRE ABAD","CURIMANA","Hombre","00-04",{"$f":"'Pob x Genero'!CT1895","v":773},1887]
["250304","UCAYALI","UCAYALI","PADRE ABAD","NESHUYA","Hombre","00-04",{"$f":"'Pob x Genero'!CT1896","v":655},1888]
["250305","UCAYALI","UCAYALI","PADRE ABAD","ALEXANDER VON HUMBOLDT","Hombre","00-04",{"$f":"'Pob x Genero'!CT1897","v":306},1889]
["250306","UCAYALI","UCAYALI","PADRE ABAD","HUIPOCA","Hombre","00-04",{"$f":"'Pob x Genero'!CT1898","v":187},1890]
["250307","UCAYALI","UCAYALI","PADRE ABAD","BOQUERON","Hombre","00-04",{"$f":"'Pob x Genero'!CT1899","v":181},1891]
["250401","UCAYALI","UCAYALI","PURUS","PURUS","Hombre","00-04",{"$f":"'Pob x Genero'!CT1900","v":227},1892]
["010101","AMAZONAS","AMAZONAS","CHACHAPOYAS","CHACHAPOYAS","Hombre","05-09",{"$f":"'Pob x Genero'!CU9","v":2195},1893]
["010102","AMAZONAS","AMAZONAS","CHACHAPOYAS","ASUNCION","Hombre","05-09",{"$f":"'Pob x Genero'!CU10","v":8},1894]
["010103","AMAZONAS","AMAZONAS","CHACHAPOYAS","BALSAS","Hombre","05-09",{"$f":"'Pob x Genero'!CU11","v":41},1895]
["010104","AMAZONAS","AMAZONAS","CHACHAPOYAS","CHETO","Hombre","05-09",{"$f":"'Pob x Genero'!CU12","v":25},1896]
["010105","AMAZONAS","AMAZONAS","CHACHAPOYAS","CHILIQUIN","Hombre","05-09",{"$f":"'Pob x Genero'!CU13","v":25},1897]
["010106","AMAZONAS","AMAZONAS","CHACHAPOYAS","CHUQUIBAMBA","Hombre","05-09",{"$f":"'Pob x Genero'!CU14","v":87},1898]
["010107","AMAZONAS","AMAZONAS","CHACHAPOYAS","GRANADA","Hombre","05-09",{"$f":"'Pob x Genero'!CU15","v":15},1899]
["010108","AMAZONAS","AMAZONAS","CHACHAPOYAS","HUANCAS","Hombre","05-09",{"$f":"'Pob x Genero'!CU16","v":47},1900]
["010109","AMAZONAS","AMAZONAS","CHACHAPOYAS","LA JALCA","Hombre","05-09",{"$f":"'Pob x Genero'!CU17","v":188},1901]
["010110","AMAZONAS","AMAZONAS","CHACHAPOYAS","LEIMEBAMBA","Hombre","05-09",{"$f":"'Pob x Genero'!CU18","v":149},1902]
["010111","AMAZONAS","AMAZONAS","CHACHAPOYAS","LEVANTO","Hombre","05-09",{"$f":"'Pob x Genero'!CU19","v":27},1903]
["010112","AMAZONAS","AMAZONAS","CHACHAPOYAS","MAGDALENA","Hombre","05-09",{"$f":"'Pob x Genero'!CU20","v":28},1904]
["010113","AMAZONAS","AMAZONAS","CHACHAPOYAS","MARISCAL CASTILLA","Hombre","05-09",{"$f":"'Pob x Genero'!CU21","v":55},1905]
["010114","AMAZONAS","AMAZONAS","CHACHAPOYAS","MOLINOPAMPA","Hombre","05-09",{"$f":"'Pob x Genero'!CU22","v":106},1906]
["010115","AMAZONAS","AMAZONAS","CHACHAPOYAS","MONTEVIDEO","Hombre","05-09",{"$f":"'Pob x Genero'!CU23","v":6},1907]
["010116","AMAZONAS","AMAZONAS","CHACHAPOYAS","OLLEROS","Hombre","05-09",{"$f":"'Pob x Genero'!CU24","v":18},1908]
["010117","AMAZONAS","AMAZONAS","CHACHAPOYAS","QUINJALCA","Hombre","05-09",{"$f":"'Pob x Genero'!CU25","v":19},1909]
["010118","AMAZONAS","AMAZONAS","CHACHAPOYAS","SAN FRANCISCO DE DAGUAS","Hombre","05-09",{"$f":"'Pob x Genero'!CU26","v":6},1910]
["010119","AMAZONAS","AMAZONAS","CHACHAPOYAS","SAN ISIDRO DE MAINO","Hombre","05-09",{"$f":"'Pob x Genero'!CU27","v":21},1911]
["010120","AMAZONAS","AMAZONAS","CHACHAPOYAS","SOLOCO","Hombre","05-09",{"$f":"'Pob x Genero'!CU28","v":44},1912]
["010121","AMAZONAS","AMAZONAS","CHACHAPOYAS","SONCHE","Hombre","05-09",{"$f":"'Pob x Genero'!CU29","v":8},1913]
["010201","AMAZONAS","AMAZONAS","BAGUA","BAGUA","Hombre","05-09",{"$f":"'Pob x Genero'!CU30","v":1525},1914]
["010202","AMAZONAS","AMAZONAS","BAGUA","ARAMANGO","Hombre","05-09",{"$f":"'Pob x Genero'!CU31","v":434},1915]
["010203","AMAZONAS","AMAZONAS","BAGUA","COPALLIN","Hombre","05-09",{"$f":"'Pob x Genero'!CU32","v":156},1916]
["010204","AMAZONAS","AMAZONAS","BAGUA","EL PARCO","Hombre","05-09",{"$f":"'Pob x Genero'!CU33","v":51},1917]
["010205","AMAZONAS","AMAZONAS","BAGUA","IMAZA","Hombre","05-09",{"$f":"'Pob x Genero'!CU34","v":2417},1918]
["010206","AMAZONAS","AMAZONAS","BAGUA","LA PECA","Hombre","05-09",{"$f":"'Pob x Genero'!CU35","v":210},1919]
["010301","AMAZONAS","AMAZONAS","BONGARA","JUMBILLA","Hombre","05-09",{"$f":"'Pob x Genero'!CU36","v":50},1920]
["010302","AMAZONAS","AMAZONAS","BONGARA","CHISQUILLA","Hombre","05-09",{"$f":"'Pob x Genero'!CU37","v":16},1921]
["010303","AMAZONAS","AMAZONAS","BONGARA","CHURUJA","Hombre","05-09",{"$f":"'Pob x Genero'!CU38","v":7},1922]
["010304","AMAZONAS","AMAZONAS","BONGARA","COROSHA","Hombre","05-09",{"$f":"'Pob x Genero'!CU39","v":42},1923]
["010305","AMAZONAS","AMAZONAS","BONGARA","CUISPES","Hombre","05-09",{"$f":"'Pob x Genero'!CU40","v":19},1924]
["010306","AMAZONAS","AMAZONAS","BONGARA","FLORIDA","Hombre","05-09",{"$f":"'Pob x Genero'!CU41","v":273},1925]
["010307","AMAZONAS","AMAZONAS","BONGARA","JAZAN","Hombre","05-09",{"$f":"'Pob x Genero'!CU42","v":332},1926]
["010308","AMAZONAS","AMAZONAS","BONGARA","RECTA","Hombre","05-09",{"$f":"'Pob x Genero'!CU43","v":9},1927]
["010309","AMAZONAS","AMAZONAS","BONGARA","SAN CARLOS","Hombre","05-09",{"$f":"'Pob x Genero'!CU44","v":8},1928]
["010310","AMAZONAS","AMAZONAS","BONGARA","SHIPASBAMBA","Hombre","05-09",{"$f":"'Pob x Genero'!CU45","v":57},1929]
["010311","AMAZONAS","AMAZONAS","BONGARA","VALERA","Hombre","05-09",{"$f":"'Pob x Genero'!CU46","v":25},1930]
["010312","AMAZONAS","AMAZONAS","BONGARA","YAMBRASBAMBA","Hombre","05-09",{"$f":"'Pob x Genero'!CU47","v":260},1931]
["010401","AMAZONAS","AMAZONAS","CONDORCANQUI","NIEVA","Hombre","05-09",{"$f":"'Pob x Genero'!CU48","v":1739},1932]
["010402","AMAZONAS","AMAZONAS","CONDORCANQUI","EL CENEPA","Hombre","05-09",{"$f":"'Pob x Genero'!CU49","v":985},1933]
["010403","AMAZONAS","AMAZONAS","CONDORCANQUI","RIO SANTIAGO","Hombre","05-09",{"$f":"'Pob x Genero'!CU50","v":1498},1934]
["010501","AMAZONAS","AMAZONAS","LUYA","LAMUD","Hombre","05-09",{"$f":"'Pob x Genero'!CU51","v":100},1935]
["010502","AMAZONAS","AMAZONAS","LUYA","CAMPORREDONDO","Hombre","05-09",{"$f":"'Pob x Genero'!CU52","v":412},1936]
["010503","AMAZONAS","AMAZONAS","LUYA","COCABAMBA","Hombre","05-09",{"$f":"'Pob x Genero'!CU53","v":118},1937]
["010504","AMAZONAS","AMAZONAS","LUYA","COLCAMAR","Hombre","05-09",{"$f":"'Pob x Genero'!CU54","v":66},1938]
["010505","AMAZONAS","AMAZONAS","LUYA","CONILA","Hombre","05-09",{"$f":"'Pob x Genero'!CU55","v":83},1939]
["010506","AMAZONAS","AMAZONAS","LUYA","INGUILPATA","Hombre","05-09",{"$f":"'Pob x Genero'!CU56","v":14},1940]
["010507","AMAZONAS","AMAZONAS","LUYA","LONGUITA","Hombre","05-09",{"$f":"'Pob x Genero'!CU57","v":35},1941]
["010508","AMAZONAS","AMAZONAS","LUYA","LONYA CHICO","Hombre","05-09",{"$f":"'Pob x Genero'!CU58","v":18},1942]
["010509","AMAZONAS","AMAZONAS","LUYA","LUYA","Hombre","05-09",{"$f":"'Pob x Genero'!CU59","v":154},1943]
["010510","AMAZONAS","AMAZONAS","LUYA","LUYA VIEJO","Hombre","05-09",{"$f":"'Pob x Genero'!CU60","v":21},1944]
["010511","AMAZONAS","AMAZONAS","LUYA","MARIA","Hombre","05-09",{"$f":"'Pob x Genero'!CU61","v":19},1945]
["010512","AMAZONAS","AMAZONAS","LUYA","OCALLI","Hombre","05-09",{"$f":"'Pob x Genero'!CU62","v":167},1946]
["010513","AMAZONAS","AMAZONAS","LUYA","OCUMAL","Hombre","05-09",{"$f":"'Pob x Genero'!CU63","v":145},1947]
["010514","AMAZONAS","AMAZONAS","LUYA","PISUQUIA","Hombre","05-09",{"$f":"'Pob x Genero'!CU64","v":215},1948]
["010515","AMAZONAS","AMAZONAS","LUYA","PROVIDENCIA","Hombre","05-09",{"$f":"'Pob x Genero'!CU65","v":61},1949]
["010516","AMAZONAS","AMAZONAS","LUYA","SAN CRISTOBAL","Hombre","05-09",{"$f":"'Pob x Genero'!CU66","v":21},1950]
["010517","AMAZONAS","AMAZONAS","LUYA","SAN FRANCISCO DEL YESO","Hombre","05-09",{"$f":"'Pob x Genero'!CU67","v":26},1951]
["010518","AMAZONAS","AMAZONAS","LUYA","SAN JERONIMO","Hombre","05-09",{"$f":"'Pob x Genero'!CU68","v":15},1952]
["010519","AMAZONAS","AMAZONAS","LUYA","SAN JUAN DE LOPECANCHA","Hombre","05-09",{"$f":"'Pob x Genero'!CU69","v":14},1953]
["010520","AMAZONAS","AMAZONAS","LUYA","SANTA CATALINA","Hombre","05-09",{"$f":"'Pob x Genero'!CU70","v":102},1954]
["010521","AMAZONAS","AMAZONAS","LUYA","SANTO TOMAS","Hombre","05-09",{"$f":"'Pob x Genero'!CU71","v":118},1955]
["010522","AMAZONAS","AMAZONAS","LUYA","TINGO","Hombre","05-09",{"$f":"'Pob x Genero'!CU72","v":52},1956]
["010523","AMAZONAS","AMAZONAS","LUYA","TRITA","Hombre","05-09",{"$f":"'Pob x Genero'!CU73","v":52},1957]
["010601","AMAZONAS","AMAZONAS","RODRIGUEZ DE MENDOZA","SAN NICOLAS","Hombre","05-09",{"$f":"'Pob x Genero'!CU74","v":252},1958]
["010602","AMAZONAS","AMAZONAS","RODRIGUEZ DE MENDOZA","CHIRIMOTO","Hombre","05-09",{"$f":"'Pob x Genero'!CU75","v":133},1959]
["010603","AMAZONAS","AMAZONAS","RODRIGUEZ DE MENDOZA","COCHAMAL","Hombre","05-09",{"$f":"'Pob x Genero'!CU76","v":13},1960]
["010604","AMAZONAS","AMAZONAS","RODRIGUEZ DE MENDOZA","HUAMBO","Hombre","05-09",{"$f":"'Pob x Genero'!CU77","v":68},1961]
["010605","AMAZONAS","AMAZONAS","RODRIGUEZ DE MENDOZA","LIMABAMBA","Hombre","05-09",{"$f":"'Pob x Genero'!CU78","v":70},1962]
["010606","AMAZONAS","AMAZONAS","RODRIGUEZ DE MENDOZA","LONGAR","Hombre","05-09",{"$f":"'Pob x Genero'!CU79","v":64},1963]
["010607","AMAZONAS","AMAZONAS","RODRIGUEZ DE MENDOZA","MARISCAL BENAVIDES","Hombre","05-09",{"$f":"'Pob x Genero'!CU80","v":43},1964]
["010608","AMAZONAS","AMAZONAS","RODRIGUEZ DE MENDOZA","MILPUC","Hombre","05-09",{"$f":"'Pob x Genero'!CU81","v":17},1965]
["010609","AMAZONAS","AMAZONAS","RODRIGUEZ DE MENDOZA","OMIA","Hombre","05-09",{"$f":"'Pob x Genero'!CU82","v":535},1966]
["010610","AMAZONAS","AMAZONAS","RODRIGUEZ DE MENDOZA","SANTA ROSA","Hombre","05-09",{"$f":"'Pob x Genero'!CU83","v":20},1967]
["010611","AMAZONAS","AMAZONAS","RODRIGUEZ DE MENDOZA","TOTORA","Hombre","05-09",{"$f":"'Pob x Genero'!CU84","v":7},1968]
["010612","AMAZONAS","AMAZONAS","RODRIGUEZ DE MENDOZA","VISTA ALEGRE","Hombre","05-09",{"$f":"'Pob x Genero'!CU85","v":295},1969]
["010701","AMAZONAS","AMAZONAS","UTCUBAMBA","BAGUA GRANDE","Hombre","05-09",{"$f":"'Pob x Genero'!CU86","v":2825},1970]
["010702","AMAZONAS","AMAZONAS","UTCUBAMBA","CAJARURO","Hombre","05-09",{"$f":"'Pob x Genero'!CU87","v":1030},1971]
["010703","AMAZONAS","AMAZONAS","UTCUBAMBA","CUMBA","Hombre","05-09",{"$f":"'Pob x Genero'!CU88","v":411},1972]
["010704","AMAZONAS","AMAZONAS","UTCUBAMBA","EL MILAGRO","Hombre","05-09",{"$f":"'Pob x Genero'!CU89","v":274},1973]
["010705","AMAZONAS","AMAZONAS","UTCUBAMBA","JAMALCA","Hombre","05-09",{"$f":"'Pob x Genero'!CU90","v":333},1974]
["010706","AMAZONAS","AMAZONAS","UTCUBAMBA","LONYA GRANDE","Hombre","05-09",{"$f":"'Pob x Genero'!CU91","v":540},1975]
["010707","AMAZONAS","AMAZONAS","UTCUBAMBA","YAMON","Hombre","05-09",{"$f":"'Pob x Genero'!CU92","v":124},1976]
["020101","ANCASH","ANCASH","HUARAZ","HUARAZ","Hombre","05-09",{"$f":"'Pob x Genero'!CU93","v":3462},1977]
["020102","ANCASH","ANCASH","HUARAZ","COCHABAMBA","Hombre","05-09",{"$f":"'Pob x Genero'!CU94","v":98},1978]
["020103","ANCASH","ANCASH","HUARAZ","COLCABAMBA","Hombre","05-09",{"$f":"'Pob x Genero'!CU95","v":10},1979]
["020104","ANCASH","ANCASH","HUARAZ","HUANCHAY","Hombre","05-09",{"$f":"'Pob x Genero'!CU96","v":60},1980]
["020105","ANCASH","ANCASH","HUARAZ","INDEPENDENCIA","Hombre","05-09",{"$f":"'Pob x Genero'!CU97","v":4888},1981]
["020106","ANCASH","ANCASH","HUARAZ","JANGAS","Hombre","05-09",{"$f":"'Pob x Genero'!CU98","v":221},1982]
["020107","ANCASH","ANCASH","HUARAZ","LA LIBERTAD","Hombre","05-09",{"$f":"'Pob x Genero'!CU99","v":55},1983]
["020108","ANCASH","ANCASH","HUARAZ","OLLEROS","Hombre","05-09",{"$f":"'Pob x Genero'!CU100","v":96},1984]
["020109","ANCASH","ANCASH","HUARAZ","PAMPAS","Hombre","05-09",{"$f":"'Pob x Genero'!CU101","v":42},1985]
["020110","ANCASH","ANCASH","HUARAZ","PARIACOTO","Hombre","05-09",{"$f":"'Pob x Genero'!CU102","v":231},1986]
["020111","ANCASH","ANCASH","HUARAZ","PIRA","Hombre","05-09",{"$f":"'Pob x Genero'!CU103","v":150},1987]
["020112","ANCASH","ANCASH","HUARAZ","TARICA","Hombre","05-09",{"$f":"'Pob x Genero'!CU104","v":348},1988]
["020201","ANCASH","ANCASH","AIJA","AIJA","Hombre","05-09",{"$f":"'Pob x Genero'!CU105","v":59},1989]
["020202","ANCASH","ANCASH","AIJA","CORIS","Hombre","05-09",{"$f":"'Pob x Genero'!CU106","v":52},1990]
["020203","ANCASH","ANCASH","AIJA","HUACLLAN","Hombre","05-09",{"$f":"'Pob x Genero'!CU107","v":12},1991]
["020204","ANCASH","ANCASH","AIJA","LA MERCED","Hombre","05-09",{"$f":"'Pob x Genero'!CU108","v":52},1992]
["020205","ANCASH","ANCASH","AIJA","SUCCHA","Hombre","05-09",{"$f":"'Pob x Genero'!CU109","v":15},1993]
["020301","ANCASH","ANCASH","ANTONIO RAYMONDI","LLAMELLIN","Hombre","05-09",{"$f":"'Pob x Genero'!CU110","v":162},1994]
["020302","ANCASH","ANCASH","ANTONIO RAYMONDI","ACZO","Hombre","05-09",{"$f":"'Pob x Genero'!CU111","v":82},1995]
["020303","ANCASH","ANCASH","ANTONIO RAYMONDI","CHACCHO","Hombre","05-09",{"$f":"'Pob x Genero'!CU112","v":44},1996]
["020304","ANCASH","ANCASH","ANTONIO RAYMONDI","CHINGAS","Hombre","05-09",{"$f":"'Pob x Genero'!CU113","v":91},1997]
["020305","ANCASH","ANCASH","ANTONIO RAYMONDI","MIRGAS","Hombre","05-09",{"$f":"'Pob x Genero'!CU114","v":184},1998]
["020306","ANCASH","ANCASH","ANTONIO RAYMONDI","SAN JUAN DE RONTOY","Hombre","05-09",{"$f":"'Pob x Genero'!CU115","v":51},1999]
["020609","ANCASH","ANCASH","CARHUAZ","SHILLA","Hombre","05-09",{"$f":"'Pob x Genero'!CU141","v":97},2025]
["021004","ANCASH","ANCASH","HUARI","CHAVIN DE HUANTAR","Hombre","05-09",{"$f":"'Pob x Genero'!CU161","v":476},2045]
["021404","ANCASH","ANCASH","OCROS","CARHUAPAMPA","Hombre","05-09",{"$f":"'Pob x Genero'!CU200","v":13},2084]
["021903","ANCASH","ANCASH","SIHUAS","ALFONSO UGARTE","Hombre","05-09",{"$f":"'Pob x Genero'!CU243","v":16},2127]
["021909","ANCASH","ANCASH","SIHUAS","SAN JUAN","Hombre","05-09",{"$f":"'Pob x Genero'!CU249","v":364},2133]
["030307","APURIMAC","APURIMAC","ANTABAMBA","SABAINO","Hombre","05-09",{"$f":"'Pob x Genero'!CU294","v":28},2178]
["030701","APURIMAC","APURIMAC","GRAU","CHUQUIBAMBILLA","Hombre","05-09",{"$f":"'Pob x Genero'!CU330","v":192},2214]
["040126","AREQUIPA","AREQUIPA","AREQUIPA","YANAHUARA","Hombre","05-09",{"$f":"'Pob x Genero'!CU369","v":1103},2253]
["040207","AREQUIPA","AREQUIPA","CAMANA","QUILCA","Hombre","05-09",{"$f":"'Pob x Genero'!CU379","v":34},2263]
["040511","AREQUIPA","AREQUIPA","CAYLLOMA","LLUTA","Hombre","05-09",{"$f":"'Pob x Genero'!CU418","v":14},2302]
["040806","AREQUIPA","AREQUIPA","LA UNION","PUYCA","Hombre","05-09",{"$f":"'Pob x Genero'!CU447","v":117},2331]
["050508","AYACUCHO","AYACUCHO","LA MAR","TAMBO","Hombre","05-09",{"$f":"'Pob x Genero'!CU499","v":485},2383]
["050803","AYACUCHO","AYACUCHO","PAUCAR DEL SARA SARA","CORCULLA","Hombre","05-09",{"$f":"'Pob x Genero'!CU538","v":17},2422]
["050809","AYACUCHO","AYACUCHO","PAUCAR DEL SARA SARA","SAN JOSE DE USHUA","Hombre","05-09",{"$f":"'Pob x Genero'!CU544","v":13},2428]
["060111","CAJAMARCA","CAJAMARCA","CAJAMARCA","NAMORA","Hombre","05-09",{"$f":"'Pob x Genero'!CU587","v":544},2471]
["060601","CAJAMARCA","CAJAMARCA","CUTERVO","CUTERVO","Hombre","05-09",{"$f":"'Pob x Genero'!CU632","v":2147},2516]
["060907","CAJAMARCA","CAJAMARCA","SAN IGNACIO","TABACONAS","Hombre","05-09",{"$f":"'Pob x Genero'!CU668","v":976},2552]
["061006","CAJAMARCA","CAJAMARCA","SAN MARCOS","JOSE MANUEL QUIROZ","Hombre","05-09",{"$f":"'Pob x Genero'!CU674","v":151},2558]
["080103","CUSCO","CUSCO","CUSCO","POROY","Hombre","05-09",{"$f":"'Pob x Genero'!CU713","v":554},2597]
["080606","CUSCO","CUSCO","CANCHIS","SAN PABLO","Hombre","05-09",{"$f":"'Pob x Genero'!CU756","v":145},2640]
["080911","CUSCO","CUSCO","LA CONVENCION","INKAWASI","Hombre","05-09",{"$f":"'Pob x Genero'!CU785","v":219},2669]
["081103","CUSCO","CUSCO","PAUCARTAMBO","CHALLABAMBA","Hombre","05-09",{"$f":"'Pob x Genero'!CU804","v":472},2688]
["090117","HUANCAVELICA","HUANCAVELICA","HUANCAVELICA","YAULI","Hombre","05-09",{"$f":"'Pob x Genero'!CU843","v":1082},2727]
["090504","HUANCAVELICA","HUANCAVELICA","CHURCAMPA","EL CARMEN","Hombre","05-09",{"$f":"'Pob x Genero'!CU882","v":98},2766]
["090722","HUANCAVELICA","HUANCAVELICA","TAYACAJA","PICHOS","Hombre","05-09",{"$f":"'Pob x Genero'!CU925","v":111},2809]
["100110","HUANUCO","HUANUCO","HUANUCO","YARUMAYO","Hombre","05-09",{"$f":"'Pob x Genero'!CU938","v":68},2822]
["100507","HUANUCO","HUANUCO","HUAMALIES","MONZON","Hombre","05-09",{"$f":"'Pob x Genero'!CU969","v":415},2853]
["101108","HUANUCO","HUANUCO","YAROWILCA","CHORAS","Hombre","05-09",{"$f":"'Pob x Genero'!CU1012","v":36},2896]
["110504","ICA","ICA","PISCO","INDEPENDENCIA","Hombre","05-09",{"$f":"'Pob x Genero'!CU1051","v":860},2935]
["120211","JUNIN","JUNIN","CONCEPCION","MITO","Hombre","05-09",{"$f":"'Pob x Genero'!CU1094","v":50},2978]
["120302","JUNIN","JUNIN","CHANCHAMAYO","PERENE","Hombre","05-09",{"$f":"'Pob x Genero'!CU1100","v":2942},2984]
["120503","JUNIN","JUNIN","JUNIN","ONDORES","Hombre","05-09",{"$f":"'Pob x Genero'!CU1141","v":35},3025]
["130102","LA LIBERTAD","LA LIBERTAD","TRUJILLO","EL PORVENIR","Hombre","05-09",{"$f":"'Pob x Genero'!CU1181","v":8285},3065]
["130611","LA LIBERTAD","LA LIBERTAD","OTUZCO","SALPO","Hombre","05-09",{"$f":"'Pob x Genero'!CU1220","v":200},3104]
["131103","LA LIBERTAD","LA LIBERTAD","GRAN CHIMU","MARMOT","Hombre","05-09",{"$f":"'Pob x Genero'!CU1259","v":84},3143]
["140106","LAMBAYEQUE","LAMBAYEQUE","CHICLAYO","LA VICTORIA","Hombre","05-09",{"$f":"'Pob x Genero'!CU1269","v":4367},3153]
["150125","DIRIS NORTE","LIMA","LIMA","PUENTE PIEDRA","Hombre","05-09",{"$f":"'Pob x Genero'!CU1326","v":16714},3210]
["150301","LIMA","LIMA","CAJATAMBO","CAJATAMBO","Hombre","05-09",{"$f":"'Pob x Genero'!CU1350","v":42},3234]
["150612","LIMA","LIMA","HUARAL","VEINTISIETE DE NOVIEMBRE","Hombre","05-09",{"$f":"'Pob x Genero'!CU1389","v":4},3273]
["150706","LIMA","LIMA","HUAROCHIRI","CUENCA","Hombre","05-09",{"$f":"'Pob x Genero'!CU1395","v":9},3279]
["150905","LIMA","LIMA","OYON","NAVAN","Hombre","05-09",{"$f":"'Pob x Genero'!CU1438","v":20},3322]
["160107","LORETO","LORETO","MAYNAS","NAPO","Hombre","05-09",{"$f":"'Pob x Genero'!CU1479","v":964},3363]
["160703","LORETO","LORETO","DATEM DEL MARAÑON","MANSERICHE","Hombre","05-09",{"$f":"'Pob x Genero'!CU1519","v":1042},3403]
["180303","MOQUEGUA","MOQUEGUA","ILO","PACOCHA","Hombre","05-09",{"$f":"'Pob x Genero'!CU1558","v":153},3442]
["190106","PASCO","PASCO","PASCO","PALLANCHACRA","Hombre","05-09",{"$f":"'Pob x Genero'!CU1564","v":51},3448]
["200210","PIURA","PIURA","AYABACA","SUYO","Hombre","05-09",{"$f":"'Pob x Genero'!CU1607","v":445},3491]
["200507","PIURA","PIURA","PAITA","VICHAYAL","Hombre","05-09",{"$f":"'Pob x Genero'!CU1632","v":316},3516]
["210302","PUNO","PUNO","CARABAYA","AJOYANI","Hombre","05-09",{"$f":"'Pob x Genero'!CU1684","v":67},3568]
["210402","PUNO","PUNO","CHUCUITO","DESAGUADERO","Hombre","05-09",{"$f":"'Pob x Genero'!CU1694","v":528},3578]
["210902","PUNO","PUNO","MOHO","CONIMA","Hombre","05-09",{"$f":"'Pob x Genero'!CU1733","v":114},3617]
["220302","SAN MARTIN","SAN MARTIN","EL DORADO","AGUA BLANCA","Hombre","05-09",{"$f":"'Pob x Genero'!CU1776","v":107},3660]
["220806","SAN MARTIN","SAN MARTIN","RIOJA","POSIC","Hombre","05-09",{"$f":"'Pob x Genero'!CU1817","v":106},3701]
["230202","TACNA","TACNA","CANDARAVE","CAIRANI","Hombre","05-09",{"$f":"'Pob x Genero'!CU1853","v":14},3737]
["230403","TACNA","TACNA","TARATA","ESTIQUE","Hombre","05-09",{"$f":"'Pob x Genero'!CU1863","v":2},3747]
["010102","AMAZONAS","AMAZONAS","CHACHAPOYAS","ASUNCION","Hombre","10-14",{"$f":"'Pob x Genero'!CV10","v":9},3786]
["010503","AMAZONAS","AMAZONAS","LUYA","COCABAMBA","Hombre","10-14",{"$f":"'Pob x Genero'!CV53","v":101},3829]
["010605","AMAZONAS","AMAZONAS","RODRIGUEZ DE MENDOZA","LIMABAMBA","Hombre","10-14",{"$f":"'Pob x Genero'!CV78","v":82},3854]
["020105","ANCASH","ANCASH","HUARAZ","INDEPENDENCIA","Hombre","10-14",{"$f":"'Pob x Genero'!CV97","v":3856},3873]
["020608","ANCASH","ANCASH","CARHUAZ","SAN MIGUEL DE ACO","Hombre","10-14",{"$f":"'Pob x Genero'!CV140","v":87},3916]
["021201","ANCASH","ANCASH","HUAYLAS","CARAZ","Hombre","10-14",{"$f":"'Pob x Genero'!CV179","v":1182},3955]
["021601","ANCASH","ANCASH","POMABAMBA","POMABAMBA","Hombre","10-14",{"$f":"'Pob x Genero'!CV218","v":869},3994]
["021707","ANCASH","ANCASH","RECUAY","PAMPAS CHICO","Hombre","10-14",{"$f":"'Pob x Genero'!CV228","v":17},4004]
["030214","APURIMAC","APURIMAC","ANDAHUAYLAS","SAN MIGUEL DE CHACCRAMPA","Hombre","10-14",{"$f":"'Pob x Genero'!CV281","v":77},4057]
["030415","APURIMAC","APURIMAC","AYMARAES","TINTAY","Hombre","10-14",{"$f":"'Pob x Genero'!CV309","v":71},4085]
["040105","AREQUIPA","AREQUIPA","AREQUIPA","CHARACATO","Hombre","10-14",{"$f":"'Pob x Genero'!CV348","v":743},4124]
["040307","AREQUIPA","AREQUIPA","CARAVELI","CHALA","Hombre","10-14",{"$f":"'Pob x Genero'!CV387","v":508},4163]
["040404","AREQUIPA","AREQUIPA","CASTILLA","CHACHAS","Hombre","10-14",{"$f":"'Pob x Genero'!CV397","v":68},4173]
["040607","AREQUIPA","AREQUIPA","CONDESUYOS","SALAMANCA","Hombre","10-14",{"$f":"'Pob x Genero'!CV434","v":13},4210]
["050206","AYACUCHO","AYACUCHO","CANGALLO","TOTOS","Hombre","10-14",{"$f":"'Pob x Genero'!CV474","v":86},4250]
["050611","AYACUCHO","AYACUCHO","LUCANAS","LUCANAS","Hombre","10-14",{"$f":"'Pob x Genero'!CV517","v":112},4293]
["050617","AYACUCHO","AYACUCHO","LUCANAS","SAN PEDRO","Hombre","10-14",{"$f":"'Pob x Genero'!CV523","v":116},4299]
["051010","AYACUCHO","AYACUCHO","VICTOR FAJARDO","HUAYA","Hombre","10-14",{"$f":"'Pob x Genero'!CV566","v":82},4342]
["060111","CAJAMARCA","CAJAMARCA","CAJAMARCA","NAMORA","Hombre","10-14",{"$f":"'Pob x Genero'!CV587","v":512},4363]
["060612","CAJAMARCA","CAJAMARCA","CUTERVO","SANTO DOMINGO DE LA CAPILLA","Hombre","10-14",{"$f":"'Pob x Genero'!CV643","v":190},4419]
["060804","CAJAMARCA","CAJAMARCA","JAEN","COLASAY","Hombre","10-14",{"$f":"'Pob x Genero'!CV653","v":466},4429]
["061204","CAJAMARCA","CAJAMARCA","SAN PABLO","TUMBADEN","Hombre","10-14",{"$f":"'Pob x Genero'!CV692","v":180},4468]
["080401","CUSCO","CUSCO","CALCA","CALCA","Hombre","10-14",{"$f":"'Pob x Genero'!CV735","v":1102},4511]
["080806","CUSCO","CUSCO","ESPINAR","PICHIGUA","Hombre","10-14",{"$f":"'Pob x Genero'!CV772","v":111},4548]
["081205","CUSCO","CUSCO","QUISPICANCHI","CCATCA","Hombre","10-14",{"$f":"'Pob x Genero'!CV812","v":882},4588]
["081303","CUSCO","CUSCO","URUBAMBA","HUAYLLABAMBA","Hombre","10-14",{"$f":"'Pob x Genero'!CV822","v":239},4598]
["090308","HUANCAVELICA","HUANCAVELICA","ANGARAES","HUAYLLAY GRANDE","Hombre","10-14",{"$f":"'Pob x Genero'!CV861","v":44},4637]
["090611","HUANCAVELICA","HUANCAVELICA","HUAYTARA","SAN FRANCISCO DE SANGAYAICO","Hombre","10-14",{"$f":"'Pob x Genero'!CV900","v":73},4676]
["090722","HUANCAVELICA","HUANCAVELICA","TAYACAJA","PICHOS","Hombre","10-14",{"$f":"'Pob x Genero'!CV925","v":71},4701]
["100207","HUANUCO","HUANUCO","AMBO","SAN RAFAEL","Hombre","10-14",{"$f":"'Pob x Genero'!CV948","v":452},4724]
["100803","HUANUCO","HUANUCO","PACHITEA","MOLINO","Hombre","10-14",{"$f":"'Pob x Genero'!CV991","v":505},4767]
["110204","ICA","ICA","CHINCHA","CHINCHA BAJA","Hombre","10-14",{"$f":"'Pob x Genero'!CV1030","v":955},4806]
["120120","JUNIN","JUNIN","HUANCAYO","HUASICANCHA","Hombre","10-14",{"$f":"'Pob x Genero'!CV1069","v":44},4845]
["120130","JUNIN","JUNIN","HUANCAYO","SAN JERONIMO DE TUNAN","Hombre","10-14",{"$f":"'Pob x Genero'!CV1078","v":668},4854]
["120413","JUNIN","JUNIN","JAUJA","LEONOR ORDOÑEZ","Hombre","10-14",{"$f":"'Pob x Genero'!CV1117","v":50},4893]
["120705","JUNIN","JUNIN","TARMA","LA UNION","Hombre","10-14",{"$f":"'Pob x Genero'!CV1156","v":161},4932]
["130208","LA LIBERTAD","LA LIBERTAD","ASCOPE","CASA GRANDE","Hombre","10-14",{"$f":"'Pob x Genero'!CV1199","v":954},4975]
["130811","LA LIBERTAD","LA LIBERTAD","PATAZ","SANTIAGO DE CHALLAS","Hombre","10-14",{"$f":"'Pob x Genero'!CV1238","v":79},5014]
["130908","LA LIBERTAD","LA LIBERTAD","SANCHEZ CARRION","SARTIMBAMBA","Hombre","10-14",{"$f":"'Pob x Genero'!CV1248","v":888},5024]
["140118","LAMBAYEQUE","LAMBAYEQUE","CHICLAYO","POMALCA","Hombre","10-14",{"$f":"'Pob x Genero'!CV1281","v":1127},5057]
["150124","DIRIS SUR","LIMA","LIMA","PUCUSANA","Hombre","10-14",{"$f":"'Pob x Genero'!CV1325","v":730},5101]
["150507","LIMA","LIMA","CAÑETE","IMPERIAL","Hombre","10-14",{"$f":"'Pob x Genero'!CV1368","v":1571},5144]
["150513","LIMA","LIMA","CAÑETE","SAN ANTONIO","Hombre","10-14",{"$f":"'Pob x Genero'!CV1374","v":161},5150]
["150728","LIMA","LIMA","HUAROCHIRI","SANTA EULALIA","Hombre","10-14",{"$f":"'Pob x Genero'!CV1417","v":556},5193]
["151027","LIMA","LIMA","YAUYOS","SAN PEDRO DE PILAS","Hombre","10-14",{"$f":"'Pob x Genero'!CV1466","v":6},5242]
["160305","LORETO","LORETO","LORETO","URARINAS","Hombre","10-14",{"$f":"'Pob x Genero'!CV1494","v":857},5270]
["160505","LORETO","LORETO","REQUENA","MAQUIA","Hombre","10-14",{"$f":"'Pob x Genero'!CV1504","v":481},5280]
["180106","MOQUEGUA","MOQUEGUA","MARISCAL NIETO","TORATA","Hombre","10-14",{"$f":"'Pob x Genero'!CV1543","v":134},5319]
["190303","PASCO","PASCO","OXAPAMPA","HUANCABAMBA","Hombre","10-14",{"$f":"'Pob x Genero'!CV1582","v":316},5358]
["200404","PIURA","PIURA","MORROPON","LA MATANZA","Hombre","10-14",{"$f":"'Pob x Genero'!CV1619","v":607},5395]
["210111","PUNO","PUNO","PUNO","PICHACANI","Hombre","10-14",{"$f":"'Pob x Genero'!CV1663","v":224},5439]
["210206","PUNO","PUNO","AZANGARO","CHUPA","Hombre","10-14",{"$f":"'Pob x Genero'!CV1673","v":217},5449]
["210608","PUNO","PUNO","HUANCANE","VILQUE CHICO","Hombre","10-14",{"$f":"'Pob x Genero'!CV1712","v":170},5488]
["211206","PUNO","PUNO","SANDIA","QUIACA","Hombre","10-14",{"$f":"'Pob x Genero'!CV1751","v":73},5527]
["220204","SAN MARTIN","SAN MARTIN","BELLAVISTA","HUALLAGA","Hombre","10-14",{"$f":"'Pob x Genero'!CV1772","v":145},5548]
["220603","SAN MARTIN","SAN MARTIN","MARISCAL CACERES","HUICUNGO","Hombre","10-14",{"$f":"'Pob x Genero'!CV1799","v":587},5575]
["230102","TACNA","TACNA","TACNA","ALTO DE LA ALIANZA","Hombre","10-14",{"$f":"'Pob x Genero'!CV1842","v":1236},5618]
["240304","TUMBES","TUMBES","ZARUMILLA","PAPAYAL","Hombre","10-14",{"$f":"'Pob x Genero'!CV1881","v":441},5657]
["010120","AMAZONAS","AMAZONAS","CHACHAPOYAS","SOLOCO","Hombre","15-19",{"$f":"'Pob x Genero'!CW28","v":55},5696]
["010515","AMAZONAS","AMAZONAS","LUYA","PROVIDENCIA","Hombre","15-19",{"$f":"'Pob x Genero'!CW65","v":71},5733]
["010603","AMAZONAS","AMAZONAS","RODRIGUEZ DE MENDOZA","COCHAMAL","Hombre","15-19",{"$f":"'Pob x Genero'!CW76","v":32},5744]
["020306","ANCASH","ANCASH","ANTONIO RAYMONDI","SAN JUAN DE RONTOY","Hombre","15-19",{"$f":"'Pob x Genero'!CW115","v":63},5783]
["021001","ANCASH","ANCASH","HUARI","HUARI","Hombre","15-19",{"$f":"'Pob x Genero'!CW158","v":489},5826]
["021401","ANCASH","ANCASH","OCROS","OCROS","Hombre","15-19",{"$f":"'Pob x Genero'!CW197","v":39},5865]
["021601","ANCASH","ANCASH","POMABAMBA","POMABAMBA","Hombre","15-19",{"$f":"'Pob x Genero'!CW218","v":830},5886]
["021905","ANCASH","ANCASH","SIHUAS","CHINGALPO","Hombre","15-19",{"$f":"'Pob x Genero'!CW245","v":52},5913]
["030217","APURIMAC","APURIMAC","ANDAHUAYLAS","TUMAY HUARACA","Hombre","15-19",{"$f":"'Pob x Genero'!CW284","v":87},5952]
["030610","APURIMAC","APURIMAC","CHINCHEROS","EL PORVENIR","Hombre","15-19",{"$f":"'Pob x Genero'!CW327","v":94},5995]
["040123","AREQUIPA","AREQUIPA","AREQUIPA","TIABAYA","Hombre","15-19",{"$f":"'Pob x Genero'!CW366","v":622},6034]
["040129","AREQUIPA","AREQUIPA","AREQUIPA","JOSE LUIS BUSTAMANTE Y RIVERO","Hombre","15-19",{"$f":"'Pob x Genero'!CW372","v":3149},6040]
["040514","AREQUIPA","AREQUIPA","CAYLLOMA","SAN ANTONIO DE CHUCA","Hombre","15-19",{"$f":"'Pob x Genero'!CW421","v":54},6089]
["050101","AYACUCHO","AYACUCHO","HUAMANGA","AYACUCHO","Hombre","15-19",{"$f":"'Pob x Genero'!CW453","v":5209},6121]
["050505","AYACUCHO","AYACUCHO","LA MAR","CHUNGUI","Hombre","15-19",{"$f":"'Pob x Genero'!CW496","v":255},6164]
["050511","AYACUCHO","AYACUCHO","LA MAR","ORONCCOY","Hombre","15-19",{"$f":"'Pob x Genero'!CW502","v":52},6170]
["050806","AYACUCHO","AYACUCHO","PAUCAR DEL SARA SARA","OYOLO","Hombre","15-19",{"$f":"'Pob x Genero'!CW541","v":103},6209]
["051106","AYACUCHO","AYACUCHO","VILCAS HUAMAN","INDEPENDENCIA","Hombre","15-19",{"$f":"'Pob x Genero'!CW574","v":39},6242]
["060418","CAJAMARCA","CAJAMARCA","CHOTA","TOCMOCHE","Hombre","15-19",{"$f":"'Pob x Genero'!CW622","v":24},6290]
["060601","CAJAMARCA","CAJAMARCA","CUTERVO","CUTERVO","Hombre","15-19",{"$f":"'Pob x Genero'!CW632","v":2770},6300]
["061003","CAJAMARCA","CAJAMARCA","SAN MARCOS","EDUARDO VILLANUEVA","Hombre","15-19",{"$f":"'Pob x Genero'!CW671","v":117},6339]
["070107","CALLAO","CALLAO","CALLAO","MI PERU","Hombre","15-19",{"$f":"'Pob x Genero'!CW710","v":2184},6378]
["080701","CUSCO","CUSCO","CHUMBIVILCAS","SANTO TOMAS","Hombre","15-19",{"$f":"'Pob x Genero'!CW759","v":1227},6427]
["080917","CUSCO","CUSCO","LA CONVENCION","MANITEA","Hombre","15-19",{"$f":"'Pob x Genero'!CW791","v":174},6459]
["081005","CUSCO","CUSCO","PARURO","HUANOQUITE","Hombre","15-19",{"$f":"'Pob x Genero'!CW797","v":234},6465]
["090114","HUANCAVELICA","HUANCAVELICA","HUANCAVELICA","PALCA","Hombre","15-19",{"$f":"'Pob x Genero'!CW840","v":50},6508]
["090501","HUANCAVELICA","HUANCAVELICA","CHURCAMPA","CHURCAMPA","Hombre","15-19",{"$f":"'Pob x Genero'!CW879","v":472},6547]
["090707","HUANCAVELICA","HUANCAVELICA","TAYACAJA","HUACHOCOLPA","Hombre","15-19",{"$f":"'Pob x Genero'!CW912","v":108},6580]
["090724","HUANCAVELICA","HUANCAVELICA","TAYACAJA","LAMBRAS","Hombre","15-19",{"$f":"'Pob x Genero'!CW927","v":80},6595]
["100504","HUANUCO","HUANUCO","HUAMALIES","JACAS GRANDE","Hombre","15-19",{"$f":"'Pob x Genero'!CW966","v":317},6634]
["101105","HUANUCO","HUANUCO","YAROWILCA","JACAS CHICO","Hombre","15-19",{"$f":"'Pob x Genero'!CW1009","v":24},6677]
["110501","ICA","ICA","PISCO","PISCO","Hombre","15-19",{"$f":"'Pob x Genero'!CW1048","v":3626},6716]
["120114","JUNIN","JUNIN","HUANCAYO","EL TAMBO","Hombre","15-19",{"$f":"'Pob x Genero'!CW1065","v":7436},6733]
["120213","JUNIN","JUNIN","CONCEPCION","ORCOTUNA","Hombre","15-19",{"$f":"'Pob x Genero'!CW1096","v":264},6764]
["120431","JUNIN","JUNIN","JAUJA","SINCOS","Hombre","15-19",{"$f":"'Pob x Genero'!CW1135","v":201},6803]
["120908","JUNIN","JUNIN","CHUPACA","TRES DE DICIEMBRE","Hombre","15-19",{"$f":"'Pob x Genero'!CW1178","v":127},6846]
["130606","LA LIBERTAD","LA LIBERTAD","OTUZCO","LA CUESTA","Hombre","15-19",{"$f":"'Pob x Genero'!CW1217","v":15},6885]
["131002","LA LIBERTAD","LA LIBERTAD","SANTIAGO DE CHUCO","ANGASMARCA","Hombre","15-19",{"$f":"'Pob x Genero'!CW1250","v":237},6918]
["140102","LAMBAYEQUE","LAMBAYEQUE","CHICLAYO","CHONGOYAPE","Hombre","15-19",{"$f":"'Pob x Genero'!CW1265","v":876},6933]
["150103","DIRIS ESTE","LIMA","LIMA","ATE","Hombre","15-19",{"$f":"'Pob x Genero'!CW1304","v":26921},6972]
["150203","LIMA","LIMA","BARRANCA","PATIVILCA","Hombre","15-19",{"$f":"'Pob x Genero'!CW1347","v":608},7015]
["150304","LIMA","LIMA","CAJATAMBO","HUANCAPON","Hombre","15-19",{"$f":"'Pob x Genero'!CW1353","v":40},7021]
["150703","LIMA","LIMA","HUAROCHIRI","CALLAHUANCA","Hombre","15-19",{"$f":"'Pob x Genero'!CW1392","v":12},7060]
["150732","LIMA","LIMA","HUAROCHIRI","SURCO","Hombre","15-19",{"$f":"'Pob x Genero'!CW1421","v":28},7089]
["160101","LORETO","LORETO","MAYNAS","IQUITOS","Hombre","15-19",{"$f":"'Pob x Genero'!CW1473","v":6178},7141]
["160602","LORETO","LORETO","UCAYALI","INAHUAYA","Hombre","15-19",{"$f":"'Pob x Genero'!CW1512","v":82},7180]
["160706","LORETO","LORETO","DATEM DEL MARAÑON","ANDOAS","Hombre","15-19",{"$f":"'Pob x Genero'!CW1522","v":1009},7190]
["190103","PASCO","PASCO","PASCO","HUARIACA","Hombre","15-19",{"$f":"'Pob x Genero'!CW1561","v":258},7229]
["200209","PIURA","PIURA","AYABACA","SICCHEZ","Hombre","15-19",{"$f":"'Pob x Genero'!CW1606","v":45},7274]
["200702","PIURA","PIURA","TALARA","EL ALTO","Hombre","15-19",{"$f":"'Pob x Genero'!CW1642","v":445},7310]
["200802","PIURA","PIURA","SECHURA","BELLAVISTA DE LA UNION","Hombre","15-19",{"$f":"'Pob x Genero'!CW1648","v":234},7316]
["210309","PUNO","PUNO","CARABAYA","SAN GABAN","Hombre","15-19",{"$f":"'Pob x Genero'!CW1691","v":214},7359]
["210808","PUNO","PUNO","MELGAR","SANTA ROSA","Hombre","15-19",{"$f":"'Pob x Genero'!CW1730","v":275},7398]
["211304","PUNO","PUNO","YUNGUYO","CUTURAPI","Hombre","15-19",{"$f":"'Pob x Genero'!CW1759","v":43},7427]
["220304","SAN MARTIN","SAN MARTIN","EL DORADO","SANTA ROSA","Hombre","15-19",{"$f":"'Pob x Genero'!CW1778","v":512},7446]
["220806","SAN MARTIN","SAN MARTIN","RIOJA","POSIC","Hombre","15-19",{"$f":"'Pob x Genero'!CW1817","v":101},7485]
["230303","TACNA","TACNA","JORGE BASADRE","ITE","Hombre","15-19",{"$f":"'Pob x Genero'!CW1860","v":91},7528]
["250307","UCAYALI","UCAYALI","PADRE ABAD","BOQUERON","Hombre","15-19",{"$f":"'Pob x Genero'!CW1899","v":322},7567]
["010112","AMAZONAS","AMAZONAS","CHACHAPOYAS","MAGDALENA","Hombre","20-24",{"$f":"'Pob x Genero'!CX20","v":45},7580]
["010505","AMAZONAS","AMAZONAS","LUYA","CONILA","Hombre","20-24",{"$f":"'Pob x Genero'!CX55","v":70},7615]
["020102","ANCASH","ANCASH","HUARAZ","COCHABAMBA","Hombre","20-24",{"$f":"'Pob x Genero'!CX94","v":44},7654]
["020605","ANCASH","ANCASH","CARHUAZ","ATAQUERO","Hombre","20-24",{"$f":"'Pob x Genero'!CX137","v":61},7697]
["021103","ANCASH","ANCASH","HUARMEY","CULEBRAS","Hombre","20-24",{"$f":"'Pob x Genero'!CX176","v":95},7736]
["021409","ANCASH","ANCASH","OCROS","SAN PEDRO","Hombre","20-24",{"$f":"'Pob x Genero'!CX205","v":6},7765]
["021703","ANCASH","ANCASH","RECUAY","COTAPARACO","Hombre","20-24",{"$f":"'Pob x Genero'!CX224","v":10},7784]
["030105","APURIMAC","APURIMAC","ABANCAY","HUANIPACA","Hombre","20-24",{"$f":"'Pob x Genero'!CX263","v":92},7823]
["030408","APURIMAC","APURIMAC","AYMARAES","JUSTO APU SAHUARAURA","Hombre","20-24",{"$f":"'Pob x Genero'!CX302","v":21},7862]
["030501","APURIMAC","APURIMAC","COTABAMBAS","TAMBOBAMBA","Hombre","20-24",{"$f":"'Pob x Genero'!CX312","v":371},7872]
["040115","AREQUIPA","AREQUIPA","AREQUIPA","QUEQUEÑA","Hombre","20-24",{"$f":"'Pob x Genero'!CX358","v":185},7918]
["040313","AREQUIPA","AREQUIPA","CARAVELI","YAUCA","Hombre","20-24",{"$f":"'Pob x Genero'!CX393","v":79},7953]
["040605","AREQUIPA","AREQUIPA","CONDESUYOS","IRAY","Hombre","20-24",{"$f":"'Pob x Genero'!CX432","v":20},7992]
["050203","AYACUCHO","AYACUCHO","CANGALLO","LOS MOROCHUCOS","Hombre","20-24",{"$f":"'Pob x Genero'!CX471","v":282},8031]
["050403","AYACUCHO","AYACUCHO","HUANTA","HUAMANGUILLA","Hombre","20-24",{"$f":"'Pob x Genero'!CX481","v":158},8041]
["050614","AYACUCHO","AYACUCHO","LUCANAS","SAISA","Hombre","20-24",{"$f":"'Pob x Genero'!CX520","v":17},8080]
["051005","AYACUCHO","AYACUCHO","VICTOR FAJARDO","CANARIA","Hombre","20-24",{"$f":"'Pob x Genero'!CX561","v":183},8121]
["060309","CAJAMARCA","CAJAMARCA","CELENDIN","SOROCHUCO","Hombre","20-24",{"$f":"'Pob x Genero'!CX601","v":268},8161]
["060403","CAJAMARCA","CAJAMARCA","CHOTA","CHADIN","Hombre","20-24",{"$f":"'Pob x Genero'!CX607","v":145},8167]
["060801","CAJAMARCA","CAJAMARCA","JAEN","JAEN","Hombre","20-24",{"$f":"'Pob x Genero'!CX650","v":4520},8210]
["061201","CAJAMARCA","CAJAMARCA","SAN PABLO","SAN PABLO","Hombre","20-24",{"$f":"'Pob x Genero'!CX689","v":517},8249]
["080104","CUSCO","CUSCO","CUSCO","SAN JERONIMO","Hombre","20-24",{"$f":"'Pob x Genero'!CX714","v":3046},8274]
["080804","CUSCO","CUSCO","ESPINAR","OCORURO","Hombre","20-24",{"$f":"'Pob x Genero'!CX770","v":23},8330]
["080902","CUSCO","CUSCO","LA CONVENCION","ECHARATE","Hombre","20-24",{"$f":"'Pob x Genero'!CX776","v":604},8336]
["081212","CUSCO","CUSCO","QUISPICANCHI","QUIQUIJANA","Hombre","20-24",{"$f":"'Pob x Genero'!CX819","v":506},8379]
["090305","HUANCAVELICA","HUANCAVELICA","ANGARAES","CHINCHO","Hombre","20-24",{"$f":"'Pob x Genero'!CX858","v":34},8418]
["090610","HUANCAVELICA","HUANCAVELICA","HUAYTARA","SAN ANTONIO DE CUSICANCHA","Hombre","20-24",{"$f":"'Pob x Genero'!CX899","v":49},8459]
["090701","HUANCAVELICA","HUANCAVELICA","TAYACAJA","PAMPAS","Hombre","20-24",{"$f":"'Pob x Genero'!CX906","v":580},8466]
["100204","HUANUCO","HUANUCO","AMBO","CONCHAMARCA","Hombre","20-24",{"$f":"'Pob x Genero'!CX945","v":173},8505]
["100705","HUANUCO","HUANUCO","MARAÑON","SANTA ROSA DE ALTO YANAJANCA","Hombre","20-24",{"$f":"'Pob x Genero'!CX988","v":91},8548]
["110201","ICA","ICA","CHINCHA","CHINCHA ALTA","Hombre","20-24",{"$f":"'Pob x Genero'!CX1027","v":3277},8587]
["110505","ICA","ICA","PISCO","PARACAS","Hombre","20-24",{"$f":"'Pob x Genero'!CX1052","v":436},8612]
["120127","JUNIN","JUNIN","HUANCAYO","QUICHUAY","Hombre","20-24",{"$f":"'Pob x Genero'!CX1075","v":96},8635]
["120410","JUNIN","JUNIN","JAUJA","HUERTAS","Hombre","20-24",{"$f":"'Pob x Genero'!CX1114","v":66},8674]
["120702","JUNIN","JUNIN","TARMA","ACOBAMBA","Hombre","20-24",{"$f":"'Pob x Genero'!CX1153","v":265},8713]
["130205","LA LIBERTAD","LA LIBERTAD","ASCOPE","PAIJAN","Hombre","20-24",{"$f":"'Pob x Genero'!CX1196","v":879},8756]
["130306","LA LIBERTAD","LA LIBERTAD","BOLIVAR","UCUNCHA","Hombre","20-24",{"$f":"'Pob x Genero'!CX1205","v":23},8765]
["130904","LA LIBERTAD","LA LIBERTAD","SANCHEZ CARRION","CURGOS","Hombre","20-24",{"$f":"'Pob x Genero'!CX1244","v":417},8804]
["140120","LAMBAYEQUE","LAMBAYEQUE","CHICLAYO","TUMAN","Hombre","20-24",{"$f":"'Pob x Genero'!CX1283","v":961},8843]
["150121","DIRIS CENTRO","LIMA","LIMA","PUEBLO LIBRE","Hombre","20-24",{"$f":"'Pob x Genero'!CX1322","v":2756},8882]
["150131","DIRIS CENTRO","LIMA","LIMA","SAN ISIDRO","Hombre","20-24",{"$f":"'Pob x Genero'!CX1332","v":1925},8892]
["150701","LIMA","LIMA","HUAROCHIRI","MATUCANA","Hombre","20-24",{"$f":"'Pob x Genero'!CX1390","v":102},8950]
["150720","LIMA","LIMA","HUAROCHIRI","SAN JUAN DE TANTARANCHE","Hombre","20-24",{"$f":"'Pob x Genero'!CX1409","v":8},8969]
["151013","LIMA","LIMA","YAUYOS","HUAMPARA","Hombre","20-24",{"$f":"'Pob x Genero'!CX1452","v":1},9012]
["160302","LORETO","LORETO","LORETO","PARINARI","Hombre","20-24",{"$f":"'Pob x Genero'!CX1491","v":226},9051]
["160502","LORETO","LORETO","REQUENA","ALTO TAPICHE","Hombre","20-24",{"$f":"'Pob x Genero'!CX1501","v":86},9061]
["180103","MOQUEGUA","MOQUEGUA","MARISCAL NIETO","CUCHUMBAYA","Hombre","20-24",{"$f":"'Pob x Genero'!CX1540","v":11},9100]
["190103","PASCO","PASCO","PASCO","HUARIACA","Hombre","20-24",{"$f":"'Pob x Genero'!CX1561","v":242},9121]
["200406","PIURA","PIURA","MORROPON","SALITRAL","Hombre","20-24",{"$f":"'Pob x Genero'!CX1621","v":293},9181]
["200502","PIURA","PIURA","PAITA","AMOTAPE","Hombre","20-24",{"$f":"'Pob x Genero'!CX1627","v":80},9187]
["210203","PUNO","PUNO","AZANGARO","ARAPA","Hombre","20-24",{"$f":"'Pob x Genero'!CX1670","v":327},9230]
["210605","PUNO","PUNO","HUANCANE","PUSI","Hombre","20-24",{"$f":"'Pob x Genero'!CX1709","v":153},9269]
["211201","PUNO","PUNO","SANDIA","SANDIA","Hombre","20-24",{"$f":"'Pob x Genero'!CX1746","v":422},9306]
["211302","PUNO","PUNO","YUNGUYO","ANAPIA","Hombre","20-24",{"$f":"'Pob x Genero'!CX1757","v":52},9317]
["220511","SAN MARTIN","SAN MARTIN","LAMAS","ZAPATERO","Hombre","20-24",{"$f":"'Pob x Genero'!CX1796","v":230},9356]
["221001","SAN MARTIN","SAN MARTIN","TOCACHE","TOCACHE","Hombre","20-24",{"$f":"'Pob x Genero'!CX1835","v":1110},9395]
["240301","TUMBES","TUMBES","ZARUMILLA","ZARUMILLA","Hombre","20-24",{"$f":"'Pob x Genero'!CX1878","v":1683},9438]
["250307","UCAYALI","UCAYALI","PADRE ABAD","BOQUERON","Hombre","20-24",{"$f":"'Pob x Genero'!CX1899","v":344},9459]
["010205","AMAZONAS","AMAZONAS","BAGUA","IMAZA","Hombre","25-29",{"$f":"'Pob x Genero'!CY34","v":1077},9486]
["010523","AMAZONAS","AMAZONAS","LUYA","TRITA","Hombre","25-29",{"$f":"'Pob x Genero'!CY73","v":49},9525]
["020303","ANCASH","ANCASH","ANTONIO RAYMONDI","CHACCHO","Hombre","25-29",{"$f":"'Pob x Genero'!CY112","v":47},9564]
["020905","ANCASH","ANCASH","CORONGO","LA PAMPA","Hombre","25-29",{"$f":"'Pob x Genero'!CY155","v":34},9607]
["021003","ANCASH","ANCASH","HUARI","CAJAY","Hombre","25-29",{"$f":"'Pob x Genero'!CY160","v":109},9612]
["021403","ANCASH","ANCASH","OCROS","CAJAMARQUILLA","Hombre","25-29",{"$f":"'Pob x Genero'!CY199","v":6},9651]
["021902","ANCASH","ANCASH","SIHUAS","ACOBAMBA","Hombre","25-29",{"$f":"'Pob x Genero'!CY242","v":51},9694]
["030214","APURIMAC","APURIMAC","ANDAHUAYLAS","SAN MIGUEL DE CHACCRAMPA","Hombre","25-29",{"$f":"'Pob x Genero'!CY281","v":58},9733]
["030304","APURIMAC","APURIMAC","ANTABAMBA","JUAN ESPINOZA MEDRANO","Hombre","25-29",{"$f":"'Pob x Genero'!CY291","v":41},9743]
["040102","AREQUIPA","AREQUIPA","AREQUIPA","ALTO SELVA ALEGRE","Hombre","25-29",{"$f":"'Pob x Genero'!CY345","v":4055},9797]
["040125","AREQUIPA","AREQUIPA","AREQUIPA","VITOR","Hombre","25-29",{"$f":"'Pob x Genero'!CY368","v":197},9820]
["040504","AREQUIPA","AREQUIPA","CAYLLOMA","CALLALLI","Hombre","25-29",{"$f":"'Pob x Genero'!CY411","v":84},9863]
["040809","AREQUIPA","AREQUIPA","LA UNION","TAURIA","Hombre","25-29",{"$f":"'Pob x Genero'!CY450","v":19},9902]
["050108","AYACUCHO","AYACUCHO","HUAMANGA","QUINUA","Hombre","25-29",{"$f":"'Pob x Genero'!CY460","v":335},9912]
["050507","AYACUCHO","AYACUCHO","LA MAR","SANTA ROSA","Hombre","25-29",{"$f":"'Pob x Genero'!CY498","v":449},9950]
["050802","AYACUCHO","AYACUCHO","PAUCAR DEL SARA SARA","COLTA","Hombre","25-29",{"$f":"'Pob x Genero'!CY537","v":8},9989]
["060104","CAJAMARCA","CAJAMARCA","CAJAMARCA","COSPAN","Hombre","25-29",{"$f":"'Pob x Genero'!CY580","v":229},10032]
["060110","CAJAMARCA","CAJAMARCA","CAJAMARCA","MATARA","Hombre","25-29",{"$f":"'Pob x Genero'!CY586","v":154},10038]
["060502","CAJAMARCA","CAJAMARCA","CONTUMAZA","CHILETE","Hombre","25-29",{"$f":"'Pob x Genero'!CY625","v":89},10077]
["060907","CAJAMARCA","CAJAMARCA","SAN IGNACIO","TABACONAS","Hombre","25-29",{"$f":"'Pob x Genero'!CY668","v":803},10120]
["061309","CAJAMARCA","CAJAMARCA","SANTA CRUZ","SEXI","Hombre","25-29",{"$f":"'Pob x Genero'!CY701","v":17},10153]
["080106","CUSCO","CUSCO","CUSCO","SANTIAGO","Hombre","25-29",{"$f":"'Pob x Genero'!CY716","v":4860},10168]
["080605","CUSCO","CUSCO","CANCHIS","PITUMARCA","Hombre","25-29",{"$f":"'Pob x Genero'!CY755","v":336},10207]
["081002","CUSCO","CUSCO","PARURO","ACCHA","Hombre","25-29",{"$f":"'Pob x Genero'!CY794","v":97},10246]
["090111","HUANCAVELICA","HUANCAVELICA","HUANCAVELICA","MARISCAL CACERES","Hombre","25-29",{"$f":"'Pob x Genero'!CY837","v":16},10289]
["090301","HUANCAVELICA","HUANCAVELICA","ANGARAES","LIRCAY","Hombre","25-29",{"$f":"'Pob x Genero'!CY854","v":864},10306]
["090507","HUANCAVELICA","HUANCAVELICA","CHURCAMPA","PAUCARBAMBA","Hombre","25-29",{"$f":"'Pob x Genero'!CY885","v":172},10337]
["090721","HUANCAVELICA","HUANCAVELICA","TAYACAJA","ROBLE","Hombre","25-29",{"$f":"'Pob x Genero'!CY924","v":41},10376]
["100501","HUANUCO","HUANUCO","HUAMALIES","LLATA","Hombre","25-29",{"$f":"'Pob x Genero'!CY963","v":513},10415]
["101102","HUANUCO","HUANUCO","YAROWILCA","CAHUAC","Hombre","25-29",{"$f":"'Pob x Genero'!CY1006","v":50},10458]
["110302","ICA","ICA","NAZCA","CHANGUILLO","Hombre","25-29",{"$f":"'Pob x Genero'!CY1039","v":93},10491]
["110503","ICA","ICA","PISCO","HUMAY","Hombre","25-29",{"$f":"'Pob x Genero'!CY1050","v":307},10502]
["120210","JUNIN","JUNIN","CONCEPCION","MATAHUASI","Hombre","25-29",{"$f":"'Pob x Genero'!CY1093","v":229},10545]
["120428","JUNIN","JUNIN","JAUJA","SAN LORENZO","Hombre","25-29",{"$f":"'Pob x Genero'!CY1132","v":94},10584]
["120905","JUNIN","JUNIN","CHUPACA","HUAMANCACA CHICO","Hombre","25-29",{"$f":"'Pob x Genero'!CY1175","v":531},10627]
["130201","LA LIBERTAD","LA LIBERTAD","ASCOPE","ASCOPE","Hombre","25-29",{"$f":"'Pob x Genero'!CY1192","v":173},10644]
["130610","LA LIBERTAD","LA LIBERTAD","OTUZCO","PARANDAY","Hombre","25-29",{"$f":"'Pob x Genero'!CY1219","v":14},10671]
["131202","LA LIBERTAD","LA LIBERTAD","VIRU","CHAO","Hombre","25-29",{"$f":"'Pob x Genero'!CY1262","v":2019},10714]
["140312","LAMBAYEQUE","LAMBAYEQUE","LAMBAYEQUE","TUCUME","Hombre","25-29",{"$f":"'Pob x Genero'!CY1301","v":1075},10753]
["150106","DIRIS NORTE","LIMA","LIMA","CARABAYLLO","Hombre","25-29",{"$f":"'Pob x Genero'!CY1307","v":17100},10759]
["150201","LIMA","LIMA","BARRANCA","BARRANCA","Hombre","25-29",{"$f":"'Pob x Genero'!CY1345","v":2452},10797]
["150611","LIMA","LIMA","HUARAL","SUMBILCA","Hombre","25-29",{"$f":"'Pob x Genero'!CY1388","v":13},10840]
["150810","LIMA","LIMA","HUAURA","SANTA MARIA","Hombre","25-29",{"$f":"'Pob x Genero'!CY1431","v":1596},10883]
["151031","LIMA","LIMA","YAUYOS","TUPE","Hombre","25-29",{"$f":"'Pob x Genero'!CY1470","v":18},10922]
["160104","LORETO","LORETO","MAYNAS","INDIANA","Hombre","25-29",{"$f":"'Pob x Genero'!CY1476","v":448},10928]
["170104","MADRE DE DIOS","MADRE DE DIOS","TAMBOPATA","LABERINTO","Hombre","25-29",{"$f":"'Pob x Genero'!CY1530","v":374},10982]
["180302","MOQUEGUA","MOQUEGUA","ILO","EL ALGARROBAL","Hombre","25-29",{"$f":"'Pob x Genero'!CY1557","v":380},11009]
["200203","PIURA","PIURA","AYABACA","JILILI","Hombre","25-29",{"$f":"'Pob x Genero'!CY1600","v":90},11052]
["200209","PIURA","PIURA","AYABACA","SICCHEZ","Hombre","25-29",{"$f":"'Pob x Genero'!CY1606","v":40},11058]
["200705","PIURA","PIURA","TALARA","LOS ORGANOS","Hombre","25-29",{"$f":"'Pob x Genero'!CY1645","v":505},11097]
["210306","PUNO","PUNO","CARABAYA","CRUCERO","Hombre","25-29",{"$f":"'Pob x Genero'!CY1688","v":394},11140]
["210502","PUNO","PUNO","EL COLLAO","CAPAZO","Hombre","25-29",{"$f":"'Pob x Genero'!CY1701","v":24},11153]
["220103","SAN MARTIN","SAN MARTIN","MOYOBAMBA","HABANA","Hombre","25-29",{"$f":"'Pob x Genero'!CY1765","v":77},11217]
["220301","SAN MARTIN","SAN MARTIN","EL DORADO","SAN JOSE DE SISA","Hombre","25-29",{"$f":"'Pob x Genero'!CY1775","v":903},11227]
["220803","SAN MARTIN","SAN MARTIN","RIOJA","ELIAS SOPLIN VARGAS","Hombre","25-29",{"$f":"'Pob x Genero'!CY1814","v":908},11266]
["230206","TACNA","TACNA","CANDARAVE","QUILAHUANI","Hombre","25-29",{"$f":"'Pob x Genero'!CY1857","v":17},11309]
["250105","UCAYALI","UCAYALI","CORONEL PORTILLO","YARINACOCHA","Hombre","25-29",{"$f":"'Pob x Genero'!CY1886","v":5536},11338]
["010101","AMAZONAS","AMAZONAS","CHACHAPOYAS","CHACHAPOYAS","Hombre","30-34",{"$f":"'Pob x Genero'!CZ9","v":1903},11353]
["010502","AMAZONAS","AMAZONAS","LUYA","CAMPORREDONDO","Hombre","30-34",{"$f":"'Pob x Genero'!CZ52","v":256},11396]
["010706","AMAZONAS","AMAZONAS","UTCUBAMBA","LONYA GRANDE","Hombre","30-34",{"$f":"'Pob x Genero'!CZ91","v":404},11435]
["020602","ANCASH","ANCASH","CARHUAZ","ACOPAMPA","Hombre","30-34",{"$f":"'Pob x Genero'!CZ134","v":123},11478]
["020801","ANCASH","ANCASH","CASMA","CASMA","Hombre","30-34",{"$f":"'Pob x Genero'!CZ147","v":1803},11491]
["021105","ANCASH","ANCASH","HUARMEY","MALVAS","Hombre","30-34",{"$f":"'Pob x Genero'!CZ178","v":31},11522]
["021604","ANCASH","ANCASH","POMABAMBA","QUINUABAMBA","Hombre","30-34",{"$f":"'Pob x Genero'!CZ221","v":68},11565]
["030102","APURIMAC","APURIMAC","ABANCAY","CHACOCHE","Hombre","30-34",{"$f":"'Pob x Genero'!CZ260","v":97},11604]
["030405","APURIMAC","APURIMAC","AYMARAES","COLCABAMBA","Hombre","30-34",{"$f":"'Pob x Genero'!CZ299","v":23},11643]
["030703","APURIMAC","APURIMAC","GRAU","GAMARRA","Hombre","30-34",{"$f":"'Pob x Genero'!CZ332","v":68},11676]
["040104","AREQUIPA","AREQUIPA","AREQUIPA","CERRO COLORADO","Hombre","30-34",{"$f":"'Pob x Genero'!CZ347","v":10206},11691]
["040310","AREQUIPA","AREQUIPA","CARAVELI","JAQUI","Hombre","30-34",{"$f":"'Pob x Genero'!CZ390","v":55},11734]
["040602","AREQUIPA","AREQUIPA","CONDESUYOS","ANDARAY","Hombre","30-34",{"$f":"'Pob x Genero'!CZ429","v":24},11773]
["040608","AREQUIPA","AREQUIPA","CONDESUYOS","YANAQUIHUA","Hombre","30-34",{"$f":"'Pob x Genero'!CZ435","v":151},11779]
["050407","AYACUCHO","AYACUCHO","HUANTA","SIVIA","Hombre","30-34",{"$f":"'Pob x Genero'!CZ485","v":394},11829]
["050610","AYACUCHO","AYACUCHO","LUCANAS","LLAUTA","Hombre","30-34",{"$f":"'Pob x Genero'!CZ516","v":23},11860]
["050910","AYACUCHO","AYACUCHO","SUCRE","SANTIAGO DE PAUCARAY","Hombre","30-34",{"$f":"'Pob x Genero'!CZ555","v":9},11899]
["051009","AYACUCHO","AYACUCHO","VICTOR FAJARDO","HUANCARAYLLA","Hombre","30-34",{"$f":"'Pob x Genero'!CZ565","v":38},11909]
["060312","CAJAMARCA","CAJAMARCA","CELENDIN","LA LIBERTAD DE PALLAN","Hombre","30-34",{"$f":"'Pob x Genero'!CZ604","v":239},11948]
["060607","CAJAMARCA","CAJAMARCA","CUTERVO","QUEROCOTILLO","Hombre","30-34",{"$f":"'Pob x Genero'!CZ638","v":348},11982]
["061110","CAJAMARCA","CAJAMARCA","SAN MIGUEL","SAN GREGORIO","Hombre","30-34",{"$f":"'Pob x Genero'!CZ685","v":57},12029]
["080206","CUSCO","CUSCO","ACOMAYO","RONDOCAN","Hombre","30-34",{"$f":"'Pob x Genero'!CZ724","v":69},12068]
["080309","CUSCO","CUSCO","ANTA","ZURITE","Hombre","30-34",{"$f":"'Pob x Genero'!CZ734","v":213},12078]
["080807","CUSCO","CUSCO","ESPINAR","SUYCKUTAMBO","Hombre","30-34",{"$f":"'Pob x Genero'!CZ773","v":64},12117]
["081209","CUSCO","CUSCO","QUISPICANCHI","MARCAPATA","Hombre","30-34",{"$f":"'Pob x Genero'!CZ816","v":211},12160]
["090115","HUANCAVELICA","HUANCAVELICA","HUANCAVELICA","PILCHACA","Hombre","30-34",{"$f":"'Pob x Genero'!CZ841","v":15},12185]
["090307","HUANCAVELICA","HUANCAVELICA","ANGARAES","HUANCA-HUANCA","Hombre","30-34",{"$f":"'Pob x Genero'!CZ860","v":51},12204]
["090614","HUANCAVELICA","HUANCAVELICA","HUAYTARA","SANTIAGO DE QUIRAHUARA","Hombre","30-34",{"$f":"'Pob x Genero'!CZ903","v":7},12247]
["100201","HUANUCO","HUANUCO","AMBO","AMBO","Hombre","30-34",{"$f":"'Pob x Genero'!CZ942","v":920},12286]
["100608","HUANUCO","HUANUCO","LEONCIO PRADO","CASTILLO GRANDE","Hombre","30-34",{"$f":"'Pob x Genero'!CZ981","v":521},12325]
["100902","HUANUCO","HUANUCO","PUERTO INCA","CODO DEL POZUZO","Hombre","30-34",{"$f":"'Pob x Genero'!CZ994","v":283},12338]
["110203","ICA","ICA","CHINCHA","CHAVIN","Hombre","30-34",{"$f":"'Pob x Genero'!CZ1029","v":204},12373]
["120124","JUNIN","JUNIN","HUANCAYO","PARIAHUANCA","Hombre","30-34",{"$f":"'Pob x Genero'!CZ1072","v":197},12416]
["120407","JUNIN","JUNIN","JAUJA","EL MANTARO","Hombre","30-34",{"$f":"'Pob x Genero'!CZ1111","v":93},12455]
["120608","JUNIN","JUNIN","SATIPO","RIO TAMBO","Hombre","30-34",{"$f":"'Pob x Genero'!CZ1150","v":765},12494]
["120909","JUNIN","JUNIN","CHUPACA","YANACANCHA","Hombre","30-34",{"$f":"'Pob x Genero'!CZ1179","v":108},12523]
["130207","LA LIBERTAD","LA LIBERTAD","ASCOPE","SANTIAGO DE CAO","Hombre","30-34",{"$f":"'Pob x Genero'!CZ1198","v":628},12542]
["130810","LA LIBERTAD","LA LIBERTAD","PATAZ","PIAS","Hombre","30-34",{"$f":"'Pob x Genero'!CZ1237","v":68},12581]
["140117","LAMBAYEQUE","LAMBAYEQUE","CHICLAYO","PATAPO","Hombre","30-34",{"$f":"'Pob x Genero'!CZ1280","v":821},12624]
["140203","LAMBAYEQUE","LAMBAYEQUE","FERREÑAFE","INCAHUASI","Hombre","30-34",{"$f":"'Pob x Genero'!CZ1286","v":462},12630]
["150131","DIRIS CENTRO","LIMA","LIMA","SAN ISIDRO","Hombre","30-34",{"$f":"'Pob x Genero'!CZ1332","v":2446},12676]
["150506","LIMA","LIMA","CAÑETE","COAYLLO","Hombre","30-34",{"$f":"'Pob x Genero'!CZ1367","v":23},12711]
["150717","LIMA","LIMA","HUAROCHIRI","SAN BARTOLOME","Hombre","30-34",{"$f":"'Pob x Genero'!CZ1406","v":25},12750]
["150727","LIMA","LIMA","HUAROCHIRI","SANTA CRUZ DE COCACHACRA","Hombre","30-34",{"$f":"'Pob x Genero'!CZ1416","v":80},12760]
["151016","LIMA","LIMA","YAUYOS","HUANTAN","Hombre","30-34",{"$f":"'Pob x Genero'!CZ1455","v":23},12799]
["160202","LORETO","LORETO","ALTO AMAZONAS","BALSAPUERTO","Hombre","30-34",{"$f":"'Pob x Genero'!CZ1485","v":728},12829]
["170302","MADRE DE DIOS","MADRE DE DIOS","TAHUAMANU","IBERIA","Hombre","30-34",{"$f":"'Pob x Genero'!CZ1536","v":312},12880]
["190204","PASCO","PASCO","DANIEL ALCIDES CARRION","PAUCAR","Hombre","30-34",{"$f":"'Pob x Genero'!CZ1575","v":66},12919]
["190306","PASCO","PASCO","OXAPAMPA","PUERTO BERMUDEZ","Hombre","30-34",{"$f":"'Pob x Genero'!CZ1585","v":622},12929]
["200409","PIURA","PIURA","MORROPON","SANTO DOMINGO","Hombre","30-34",{"$f":"'Pob x Genero'!CZ1624","v":197},12968]
["210203","PUNO","PUNO","AZANGARO","ARAPA","Hombre","30-34",{"$f":"'Pob x Genero'!CZ1670","v":308},13014]
["210601","PUNO","PUNO","HUANCANE","HUANCANE","Hombre","30-34",{"$f":"'Pob x Genero'!CZ1705","v":663},13049]
["210607","PUNO","PUNO","HUANCANE","TARACO","Hombre","30-34",{"$f":"'Pob x Genero'!CZ1711","v":464},13055]
["211209","PUNO","PUNO","SANDIA","ALTO INAMBARI","Hombre","30-34",{"$f":"'Pob x Genero'!CZ1754","v":273},13098]
["220508","SAN MARTIN","SAN MARTIN","LAMAS","SAN ROQUE DE CUMBAZA","Hombre","30-34",{"$f":"'Pob x Genero'!CZ1793","v":53},13137]
["220912","SAN MARTIN","SAN MARTIN","SAN MARTIN","SAN ANTONIO","Hombre","30-34",{"$f":"'Pob x Genero'!CZ1832","v":92},13176]
["240105","TUMBES","TUMBES","TUMBES","SAN JACINTO","Hombre","30-34",{"$f":"'Pob x Genero'!CZ1873","v":370},13217]
["240303","TUMBES","TUMBES","ZARUMILLA","MATAPALO","Hombre","30-34",{"$f":"'Pob x Genero'!CZ1880","v":322},13224]
["010202","AMAZONAS","AMAZONAS","BAGUA","ARAMANGO","Hombre","35-39",{"$f":"'Pob x Genero'!DA31","v":394},13267]
["010520","AMAZONAS","AMAZONAS","LUYA","SANTA CATALINA","Hombre","35-39",{"$f":"'Pob x Genero'!DA70","v":93},13306]
["020205","ANCASH","ANCASH","AIJA","SUCCHA","Hombre","35-39",{"$f":"'Pob x Genero'!DA109","v":26},13345]
["020602","ANCASH","ANCASH","CARHUAZ","ACOPAMPA","Hombre","35-39",{"$f":"'Pob x Genero'!DA134","v":116},13370]
["020907","ANCASH","ANCASH","CORONGO","YUPAN","Hombre","35-39",{"$f":"'Pob x Genero'!DA157","v":32},13393]
["021308","ANCASH","ANCASH","MARISCAL LUZURIAGA","MUSGA","Hombre","35-39",{"$f":"'Pob x Genero'!DA196","v":44},13432]
["021808","ANCASH","ANCASH","SANTA","SANTA","Hombre","35-39",{"$f":"'Pob x Genero'!DA239","v":1041},13475]
["030211","APURIMAC","APURIMAC","ANDAHUAYLAS","POMACOCHA","Hombre","35-39",{"$f":"'Pob x Genero'!DA278","v":47},13514]
["030220","APURIMAC","APURIMAC","ANDAHUAYLAS","JOSÉ MARÍA ARGUEDAS","Hombre","35-39",{"$f":"'Pob x Genero'!DA287","v":238},13523]
["030609","APURIMAC","APURIMAC","CHINCHEROS","ROCCHACC","Hombre","35-39",{"$f":"'Pob x Genero'!DA326","v":115},13562]
["040122","AREQUIPA","AREQUIPA","AREQUIPA","SOCABAYA","Hombre","35-39",{"$f":"'Pob x Genero'!DA365","v":3471},13601]
["040501","AREQUIPA","AREQUIPA","CAYLLOMA","CHIVAY","Hombre","35-39",{"$f":"'Pob x Genero'!DA408","v":281},13644]
["040507","AREQUIPA","AREQUIPA","CAYLLOMA","HUAMBO","Hombre","35-39",{"$f":"'Pob x Genero'!DA414","v":22},13650]
["050204","AYACUCHO","AYACUCHO","CANGALLO","MARIA PARADO DE BELLIDO","Hombre","35-39",{"$f":"'Pob x Genero'!DA472","v":49},13708]
["050504","AYACUCHO","AYACUCHO","LA MAR","CHILCAS","Hombre","35-39",{"$f":"'Pob x Genero'!DA495","v":44},13731]
["050707","AYACUCHO","AYACUCHO","PARINACOCHAS","SAN FRANCISCO DE RAVACAYCO","Hombre","35-39",{"$f":"'Pob x Genero'!DA534","v":18},13770]
["050809","AYACUCHO","AYACUCHO","PAUCAR DEL SARA SARA","SAN JOSE DE USHUA","Hombre","35-39",{"$f":"'Pob x Genero'!DA544","v":9},13780]
["060107","CAJAMARCA","CAJAMARCA","CAJAMARCA","LLACANORA","Hombre","35-39",{"$f":"'Pob x Genero'!DA583","v":276},13819]
["060502","CAJAMARCA","CAJAMARCA","CONTUMAZA","CHILETE","Hombre","35-39",{"$f":"'Pob x Genero'!DA625","v":98},13861]
["060903","CAJAMARCA","CAJAMARCA","SAN IGNACIO","HUARANGO","Hombre","35-39",{"$f":"'Pob x Genero'!DA664","v":701},13900]
["061311","CAJAMARCA","CAJAMARCA","SANTA CRUZ","YAUYUCAN","Hombre","35-39",{"$f":"'Pob x Genero'!DA703","v":93},13939]
["080103","CUSCO","CUSCO","CUSCO","POROY","Hombre","35-39",{"$f":"'Pob x Genero'!DA713","v":652},13949]
["080602","CUSCO","CUSCO","CANCHIS","CHECACUPE","Hombre","35-39",{"$f":"'Pob x Genero'!DA752","v":196},13988]
["080904","CUSCO","CUSCO","LA CONVENCION","MARANURA","Hombre","35-39",{"$f":"'Pob x Genero'!DA778","v":187},14014]
["090107","HUANCAVELICA","HUANCAVELICA","HUANCAVELICA","HUAYLLAHUARA","Hombre","35-39",{"$f":"'Pob x Genero'!DA833","v":35},14069]
["090113","HUANCAVELICA","HUANCAVELICA","HUANCAVELICA","NUEVO OCCORO","Hombre","35-39",{"$f":"'Pob x Genero'!DA839","v":41},14075]
["090413","HUANCAVELICA","HUANCAVELICA","CASTROVIRREYNA","TICRAPO","Hombre","35-39",{"$f":"'Pob x Genero'!DA878","v":55},14114]
["090718","HUANCAVELICA","HUANCAVELICA","TAYACAJA","TINTAY PUNCU","Hombre","35-39",{"$f":"'Pob x Genero'!DA921","v":57},14157]
["100402","HUANUCO","HUANUCO","HUACAYBAMBA","CANCHABAMBA","Hombre","35-39",{"$f":"'Pob x Genero'!DA960","v":68},14196]
["100608","HUANUCO","HUANUCO","LEONCIO PRADO","CASTILLO GRANDE","Hombre","35-39",{"$f":"'Pob x Genero'!DA981","v":540},14217]
["101104","HUANUCO","HUANUCO","YAROWILCA","APARICIO POMARES","Hombre","35-39",{"$f":"'Pob x Genero'!DA1008","v":156},14244]
["110405","ICA","ICA","PALPA","TIBILLO","Hombre","35-39",{"$f":"'Pob x Genero'!DA1047","v":25},14283]
["120207","JUNIN","JUNIN","CONCEPCION","HEROINAS TOLEDO","Hombre","35-39",{"$f":"'Pob x Genero'!DA1090","v":33},14326]
["120425","JUNIN","JUNIN","JAUJA","PARCO","Hombre","35-39",{"$f":"'Pob x Genero'!DA1129","v":37},14365]
["120430","JUNIN","JUNIN","JAUJA","SAUSA","Hombre","35-39",{"$f":"'Pob x Genero'!DA1134","v":139},14370]
["120907","JUNIN","JUNIN","CHUPACA","SAN JUAN DE JARPA","Hombre","35-39",{"$f":"'Pob x Genero'!DA1177","v":113},14413]
["130605","LA LIBERTAD","LA LIBERTAD","OTUZCO","HUARANCHAL","Hombre","35-39",{"$f":"'Pob x Genero'!DA1216","v":165},14452]
["131103","LA LIBERTAD","LA LIBERTAD","GRAN CHIMU","MARMOT","Hombre","35-39",{"$f":"'Pob x Genero'!DA1259","v":70},14495]
["140102","LAMBAYEQUE","LAMBAYEQUE","CHICLAYO","CHONGOYAPE","Hombre","35-39",{"$f":"'Pob x Genero'!DA1265","v":690},14501]
["150118","DIRIS ESTE","LIMA","LIMA","LURIGANCHO","Hombre","35-39",{"$f":"'Pob x Genero'!DA1319","v":12123},14555]
["150202","LIMA","LIMA","BARRANCA","PARAMONGA","Hombre","35-39",{"$f":"'Pob x Genero'!DA1346","v":679},14582]
["150608","LIMA","LIMA","HUARAL","PACARAOS","Hombre","35-39",{"$f":"'Pob x Genero'!DA1385","v":37},14621]
["150706","LIMA","LIMA","HUAROCHIRI","CUENCA","Hombre","35-39",{"$f":"'Pob x Genero'!DA1395","v":18},14631]
["150901","LIMA","LIMA","OYON","OYON","Hombre","35-39",{"$f":"'Pob x Genero'!DA1434","v":410},14670]
["151033","LIMA","LIMA","YAUYOS","VITIS","Hombre","35-39",{"$f":"'Pob x Genero'!DA1472","v":4},14708]
["160605","LORETO","LORETO","UCAYALI","SARAYACU","Hombre","35-39",{"$f":"'Pob x Genero'!DA1515","v":414},14751]
["180210","MOQUEGUA","MOQUEGUA","GENERAL SANCHEZ CERRO","UBINAS","Hombre","35-39",{"$f":"'Pob x Genero'!DA1554","v":65},14790]
["190102","PASCO","PASCO","PASCO","HUACHON","Hombre","35-39",{"$f":"'Pob x Genero'!DA1560","v":163},14796]
["200206","PIURA","PIURA","AYABACA","PACAIPAMPA","Hombre","35-39",{"$f":"'Pob x Genero'!DA1603","v":588},14839]
["200410","PIURA","PIURA","MORROPON","YAMANGO","Hombre","35-39",{"$f":"'Pob x Genero'!DA1625","v":283},14861]
["210302","PUNO","PUNO","CARABAYA","AJOYANI","Hombre","35-39",{"$f":"'Pob x Genero'!DA1684","v":102},14920]
["210308","PUNO","PUNO","CARABAYA","OLLACHEA","Hombre","35-39",{"$f":"'Pob x Genero'!DA1690","v":197},14926]
["210807","PUNO","PUNO","MELGAR","ORURILLO","Hombre","35-39",{"$f":"'Pob x Genero'!DA1729","v":202},14965]
["220204","SAN MARTIN","SAN MARTIN","BELLAVISTA","HUALLAGA","Hombre","35-39",{"$f":"'Pob x Genero'!DA1772","v":89},15008]
["220709","SAN MARTIN","SAN MARTIN","PICOTA","TINGO DE PONASA","Hombre","35-39",{"$f":"'Pob x Genero'!DA1810","v":158},15046]
["220809","SAN MARTIN","SAN MARTIN","RIOJA","YURACYACU","Hombre","35-39",{"$f":"'Pob x Genero'!DA1820","v":136},15056]
["230302","TACNA","TACNA","JORGE BASADRE","ILABAYA","Hombre","35-39",{"$f":"'Pob x Genero'!DA1859","v":327},15095]
["250306","UCAYALI","UCAYALI","PADRE ABAD","HUIPOCA","Hombre","35-39",{"$f":"'Pob x Genero'!DA1898","v":256},15134]
["010402","AMAZONAS","AMAZONAS","CONDORCANQUI","EL CENEPA","Hombre","40-44",{"$f":"'Pob x Genero'!DB49","v":282},15177]
["010703","AMAZONAS","AMAZONAS","UTCUBAMBA","CUMBA","Hombre","40-44",{"$f":"'Pob x Genero'!DB88","v":311},15216]
["020504","ANCASH","ANCASH","BOLOGNESI","AQUIA","Hombre","40-44",{"$f":"'Pob x Genero'!DB121","v":78},15249]
["020604","ANCASH","ANCASH","CARHUAZ","ANTA","Hombre","40-44",{"$f":"'Pob x Genero'!DB136","v":82},15264]
["021102","ANCASH","ANCASH","HUARMEY","COCHAPETI","Hombre","40-44",{"$f":"'Pob x Genero'!DB175","v":35},15303]
["021601","ANCASH","ANCASH","POMABAMBA","POMABAMBA","Hombre","40-44",{"$f":"'Pob x Genero'!DB218","v":448},15346]
["021703","ANCASH","ANCASH","RECUAY","COTAPARACO","Hombre","40-44",{"$f":"'Pob x Genero'!DB224","v":15},15352]
["030207","APURIMAC","APURIMAC","ANDAHUAYLAS","KISHUARA","Hombre","40-44",{"$f":"'Pob x Genero'!DB274","v":223},15402]
["030411","APURIMAC","APURIMAC","AYMARAES","SAN JUAN DE CHACÑA","Hombre","40-44",{"$f":"'Pob x Genero'!DB305","v":33},15433]
["040101","AREQUIPA","AREQUIPA","AREQUIPA","AREQUIPA","Hombre","40-44",{"$f":"'Pob x Genero'!DB344","v":1937},15472]
["040303","AREQUIPA","AREQUIPA","CARAVELI","ATICO","Hombre","40-44",{"$f":"'Pob x Genero'!DB383","v":250},15511]
["040313","AREQUIPA","AREQUIPA","CARAVELI","YAUCA","Hombre","40-44",{"$f":"'Pob x Genero'!DB393","v":96},15521]
["040520","AREQUIPA","AREQUIPA","CAYLLOMA","MAJES","Hombre","40-44",{"$f":"'Pob x Genero'!DB427","v":3050},15555]
["050206","AYACUCHO","AYACUCHO","CANGALLO","TOTOS","Hombre","40-44",{"$f":"'Pob x Genero'!DB474","v":78},15602]
["050607","AYACUCHO","AYACUCHO","LUCANAS","HUAC-HUAS","Hombre","40-44",{"$f":"'Pob x Genero'!DB513","v":41},15641]
["050613","AYACUCHO","AYACUCHO","LUCANAS","OTOCA","Hombre","40-44",{"$f":"'Pob x Genero'!DB519","v":58},15647]
["051006","AYACUCHO","AYACUCHO","VICTOR FAJARDO","CAYARA","Hombre","40-44",{"$f":"'Pob x Genero'!DB562","v":27},15690]
["060408","CAJAMARCA","CAJAMARCA","CHOTA","CONCHAN","Hombre","40-44",{"$f":"'Pob x Genero'!DB612","v":222},15740]
["060612","CAJAMARCA","CAJAMARCA","CUTERVO","SANTO DOMINGO DE LA CAPILLA","Hombre","40-44",{"$f":"'Pob x Genero'!DB643","v":178},15771]
["061107","CAJAMARCA","CAJAMARCA","SAN MIGUEL","LLAPA","Hombre","40-44",{"$f":"'Pob x Genero'!DB682","v":138},15810]
["061113","CAJAMARCA","CAJAMARCA","SAN MIGUEL","UNION AGUA BLANCA","Hombre","40-44",{"$f":"'Pob x Genero'!DB688","v":104},15816]
["080306","CUSCO","CUSCO","ANTA","LIMATAMBO","Hombre","40-44",{"$f":"'Pob x Genero'!DB731","v":253},15859]
["080707","CUSCO","CUSCO","CHUMBIVILCAS","QUIÑOTA","Hombre","40-44",{"$f":"'Pob x Genero'!DB765","v":116},15893]
["081201","CUSCO","CUSCO","QUISPICANCHI","URCOS","Hombre","40-44",{"$f":"'Pob x Genero'!DB808","v":374},15936]
["081211","CUSCO","CUSCO","QUISPICANCHI","OROPESA","Hombre","40-44",{"$f":"'Pob x Genero'!DB818","v":480},15946]
["090304","HUANCAVELICA","HUANCAVELICA","ANGARAES","CCOCHACCASA","Hombre","40-44",{"$f":"'Pob x Genero'!DB857","v":108},15985]
["090611","HUANCAVELICA","HUANCAVELICA","HUAYTARA","SAN FRANCISCO DE SANGAYAICO","Hombre","40-44",{"$f":"'Pob x Genero'!DB900","v":45},16028]
["090715","HUANCAVELICA","HUANCAVELICA","TAYACAJA","SALCAHUASI","Hombre","40-44",{"$f":"'Pob x Genero'!DB918","v":64},16046]
["100604","HUANUCO","HUANUCO","LEONCIO PRADO","JOSE CRESPO Y CASTILLO","Hombre","40-44",{"$f":"'Pob x Genero'!DB977","v":736},16105]
["100704","HUANUCO","HUANUCO","MARAÑON","LA MORADA","Hombre","40-44",{"$f":"'Pob x Genero'!DB987","v":161},16115]
["110114","ICA","ICA","ICA","YAUCA DEL ROSARIO","Hombre","40-44",{"$f":"'Pob x Genero'!DB1026","v":101},16154]
["120120","JUNIN","JUNIN","HUANCAYO","HUASICANCHA","Hombre","40-44",{"$f":"'Pob x Genero'!DB1069","v":28},16197]
["120404","JUNIN","JUNIN","JAUJA","ATAURA","Hombre","40-44",{"$f":"'Pob x Genero'!DB1108","v":45},16236]
["120417","JUNIN","JUNIN","JAUJA","MASMA CHICCHE","Hombre","40-44",{"$f":"'Pob x Genero'!DB1121","v":25},16249]
["120705","JUNIN","JUNIN","TARMA","LA UNION","Hombre","40-44",{"$f":"'Pob x Genero'!DB1156","v":108},16284]
["130204","LA LIBERTAD","LA LIBERTAD","ASCOPE","MAGDALENA DE CAO","Hombre","40-44",{"$f":"'Pob x Genero'!DB1195","v":91},16323]
["130807","LA LIBERTAD","LA LIBERTAD","PATAZ","ONGON","Hombre","40-44",{"$f":"'Pob x Genero'!DB1234","v":59},16362]
["130904","LA LIBERTAD","LA LIBERTAD","SANCHEZ CARRION","CURGOS","Hombre","40-44",{"$f":"'Pob x Genero'!DB1244","v":325},16372]
["140111","LAMBAYEQUE","LAMBAYEQUE","CHICLAYO","PICSI","Hombre","40-44",{"$f":"'Pob x Genero'!DB1274","v":551},16402]
["150124","DIRIS SUR","LIMA","LIMA","PUCUSANA","Hombre","40-44",{"$f":"'Pob x Genero'!DB1325","v":739},16453]
["150503","LIMA","LIMA","CAÑETE","CALANGO","Hombre","40-44",{"$f":"'Pob x Genero'!DB1364","v":81},16492]
["150714","LIMA","LIMA","HUAROCHIRI","RICARDO PALMA","Hombre","40-44",{"$f":"'Pob x Genero'!DB1403","v":223},16531]
["150724","LIMA","LIMA","HUAROCHIRI","SAN PEDRO DE CASTA","Hombre","40-44",{"$f":"'Pob x Genero'!DB1413","v":29},16541]
["151020","LIMA","LIMA","YAUYOS","MADEAN","Hombre","40-44",{"$f":"'Pob x Genero'!DB1459","v":15},16587]
["160301","LORETO","LORETO","LORETO","NAUTA","Hombre","40-44",{"$f":"'Pob x Genero'!DB1490","v":914},16618]
["170203","MADRE DE DIOS","MADRE DE DIOS","MANU","MADRE DE DIOS","Hombre","40-44",{"$f":"'Pob x Genero'!DB1533","v":409},16661]
["180102","MOQUEGUA","MOQUEGUA","MARISCAL NIETO","CARUMAS","Hombre","40-44",{"$f":"'Pob x Genero'!DB1539","v":135},16667]
["190303","PASCO","PASCO","OXAPAMPA","HUANCABAMBA","Hombre","40-44",{"$f":"'Pob x Genero'!DB1582","v":317},16710]
["200305","PIURA","PIURA","HUANCABAMBA","LALAQUIZ","Hombre","40-44",{"$f":"'Pob x Genero'!DB1612","v":138},16740]
["210107","PUNO","PUNO","PUNO","COATA","Hombre","40-44",{"$f":"'Pob x Genero'!DB1659","v":262},16787]
["210202","PUNO","PUNO","AZANGARO","ACHAYA","Hombre","40-44",{"$f":"'Pob x Genero'!DB1669","v":138},16797]
["210604","PUNO","PUNO","HUANCANE","INCHUPALLA","Hombre","40-44",{"$f":"'Pob x Genero'!DB1708","v":78},16836]
["211206","PUNO","PUNO","SANDIA","QUIACA","Hombre","40-44",{"$f":"'Pob x Genero'!DB1751","v":70},16879]
["220601","SAN MARTIN","SAN MARTIN","MARISCAL CACERES","JUANJUI","Hombre","40-44",{"$f":"'Pob x Genero'!DB1797","v":1310},16925]
["220908","SAN MARTIN","SAN MARTIN","SAN MARTIN","JUAN GUERRA","Hombre","40-44",{"$f":"'Pob x Genero'!DB1828","v":176},16956]
["221004","SAN MARTIN","SAN MARTIN","TOCACHE","SHUNTE","Hombre","40-44",{"$f":"'Pob x Genero'!DB1838","v":78},16966]
["240203","TUMBES","TUMBES","CONTRALMIRANTE VILLAR","CANOAS DE PUNTA SAL","Hombre","40-44",{"$f":"'Pob x Genero'!DB1877","v":444},17005]
["010116","AMAZONAS","AMAZONAS","CHACHAPOYAS","OLLEROS","Hombre","45-49",{"$f":"'Pob x Genero'!DC24","v":19},17044]
["010508","AMAZONAS","AMAZONAS","LUYA","LONYA CHICO","Hombre","45-49",{"$f":"'Pob x Genero'!DC58","v":39},17078]
["010522","AMAZONAS","AMAZONAS","LUYA","TINGO","Hombre","45-49",{"$f":"'Pob x Genero'!DC72","v":43},17092]
["020306","ANCASH","ANCASH","ANTONIO RAYMONDI","SAN JUAN DE RONTOY","Hombre","45-49",{"$f":"'Pob x Genero'!DC115","v":27},17135]
["020904","ANCASH","ANCASH","CORONGO","CUSCA","Hombre","45-49",{"$f":"'Pob x Genero'!DC154","v":82},17174]
["021305","ANCASH","ANCASH","MARISCAL LUZURIAGA","LLAMA","Hombre","45-49",{"$f":"'Pob x Genero'!DC193","v":27},17213]
["021407","ANCASH","ANCASH","OCROS","LLIPA","Hombre","45-49",{"$f":"'Pob x Genero'!DC203","v":16},17223]
["030103","APURIMAC","APURIMAC","ABANCAY","CIRCA","Hombre","45-49",{"$f":"'Pob x Genero'!DC261","v":100},17281]
["030213","APURIMAC","APURIMAC","ANDAHUAYLAS","SAN JERONIMO","Hombre","45-49",{"$f":"'Pob x Genero'!DC280","v":640},17300]
["030606","APURIMAC","APURIMAC","CHINCHEROS","ONGOY","Hombre","45-49",{"$f":"'Pob x Genero'!DC323","v":57},17343]
["040119","AREQUIPA","AREQUIPA","AREQUIPA","SAN JUAN DE TARUCANI","Hombre","45-49",{"$f":"'Pob x Genero'!DC362","v":52},17382]
["040129","AREQUIPA","AREQUIPA","AREQUIPA","JOSE LUIS BUSTAMANTE Y RIVERO","Hombre","45-49",{"$f":"'Pob x Genero'!DC372","v":3217},17392]
["040507","AREQUIPA","AREQUIPA","CAYLLOMA","HUAMBO","Hombre","45-49",{"$f":"'Pob x Genero'!DC414","v":29},17434]
["040808","AREQUIPA","AREQUIPA","LA UNION","SAYLA","Hombre","45-49",{"$f":"'Pob x Genero'!DC449","v":10},17469]
["050501","AYACUCHO","AYACUCHO","LA MAR","SAN MIGUEL","Hombre","45-49",{"$f":"'Pob x Genero'!DC492","v":182},17512]
["050507","AYACUCHO","AYACUCHO","LA MAR","SANTA ROSA","Hombre","45-49",{"$f":"'Pob x Genero'!DC498","v":388},17518]
["050806","AYACUCHO","AYACUCHO","PAUCAR DEL SARA SARA","OYOLO","Hombre","45-49",{"$f":"'Pob x Genero'!DC541","v":38},17561]
["051011","AYACUCHO","AYACUCHO","VICTOR FAJARDO","SARHUA","Hombre","45-49",{"$f":"'Pob x Genero'!DC567","v":87},17587]
["060414","CAJAMARCA","CAJAMARCA","CHOTA","PION","Hombre","45-49",{"$f":"'Pob x Genero'!DC618","v":29},17638]
["060505","CAJAMARCA","CAJAMARCA","CONTUMAZA","SAN BENITO","Hombre","45-49",{"$f":"'Pob x Genero'!DC628","v":127},17648]
["060906","CAJAMARCA","CAJAMARCA","SAN IGNACIO","SAN JOSE DE LOURDES","Hombre","45-49",{"$f":"'Pob x Genero'!DC667","v":498},17687]
["070103","CALLAO","CALLAO","CALLAO","CARMEN DE LA LEGUA REYNOSO","Hombre","45-49",{"$f":"'Pob x Genero'!DC706","v":2154},17726]
["080602","CUSCO","CUSCO","CANCHIS","CHECACUPE","Hombre","45-49",{"$f":"'Pob x Genero'!DC752","v":168},17772]
["080913","CUSCO","CUSCO","LA CONVENCION","VILLA KINTIARINA","Hombre","45-49",{"$f":"'Pob x Genero'!DC787","v":82},17807]
["081005","CUSCO","CUSCO","PARURO","HUANOQUITE","Hombre","45-49",{"$f":"'Pob x Genero'!DC797","v":142},17817]
["090110","HUANCAVELICA","HUANCAVELICA","HUANCAVELICA","MANTA","Hombre","45-49",{"$f":"'Pob x Genero'!DC836","v":6},17856]
["090410","HUANCAVELICA","HUANCAVELICA","CASTROVIRREYNA","SAN JUAN","Hombre","45-49",{"$f":"'Pob x Genero'!DC875","v":36},17895]
["090616","HUANCAVELICA","HUANCAVELICA","HUAYTARA","TAMBO","Hombre","45-49",{"$f":"'Pob x Genero'!DC905","v":20},17925]
["090720","HUANCAVELICA","HUANCAVELICA","TAYACAJA","ANDAYMARCA","Hombre","45-49",{"$f":"'Pob x Genero'!DC923","v":55},17943]
["100504","HUANUCO","HUANUCO","HUAMALIES","JACAS GRANDE","Hombre","45-49",{"$f":"'Pob x Genero'!DC966","v":138},17986]
["101101","HUANUCO","HUANUCO","YAROWILCA","CHAVINILLO","Hombre","45-49",{"$f":"'Pob x Genero'!DC1005","v":96},18025]
["110402","ICA","ICA","PALPA","LLIPATA","Hombre","45-49",{"$f":"'Pob x Genero'!DC1044","v":72},18064]
["120105","JUNIN","JUNIN","HUANCAYO","CHACAPAMPA","Hombre","45-49",{"$f":"'Pob x Genero'!DC1058","v":39},18078]
["120209","JUNIN","JUNIN","CONCEPCION","MARISCAL CASTILLA","Hombre","45-49",{"$f":"'Pob x Genero'!DC1092","v":67},18112]
["120427","JUNIN","JUNIN","JAUJA","RICRAN","Hombre","45-49",{"$f":"'Pob x Genero'!DC1131","v":36},18151]
["120904","JUNIN","JUNIN","CHUPACA","HUACHAC","Hombre","45-49",{"$f":"'Pob x Genero'!DC1174","v":87},18194]
["130601","LA LIBERTAD","LA LIBERTAD","OTUZCO","OTUZCO","Hombre","45-49",{"$f":"'Pob x Genero'!DC1213","v":884},18233]
["130701","LA LIBERTAD","LA LIBERTAD","PACASMAYO","SAN PEDRO DE LLOC","Hombre","45-49",{"$f":"'Pob x Genero'!DC1223","v":661},18243]
["131201","LA LIBERTAD","LA LIBERTAD","VIRU","VIRU","Hombre","45-49",{"$f":"'Pob x Genero'!DC1261","v":1954},18281]
["140311","LAMBAYEQUE","LAMBAYEQUE","LAMBAYEQUE","SAN JOSE","Hombre","45-49",{"$f":"'Pob x Genero'!DC1300","v":464},18320]
["150142","DIRIS SUR","LIMA","LIMA","VILLA EL SALVADOR","Hombre","45-49",{"$f":"'Pob x Genero'!DC1343","v":16930},18363]
["150605","LIMA","LIMA","HUARAL","CHANCAY","Hombre","45-49",{"$f":"'Pob x Genero'!DC1382","v":2239},18402]
["150611","LIMA","LIMA","HUARAL","SUMBILCA","Hombre","45-49",{"$f":"'Pob x Genero'!DC1388","v":20},18408]
["151007","LIMA","LIMA","YAUYOS","CARANIA","Hombre","45-49",{"$f":"'Pob x Genero'!DC1446","v":19},18466]
["151030","LIMA","LIMA","YAUYOS","TOMAS","Hombre","45-49",{"$f":"'Pob x Genero'!DC1469","v":17},18489]
["160602","LORETO","LORETO","UCAYALI","INAHUAYA","Hombre","45-49",{"$f":"'Pob x Genero'!DC1512","v":65},18532]
["160702","LORETO","LORETO","DATEM DEL MARAÑON","CAHUAPANAS","Hombre","45-49",{"$f":"'Pob x Genero'!DC1518","v":247},18538]
["180302","MOQUEGUA","MOQUEGUA","ILO","EL ALGARROBAL","Hombre","45-49",{"$f":"'Pob x Genero'!DC1557","v":570},18577]
["200202","PIURA","PIURA","AYABACA","FRIAS","Hombre","45-49",{"$f":"'Pob x Genero'!DC1599","v":518},18619]
["200606","PIURA","PIURA","SULLANA","MIGUEL CHECA","Hombre","45-49",{"$f":"'Pob x Genero'!DC1638","v":428},18658]
["200802","PIURA","PIURA","SECHURA","BELLAVISTA DE LA UNION","Hombre","45-49",{"$f":"'Pob x Genero'!DC1648","v":183},18668]
["210305","PUNO","PUNO","CARABAYA","CORANI","Hombre","45-49",{"$f":"'Pob x Genero'!DC1687","v":100},18707]
["210804","PUNO","PUNO","MELGAR","LLALLI","Hombre","45-49",{"$f":"'Pob x Genero'!DC1726","v":59},18746]
["211207","PUNO","PUNO","SANDIA","SAN JUAN DEL ORO","Hombre","45-49",{"$f":"'Pob x Genero'!DC1752","v":101},18772]
["220706","SAN MARTIN","SAN MARTIN","PICOTA","SAN CRISTOBAL","Hombre","45-49",{"$f":"'Pob x Genero'!DC1807","v":50},18827]
["220802","SAN MARTIN","SAN MARTIN","RIOJA","AWAJUN","Hombre","45-49",{"$f":"'Pob x Genero'!DC1813","v":443},18833]
["230205","TACNA","TACNA","CANDARAVE","HUANUARA","Hombre","45-49",{"$f":"'Pob x Genero'!DC1856","v":22},18876]
["250303","UCAYALI","UCAYALI","PADRE ABAD","CURIMANA","Hombre","45-49",{"$f":"'Pob x Genero'!DC1895","v":414},18915]
["010310","AMAZONAS","AMAZONAS","BONGARA","SHIPASBAMBA","Hombre","50-54",{"$f":"'Pob x Genero'!DD45","v":44},18957]
["010501","AMAZONAS","AMAZONAS","LUYA","LAMUD","Hombre","50-54",{"$f":"'Pob x Genero'!DD51","v":61},18963]
["010705","AMAZONAS","AMAZONAS","UTCUBAMBA","JAMALCA","Hombre","50-54",{"$f":"'Pob x Genero'!DD90","v":169},19002]
["020601","ANCASH","ANCASH","CARHUAZ","CARHUAZ","Hombre","50-54",{"$f":"'Pob x Genero'!DD133","v":441},19045]
["021015","ANCASH","ANCASH","HUARI","SAN PEDRO DE CHANA","Hombre","50-54",{"$f":"'Pob x Genero'!DD172","v":58},19084]
["021402","ANCASH","ANCASH","OCROS","ACAS","Hombre","50-54",{"$f":"'Pob x Genero'!DD198","v":13},19110]
["021603","ANCASH","ANCASH","POMABAMBA","PAROBAMBA","Hombre","50-54",{"$f":"'Pob x Genero'!DD220","v":163},19132]
["030101","APURIMAC","APURIMAC","ABANCAY","ABANCAY","Hombre","50-54",{"$f":"'Pob x Genero'!DD259","v":1746},19171]
["030408","APURIMAC","APURIMAC","AYMARAES","JUSTO APU SAHUARAURA","Hombre","50-54",{"$f":"'Pob x Genero'!DD302","v":25},19214]
["030712","APURIMAC","APURIMAC","GRAU","VILCABAMBA","Hombre","50-54",{"$f":"'Pob x Genero'!DD341","v":33},19253]
["040104","AREQUIPA","AREQUIPA","AREQUIPA","CERRO COLORADO","Hombre","50-54",{"$f":"'Pob x Genero'!DD347","v":6336},19259]
["040408","AREQUIPA","AREQUIPA","CASTILLA","MACHAGUAY","Hombre","50-54",{"$f":"'Pob x Genero'!DD401","v":13},19313]
["040601","AREQUIPA","AREQUIPA","CONDESUYOS","CHUQUIBAMBA","Hombre","50-54",{"$f":"'Pob x Genero'!DD428","v":83},19340]
["050203","AYACUCHO","AYACUCHO","CANGALLO","LOS MOROCHUCOS","Hombre","50-54",{"$f":"'Pob x Genero'!DD471","v":152},19383]
["050303","AYACUCHO","AYACUCHO","HUANCA SANCOS","SACSAMARCA","Hombre","50-54",{"$f":"'Pob x Genero'!DD477","v":25},19389]
["050610","AYACUCHO","AYACUCHO","LUCANAS","LLAUTA","Hombre","50-54",{"$f":"'Pob x Genero'!DD516","v":19},19428]
["050909","AYACUCHO","AYACUCHO","SUCRE","SAN SALVADOR DE QUIJE","Hombre","50-54",{"$f":"'Pob x Genero'!DD554","v":20},19466]
["060305","CAJAMARCA","CAJAMARCA","CELENDIN","JORGE CHAVEZ","Hombre","50-54",{"$f":"'Pob x Genero'!DD597","v":15},19509]
["060605","CAJAMARCA","CAJAMARCA","CUTERVO","LA RAMADA","Hombre","50-54",{"$f":"'Pob x Genero'!DD636","v":86},19548]
["060615","CAJAMARCA","CAJAMARCA","CUTERVO","TORIBIO CASANOVA","Hombre","50-54",{"$f":"'Pob x Genero'!DD646","v":27},19558]
["061110","CAJAMARCA","CAJAMARCA","SAN MIGUEL","SAN GREGORIO","Hombre","50-54",{"$f":"'Pob x Genero'!DD685","v":69},19597]
["070104","CALLAO","CALLAO","CALLAO","LA PERLA","Hombre","50-54",{"$f":"'Pob x Genero'!DD707","v":2788},19619]
["080708","CUSCO","CUSCO","CHUMBIVILCAS","VELILLE","Hombre","50-54",{"$f":"'Pob x Genero'!DD766","v":218},19678]
["080806","CUSCO","CUSCO","ESPINAR","PICHIGUA","Hombre","50-54",{"$f":"'Pob x Genero'!DD772","v":86},19684]
["081208","CUSCO","CUSCO","QUISPICANCHI","LUCRE","Hombre","50-54",{"$f":"'Pob x Genero'!DD815","v":138},19727]
["090301","HUANCAVELICA","HUANCAVELICA","ANGARAES","LIRCAY","Hombre","50-54",{"$f":"'Pob x Genero'!DD854","v":299},19766]
["090603","HUANCAVELICA","HUANCAVELICA","HUAYTARA","CORDOVA","Hombre","50-54",{"$f":"'Pob x Genero'!DD892","v":28},19804]
["090613","HUANCAVELICA","HUANCAVELICA","HUAYTARA","SANTIAGO DE CHOCORVOS","Hombre","50-54",{"$f":"'Pob x Genero'!DD902","v":33},19814]
["100113","HUANUCO","HUANUCO","HUANUCO","SAN PABLO DE PILLAO","Hombre","50-54",{"$f":"'Pob x Genero'!DD941","v":159},19853]
["100701","HUANUCO","HUANUCO","MARAÑON","HUACRACHUCO","Hombre","50-54",{"$f":"'Pob x Genero'!DD984","v":313},19896]
["110111","ICA","ICA","ICA","SANTIAGO","Hombre","50-54",{"$f":"'Pob x Genero'!DD1023","v":873},19935]
["110403","ICA","ICA","PALPA","RIO GRANDE","Hombre","50-54",{"$f":"'Pob x Genero'!DD1045","v":108},19957]
["120122","JUNIN","JUNIN","HUANCAYO","INGENIO","Hombre","50-54",{"$f":"'Pob x Genero'!DD1071","v":91},19983]
["120406","JUNIN","JUNIN","JAUJA","CURICACA","Hombre","50-54",{"$f":"'Pob x Genero'!DD1110","v":37},20022]
["120702","JUNIN","JUNIN","TARMA","ACOBAMBA","Hombre","50-54",{"$f":"'Pob x Genero'!DD1153","v":258},20065]
["130201","LA LIBERTAD","LA LIBERTAD","ASCOPE","ASCOPE","Hombre","50-54",{"$f":"'Pob x Genero'!DD1192","v":210},20104]
["130207","LA LIBERTAD","LA LIBERTAD","ASCOPE","SANTIAGO DE CAO","Hombre","50-54",{"$f":"'Pob x Genero'!DD1198","v":648},20110]
["130813","LA LIBERTAD","LA LIBERTAD","PATAZ","URPAY","Hombre","50-54",{"$f":"'Pob x Genero'!DD1240","v":52},20152]
["140116","LAMBAYEQUE","LAMBAYEQUE","CHICLAYO","CAYALTI","Hombre","50-54",{"$f":"'Pob x Genero'!DD1279","v":513},20191]
["150117","DIRIS NORTE","LIMA","LIMA","LOS OLIVOS","Hombre","50-54",{"$f":"'Pob x Genero'!DD1318","v":10309},20230]
["150127","DIRIS SUR","LIMA","LIMA","PUNTA NEGRA","Hombre","50-54",{"$f":"'Pob x Genero'!DD1328","v":353},20240]
["150506","LIMA","LIMA","CAÑETE","COAYLLO","Hombre","50-54",{"$f":"'Pob x Genero'!DD1367","v":42},20279]
["150712","LIMA","LIMA","HUAROCHIRI","LARAOS","Hombre","50-54",{"$f":"'Pob x Genero'!DD1401","v":14},20313]
["151009","LIMA","LIMA","YAUYOS","CHOCOS","Hombre","50-54",{"$f":"'Pob x Genero'!DD1448","v":32},20360]
["160206","LORETO","LORETO","ALTO AMAZONAS","LAGUNAS","Hombre","50-54",{"$f":"'Pob x Genero'!DD1487","v":292},20399]
["160403","LORETO","LORETO","MARISCAL RAMON CASTILLA","YAVARI","Hombre","50-54",{"$f":"'Pob x Genero'!DD1497","v":169},20409]
["170302","MADRE DE DIOS","MADRE DE DIOS","TAHUAMANU","IBERIA","Hombre","50-54",{"$f":"'Pob x Genero'!DD1536","v":253},20448]
["190307","PASCO","PASCO","OXAPAMPA","VILLA RICA","Hombre","50-54",{"$f":"'Pob x Genero'!DD1586","v":535},20498]
["200402","PIURA","PIURA","MORROPON","BUENOS AIRES","Hombre","50-54",{"$f":"'Pob x Genero'!DD1617","v":301},20529]
["200408","PIURA","PIURA","MORROPON","SANTA CATALINA DE MOSSA","Hombre","50-54",{"$f":"'Pob x Genero'!DD1623","v":107},20535]
["210114","PUNO","PUNO","PUNO","TIQUILLACA","Hombre","50-54",{"$f":"'Pob x Genero'!DD1666","v":70},20578]
["210601","PUNO","PUNO","HUANCANE","HUANCANE","Hombre","50-54",{"$f":"'Pob x Genero'!DD1705","v":525},20617]
["211004","PUNO","PUNO","SAN ANTONIO DE PUTINA","QUILCAPUNCU","Hombre","50-54",{"$f":"'Pob x Genero'!DD1739","v":129},20651]
["220501","SAN MARTIN","SAN MARTIN","LAMAS","LAMAS","Hombre","50-54",{"$f":"'Pob x Genero'!DD1786","v":465},20698]
["220507","SAN MARTIN","SAN MARTIN","LAMAS","RUMISAPA","Hombre","50-54",{"$f":"'Pob x Genero'!DD1792","v":127},20704]
["221001","SAN MARTIN","SAN MARTIN","TOCACHE","TOCACHE","Hombre","50-54",{"$f":"'Pob x Genero'!DD1835","v":872},20747]
["240106","TUMBES","TUMBES","TUMBES","SAN JUAN DE LA VIRGEN","Hombre","50-54",{"$f":"'Pob x Genero'!DD1874","v":242},20786]
["250204","UCAYALI","UCAYALI","ATALAYA","YURUA","Hombre","50-54",{"$f":"'Pob x Genero'!DD1892","v":59},20804]
["010201","AMAZONAS","AMAZONAS","BAGUA","BAGUA","Hombre","55-59",{"$f":"'Pob x Genero'!DE30","v":764},20834]
["010519","AMAZONAS","AMAZONAS","LUYA","SAN JUAN DE LOPECANCHA","Hombre","55-59",{"$f":"'Pob x Genero'!DE69","v":13},20873]
["020303","ANCASH","ANCASH","ANTONIO RAYMONDI","CHACCHO","Hombre","55-59",{"$f":"'Pob x Genero'!DE112","v":33},20916]
["020901","ANCASH","ANCASH","CORONGO","CORONGO","Hombre","55-59",{"$f":"'Pob x Genero'!DE151","v":51},20955]
["021207","ANCASH","ANCASH","HUAYLAS","PUEBLO LIBRE","Hombre","55-59",{"$f":"'Pob x Genero'!DE185","v":175},20989]
["021403","ANCASH","ANCASH","OCROS","CAJAMARQUILLA","Hombre","55-59",{"$f":"'Pob x Genero'!DE199","v":10},21003]
["021807","ANCASH","ANCASH","SANTA","SAMANCO","Hombre","55-59",{"$f":"'Pob x Genero'!DE238","v":153},21042]
["030210","APURIMAC","APURIMAC","ANDAHUAYLAS","PAMPACHIRI","Hombre","55-59",{"$f":"'Pob x Genero'!DE277","v":43},21081]
["030603","APURIMAC","APURIMAC","CHINCHEROS","COCHARCAS","Hombre","55-59",{"$f":"'Pob x Genero'!DE320","v":25},21124]
["030709","APURIMAC","APURIMAC","GRAU","SAN ANTONIO","Hombre","55-59",{"$f":"'Pob x Genero'!DE338","v":8},21142]
["040125","AREQUIPA","AREQUIPA","AREQUIPA","VITOR","Hombre","55-59",{"$f":"'Pob x Genero'!DE368","v":156},21172]
["040414","AREQUIPA","AREQUIPA","CASTILLA","VIRACO","Hombre","55-59",{"$f":"'Pob x Genero'!DE407","v":47},21211]
["040805","AREQUIPA","AREQUIPA","LA UNION","PAMPAMARCA","Hombre","55-59",{"$f":"'Pob x Genero'!DE446","v":26},21250]
["050104","AYACUCHO","AYACUCHO","HUAMANGA","CARMEN ALTO","Hombre","55-59",{"$f":"'Pob x Genero'!DE456","v":554},21260]
["050504","AYACUCHO","AYACUCHO","LA MAR","CHILCAS","Hombre","55-59",{"$f":"'Pob x Genero'!DE495","v":19},21299]
["050806","AYACUCHO","AYACUCHO","PAUCAR DEL SARA SARA","OYOLO","Hombre","55-59",{"$f":"'Pob x Genero'!DE541","v":30},21345]
["051108","AYACUCHO","AYACUCHO","VILCAS HUAMAN","VISCHONGO","Hombre","55-59",{"$f":"'Pob x Genero'!DE576","v":85},21380]
["060411","CAJAMARCA","CAJAMARCA","CHOTA","LLAMA","Hombre","55-59",{"$f":"'Pob x Genero'!DE615","v":203},21419]
["060502","CAJAMARCA","CAJAMARCA","CONTUMAZA","CHILETE","Hombre","55-59",{"$f":"'Pob x Genero'!DE625","v":77},21429]
["060903","CAJAMARCA","CAJAMARCA","SAN IGNACIO","HUARANGO","Hombre","55-59",{"$f":"'Pob x Genero'!DE664","v":358},21468]
["061302","CAJAMARCA","CAJAMARCA","SANTA CRUZ","ANDABAMBA","Hombre","55-59",{"$f":"'Pob x Genero'!DE694","v":28},21498]
["080503","CUSCO","CUSCO","CANAS","KUNTURKANKI","Hombre","55-59",{"$f":"'Pob x Genero'!DE745","v":137},21549]
["080601","CUSCO","CUSCO","CANCHIS","SICUANI","Hombre","55-59",{"$f":"'Pob x Genero'!DE751","v":1307},21555]
["081002","CUSCO","CUSCO","PARURO","ACCHA","Hombre","55-59",{"$f":"'Pob x Genero'!DE794","v":67},21598]
["090107","HUANCAVELICA","HUANCAVELICA","HUANCAVELICA","HUAYLLAHUARA","Hombre","55-59",{"$f":"'Pob x Genero'!DE833","v":15},21637]
["090202","HUANCAVELICA","HUANCAVELICA","ACOBAMBA","ANDABAMBA","Hombre","55-59",{"$f":"'Pob x Genero'!DE847","v":55},21651]
["090503","HUANCAVELICA","HUANCAVELICA","CHURCAMPA","CHINCHIHUASI","Hombre","55-59",{"$f":"'Pob x Genero'!DE881","v":40},21685]
["090717","HUANCAVELICA","HUANCAVELICA","TAYACAJA","SURCUBAMBA","Hombre","55-59",{"$f":"'Pob x Genero'!DE920","v":45},21724]
["100401","HUANUCO","HUANUCO","HUACAYBAMBA","HUACAYBAMBA","Hombre","55-59",{"$f":"'Pob x Genero'!DE959","v":102},21763]
["101005","HUANUCO","HUANUCO","LAURICOCHA","RONDOS","Hombre","55-59",{"$f":"'Pob x Genero'!DE1002","v":35},21806]
["110206","ICA","ICA","CHINCHA","GROCIO PRADO","Hombre","55-59",{"$f":"'Pob x Genero'!DE1032","v":675},21836]
["110503","ICA","ICA","PISCO","HUMAY","Hombre","55-59",{"$f":"'Pob x Genero'!DE1050","v":156},21854]
["120206","JUNIN","JUNIN","CONCEPCION","COMAS","Hombre","55-59",{"$f":"'Pob x Genero'!DE1089","v":109},21893]
["120424","JUNIN","JUNIN","JAUJA","PANCAN","Hombre","55-59",{"$f":"'Pob x Genero'!DE1128","v":31},21932]
["120901","JUNIN","JUNIN","CHUPACA","CHUPACA","Hombre","55-59",{"$f":"'Pob x Genero'!DE1171","v":501},21975]
["130106","LA LIBERTAD","LA LIBERTAD","TRUJILLO","LAREDO","Hombre","55-59",{"$f":"'Pob x Genero'!DE1185","v":1750},21989]
["130604","LA LIBERTAD","LA LIBERTAD","OTUZCO","CHARAT","Hombre","55-59",{"$f":"'Pob x Genero'!DE1215","v":72},22019]
["131102","LA LIBERTAD","LA LIBERTAD","GRAN CHIMU","LUCMA","Hombre","55-59",{"$f":"'Pob x Genero'!DE1258","v":113},22062]
["140308","LAMBAYEQUE","LAMBAYEQUE","LAMBAYEQUE","OLMOS","Hombre","55-59",{"$f":"'Pob x Genero'!DE1297","v":1326},22101]
["150106","DIRIS NORTE","LIMA","LIMA","CARABAYLLO","Hombre","55-59",{"$f":"'Pob x Genero'!DE1307","v":11231},22111]
["150509","LIMA","LIMA","CAÑETE","MALA","Hombre","55-59",{"$f":"'Pob x Genero'!DE1370","v":922},22174]
["150607","LIMA","LIMA","HUARAL","LAMPIAN","Hombre","55-59",{"$f":"'Pob x Genero'!DE1384","v":18},22188]
["150806","LIMA","LIMA","HUAURA","HUAURA","Hombre","55-59",{"$f":"'Pob x Genero'!DE1427","v":1133},22231]
["151027","LIMA","LIMA","YAUYOS","SAN PEDRO DE PILAS","Hombre","55-59",{"$f":"'Pob x Genero'!DE1466","v":14},22270]
["160104","LORETO","LORETO","MAYNAS","INDIANA","Hombre","55-59",{"$f":"'Pob x Genero'!DE1476","v":248},22280]
["160605","LORETO","LORETO","UCAYALI","SARAYACU","Hombre","55-59",{"$f":"'Pob x Genero'!DE1515","v":276},22319]
["180104","MOQUEGUA","MOQUEGUA","MARISCAL NIETO","SAMEGUA","Hombre","55-59",{"$f":"'Pob x Genero'!DE1541","v":337},22345]
["200114","PIURA","PIURA","PIURA","TAMBO GRANDE","Hombre","55-59",{"$f":"'Pob x Genero'!DE1596","v":2602},22400]
["200205","PIURA","PIURA","AYABACA","MONTERO","Hombre","55-59",{"$f":"'Pob x Genero'!DE1602","v":138},22406]
["200701","PIURA","PIURA","TALARA","PARIÑAS","Hombre","55-59",{"$f":"'Pob x Genero'!DE1641","v":2531},22445]
["210302","PUNO","PUNO","CARABAYA","AJOYANI","Hombre","55-59",{"$f":"'Pob x Genero'!DE1684","v":51},22488]
["210804","PUNO","PUNO","MELGAR","LLALLI","Hombre","55-59",{"$f":"'Pob x Genero'!DE1726","v":44},22530]
["210901","PUNO","PUNO","MOHO","MOHO","Hombre","55-59",{"$f":"'Pob x Genero'!DE1732","v":291},22536]
["220203","SAN MARTIN","SAN MARTIN","BELLAVISTA","BAJO BIAVO","Hombre","55-59",{"$f":"'Pob x Genero'!DE1771","v":321},22575]
["220709","SAN MARTIN","SAN MARTIN","PICOTA","TINGO DE PONASA","Hombre","55-59",{"$f":"'Pob x Genero'!DE1810","v":120},22614]
["230202","TACNA","TACNA","CANDARAVE","CAIRANI","Hombre","55-59",{"$f":"'Pob x Genero'!DE1853","v":28},22657]
["240302","TUMBES","TUMBES","ZARUMILLA","AGUAS VERDES","Hombre","55-59",{"$f":"'Pob x Genero'!DE1879","v":908},22683]
["010101","AMAZONAS","AMAZONAS","CHACHAPOYAS","CHACHAPOYAS","Hombre","60-64",{"$f":"'Pob x Genero'!DF9","v":779},22705]
["010401","AMAZONAS","AMAZONAS","CONDORCANQUI","NIEVA","Hombre","60-64",{"$f":"'Pob x Genero'!DF48","v":153},22744]
["010702","AMAZONAS","AMAZONAS","UTCUBAMBA","CAJARURO","Hombre","60-64",{"$f":"'Pob x Genero'!DF87","v":392},22783]
["020513","ANCASH","ANCASH","BOLOGNESI","PACLLON","Hombre","60-64",{"$f":"'Pob x Genero'!DF130","v":17},22826]
["020608","ANCASH","ANCASH","CARHUAZ","SAN MIGUEL DE ACO","Hombre","60-64",{"$f":"'Pob x Genero'!DF140","v":57},22836]
["021101","ANCASH","ANCASH","HUARMEY","HUARMEY","Hombre","60-64",{"$f":"'Pob x Genero'!DF174","v":620},22870]
["021511","ANCASH","ANCASH","PALLASCA","TAUCA","Hombre","60-64",{"$f":"'Pob x Genero'!DF217","v":75},22913]
["022006","ANCASH","ANCASH","YUNGAY","RANRAHIRCA","Hombre","60-64",{"$f":"'Pob x Genero'!DF256","v":69},22952]
["030405","APURIMAC","APURIMAC","AYMARAES","COLCABAMBA","Hombre","60-64",{"$f":"'Pob x Genero'!DF299","v":14},22995]
["030608","APURIMAC","APURIMAC","CHINCHEROS","RANRACANCHA","Hombre","60-64",{"$f":"'Pob x Genero'!DF325","v":67},23021]
["030714","APURIMAC","APURIMAC","GRAU","CURASCO","Hombre","60-64",{"$f":"'Pob x Genero'!DF343","v":24},23039]
["040306","AREQUIPA","AREQUIPA","CARAVELI","CAHUACHO","Hombre","60-64",{"$f":"'Pob x Genero'!DF386","v":31},23082]
["040518","AREQUIPA","AREQUIPA","CAYLLOMA","TUTI","Hombre","60-64",{"$f":"'Pob x Genero'!DF425","v":22},23121]
["040604","AREQUIPA","AREQUIPA","CONDESUYOS","CHICHAS","Hombre","60-64",{"$f":"'Pob x Genero'!DF431","v":27},23127]
["050304","AYACUCHO","AYACUCHO","HUANCA SANCOS","SANTIAGO DE LUCANAMARCA","Hombre","60-64",{"$f":"'Pob x Genero'!DF478","v":28},23174]
["050606","AYACUCHO","AYACUCHO","LUCANAS","CHIPAO","Hombre","60-64",{"$f":"'Pob x Genero'!DF512","v":50},23208]
["050910","AYACUCHO","AYACUCHO","SUCRE","SANTIAGO DE PAUCARAY","Hombre","60-64",{"$f":"'Pob x Genero'!DF555","v":15},23251]
["060302","CAJAMARCA","CAJAMARCA","CELENDIN","CHUMUCH","Hombre","60-64",{"$f":"'Pob x Genero'!DF594","v":34},23290]
["060308","CAJAMARCA","CAJAMARCA","CELENDIN","OXAMARCA","Hombre","60-64",{"$f":"'Pob x Genero'!DF600","v":83},23296]
["060612","CAJAMARCA","CAJAMARCA","CUTERVO","SANTO DOMINGO DE LA CAPILLA","Hombre","60-64",{"$f":"'Pob x Genero'!DF643","v":79},23339]
["061106","CAJAMARCA","CAJAMARCA","SAN MIGUEL","LA FLORIDA","Hombre","60-64",{"$f":"'Pob x Genero'!DF681","v":52},23377]
["080206","CUSCO","CUSCO","ACOMAYO","RONDOCAN","Hombre","60-64",{"$f":"'Pob x Genero'!DF724","v":40},23420]
["080305","CUSCO","CUSCO","ANTA","HUAROCONDO","Hombre","60-64",{"$f":"'Pob x Genero'!DF730","v":93},23426]
["080803","CUSCO","CUSCO","ESPINAR","COPORAQUE","Hombre","60-64",{"$f":"'Pob x Genero'!DF769","v":192},23465]
["081205","CUSCO","CUSCO","QUISPICANCHI","CCATCA","Hombre","60-64",{"$f":"'Pob x Genero'!DF812","v":177},23508]
["090108","HUANCAVELICA","HUANCAVELICA","HUANCAVELICA","IZCUCHACA","Hombre","60-64",{"$f":"'Pob x Genero'!DF834","v":9},23530]
["090511","HUANCAVELICA","HUANCAVELICA","CHURCAMPA","COSME","Hombre","60-64",{"$f":"'Pob x Genero'!DF889","v":23},23585]
["090610","HUANCAVELICA","HUANCAVELICA","HUAYTARA","SAN ANTONIO DE CUSICANCHA","Hombre","60-64",{"$f":"'Pob x Genero'!DF899","v":18},23595]
["100110","HUANUCO","HUANUCO","HUANUCO","YARUMAYO","Hombre","60-64",{"$f":"'Pob x Genero'!DF938","v":19},23634]
["100608","HUANUCO","HUANUCO","LEONCIO PRADO","CASTILLO GRANDE","Hombre","60-64",{"$f":"'Pob x Genero'!DF981","v":321},23677]
["110107","ICA","ICA","ICA","PUEBLO NUEVO","Hombre","60-64",{"$f":"'Pob x Genero'!DF1019","v":250},23715]
["110113","ICA","ICA","ICA","TATE","Hombre","60-64",{"$f":"'Pob x Genero'!DF1025","v":149},23721]
["120119","JUNIN","JUNIN","HUANCAYO","HUANCAN","Hombre","60-64",{"$f":"'Pob x Genero'!DF1068","v":438},23764]
["120403","JUNIN","JUNIN","JAUJA","APATA","Hombre","60-64",{"$f":"'Pob x Genero'!DF1107","v":78},23803]
["120608","JUNIN","JUNIN","SATIPO","RIO TAMBO","Hombre","60-64",{"$f":"'Pob x Genero'!DF1150","v":290},23846]
["120902","JUNIN","JUNIN","CHUPACA","AHUAC","Hombre","60-64",{"$f":"'Pob x Genero'!DF1172","v":154},23868]
["130203","LA LIBERTAD","LA LIBERTAD","ASCOPE","CHOCOPE","Hombre","60-64",{"$f":"'Pob x Genero'!DF1194","v":295},23890]
["130810","LA LIBERTAD","LA LIBERTAD","PATAZ","PIAS","Hombre","60-64",{"$f":"'Pob x Genero'!DF1237","v":36},23933]
["140113","LAMBAYEQUE","LAMBAYEQUE","CHICLAYO","REQUE","Hombre","60-64",{"$f":"'Pob x Genero'!DF1276","v":452},23972]
["150114","DIRIS ESTE","LIMA","LIMA","LA MOLINA","Hombre","60-64",{"$f":"'Pob x Genero'!DF1315","v":4950},24011]
["150124","DIRIS SUR","LIMA","LIMA","PUCUSANA","Hombre","60-64",{"$f":"'Pob x Genero'!DF1325","v":419},24021]
["150502","LIMA","LIMA","CAÑETE","ASIA","Hombre","60-64",{"$f":"'Pob x Genero'!DF1363","v":231},24059]
["150717","LIMA","LIMA","HUAROCHIRI","SAN BARTOLOME","Hombre","60-64",{"$f":"'Pob x Genero'!DF1406","v":36},24102]
["151006","LIMA","LIMA","YAUYOS","CACRA","Hombre","60-64",{"$f":"'Pob x Genero'!DF1445","v":24},24141]
["151012","LIMA","LIMA","YAUYOS","HONGOS","Hombre","60-64",{"$f":"'Pob x Genero'!DF1451","v":11},24147]
["160305","LORETO","LORETO","LORETO","URARINAS","Hombre","60-64",{"$f":"'Pob x Genero'!DF1494","v":181},24190]
["170102","MADRE DE DIOS","MADRE DE DIOS","TAMBOPATA","INAMBARI","Hombre","60-64",{"$f":"'Pob x Genero'!DF1528","v":525},24224]
["190113","PASCO","PASCO","PASCO","YANACANCHA","Hombre","60-64",{"$f":"'Pob x Genero'!DF1571","v":506},24267]
["190302","PASCO","PASCO","OXAPAMPA","CHONTABAMBA","Hombre","60-64",{"$f":"'Pob x Genero'!DF1581","v":159},24277]
["200405","PIURA","PIURA","MORROPON","MORROPON","Hombre","60-64",{"$f":"'Pob x Genero'!DF1620","v":386},24316]
["210111","PUNO","PUNO","PUNO","PICHACANI","Hombre","60-64",{"$f":"'Pob x Genero'!DF1663","v":169},24359]
["210214","PUNO","PUNO","AZANGARO","SANTIAGO DE PUPUJA","Hombre","60-64",{"$f":"'Pob x Genero'!DF1681","v":93},24377]
["211005","PUNO","PUNO","SAN ANTONIO DE PUTINA","SINA","Hombre","60-64",{"$f":"'Pob x Genero'!DF1740","v":20},24436]
["211205","PUNO","PUNO","SANDIA","PHARA","Hombre","60-64",{"$f":"'Pob x Genero'!DF1750","v":106},24446]
["220504","SAN MARTIN","SAN MARTIN","LAMAS","CAYNARACHI","Hombre","60-64",{"$f":"'Pob x Genero'!DF1789","v":232},24485]
["220912","SAN MARTIN","SAN MARTIN","SAN MARTIN","SAN ANTONIO","Hombre","60-64",{"$f":"'Pob x Genero'!DF1832","v":52},24528]
["230406","TACNA","TACNA","TARATA","SUSAPAYA","Hombre","60-64",{"$f":"'Pob x Genero'!DF1866","v":17},24562]
["240202","TUMBES","TUMBES","CONTRALMIRANTE VILLAR","CASITAS","Hombre","60-64",{"$f":"'Pob x Genero'!DF1876","v":199},24572]
["010119","AMAZONAS","AMAZONAS","CHACHAPOYAS","SAN ISIDRO DE MAINO","Hombre","65-69",{"$f":"'Pob x Genero'!DG27","v":7},24615]
["010516","AMAZONAS","AMAZONAS","LUYA","SAN CRISTOBAL","Hombre","65-69",{"$f":"'Pob x Genero'!DG66","v":6},24654]
["020201","ANCASH","ANCASH","AIJA","AIJA","Hombre","65-69",{"$f":"'Pob x Genero'!DG105","v":54},24693]
["020510","ANCASH","ANCASH","BOLOGNESI","HUAYLLACAYAN","Hombre","65-69",{"$f":"'Pob x Genero'!DG127","v":30},24715]
["020903","ANCASH","ANCASH","CORONGO","BAMBAS","Hombre","65-69",{"$f":"'Pob x Genero'!DG153","v":8},24741]
["021308","ANCASH","ANCASH","MARISCAL LUZURIAGA","MUSGA","Hombre","65-69",{"$f":"'Pob x Genero'!DG196","v":25},24784]
["021804","ANCASH","ANCASH","SANTA","MACATE","Hombre","65-69",{"$f":"'Pob x Genero'!DG235","v":76},24823]
["030207","APURIMAC","APURIMAC","ANDAHUAYLAS","KISHUARA","Hombre","65-69",{"$f":"'Pob x Genero'!DG274","v":66},24862]
["030213","APURIMAC","APURIMAC","ANDAHUAYLAS","SAN JERONIMO","Hombre","65-69",{"$f":"'Pob x Genero'!DG280","v":207},24868]
["030605","APURIMAC","APURIMAC","CHINCHEROS","OCOBAMBA","Hombre","65-69",{"$f":"'Pob x Genero'!DG322","v":97},24910]
["040118","AREQUIPA","AREQUIPA","AREQUIPA","SAN JUAN DE SIGUAS","Hombre","65-69",{"$f":"'Pob x Genero'!DG361","v":15},24949]
["040411","AREQUIPA","AREQUIPA","CASTILLA","TIPAN","Hombre","65-69",{"$f":"'Pob x Genero'!DG404","v":11},24992]
["040503","AREQUIPA","AREQUIPA","CAYLLOMA","CABANACONDE","Hombre","65-69",{"$f":"'Pob x Genero'!DG410","v":92},24998]
["050113","AYACUCHO","AYACUCHO","HUAMANGA","TAMBILLO","Hombre","65-69",{"$f":"'Pob x Genero'!DG465","v":118},25053]
["050413","AYACUCHO","AYACUCHO","HUANTA","PUTIS","Hombre","65-69",{"$f":"'Pob x Genero'!DG491","v":6},25079]
["050703","AYACUCHO","AYACUCHO","PARINACOCHAS","CORONEL CASTAÑEDA","Hombre","65-69",{"$f":"'Pob x Genero'!DG530","v":33},25118]
["050805","AYACUCHO","AYACUCHO","PAUCAR DEL SARA SARA","MARCABAMBA","Hombre","65-69",{"$f":"'Pob x Genero'!DG540","v":14},25128]
["060103","CAJAMARCA","CAJAMARCA","CAJAMARCA","CHETILLA","Hombre","65-69",{"$f":"'Pob x Genero'!DG579","v":44},25167]
["060418","CAJAMARCA","CAJAMARCA","CHOTA","TOCMOCHE","Hombre","65-69",{"$f":"'Pob x Genero'!DG622","v":15},25210]
["060907","CAJAMARCA","CAJAMARCA","SAN IGNACIO","TABACONAS","Hombre","65-69",{"$f":"'Pob x Genero'!DG668","v":191},25256]
["061307","CAJAMARCA","CAJAMARCA","SANTA CRUZ","PULAN","Hombre","65-69",{"$f":"'Pob x Genero'!DG699","v":53},25287]
["070106","CALLAO","CALLAO","CALLAO","VENTANILLA","Hombre","65-69",{"$f":"'Pob x Genero'!DG709","v":5350},25297]
["080506","CUSCO","CUSCO","CANAS","PAMPAMARCA","Hombre","65-69",{"$f":"'Pob x Genero'!DG748","v":34},25336]
["080913","CUSCO","CUSCO","LA CONVENCION","VILLA KINTIARINA","Hombre","65-69",{"$f":"'Pob x Genero'!DG787","v":9},25375]
["081302","CUSCO","CUSCO","URUBAMBA","CHINCHERO","Hombre","65-69",{"$f":"'Pob x Genero'!DG821","v":169},25409]
["090109","HUANCAVELICA","HUANCAVELICA","HUANCAVELICA","LARIA","Hombre","65-69",{"$f":"'Pob x Genero'!DG835","v":16},25423]
["090413","HUANCAVELICA","HUANCAVELICA","CASTROVIRREYNA","TICRAPO","Hombre","65-69",{"$f":"'Pob x Genero'!DG878","v":25},25466]
["090714","HUANCAVELICA","HUANCAVELICA","TAYACAJA","SALCABAMBA","Hombre","65-69",{"$f":"'Pob x Genero'!DG917","v":41},25505]
["100321","HUANUCO","HUANUCO","DOS DE MAYO","SHUNQUI","Hombre","65-69",{"$f":"'Pob x Genero'!DG956","v":23},25544]
["100601","HUANUCO","HUANUCO","LEONCIO PRADO","RUPA-RUPA","Hombre","65-69",{"$f":"'Pob x Genero'!DG974","v":594},25562]
["101007","HUANUCO","HUANUCO","LAURICOCHA","SAN MIGUEL DE CAURI","Hombre","65-69",{"$f":"'Pob x Genero'!DG1004","v":46},25592]
["110405","ICA","ICA","PALPA","TIBILLO","Hombre","65-69",{"$f":"'Pob x Genero'!DG1047","v":10},25635]
["120203","JUNIN","JUNIN","CONCEPCION","ANDAMARCA","Hombre","65-69",{"$f":"'Pob x Genero'!DG1086","v":72},25674]
["120421","JUNIN","JUNIN","JAUJA","MUQUIYAUYO","Hombre","65-69",{"$f":"'Pob x Genero'!DG1125","v":33},25713]
["120708","JUNIN","JUNIN","TARMA","SAN PEDRO DE CAJAS","Hombre","65-69",{"$f":"'Pob x Genero'!DG1159","v":77},25747]
["120903","JUNIN","JUNIN","CHUPACA","CHONGOS BAJO","Hombre","65-69",{"$f":"'Pob x Genero'!DG1173","v":106},25761]
["130504","LA LIBERTAD","LA LIBERTAD","JULCAN","HUASO","Hombre","65-69",{"$f":"'Pob x Genero'!DG1212","v":70},25800]
["131007","LA LIBERTAD","LA LIBERTAD","SANTIAGO DE CHUCO","SANTA CRUZ DE CHUCA","Hombre","65-69",{"$f":"'Pob x Genero'!DG1255","v":54},25843]
["140305","LAMBAYEQUE","LAMBAYEQUE","LAMBAYEQUE","MOCHUMI","Hombre","65-69",{"$f":"'Pob x Genero'!DG1294","v":475},25882]
["150111","DIRIS ESTE","LIMA","LIMA","EL AGUSTINO","Hombre","65-69",{"$f":"'Pob x Genero'!DG1312","v":3973},25900]
["150141","DIRIS CENTRO","LIMA","LIMA","SURQUILLO","Hombre","65-69",{"$f":"'Pob x Genero'!DG1342","v":2727},25930]
["150604","LIMA","LIMA","HUARAL","AUCALLAMA","Hombre","65-69",{"$f":"'Pob x Genero'!DG1381","v":490},25969]
["150803","LIMA","LIMA","HUAURA","CALETA DE CARQUIN","Hombre","65-69",{"$f":"'Pob x Genero'!DG1424","v":165},26012]
["150809","LIMA","LIMA","HUAURA","SANTA LEONOR","Hombre","65-69",{"$f":"'Pob x Genero'!DG1430","v":39},26018]
["151026","LIMA","LIMA","YAUYOS","SAN JOAQUIN","Hombre","65-69",{"$f":"'Pob x Genero'!DG1465","v":6},26053]
["160601","LORETO","LORETO","UCAYALI","CONTAMANA","Hombre","65-69",{"$f":"'Pob x Genero'!DG1511","v":356},26099]
["180206","MOQUEGUA","MOQUEGUA","GENERAL SANCHEZ CERRO","LLOQUE","Hombre","65-69",{"$f":"'Pob x Genero'!DG1550","v":7},26138]
["190102","PASCO","PASCO","PASCO","HUACHON","Hombre","65-69",{"$f":"'Pob x Genero'!DG1560","v":59},26148]
["200202","PIURA","PIURA","AYABACA","FRIAS","Hombre","65-69",{"$f":"'Pob x Genero'!DG1599","v":273},26187]
["200606","PIURA","PIURA","SULLANA","MIGUEL CHECA","Hombre","65-69",{"$f":"'Pob x Genero'!DG1638","v":166},26226]
["210201","PUNO","PUNO","AZANGARO","AZANGARO","Hombre","65-69",{"$f":"'Pob x Genero'!DG1668","v":378},26256]
["210707","PUNO","PUNO","LAMPA","PARATIA","Hombre","65-69",{"$f":"'Pob x Genero'!DG1719","v":26},26307]
["210807","PUNO","PUNO","MELGAR","ORURILLO","Hombre","65-69",{"$f":"'Pob x Genero'!DG1729","v":95},26317]
["220106","SAN MARTIN","SAN MARTIN","MOYOBAMBA","YANTALO","Hombre","65-69",{"$f":"'Pob x Genero'!DG1768","v":51},26356]
["220706","SAN MARTIN","SAN MARTIN","PICOTA","SAN CRISTOBAL","Hombre","65-69",{"$f":"'Pob x Genero'!DG1807","v":22},26395]
["220901","SAN MARTIN","SAN MARTIN","SAN MARTIN","TARAPOTO","Hombre","65-69",{"$f":"'Pob x Genero'!DG1821","v":1594},26409]
["230204","TACNA","TACNA","CANDARAVE","CURIBAYA","Hombre","65-69",{"$f":"'Pob x Genero'!DG1855","v":23},26443]
["250302","UCAYALI","UCAYALI","PADRE ABAD","IRAZOLA","Hombre","65-69",{"$f":"'Pob x Genero'!DG1894","v":209},26482]
["010310","AMAZONAS","AMAZONAS","BONGARA","SHIPASBAMBA","Hombre","70-74",{"$f":"'Pob x Genero'!DH45","v":23},26525]
["010611","AMAZONAS","AMAZONAS","RODRIGUEZ DE MENDOZA","TOTORA","Hombre","70-74",{"$f":"'Pob x Genero'!DH84","v":6},26564]
["020305","ANCASH","ANCASH","ANTONIO RAYMONDI","MIRGAS","Hombre","70-74",{"$f":"'Pob x Genero'!DH114","v":32},26594]
["020515","ANCASH","ANCASH","BOLOGNESI","TICLLOS","Hombre","70-74",{"$f":"'Pob x Genero'!DH132","v":13},26612]
["021014","ANCASH","ANCASH","HUARI","SAN MARCOS","Hombre","70-74",{"$f":"'Pob x Genero'!DH171","v":196},26651]
["021508","ANCASH","ANCASH","PALLASCA","PALLASCA","Hombre","70-74",{"$f":"'Pob x Genero'!DH214","v":43},26694]
["022003","ANCASH","ANCASH","YUNGAY","MANCOS","Hombre","70-74",{"$f":"'Pob x Genero'!DH253","v":94},26733]
["030109","APURIMAC","APURIMAC","ABANCAY","TAMBURCO","Hombre","70-74",{"$f":"'Pob x Genero'!DH267","v":100},26747]
["030407","APURIMAC","APURIMAC","AYMARAES","HUAYLLO","Hombre","70-74",{"$f":"'Pob x Genero'!DH301","v":7},26781]
["030711","APURIMAC","APURIMAC","GRAU","TURPAY","Hombre","70-74",{"$f":"'Pob x Genero'!DH340","v":12},26820]
["040303","AREQUIPA","AREQUIPA","CARAVELI","ATICO","Hombre","70-74",{"$f":"'Pob x Genero'!DH383","v":83},26863]
["040309","AREQUIPA","AREQUIPA","CARAVELI","HUANUHUANU","Hombre","70-74",{"$f":"'Pob x Genero'!DH389","v":16},26869]
["040513","AREQUIPA","AREQUIPA","CAYLLOMA","MADRIGAL","Hombre","70-74",{"$f":"'Pob x Genero'!DH420","v":27},26900]
["050202","AYACUCHO","AYACUCHO","CANGALLO","CHUSCHI","Hombre","70-74",{"$f":"'Pob x Genero'!DH470","v":76},26950]
["050603","AYACUCHO","AYACUCHO","LUCANAS","CABANA","Hombre","70-74",{"$f":"'Pob x Genero'!DH509","v":44},26989]
["050613","AYACUCHO","AYACUCHO","LUCANAS","OTOCA","Hombre","70-74",{"$f":"'Pob x Genero'!DH519","v":20},26999]
["051002","AYACUCHO","AYACUCHO","VICTOR FAJARDO","ALCAMENCA","Hombre","70-74",{"$f":"'Pob x Genero'!DH558","v":16},27038]
["060401","CAJAMARCA","CAJAMARCA","CHOTA","CHOTA","Hombre","70-74",{"$f":"'Pob x Genero'!DH605","v":464},27085]
["060608","CAJAMARCA","CAJAMARCA","CUTERVO","SAN ANDRES DE CUTERVO","Hombre","70-74",{"$f":"'Pob x Genero'!DH639","v":44},27119]
["061103","CAJAMARCA","CAJAMARCA","SAN MIGUEL","CALQUIS","Hombre","70-74",{"$f":"'Pob x Genero'!DH678","v":43},27158]
["061109","CAJAMARCA","CAJAMARCA","SAN MIGUEL","NIEPOS","Hombre","70-74",{"$f":"'Pob x Genero'!DH684","v":46},27164]
["080302","CUSCO","CUSCO","ANTA","ANCAHUASI","Hombre","70-74",{"$f":"'Pob x Genero'!DH727","v":98},27207]
["080708","CUSCO","CUSCO","CHUMBIVILCAS","VELILLE","Hombre","70-74",{"$f":"'Pob x Genero'!DH766","v":114},27246]
["081201","CUSCO","CUSCO","QUISPICANCHI","URCOS","Hombre","70-74",{"$f":"'Pob x Genero'!DH808","v":111},27288]
["081207","CUSCO","CUSCO","QUISPICANCHI","HUARO","Hombre","70-74",{"$f":"'Pob x Genero'!DH814","v":43},27294]
["090208","HUANCAVELICA","HUANCAVELICA","ACOBAMBA","ROSARIO","Hombre","70-74",{"$f":"'Pob x Genero'!DH853","v":26},27333]
["090607","HUANCAVELICA","HUANCAVELICA","HUAYTARA","PILPICHACA","Hombre","70-74",{"$f":"'Pob x Genero'!DH896","v":15},27376]
["100107","HUANUCO","HUANUCO","HUANUCO","SAN FRANCISCO DE CAYRAN","Hombre","70-74",{"$f":"'Pob x Genero'!DH935","v":52},27415]
["100403","HUANUCO","HUANUCO","HUACAYBAMBA","COCHABAMBA","Hombre","70-74",{"$f":"'Pob x Genero'!DH961","v":11},27441]
["100610","HUANUCO","HUANUCO","LEONCIO PRADO","SANTO DOMINGO DE ANDA","Hombre","70-74",{"$f":"'Pob x Genero'!DH983","v":19},27463]
["110110","ICA","ICA","ICA","SAN JUAN BAUTISTA","Hombre","70-74",{"$f":"'Pob x Genero'!DH1022","v":327},27502]
["120114","JUNIN","JUNIN","HUANCAYO","EL TAMBO","Hombre","70-74",{"$f":"'Pob x Genero'!DH1065","v":2167},27545]
["120306","JUNIN","JUNIN","CHANCHAMAYO","VITOC","Hombre","70-74",{"$f":"'Pob x Genero'!DH1104","v":19},27584]
["120410","JUNIN","JUNIN","JAUJA","HUERTAS","Hombre","70-74",{"$f":"'Pob x Genero'!DH1114","v":31},27594]
["120701","JUNIN","JUNIN","TARMA","TARMA","Hombre","70-74",{"$f":"'Pob x Genero'!DH1152","v":632},27632]
["130112","LA LIBERTAD","LA LIBERTAD","TRUJILLO","ALTO TRUJILLO","Hombre","70-74",{"$f":"'Pob x Genero'!DH1191","v":883},27671]
["130807","LA LIBERTAD","LA LIBERTAD","PATAZ","ONGON","Hombre","70-74",{"$f":"'Pob x Genero'!DH1234","v":11},27714]
["130813","LA LIBERTAD","LA LIBERTAD","PATAZ","URPAY","Hombre","70-74",{"$f":"'Pob x Genero'!DH1240","v":43},27720]
["140310","LAMBAYEQUE","LAMBAYEQUE","LAMBAYEQUE","SALAS","Hombre","70-74",{"$f":"'Pob x Genero'!DH1299","v":234},27779]
["150120","DIRIS CENTRO","LIMA","LIMA","MAGDALENA DEL MAR","Hombre","70-74",{"$f":"'Pob x Genero'!DH1321","v":1821},27801]
["150406","LIMA","LIMA","CANTA","SAN BUENAVENTURA","Hombre","70-74",{"$f":"'Pob x Genero'!DH1360","v":44},27840]
["150710","LIMA","LIMA","HUAROCHIRI","LAHUAYTAMBO","Hombre","70-74",{"$f":"'Pob x Genero'!DH1399","v":27},27879]
["150720","LIMA","LIMA","HUAROCHIRI","SAN JUAN DE TANTARANCHE","Hombre","70-74",{"$f":"'Pob x Genero'!DH1409","v":7},27889]
["151013","LIMA","LIMA","YAUYOS","HUAMPARA","Hombre","70-74",{"$f":"'Pob x Genero'!DH1452","v":7},27932]
["160301","LORETO","LORETO","LORETO","NAUTA","Hombre","70-74",{"$f":"'Pob x Genero'!DH1490","v":310},27970]
["170103","MADRE DE DIOS","MADRE DE DIOS","TAMBOPATA","LAS PIEDRAS","Hombre","70-74",{"$f":"'Pob x Genero'!DH1529","v":522},28009]
["170301","MADRE DE DIOS","MADRE DE DIOS","TAHUAMANU","IÑAPARI","Hombre","70-74",{"$f":"'Pob x Genero'!DH1535","v":70},28015]
["190207","PASCO","PASCO","DANIEL ALCIDES CARRION","TAPUC","Hombre","70-74",{"$f":"'Pob x Genero'!DH1578","v":29},28058]
["200208","PIURA","PIURA","AYABACA","SAPILLICA","Hombre","70-74",{"$f":"'Pob x Genero'!DH1605","v":96},28085]
["210107","PUNO","PUNO","PUNO","COATA","Hombre","70-74",{"$f":"'Pob x Genero'!DH1659","v":82},28139]
["210406","PUNO","PUNO","CHUCUITO","POMATA","Hombre","70-74",{"$f":"'Pob x Genero'!DH1698","v":235},28178]
["210505","PUNO","PUNO","EL COLLAO","CONDURIRI","Hombre","70-74",{"$f":"'Pob x Genero'!DH1704","v":24},28184]
["211202","PUNO","PUNO","SANDIA","CUYOCUYO","Hombre","70-74",{"$f":"'Pob x Genero'!DH1747","v":50},28227]
["220501","SAN MARTIN","SAN MARTIN","LAMAS","LAMAS","Hombre","70-74",{"$f":"'Pob x Genero'!DH1786","v":266},28266]
["220707","SAN MARTIN","SAN MARTIN","PICOTA","SAN HILARION","Hombre","70-74",{"$f":"'Pob x Genero'!DH1808","v":41},28288]
["220914","SAN MARTIN","SAN MARTIN","SAN MARTIN","SHAPAJA","Hombre","70-74",{"$f":"'Pob x Genero'!DH1834","v":31},28314]
["240105","TUMBES","TUMBES","TUMBES","SAN JACINTO","Hombre","70-74",{"$f":"'Pob x Genero'!DH1873","v":156},28353]
["010116","AMAZONAS","AMAZONAS","CHACHAPOYAS","OLLEROS","Hombre","75-79",{"$f":"'Pob x Genero'!DI24","v":7},28396]
["010513","AMAZONAS","AMAZONAS","LUYA","OCUMAL","Hombre","75-79",{"$f":"'Pob x Genero'!DI63","v":24},28435]
["020109","ANCASH","ANCASH","HUARAZ","PAMPAS","Hombre","75-79",{"$f":"'Pob x Genero'!DI101","v":9},28473]
["020302","ANCASH","ANCASH","ANTONIO RAYMONDI","ACZO","Hombre","75-79",{"$f":"'Pob x Genero'!DI111","v":21},28483]
["020804","ANCASH","ANCASH","CASMA","YAUTAN","Hombre","75-79",{"$f":"'Pob x Genero'!DI150","v":82},28522]
["021305","ANCASH","ANCASH","MARISCAL LUZURIAGA","LLAMA","Hombre","75-79",{"$f":"'Pob x Genero'!DI193","v":17},28565]
["021801","ANCASH","ANCASH","SANTA","CHIMBOTE","Hombre","75-79",{"$f":"'Pob x Genero'!DI232","v":2315},28604]
["022004","ANCASH","ANCASH","YUNGAY","MATACOTO","Hombre","75-79",{"$f":"'Pob x Genero'!DI254","v":12},28626]
["030213","APURIMAC","APURIMAC","ANDAHUAYLAS","SAN JERONIMO","Hombre","75-79",{"$f":"'Pob x Genero'!DI280","v":94},28652]
["030602","APURIMAC","APURIMAC","CHINCHEROS","ANCO-HUALLO","Hombre","75-79",{"$f":"'Pob x Genero'!DI319","v":64},28691]
["040115","AREQUIPA","AREQUIPA","AREQUIPA","QUEQUEÑA","Hombre","75-79",{"$f":"'Pob x Genero'!DI358","v":120},28730]
["040125","AREQUIPA","AREQUIPA","AREQUIPA","VITOR","Hombre","75-79",{"$f":"'Pob x Genero'!DI368","v":56},28740]
["040414","AREQUIPA","AREQUIPA","CASTILLA","VIRACO","Hombre","75-79",{"$f":"'Pob x Genero'!DI407","v":40},28779]
["040808","AREQUIPA","AREQUIPA","LA UNION","SAYLA","Hombre","75-79",{"$f":"'Pob x Genero'!DI449","v":3},28821]
["050410","AYACUCHO","AYACUCHO","HUANTA","UCHURACCAY","Hombre","75-79",{"$f":"'Pob x Genero'!DI488","v":16},28860]
["050621","AYACUCHO","AYACUCHO","LUCANAS","SANTA LUCIA","Hombre","75-79",{"$f":"'Pob x Genero'!DI527","v":23},28899]
["050802","AYACUCHO","AYACUCHO","PAUCAR DEL SARA SARA","COLTA","Hombre","75-79",{"$f":"'Pob x Genero'!DI537","v":4},28909]
["060204","CAJAMARCA","CAJAMARCA","CAJABAMBA","SITACOCHA","Hombre","75-79",{"$f":"'Pob x Genero'!DI592","v":42},28964]
["060410","CAJAMARCA","CAJAMARCA","CHOTA","LAJAS","Hombre","75-79",{"$f":"'Pob x Genero'!DI614","v":81},28986]
["060808","CAJAMARCA","CAJAMARCA","JAEN","PUCARA","Hombre","75-79",{"$f":"'Pob x Genero'!DI657","v":57},29029]
["060902","CAJAMARCA","CAJAMARCA","SAN IGNACIO","CHIRINOS","Hombre","75-79",{"$f":"'Pob x Genero'!DI663","v":100},29035]
["070103","CALLAO","CALLAO","CALLAO","CARMEN DE LA LEGUA REYNOSO","Hombre","75-79",{"$f":"'Pob x Genero'!DI706","v":648},29078]
["080503","CUSCO","CUSCO","CANAS","KUNTURKANKI","Hombre","75-79",{"$f":"'Pob x Genero'!DI745","v":47},29117]
["080909","CUSCO","CUSCO","LA CONVENCION","VILCABAMBA","Hombre","75-79",{"$f":"'Pob x Genero'!DI783","v":88},29155]
["081001","CUSCO","CUSCO","PARURO","PARURO","Hombre","75-79",{"$f":"'Pob x Genero'!DI793","v":32},29165]
["090106","HUANCAVELICA","HUANCAVELICA","HUANCAVELICA","HUACHOCOLPA","Hombre","75-79",{"$f":"'Pob x Genero'!DI832","v":3},29204]
["090410","HUANCAVELICA","HUANCAVELICA","CASTROVIRREYNA","SAN JUAN","Hombre","75-79",{"$f":"'Pob x Genero'!DI875","v":5},29247]
["090710","HUANCAVELICA","HUANCAVELICA","TAYACAJA","ÑAHUIMPUQUIO","Hombre","75-79",{"$f":"'Pob x Genero'!DI914","v":8},29286]
["100207","HUANUCO","HUANUCO","AMBO","SAN RAFAEL","Hombre","75-79",{"$f":"'Pob x Genero'!DI948","v":60},29320]
["100404","HUANUCO","HUANUCO","HUACAYBAMBA","PINRA","Hombre","75-79",{"$f":"'Pob x Genero'!DI962","v":41},29334]
["101004","HUANUCO","HUANUCO","LAURICOCHA","QUEROPALCA","Hombre","75-79",{"$f":"'Pob x Genero'!DI1001","v":5},29373]
["110303","ICA","ICA","NAZCA","EL INGENIO","Hombre","75-79",{"$f":"'Pob x Genero'!DI1040","v":35},29412]
["120136","JUNIN","JUNIN","HUANCAYO","VIQUES","Hombre","75-79",{"$f":"'Pob x Genero'!DI1083","v":25},29455]
["120303","JUNIN","JUNIN","CHANCHAMAYO","PICHANAKI","Hombre","75-79",{"$f":"'Pob x Genero'!DI1101","v":195},29473]
["120427","JUNIN","JUNIN","JAUJA","RICRAN","Hombre","75-79",{"$f":"'Pob x Genero'!DI1131","v":20},29503]
["120810","JUNIN","JUNIN","YAULI","YAULI","Hombre","75-79",{"$f":"'Pob x Genero'!DI1170","v":26},29542]
["130501","LA LIBERTAD","LA LIBERTAD","JULCAN","JULCAN","Hombre","75-79",{"$f":"'Pob x Genero'!DI1209","v":155},29581]
["130610","LA LIBERTAD","LA LIBERTAD","OTUZCO","PARANDAY","Hombre","75-79",{"$f":"'Pob x Genero'!DI1219","v":7},29591]
["131006","LA LIBERTAD","LA LIBERTAD","SANTIAGO DE CHUCO","QUIRUVILCA","Hombre","75-79",{"$f":"'Pob x Genero'!DI1254","v":64},29626]
["140307","LAMBAYEQUE","LAMBAYEQUE","LAMBAYEQUE","MOTUPE","Hombre","75-79",{"$f":"'Pob x Genero'!DI1296","v":379},29668]
["150138","DIRIS SUR","LIMA","LIMA","SANTA MARIA DEL MAR","Hombre","75-79",{"$f":"'Pob x Genero'!DI1339","v":44},29711]
["150601","LIMA","LIMA","HUARAL","HUARAL","Hombre","75-79",{"$f":"'Pob x Genero'!DI1378","v":1307},29750]
["150611","LIMA","LIMA","HUARAL","SUMBILCA","Hombre","75-79",{"$f":"'Pob x Genero'!DI1388","v":23},29760]
["150906","LIMA","LIMA","OYON","PACHANGARA","Hombre","75-79",{"$f":"'Pob x Genero'!DI1439","v":61},29811]
["151026","LIMA","LIMA","YAUYOS","SAN JOAQUIN","Hombre","75-79",{"$f":"'Pob x Genero'!DI1465","v":6},29837]
["160509","LORETO","LORETO","REQUENA","TAPICHE","Hombre","75-79",{"$f":"'Pob x Genero'!DI1508","v":3},29880]
["160604","LORETO","LORETO","UCAYALI","PAMPA HERMOSA","Hombre","75-79",{"$f":"'Pob x Genero'!DI1514","v":36},29886]
["180302","MOQUEGUA","MOQUEGUA","ILO","EL ALGARROBAL","Hombre","75-79",{"$f":"'Pob x Genero'!DI1557","v":114},29929]
["200108","PIURA","PIURA","PIURA","EL TALLAN","Hombre","75-79",{"$f":"'Pob x Genero'!DI1592","v":37},29964]
["200602","PIURA","PIURA","SULLANA","BELLAVISTA","Hombre","75-79",{"$f":"'Pob x Genero'!DI1634","v":351},30006]
["200704","PIURA","PIURA","TALARA","LOBITOS","Hombre","75-79",{"$f":"'Pob x Genero'!DI1644","v":13},30016]
["210301","PUNO","PUNO","CARABAYA","MACUSANI","Hombre","75-79",{"$f":"'Pob x Genero'!DI1683","v":36},30055]
["210710","PUNO","PUNO","LAMPA","VILAVILA","Hombre","75-79",{"$f":"'Pob x Genero'!DI1722","v":3},30094]
["211105","PUNO","PUNO","SAN ROMAN","SAN MIGUEL","Hombre","75-79",{"$f":"'Pob x Genero'!DI1745","v":343},30117]
["220702","SAN MARTIN","SAN MARTIN","PICOTA","BUENOS AIRES","Hombre","75-79",{"$f":"'Pob x Genero'!DI1803","v":34},30175]
["220802","SAN MARTIN","SAN MARTIN","RIOJA","AWAJUN","Hombre","75-79",{"$f":"'Pob x Genero'!DI1813","v":53},30185]
["230201","TACNA","TACNA","CANDARAVE","CANDARAVE","Hombre","75-79",{"$f":"'Pob x Genero'!DI1852","v":47},30224]
["250203","UCAYALI","UCAYALI","ATALAYA","TAHUANIA","Hombre","75-79",{"$f":"'Pob x Genero'!DI1891","v":51},30263]
["010307","AMAZONAS","AMAZONAS","BONGARA","JAZAN","Hombre","80-84",{"$f":"'Pob x Genero'!DJ42","v":33},30306]
["010506","AMAZONAS","AMAZONAS","LUYA","INGUILPATA","Hombre","80-84",{"$f":"'Pob x Genero'!DJ56","v":2},30320]
["010705","AMAZONAS","AMAZONAS","UTCUBAMBA","JAMALCA","Hombre","80-84",{"$f":"'Pob x Genero'!DJ90","v":24},30354]
["020512","ANCASH","ANCASH","BOLOGNESI","MANGAS","Hombre","80-84",{"$f":"'Pob x Genero'!DJ129","v":10},30393]
["021011","ANCASH","ANCASH","HUARI","PONTO","Hombre","80-84",{"$f":"'Pob x Genero'!DJ168","v":23},30432]
["021505","ANCASH","ANCASH","PALLASCA","HUANDOVAL","Hombre","80-84",{"$f":"'Pob x Genero'!DJ211","v":6},30475]
["021901","ANCASH","ANCASH","SIHUAS","SIHUAS","Hombre","80-84",{"$f":"'Pob x Genero'!DJ241","v":51},30505]
["022005","ANCASH","ANCASH","YUNGAY","QUILLO","Hombre","80-84",{"$f":"'Pob x Genero'!DJ255","v":44},30519]
["030404","APURIMAC","APURIMAC","AYMARAES","CHAPIMARCA","Hombre","80-84",{"$f":"'Pob x Genero'!DJ298","v":9},30562]
["030708","APURIMAC","APURIMAC","GRAU","PROGRESO","Hombre","80-84",{"$f":"'Pob x Genero'!DJ337","v":3},30601]
["040104","AREQUIPA","AREQUIPA","AREQUIPA","CERRO COLORADO","Hombre","80-84",{"$f":"'Pob x Genero'!DJ347","v":988},30611]
["040401","AREQUIPA","AREQUIPA","CASTILLA","APLAO","Hombre","80-84",{"$f":"'Pob x Genero'!DJ394","v":69},30658]
["040517","AREQUIPA","AREQUIPA","CAYLLOMA","TISCO","Hombre","80-84",{"$f":"'Pob x Genero'!DJ424","v":13},30688]
["050115","AYACUCHO","AYACUCHO","HUAMANGA","JESUS NAZARENO","Hombre","80-84",{"$f":"'Pob x Genero'!DJ467","v":41},30731]
["050515","AYACUCHO","AYACUCHO","LA MAR","PATIBAMBA","Hombre","80-84",{"$f":"'Pob x Genero'!DJ506","v":5},30770]
["050606","AYACUCHO","AYACUCHO","LUCANAS","CHIPAO","Hombre","80-84",{"$f":"'Pob x Genero'!DJ512","v":11},30776]
["050902","AYACUCHO","AYACUCHO","SUCRE","BELEN","Hombre","80-84",{"$f":"'Pob x Genero'!DJ547","v":2},30811]
["060301","CAJAMARCA","CAJAMARCA","CELENDIN","CELENDIN","Hombre","80-84",{"$f":"'Pob x Genero'!DJ593","v":86},30857]
["060605","CAJAMARCA","CAJAMARCA","CUTERVO","LA RAMADA","Hombre","80-84",{"$f":"'Pob x Genero'!DJ636","v":8},30900]
["060611","CAJAMARCA","CAJAMARCA","CUTERVO","SANTA CRUZ","Hombre","80-84",{"$f":"'Pob x Genero'!DJ642","v":8},30906]
["061106","CAJAMARCA","CAJAMARCA","SAN MIGUEL","LA FLORIDA","Hombre","80-84",{"$f":"'Pob x Genero'!DJ681","v":11},30945]
["080307","CUSCO","CUSCO","ANTA","MOLLEPATA","Hombre","80-84",{"$f":"'Pob x Genero'!DJ732","v":37},30996]
["080704","CUSCO","CUSCO","CHUMBIVILCAS","COLQUEMARCA","Hombre","80-84",{"$f":"'Pob x Genero'!DJ762","v":41},31026]
["080806","CUSCO","CUSCO","ESPINAR","PICHIGUA","Hombre","80-84",{"$f":"'Pob x Genero'!DJ772","v":20},31036]
["081204","CUSCO","CUSCO","QUISPICANCHI","CCARHUAYO","Hombre","80-84",{"$f":"'Pob x Genero'!DJ811","v":12},31075]
["090205","HUANCAVELICA","HUANCAVELICA","ACOBAMBA","MARCAS","Hombre","80-84",{"$f":"'Pob x Genero'!DJ850","v":4},31114]
["090507","HUANCAVELICA","HUANCAVELICA","CHURCAMPA","PAUCARBAMBA","Hombre","80-84",{"$f":"'Pob x Genero'!DJ885","v":11},31149]
["100103","HUANUCO","HUANUCO","HUANUCO","CHINCHAO","Hombre","80-84",{"$f":"'Pob x Genero'!DJ931","v":57},31195]
["100109","HUANUCO","HUANUCO","HUANUCO","SANTA MARIA DEL VALLE","Hombre","80-84",{"$f":"'Pob x Genero'!DJ937","v":65},31201]
["100607","HUANUCO","HUANUCO","LEONCIO PRADO","PUCAYACU","Hombre","80-84",{"$f":"'Pob x Genero'!DJ980","v":13},31244]
["110107","ICA","ICA","ICA","PUEBLO NUEVO","Hombre","80-84",{"$f":"'Pob x Genero'!DJ1019","v":66},31283]
["120111","JUNIN","JUNIN","HUANCAYO","CHUPURO","Hombre","80-84",{"$f":"'Pob x Genero'!DJ1062","v":14},31326]
["120205","JUNIN","JUNIN","CONCEPCION","COCHAS","Hombre","80-84",{"$f":"'Pob x Genero'!DJ1088","v":8},31352]
["120402","JUNIN","JUNIN","JAUJA","ACOLLA","Hombre","80-84",{"$f":"'Pob x Genero'!DJ1106","v":42},31370]
["120607","JUNIN","JUNIN","SATIPO","RIO NEGRO","Hombre","80-84",{"$f":"'Pob x Genero'!DJ1149","v":64},31413]
["130109","LA LIBERTAD","LA LIBERTAD","TRUJILLO","SALAVERRY","Hombre","80-84",{"$f":"'Pob x Genero'!DJ1188","v":157},31452]
["130207","LA LIBERTAD","LA LIBERTAD","ASCOPE","SANTIAGO DE CAO","Hombre","80-84",{"$f":"'Pob x Genero'!DJ1198","v":134},31462]
["130901","LA LIBERTAD","LA LIBERTAD","SANCHEZ CARRION","HUAMACHUCO","Hombre","80-84",{"$f":"'Pob x Genero'!DJ1241","v":341},31505]
["140112","LAMBAYEQUE","LAMBAYEQUE","CHICLAYO","PIMENTEL","Hombre","80-84",{"$f":"'Pob x Genero'!DJ1275","v":300},31539]
["150117","DIRIS NORTE","LIMA","LIMA","LOS OLIVOS","Hombre","80-84",{"$f":"'Pob x Genero'!DJ1318","v":2446},31582]
["150403","LIMA","LIMA","CANTA","HUAMANTANGA","Hombre","80-84",{"$f":"'Pob x Genero'!DJ1357","v":26},31621]
["150502","LIMA","LIMA","CAÑETE","ASIA","Hombre","80-84",{"$f":"'Pob x Genero'!DJ1363","v":70},31627]
["150705","LIMA","LIMA","HUAROCHIRI","CHICLA","Hombre","80-84",{"$f":"'Pob x Genero'!DJ1394","v":15},31658]
["151005","LIMA","LIMA","YAUYOS","AZANGARO","Hombre","80-84",{"$f":"'Pob x Genero'!DJ1444","v":9},31708]
["160206","LORETO","LORETO","ALTO AMAZONAS","LAGUNAS","Hombre","80-84",{"$f":"'Pob x Genero'!DJ1487","v":58},31751]
["160304","LORETO","LORETO","LORETO","TROMPETEROS","Hombre","80-84",{"$f":"'Pob x Genero'!DJ1493","v":10},31757]
["170202","MADRE DE DIOS","MADRE DE DIOS","MANU","FITZCARRALD","Hombre","80-84",{"$f":"'Pob x Genero'!DJ1532","v":13},31796]
["190208","PASCO","PASCO","DANIEL ALCIDES CARRION","VILCABAMBA","Hombre","80-84",{"$f":"'Pob x Genero'!DJ1579","v":12},31843]
["200306","PIURA","PIURA","HUANCABAMBA","SAN MIGUEL DE EL FAIQUE","Hombre","80-84",{"$f":"'Pob x Genero'!DJ1613","v":47},31877]
["200806","PIURA","PIURA","SECHURA","RINCONADA LLICUAR","Hombre","80-84",{"$f":"'Pob x Genero'!DJ1652","v":17},31916]
["210110","PUNO","PUNO","PUNO","PAUCARCOLLA","Hombre","80-84",{"$f":"'Pob x Genero'!DJ1662","v":25},31926]
["210502","PUNO","PUNO","EL COLLAO","CAPAZO","Hombre","80-84",{"$f":"'Pob x Genero'!DJ1701","v":9},31965]
["210901","PUNO","PUNO","MOHO","MOHO","Hombre","80-84",{"$f":"'Pob x Genero'!DJ1732","v":100},31996]
["220403","SAN MARTIN","SAN MARTIN","HUALLAGA","EL ESLABON","Hombre","80-84",{"$f":"'Pob x Genero'!DJ1782","v":11},32046]
["220503","SAN MARTIN","SAN MARTIN","LAMAS","BARRANQUITA","Hombre","80-84",{"$f":"'Pob x Genero'!DJ1788","v":31},32052]
["220911","SAN MARTIN","SAN MARTIN","SAN MARTIN","PAPAPLAYA","Hombre","80-84",{"$f":"'Pob x Genero'!DJ1831","v":20},32095]
["240102","TUMBES","TUMBES","TUMBES","CORRALES","Hombre","80-84",{"$f":"'Pob x Genero'!DJ1870","v":112},32134]
["250104","UCAYALI","UCAYALI","CORONEL PORTILLO","MASISEA","Hombre","80-84",{"$f":"'Pob x Genero'!DJ1885","v":81},32149]
["010118","AMAZONAS","AMAZONAS","CHACHAPOYAS","SAN FRANCISCO DE DAGUAS","Hombre","85-+",{"$f":"'Pob x Genero'!DK26","v":1},32182]
["010515","AMAZONAS","AMAZONAS","LUYA","PROVIDENCIA","Hombre","85-+",{"$f":"'Pob x Genero'!DK65","v":4},32221]
["020204","ANCASH","ANCASH","AIJA","LA MERCED","Hombre","85-+",{"$f":"'Pob x Genero'!DK108","v":9},32264]
["020801","ANCASH","ANCASH","CASMA","CASMA","Hombre","85-+",{"$f":"'Pob x Genero'!DK147","v":192},32303]
["021208","ANCASH","ANCASH","HUAYLAS","SANTA CRUZ","Hombre","85-+",{"$f":"'Pob x Genero'!DK186","v":20},32342]
["021308","ANCASH","ANCASH","MARISCAL LUZURIAGA","MUSGA","Hombre","85-+",{"$f":"'Pob x Genero'!DK196","v":8},32352]
["021803","ANCASH","ANCASH","SANTA","COISHCO","Hombre","85-+",{"$f":"'Pob x Genero'!DK234","v":70},32390]
["030210","APURIMAC","APURIMAC","ANDAHUAYLAS","PAMPACHIRI","Hombre","85-+",{"$f":"'Pob x Genero'!DK277","v":4},32433]
["030505","APURIMAC","APURIMAC","COTABAMBAS","MARA","Hombre","85-+",{"$f":"'Pob x Genero'!DK316","v":21},32472]
["030605","APURIMAC","APURIMAC","CHINCHEROS","OCOBAMBA","Hombre","85-+",{"$f":"'Pob x Genero'!DK322","v":17},32478]
["040301","AREQUIPA","AREQUIPA","CARAVELI","CARAVELI","Hombre","85-+",{"$f":"'Pob x Genero'!DK381","v":43},32537]
["040410","AREQUIPA","AREQUIPA","CASTILLA","PAMPACOLCA","Hombre","85-+",{"$f":"'Pob x Genero'!DK403","v":33},32559]
["040801","AREQUIPA","AREQUIPA","LA UNION","COTAHUASI","Hombre","85-+",{"$f":"'Pob x Genero'!DK442","v":42},32598]
["040811","AREQUIPA","AREQUIPA","LA UNION","TORO","Hombre","85-+",{"$f":"'Pob x Genero'!DK452","v":15},32608]
["050413","AYACUCHO","AYACUCHO","HUANTA","PUTIS","Hombre","85-+",{"$f":"'Pob x Genero'!DK491","v":0},32647]
["050707","AYACUCHO","AYACUCHO","PARINACOCHAS","SAN FRANCISCO DE RAVACAYCO","Hombre","85-+",{"$f":"'Pob x Genero'!DK534","v":2},32690]
["051104","AYACUCHO","AYACUCHO","VILCAS HUAMAN","CONCEPCION","Hombre","85-+",{"$f":"'Pob x Genero'!DK572","v":6},32728]
["060407","CAJAMARCA","CAJAMARCA","CHOTA","COCHABAMBA","Hombre","85-+",{"$f":"'Pob x Genero'!DK611","v":27},32767]
["060417","CAJAMARCA","CAJAMARCA","CHOTA","TACABAMBA","Hombre","85-+",{"$f":"'Pob x Genero'!DK621","v":62},32777]
["060811","CAJAMARCA","CAJAMARCA","JAEN","SAN JOSE DEL ALTO","Hombre","85-+",{"$f":"'Pob x Genero'!DK660","v":18},32816]
["061112","CAJAMARCA","CAJAMARCA","SAN MIGUEL","TONGOD","Hombre","85-+",{"$f":"'Pob x Genero'!DK687","v":7},32843]
["080407","CUSCO","CUSCO","CALCA","TARAY","Hombre","85-+",{"$f":"'Pob x Genero'!DK741","v":5},32897]
["080505","CUSCO","CUSCO","CANAS","LAYO","Hombre","85-+",{"$f":"'Pob x Genero'!DK747","v":12},32903]
["080916","CUSCO","CUSCO","LA CONVENCION","CIELO PUNCO","Hombre","85-+",{"$f":"'Pob x Genero'!DK790","v":2},32946]
["090103","HUANCAVELICA","HUANCAVELICA","HUANCAVELICA","ACORIA","Hombre","85-+",{"$f":"'Pob x Genero'!DK829","v":21},32985]
["090407","HUANCAVELICA","HUANCAVELICA","CASTROVIRREYNA","HUACHOS","Hombre","85-+",{"$f":"'Pob x Genero'!DK872","v":4},33028]
["090705","HUANCAVELICA","HUANCAVELICA","TAYACAJA","COLCABAMBA","Hombre","85-+",{"$f":"'Pob x Genero'!DK910","v":16},33066]
["090713","HUANCAVELICA","HUANCAVELICA","TAYACAJA","QUISHUAR","Hombre","85-+",{"$f":"'Pob x Genero'!DK916","v":3},33072]
["100401","HUANUCO","HUANUCO","HUACAYBAMBA","HUACAYBAMBA","Hombre","85-+",{"$f":"'Pob x Genero'!DK959","v":19},33115]
["101001","HUANUCO","HUANUCO","LAURICOCHA","JESUS","Hombre","85-+",{"$f":"'Pob x Genero'!DK998","v":13},33154]
["110113","ICA","ICA","ICA","TATE","Hombre","85-+",{"$f":"'Pob x Genero'!DK1025","v":21},33181]
["110404","ICA","ICA","PALPA","SANTA CRUZ","Hombre","85-+",{"$f":"'Pob x Genero'!DK1046","v":10},33202]
["120202","JUNIN","JUNIN","CONCEPCION","ACO","Hombre","85-+",{"$f":"'Pob x Genero'!DK1085","v":9},33241]
["120424","JUNIN","JUNIN","JAUJA","PANCAN","Hombre","85-+",{"$f":"'Pob x Genero'!DK1128","v":5},33284]
["120807","JUNIN","JUNIN","YAULI","SANTA BARBARA DE CARHUACAYAN","Hombre","85-+",{"$f":"'Pob x Genero'!DK1167","v":3},33323]
["130401","LA LIBERTAD","LA LIBERTAD","CHEPEN","CHEPEN","Hombre","85-+",{"$f":"'Pob x Genero'!DK1206","v":331},33362]
["130801","LA LIBERTAD","LA LIBERTAD","PATAZ","TAYABAMBA","Hombre","85-+",{"$f":"'Pob x Genero'!DK1228","v":70},33384]
["131006","LA LIBERTAD","LA LIBERTAD","SANTIAGO DE CHUCO","QUIRUVILCA","Hombre","85-+",{"$f":"'Pob x Genero'!DK1254","v":40},33410]
["140304","LAMBAYEQUE","LAMBAYEQUE","LAMBAYEQUE","JAYANCA","Hombre","85-+",{"$f":"'Pob x Genero'!DK1293","v":164},33449]
["150135","DIRIS NORTE","LIMA","LIMA","SAN MARTIN DE PORRES","Hombre","85-+",{"$f":"'Pob x Genero'!DK1336","v":4861},33492]
["150141","DIRIS CENTRO","LIMA","LIMA","SURQUILLO","Hombre","85-+",{"$f":"'Pob x Genero'!DK1342","v":1084},33498]
["150604","LIMA","LIMA","HUARAL","AUCALLAMA","Hombre","85-+",{"$f":"'Pob x Genero'!DK1381","v":175},33537]
["150802","LIMA","LIMA","HUAURA","AMBAR","Hombre","85-+",{"$f":"'Pob x Genero'!DK1423","v":26},33579]
["151023","LIMA","LIMA","YAUYOS","PUTINZA","Hombre","85-+",{"$f":"'Pob x Genero'!DK1462","v":11},33618]
["151033","LIMA","LIMA","YAUYOS","VITIS","Hombre","85-+",{"$f":"'Pob x Genero'!DK1472","v":5},33628]
["160601","LORETO","LORETO","UCAYALI","CONTAMANA","Hombre","85-+",{"$f":"'Pob x Genero'!DK1511","v":56},33667]
["190108","PASCO","PASCO","PASCO","SAN FRANCISCO DE ASIS DE YARUSYACAN","Hombre","85-+",{"$f":"'Pob x Genero'!DK1566","v":7},33722]
["200108","PIURA","PIURA","PIURA","EL TALLAN","Hombre","85-+",{"$f":"'Pob x Genero'!DK1592","v":24},33748]
["200506","PIURA","PIURA","PAITA","TAMARINDO","Hombre","85-+",{"$f":"'Pob x Genero'!DK1631","v":50},33787]
["200701","PIURA","PIURA","TALARA","PARIÑAS","Hombre","85-+",{"$f":"'Pob x Genero'!DK1641","v":319},33797]
["210213","PUNO","PUNO","AZANGARO","SAN JUAN DE SALINAS","Hombre","85-+",{"$f":"'Pob x Genero'!DK1680","v":16},33836]
["210707","PUNO","PUNO","LAMPA","PARATIA","Hombre","85-+",{"$f":"'Pob x Genero'!DK1719","v":7},33875]
["211306","PUNO","PUNO","YUNGUYO","TINICACHI","Hombre","85-+",{"$f":"'Pob x Genero'!DK1761","v":4},33917]
["220105","SAN MARTIN","SAN MARTIN","MOYOBAMBA","SORITOR","Hombre","85-+",{"$f":"'Pob x Genero'!DK1767","v":57},33923]
["220709","SAN MARTIN","SAN MARTIN","PICOTA","TINGO DE PONASA","Hombre","85-+",{"$f":"'Pob x Genero'!DK1810","v":9},33966]
["230109","TACNA","TACNA","TACNA","SAMA","Hombre","85-+",{"$f":"'Pob x Genero'!DK1849","v":48},34005]
["240104","TUMBES","TUMBES","TUMBES","PAMPAS DE HOSPITAL","Hombre","85-+",{"$f":"'Pob x Genero'!DK1872","v":57},34028]
["250305","UCAYALI","UCAYALI","PADRE ABAD","ALEXANDER VON HUMBOLDT","Hombre","85-+",{"$f":"'Pob x Genero'!DK1897","v":16},34053]
["010309","AMAZONAS","AMAZONAS","BONGARA","SAN CARLOS","Mujer","00-04",{"$f":"'Pob x Genero'!DL44","v":9},34092]
["010610","AMAZONAS","AMAZONAS","RODRIGUEZ DE MENDOZA","SANTA ROSA","Mujer","00-04",{"$f":"'Pob x Genero'!DL83","v":8},34131]
["020509","ANCASH","ANCASH","BOLOGNESI","HUASTA","Mujer","00-04",{"$f":"'Pob x Genero'!DL126","v":38},34174]
["021008","ANCASH","ANCASH","HUARI","HUANTAR","Mujer","00-04",{"$f":"'Pob x Genero'!DL165","v":67},34213]
["021101","ANCASH","ANCASH","HUARMEY","HUARMEY","Mujer","00-04",{"$f":"'Pob x Genero'!DL174","v":963},34222]
["021507","ANCASH","ANCASH","PALLASCA","LLAPO","Mujer","00-04",{"$f":"'Pob x Genero'!DL213","v":7},34261]
["022002","ANCASH","ANCASH","YUNGAY","CASCAPARA","Mujer","00-04",{"$f":"'Pob x Genero'!DL252","v":46},34300]
["030401","APURIMAC","APURIMAC","AYMARAES","CHALHUANCA","Mujer","00-04",{"$f":"'Pob x Genero'!DL295","v":169},34343]
["030407","APURIMAC","APURIMAC","AYMARAES","HUAYLLO","Mujer","00-04",{"$f":"'Pob x Genero'!DL301","v":9},34349]
["030707","APURIMAC","APURIMAC","GRAU","PATAYPAMPA","Mujer","00-04",{"$f":"'Pob x Genero'!DL336","v":21},34384]
["040302","AREQUIPA","AREQUIPA","CARAVELI","ACARI","Mujer","00-04",{"$f":"'Pob x Genero'!DL382","v":132},34430]
["040514","AREQUIPA","AREQUIPA","CAYLLOMA","SAN ANTONIO DE CHUCA","Mujer","00-04",{"$f":"'Pob x Genero'!DL421","v":30},34469]
["040604","AREQUIPA","AREQUIPA","CONDESUYOS","CHICHAS","Mujer","00-04",{"$f":"'Pob x Genero'!DL431","v":5},34479]
["050202","AYACUCHO","AYACUCHO","CANGALLO","CHUSCHI","Mujer","00-04",{"$f":"'Pob x Genero'!DL470","v":167},34518]
["050615","AYACUCHO","AYACUCHO","LUCANAS","SAN CRISTOBAL","Mujer","00-04",{"$f":"'Pob x Genero'!DL521","v":41},34569]
["050906","AYACUCHO","AYACUCHO","SUCRE","MORCOLLA","Mujer","00-04",{"$f":"'Pob x Genero'!DL551","v":36},34599]
["060202","CAJAMARCA","CAJAMARCA","CAJABAMBA","CACHACHI","Mujer","00-04",{"$f":"'Pob x Genero'!DL590","v":1493},34638]
["060308","CAJAMARCA","CAJAMARCA","CELENDIN","OXAMARCA","Mujer","00-04",{"$f":"'Pob x Genero'!DL600","v":249},34648]
["060608","CAJAMARCA","CAJAMARCA","CUTERVO","SAN ANDRES DE CUTERVO","Mujer","00-04",{"$f":"'Pob x Genero'!DL639","v":142},34687]
["061006","CAJAMARCA","CAJAMARCA","SAN MARCOS","JOSE MANUEL QUIROZ","Mujer","00-04",{"$f":"'Pob x Genero'!DL674","v":145},34722]
["080202","CUSCO","CUSCO","ACOMAYO","ACOPIA","Mujer","00-04",{"$f":"'Pob x Genero'!DL720","v":59},34768]
["080301","CUSCO","CUSCO","ANTA","ANTA","Mujer","00-04",{"$f":"'Pob x Genero'!DL726","v":795},34774]
["080707","CUSCO","CUSCO","CHUMBIVILCAS","QUIÑOTA","Mujer","00-04",{"$f":"'Pob x Genero'!DL765","v":141},34813]
["081201","CUSCO","CUSCO","QUISPICANCHI","URCOS","Mujer","00-04",{"$f":"'Pob x Genero'!DL808","v":350},34856]
["090101","HUANCAVELICA","HUANCAVELICA","HUANCAVELICA","HUANCAVELICA","Mujer","00-04",{"$f":"'Pob x Genero'!DL827","v":1328},34875]
["090303","HUANCAVELICA","HUANCAVELICA","ANGARAES","CALLANMARCA","Mujer","00-04",{"$f":"'Pob x Genero'!DL856","v":22},34904]
["090606","HUANCAVELICA","HUANCAVELICA","HUAYTARA","OCOYO","Mujer","00-04",{"$f":"'Pob x Genero'!DL895","v":11},34943]
["100106","HUANUCO","HUANUCO","HUANUCO","QUISQUI","Mujer","00-04",{"$f":"'Pob x Genero'!DL934","v":134},34982]
["100604","HUANUCO","HUANUCO","LEONCIO PRADO","JOSE CRESPO Y CASTILLO","Mujer","00-04",{"$f":"'Pob x Genero'!DL977","v":927},35025]
["101108","HUANUCO","HUANUCO","YAROWILCA","CHORAS","Mujer","00-04",{"$f":"'Pob x Genero'!DL1012","v":68},35060]
["110113","ICA","ICA","ICA","TATE","Mujer","00-04",{"$f":"'Pob x Genero'!DL1025","v":206},35073]
["120113","JUNIN","JUNIN","HUANCAYO","CULLHUAS","Mujer","00-04",{"$f":"'Pob x Genero'!DL1064","v":51},35112]
["120305","JUNIN","JUNIN","CHANCHAMAYO","SAN RAMON","Mujer","00-04",{"$f":"'Pob x Genero'!DL1103","v":859},35151]
["120604","JUNIN","JUNIN","SATIPO","MAZAMARI","Mujer","00-04",{"$f":"'Pob x Genero'!DL1146","v":1198},35194]
["120805","JUNIN","JUNIN","YAULI","MOROCOCHA","Mujer","00-04",{"$f":"'Pob x Genero'!DL1165","v":87},35213]
["130111","LA LIBERTAD","LA LIBERTAD","TRUJILLO","VICTOR LARCO HERRERA","Mujer","00-04",{"$f":"'Pob x Genero'!DL1190","v":2028},35238]
["130806","LA LIBERTAD","LA LIBERTAD","PATAZ","HUAYO","Mujer","00-04",{"$f":"'Pob x Genero'!DL1233","v":153},35281]
["140109","LAMBAYEQUE","LAMBAYEQUE","CHICLAYO","NUEVA ARICA","Mujer","00-04",{"$f":"'Pob x Genero'!DL1272","v":88},35320]
["150114","DIRIS ESTE","LIMA","LIMA","LA MOLINA","Mujer","00-04",{"$f":"'Pob x Genero'!DL1315","v":3222},35363]
["150120","DIRIS CENTRO","LIMA","LIMA","MAGDALENA DEL MAR","Mujer","00-04",{"$f":"'Pob x Genero'!DL1321","v":1716},35369]
["150507","LIMA","LIMA","CAÑETE","IMPERIAL","Mujer","00-04",{"$f":"'Pob x Genero'!DL1368","v":1441},35416]
["150713","LIMA","LIMA","HUAROCHIRI","MARIATANA","Mujer","00-04",{"$f":"'Pob x Genero'!DL1402","v":40},35450]
["151002","LIMA","LIMA","YAUYOS","ALIS","Mujer","00-04",{"$f":"'Pob x Genero'!DL1441","v":11},35489]
["151008","LIMA","LIMA","YAUYOS","CATAHUASI","Mujer","00-04",{"$f":"'Pob x Genero'!DL1447","v":43},35495]
["160301","LORETO","LORETO","LORETO","NAUTA","Mujer","00-04",{"$f":"'Pob x Genero'!DL1490","v":2384},35538]
["160705","LORETO","LORETO","DATEM DEL MARAÑON","PASTAZA","Mujer","00-04",{"$f":"'Pob x Genero'!DL1521","v":838},35569]
["190113","PASCO","PASCO","PASCO","YANACANCHA","Mujer","00-04",{"$f":"'Pob x Genero'!DL1571","v":693},35619]
["200303","PIURA","PIURA","HUANCABAMBA","EL CARMEN DE LA FRONTERA","Mujer","00-04",{"$f":"'Pob x Genero'!DL1610","v":504},35658]
["200401","PIURA","PIURA","MORROPON","CHULUCANAS","Mujer","00-04",{"$f":"'Pob x Genero'!DL1616","v":3409},35664]
["210107","PUNO","PUNO","PUNO","COATA","Mujer","00-04",{"$f":"'Pob x Genero'!DL1659","v":245},35707]
["210602","PUNO","PUNO","HUANCANE","COJATA","Mujer","00-04",{"$f":"'Pob x Genero'!DL1706","v":87},35754]
["211005","PUNO","PUNO","SAN ANTONIO DE PUTINA","SINA","Mujer","00-04",{"$f":"'Pob x Genero'!DL1740","v":47},35788]
["211201","PUNO","PUNO","SANDIA","SANDIA","Mujer","00-04",{"$f":"'Pob x Genero'!DL1746","v":336},35794]
["220406","SAN MARTIN","SAN MARTIN","HUALLAGA","TINGO DE SAPOSOA","Mujer","00-04",{"$f":"'Pob x Genero'!DL1785","v":19},35833]
["220908","SAN MARTIN","SAN MARTIN","SAN MARTIN","JUAN GUERRA","Mujer","00-04",{"$f":"'Pob x Genero'!DL1828","v":141},35876]
["230302","TACNA","TACNA","JORGE BASADRE","ILABAYA","Mujer","00-04",{"$f":"'Pob x Genero'!DL1859","v":92},35907]
["010105","AMAZONAS","AMAZONAS","CHACHAPOYAS","CHILIQUIN","Mujer","05-09",{"$f":"'Pob x Genero'!DM13","v":17},35953]
["010115","AMAZONAS","AMAZONAS","CHACHAPOYAS","MONTEVIDEO","Mujer","05-09",{"$f":"'Pob x Genero'!DM23","v":15},35963]
["010512","AMAZONAS","AMAZONAS","LUYA","OCALLI","Mujer","05-09",{"$f":"'Pob x Genero'!DM62","v":173},36002]
["020201","ANCASH","ANCASH","AIJA","AIJA","Mujer","05-09",{"$f":"'Pob x Genero'!DM105","v":57},36045]
["020503","ANCASH","ANCASH","BOLOGNESI","ANTONIO RAYMONDI","Mujer","05-09",{"$f":"'Pob x Genero'!DM120","v":29},36060]
["020803","ANCASH","ANCASH","CASMA","COMANDANTE NOEL","Mujer","05-09",{"$f":"'Pob x Genero'!DM149","v":89},36089]
["021304","ANCASH","ANCASH","MARISCAL LUZURIAGA","FIDEL OLIVAS ESCUDERO","Mujer","05-09",{"$f":"'Pob x Genero'!DM192","v":79},36132]
["021710","ANCASH","ANCASH","RECUAY","TICAPAMPA","Mujer","05-09",{"$f":"'Pob x Genero'!DM231","v":98},36171]
["030207","APURIMAC","APURIMAC","ANDAHUAYLAS","KISHUARA","Mujer","05-09",{"$f":"'Pob x Genero'!DM274","v":245},36214]
["030411","APURIMAC","APURIMAC","AYMARAES","SAN JUAN DE CHACÑA","Mujer","05-09",{"$f":"'Pob x Genero'!DM305","v":24},36245]
["030601","APURIMAC","APURIMAC","CHINCHEROS","CHINCHEROS","Mujer","05-09",{"$f":"'Pob x Genero'!DM318","v":276},36258]
["040118","AREQUIPA","AREQUIPA","AREQUIPA","SAN JUAN DE SIGUAS","Mujer","05-09",{"$f":"'Pob x Genero'!DM361","v":16},36301]
["040407","AREQUIPA","AREQUIPA","CASTILLA","HUANCARQUI","Mujer","05-09",{"$f":"'Pob x Genero'!DM400","v":57},36340]
["040704","AREQUIPA","AREQUIPA","ISLAY","ISLAY","Mujer","05-09",{"$f":"'Pob x Genero'!DM439","v":235},36379]
["040808","AREQUIPA","AREQUIPA","LA UNION","SAYLA","Mujer","05-09",{"$f":"'Pob x Genero'!DM449","v":8},36389]
["050302","AYACUCHO","AYACUCHO","HUANCA SANCOS","CARAPO","Mujer","05-09",{"$f":"'Pob x Genero'!DM476","v":41},36416]
["050703","AYACUCHO","AYACUCHO","PARINACOCHAS","CORONEL CASTAÑEDA","Mujer","05-09",{"$f":"'Pob x Genero'!DM530","v":69},36470]
["051101","AYACUCHO","AYACUCHO","VILCAS HUAMAN","VILCAS HUAMAN","Mujer","05-09",{"$f":"'Pob x Genero'!DM569","v":279},36509]
["051107","AYACUCHO","AYACUCHO","VILCAS HUAMAN","SAURAMA","Mujer","05-09",{"$f":"'Pob x Genero'!DM575","v":26},36515]
["060414","CAJAMARCA","CAJAMARCA","CHOTA","PION","Mujer","05-09",{"$f":"'Pob x Genero'!DM618","v":52},36558]
["060812","CAJAMARCA","CAJAMARCA","JAEN","SANTA ROSA","Mujer","05-09",{"$f":"'Pob x Genero'!DM661","v":421},36601]
["061303","CAJAMARCA","CAJAMARCA","SANTA CRUZ","CATACHE","Mujer","05-09",{"$f":"'Pob x Genero'!DM695","v":384},36635]
["070102","CALLAO","CALLAO","CALLAO","BELLAVISTA","Mujer","05-09",{"$f":"'Pob x Genero'!DM705","v":2459},36645]
["080502","CUSCO","CUSCO","CANAS","CHECCA","Mujer","05-09",{"$f":"'Pob x Genero'!DM744","v":191},36684]
["080913","CUSCO","CUSCO","LA CONVENCION","VILLA KINTIARINA","Mujer","05-09",{"$f":"'Pob x Genero'!DM787","v":189},36727]
["081207","CUSCO","CUSCO","QUISPICANCHI","HUARO","Mujer","05-09",{"$f":"'Pob x Genero'!DM814","v":207},36754]
["090311","HUANCAVELICA","HUANCAVELICA","ANGARAES","SANTO TOMAS DE PATA","Mujer","05-09",{"$f":"'Pob x Genero'!DM864","v":85},36804]
["090409","HUANCAVELICA","HUANCAVELICA","CASTROVIRREYNA","MOLLEPAMPA","Mujer","05-09",{"$f":"'Pob x Genero'!DM874","v":19},36814]
["090709","HUANCAVELICA","HUANCAVELICA","TAYACAJA","HUARIBAMBA","Mujer","05-09",{"$f":"'Pob x Genero'!DM913","v":94},36853]
["100321","HUANUCO","HUANUCO","DOS DE MAYO","SHUNQUI","Mujer","05-09",{"$f":"'Pob x Genero'!DM956","v":55},36896]
["100505","HUANUCO","HUANUCO","HUAMALIES","JIRCAN","Mujer","05-09",{"$f":"'Pob x Genero'!DM967","v":61},36907]
["101003","HUANUCO","HUANUCO","LAURICOCHA","JIVIA","Mujer","05-09",{"$f":"'Pob x Genero'!DM1000","v":20},36940]
["110401","ICA","ICA","PALPA","PALPA","Mujer","05-09",{"$f":"'Pob x Genero'!DM1043","v":432},36983]
["120135","JUNIN","JUNIN","HUANCAYO","SANTO DOMINGO DE ACOBAMBA","Mujer","05-09",{"$f":"'Pob x Genero'!DM1082","v":359},37022]
["120417","JUNIN","JUNIN","JAUJA","MASMA CHICCHE","Mujer","05-09",{"$f":"'Pob x Genero'!DM1121","v":28},37061]
["120701","JUNIN","JUNIN","TARMA","TARMA","Mujer","05-09",{"$f":"'Pob x Genero'!DM1152","v":1980},37092]
["120809","JUNIN","JUNIN","YAULI","SUITUCANCHA","Mujer","05-09",{"$f":"'Pob x Genero'!DM1169","v":36},37109]
["130504","LA LIBERTAD","LA LIBERTAD","JULCAN","HUASO","Mujer","05-09",{"$f":"'Pob x Genero'!DM1212","v":273},37152]
["131003","LA LIBERTAD","LA LIBERTAD","SANTIAGO DE CHUCO","CACHICADAN","Mujer","05-09",{"$f":"'Pob x Genero'!DM1251","v":197},37191]
["140301","LAMBAYEQUE","LAMBAYEQUE","LAMBAYEQUE","LAMBAYEQUE","Mujer","05-09",{"$f":"'Pob x Genero'!DM1290","v":3717},37230]
["150104","DIRIS SUR","LIMA","LIMA","BARRANCO","Mujer","05-09",{"$f":"'Pob x Genero'!DM1305","v":849},37245]
["150137","DIRIS ESTE","LIMA","LIMA","SANTA ANITA","Mujer","05-09",{"$f":"'Pob x Genero'!DM1338","v":9283},37278]
["150516","LIMA","LIMA","CAÑETE","ZUÑIGA","Mujer","05-09",{"$f":"'Pob x Genero'!DM1377","v":48},37317]
["150731","LIMA","LIMA","HUAROCHIRI","SANTO DOMINGO DE LOS OLLEROS","Mujer","05-09",{"$f":"'Pob x Genero'!DM1420","v":80},37360]
["150805","LIMA","LIMA","HUAURA","HUALMAY","Mujer","05-09",{"$f":"'Pob x Genero'!DM1426","v":1110},37366]
["151030","LIMA","LIMA","YAUYOS","TOMAS","Mujer","05-09",{"$f":"'Pob x Genero'!DM1469","v":10},37409]
["160509","LORETO","LORETO","REQUENA","TAPICHE","Mujer","05-09",{"$f":"'Pob x Genero'!DM1508","v":46},37448]
["180202","MOQUEGUA","MOQUEGUA","GENERAL SANCHEZ CERRO","CHOJATA","Mujer","05-09",{"$f":"'Pob x Genero'!DM1546","v":12},37486]
["180301","MOQUEGUA","MOQUEGUA","ILO","ILO","Mujer","05-09",{"$f":"'Pob x Genero'!DM1556","v":2737},37496]
["200111","PIURA","PIURA","PIURA","LAS LOMAS","Mujer","05-09",{"$f":"'Pob x Genero'!DM1595","v":1286},37535]
["200606","PIURA","PIURA","SULLANA","MIGUEL CHECA","Mujer","05-09",{"$f":"'Pob x Genero'!DM1638","v":473},37578]
["210109","PUNO","PUNO","PUNO","MAÑAZO","Mujer","05-09",{"$f":"'Pob x Genero'!DM1661","v":214},37601]
["210703","PUNO","PUNO","LAMPA","CALAPUJA","Mujer","05-09",{"$f":"'Pob x Genero'!DM1715","v":40},37655]
["210803","PUNO","PUNO","MELGAR","CUPI","Mujer","05-09",{"$f":"'Pob x Genero'!DM1725","v":41},37665]
["220102","SAN MARTIN","SAN MARTIN","MOYOBAMBA","CALZADA","Mujer","05-09",{"$f":"'Pob x Genero'!DM1764","v":190},37704]
["220702","SAN MARTIN","SAN MARTIN","PICOTA","BUENOS AIRES","Mujer","05-09",{"$f":"'Pob x Genero'!DM1803","v":161},37743]
["230106","TACNA","TACNA","TACNA","PACHIA","Mujer","05-09",{"$f":"'Pob x Genero'!DM1846","v":51},37786]
["230111","TACNA","TACNA","TACNA","LA YARADA LOS PALOS","Mujer","05-09",{"$f":"'Pob x Genero'!DM1851","v":239},37791]
["250302","UCAYALI","UCAYALI","PADRE ABAD","IRAZOLA","Mujer","05-09",{"$f":"'Pob x Genero'!DM1894","v":909},37834]
["010306","AMAZONAS","AMAZONAS","BONGARA","FLORIDA","Mujer","10-14",{"$f":"'Pob x Genero'!DN41","v":275},37873]
["010607","AMAZONAS","AMAZONAS","RODRIGUEZ DE MENDOZA","MARISCAL BENAVIDES","Mujer","10-14",{"$f":"'Pob x Genero'!DN80","v":43},37912]
["020203","ANCASH","ANCASH","AIJA","HUACLLAN","Mujer","10-14",{"$f":"'Pob x Genero'!DN107","v":11},37939]
["020511","ANCASH","ANCASH","BOLOGNESI","LA PRIMAVERA","Mujer","10-14",{"$f":"'Pob x Genero'!DN128","v":18},37960]
["021014","ANCASH","ANCASH","HUARI","SAN MARCOS","Mujer","10-14",{"$f":"'Pob x Genero'!DN171","v":670},38003]
["021504","ANCASH","ANCASH","PALLASCA","HUACASCHUQUE","Mujer","10-14",{"$f":"'Pob x Genero'!DN210","v":19},38042]
["021909","ANCASH","ANCASH","SIHUAS","SAN JUAN","Mujer","10-14",{"$f":"'Pob x Genero'!DN249","v":294},38081]
["030102","APURIMAC","APURIMAC","ABANCAY","CHACOCHE","Mujer","10-14",{"$f":"'Pob x Genero'!DN260","v":73},38092]
["030403","APURIMAC","APURIMAC","AYMARAES","CARAYBAMBA","Mujer","10-14",{"$f":"'Pob x Genero'!DN297","v":28},38129]
["030707","APURIMAC","APURIMAC","GRAU","PATAYPAMPA","Mujer","10-14",{"$f":"'Pob x Genero'!DN336","v":30},38168]
["040207","AREQUIPA","AREQUIPA","CAMANA","QUILCA","Mujer","10-14",{"$f":"'Pob x Genero'!DN379","v":56},38211]
["040511","AREQUIPA","AREQUIPA","CAYLLOMA","LLUTA","Mujer","10-14",{"$f":"'Pob x Genero'!DN418","v":39},38250]
["040804","AREQUIPA","AREQUIPA","LA UNION","HUAYNACOTAS","Mujer","10-14",{"$f":"'Pob x Genero'!DN445","v":88},38277]
["050114","AYACUCHO","AYACUCHO","HUAMANGA","VINCHOS","Mujer","10-14",{"$f":"'Pob x Genero'!DN466","v":1038},38298]
["050514","AYACUCHO","AYACUCHO","LA MAR","NINABAMBA","Mujer","10-14",{"$f":"'Pob x Genero'!DN505","v":83},38337]
["050903","AYACUCHO","AYACUCHO","SUCRE","CHALCOS","Mujer","10-14",{"$f":"'Pob x Genero'!DN548","v":17},38380]
["050909","AYACUCHO","AYACUCHO","SUCRE","SAN SALVADOR DE QUIJE","Mujer","10-14",{"$f":"'Pob x Genero'!DN554","v":32},38386]
["060301","CAJAMARCA","CAJAMARCA","CELENDIN","CELENDIN","Mujer","10-14",{"$f":"'Pob x Genero'!DN593","v":1226},38425]
["060412","CAJAMARCA","CAJAMARCA","CHOTA","MIRACOSTA","Mujer","10-14",{"$f":"'Pob x Genero'!DN616","v":141},38448]
["061006","CAJAMARCA","CAJAMARCA","SAN MARCOS","JOSE MANUEL QUIROZ","Mujer","10-14",{"$f":"'Pob x Genero'!DN674","v":131},38506]
["061109","CAJAMARCA","CAJAMARCA","SAN MIGUEL","NIEPOS","Mujer","10-14",{"$f":"'Pob x Genero'!DN684","v":116},38516]
["080205","CUSCO","CUSCO","ACOMAYO","POMACANCHI","Mujer","10-14",{"$f":"'Pob x Genero'!DN723","v":427},38555]
["080704","CUSCO","CUSCO","CHUMBIVILCAS","COLQUEMARCA","Mujer","10-14",{"$f":"'Pob x Genero'!DN762","v":288},38594]
["081009","CUSCO","CUSCO","PARURO","YAURISQUE","Mujer","10-14",{"$f":"'Pob x Genero'!DN801","v":70},38633]
["090117","HUANCAVELICA","HUANCAVELICA","HUANCAVELICA","YAULI","Mujer","10-14",{"$f":"'Pob x Genero'!DN843","v":1020},38675]
["090208","HUANCAVELICA","HUANCAVELICA","ACOBAMBA","ROSARIO","Mujer","10-14",{"$f":"'Pob x Genero'!DN853","v":149},38685]
["090603","HUANCAVELICA","HUANCAVELICA","HUAYTARA","CORDOVA","Mujer","10-14",{"$f":"'Pob x Genero'!DN892","v":27},38724]
["100103","HUANUCO","HUANUCO","HUANUCO","CHINCHAO","Mujer","10-14",{"$f":"'Pob x Genero'!DN931","v":804},38763]
["100316","HUANUCO","HUANUCO","DOS DE MAYO","QUIVILLA","Mujer","10-14",{"$f":"'Pob x Genero'!DN954","v":35},38786]
["100606","HUANUCO","HUANUCO","LEONCIO PRADO","MARIANO DAMASO BERAUN","Mujer","10-14",{"$f":"'Pob x Genero'!DN979","v":526},38811]
["110106","ICA","ICA","ICA","PARCONA","Mujer","10-14",{"$f":"'Pob x Genero'!DN1018","v":2604},38850]
["120108","JUNIN","JUNIN","HUANCAYO","CHONGOS ALTO","Mujer","10-14",{"$f":"'Pob x Genero'!DN1061","v":69},38893]
["120302","JUNIN","JUNIN","CHANCHAMAYO","PERENE","Mujer","10-14",{"$f":"'Pob x Genero'!DN1100","v":3122},38932]
["120501","JUNIN","JUNIN","JUNIN","JUNIN","Mujer","10-14",{"$f":"'Pob x Genero'!DN1139","v":375},38971]
["120606","JUNIN","JUNIN","SATIPO","PANGOA","Mujer","10-14",{"$f":"'Pob x Genero'!DN1148","v":4316},38980]
["130108","LA LIBERTAD","LA LIBERTAD","TRUJILLO","POROTO","Mujer","10-14",{"$f":"'Pob x Genero'!DN1187","v":218},39019]
["130803","LA LIBERTAD","LA LIBERTAD","PATAZ","CHILLIA","Mujer","10-14",{"$f":"'Pob x Genero'!DN1230","v":831},39062]
["140106","LAMBAYEQUE","LAMBAYEQUE","CHICLAYO","LA VICTORIA","Mujer","10-14",{"$f":"'Pob x Genero'!DN1269","v":3915},39101]
["140303","LAMBAYEQUE","LAMBAYEQUE","LAMBAYEQUE","ILLIMO","Mujer","10-14",{"$f":"'Pob x Genero'!DN1292","v":538},39124]
["150116","DIRIS CENTRO","LIMA","LIMA","LINCE","Mujer","10-14",{"$f":"'Pob x Genero'!DN1317","v":1162},39149]
["150402","LIMA","LIMA","CANTA","ARAHUAY","Mujer","10-14",{"$f":"'Pob x Genero'!DN1356","v":13},39188]
["150710","LIMA","LIMA","HUAROCHIRI","LAHUAYTAMBO","Mujer","10-14",{"$f":"'Pob x Genero'!DN1399","v":9},39231]
["150716","LIMA","LIMA","HUAROCHIRI","SAN ANTONIO","Mujer","10-14",{"$f":"'Pob x Genero'!DN1405","v":98},39237]
["151006","LIMA","LIMA","YAUYOS","CACRA","Mujer","10-14",{"$f":"'Pob x Genero'!DN1445","v":19},39277]
["160205","LORETO","LORETO","ALTO AMAZONAS","JEBEROS","Mujer","10-14",{"$f":"'Pob x Genero'!DN1486","v":390},39318]
["160803","LORETO","LORETO","PUTUMAYO","TENIENTE MANUEL CLAVERO","Mujer","10-14",{"$f":"'Pob x Genero'!DN1525","v":142},39357]
["170301","MADRE DE DIOS","MADRE DE DIOS","TAHUAMANU","IÑAPARI","Mujer","10-14",{"$f":"'Pob x Genero'!DN1535","v":131},39367]
["190203","PASCO","PASCO","DANIEL ALCIDES CARRION","GOYLLARISQUIZGA","Mujer","10-14",{"$f":"'Pob x Genero'!DN1574","v":35},39406]
["200306","PIURA","PIURA","HUANCABAMBA","SAN MIGUEL DE EL FAIQUE","Mujer","10-14",{"$f":"'Pob x Genero'!DN1613","v":407},39445]
["200802","PIURA","PIURA","SECHURA","BELLAVISTA DE LA UNION","Mujer","10-14",{"$f":"'Pob x Genero'!DN1648","v":223},39480]
["210402","PUNO","PUNO","CHUCUITO","DESAGUADERO","Mujer","10-14",{"$f":"'Pob x Genero'!DN1694","v":566},39526]
["210501","PUNO","PUNO","EL COLLAO","ILAVE","Mujer","10-14",{"$f":"'Pob x Genero'!DN1700","v":1711},39532]
["211103","PUNO","PUNO","SAN ROMAN","CABANILLAS","Mujer","10-14",{"$f":"'Pob x Genero'!DN1743","v":204},39575]
["220403","SAN MARTIN","SAN MARTIN","HUALLAGA","EL ESLABON","Mujer","10-14",{"$f":"'Pob x Genero'!DN1782","v":118},39614]
["220605","SAN MARTIN","SAN MARTIN","MARISCAL CACERES","PAJARILLO","Mujer","10-14",{"$f":"'Pob x Genero'!DN1801","v":357},39633]
["220910","SAN MARTIN","SAN MARTIN","SAN MARTIN","MORALES","Mujer","10-14",{"$f":"'Pob x Genero'!DN1830","v":1758},39662]
["240101","TUMBES","TUMBES","TUMBES","TUMBES","Mujer","10-14",{"$f":"'Pob x Genero'!DN1869","v":5811},39701]
["010112","AMAZONAS","AMAZONAS","CHACHAPOYAS","MAGDALENA","Mujer","15-19",{"$f":"'Pob x Genero'!DO20","v":40},39744]
["010509","AMAZONAS","AMAZONAS","LUYA","LUYA","Mujer","15-19",{"$f":"'Pob x Genero'!DO59","v":199},39783]
["020102","ANCASH","ANCASH","HUARAZ","COCHABAMBA","Mujer","15-19",{"$f":"'Pob x Genero'!DO94","v":79},39818]
["020203","ANCASH","ANCASH","AIJA","HUACLLAN","Mujer","15-19",{"$f":"'Pob x Genero'!DO107","v":15},39831]
["020703","ANCASH","ANCASH","CARLOS FERMIN FITZCARRALD","YAUYA","Mujer","15-19",{"$f":"'Pob x Genero'!DO146","v":196},39870]
["021301","ANCASH","ANCASH","MARISCAL LUZURIAGA","PISCOBAMBA","Mujer","15-19",{"$f":"'Pob x Genero'!DO189","v":115},39913]
["021707","ANCASH","ANCASH","RECUAY","PAMPAS CHICO","Mujer","15-19",{"$f":"'Pob x Genero'!DO228","v":34},39952]
["021907","ANCASH","ANCASH","SIHUAS","QUICHES","Mujer","15-19",{"$f":"'Pob x Genero'!DO247","v":138},39971]
["030209","APURIMAC","APURIMAC","ANDAHUAYLAS","PACUCHA","Mujer","15-19",{"$f":"'Pob x Genero'!DO276","v":310},40000]
["030504","APURIMAC","APURIMAC","COTABAMBAS","HAQUIRA","Mujer","15-19",{"$f":"'Pob x Genero'!DO315","v":499},40039]
["040115","AREQUIPA","AREQUIPA","AREQUIPA","QUEQUEÑA","Mujer","15-19",{"$f":"'Pob x Genero'!DO358","v":251},40082]
["040121","AREQUIPA","AREQUIPA","AREQUIPA","SANTA RITA DE SIGUAS","Mujer","15-19",{"$f":"'Pob x Genero'!DO364","v":371},40088]
["040407","AREQUIPA","AREQUIPA","CASTILLA","HUANCARQUI","Mujer","15-19",{"$f":"'Pob x Genero'!DO400","v":51},40124]
["040804","AREQUIPA","AREQUIPA","LA UNION","HUAYNACOTAS","Mujer","15-19",{"$f":"'Pob x Genero'!DO445","v":107},40169]
["050406","AYACUCHO","AYACUCHO","HUANTA","SANTILLANA","Mujer","15-19",{"$f":"'Pob x Genero'!DO484","v":201},40208]
["050617","AYACUCHO","AYACUCHO","LUCANAS","SAN PEDRO","Mujer","15-19",{"$f":"'Pob x Genero'!DO523","v":99},40247]
["050706","AYACUCHO","AYACUCHO","PARINACOCHAS","PUYUSCA","Mujer","15-19",{"$f":"'Pob x Genero'!DO533","v":74},40257]
["060109","CAJAMARCA","CAJAMARCA","CAJAMARCA","MAGDALENA","Mujer","15-19",{"$f":"'Pob x Genero'!DO585","v":361},40309]
["060410","CAJAMARCA","CAJAMARCA","CHOTA","LAJAS","Mujer","15-19",{"$f":"'Pob x Genero'!DO614","v":481},40338]
["060804","CAJAMARCA","CAJAMARCA","JAEN","COLASAY","Mujer","15-19",{"$f":"'Pob x Genero'!DO653","v":516},40377]
["060810","CAJAMARCA","CAJAMARCA","JAEN","SAN FELIPE","Mujer","15-19",{"$f":"'Pob x Genero'!DO659","v":264},40383]
["061310","CAJAMARCA","CAJAMARCA","SANTA CRUZ","UTICYACU","Mujer","15-19",{"$f":"'Pob x Genero'!DO702","v":46},40426]
["080407","CUSCO","CUSCO","CALCA","TARAY","Mujer","15-19",{"$f":"'Pob x Genero'!DO741","v":187},40465]
["080914","CUSCO","CUSCO","LA CONVENCION","MEGANTONI","Mujer","15-19",{"$f":"'Pob x Genero'!DO788","v":400},40512]
["081303","CUSCO","CUSCO","URUBAMBA","HUAYLLABAMBA","Mujer","15-19",{"$f":"'Pob x Genero'!DO822","v":200},40546]
["090102","HUANCAVELICA","HUANCAVELICA","HUANCAVELICA","ACOBAMBILLA","Mujer","15-19",{"$f":"'Pob x Genero'!DO828","v":62},40552]
["090406","HUANCAVELICA","HUANCAVELICA","CASTROVIRREYNA","COCAS","Mujer","15-19",{"$f":"'Pob x Genero'!DO871","v":34},40595]
["090705","HUANCAVELICA","HUANCAVELICA","TAYACAJA","COLCABAMBA","Mujer","15-19",{"$f":"'Pob x Genero'!DO910","v":554},40634]
["100113","HUANUCO","HUANUCO","HUANUCO","SAN PABLO DE PILLAO","Mujer","15-19",{"$f":"'Pob x Genero'!DO941","v":360},40665]
["100323","HUANUCO","HUANUCO","DOS DE MAYO","YANAS","Mujer","15-19",{"$f":"'Pob x Genero'!DO958","v":135},40682]
["100905","HUANUCO","HUANUCO","PUERTO INCA","YUYAPICHIS","Mujer","15-19",{"$f":"'Pob x Genero'!DO997","v":315},40721]
["110303","ICA","ICA","NAZCA","EL INGENIO","Mujer","15-19",{"$f":"'Pob x Genero'!DO1040","v":162},40764]
["120132","JUNIN","JUNIN","HUANCAYO","SAÑO","Mujer","15-19",{"$f":"'Pob x Genero'!DO1079","v":278},40803]
["120211","JUNIN","JUNIN","CONCEPCION","MITO","Mujer","15-19",{"$f":"'Pob x Genero'!DO1094","v":47},40818]
["120423","JUNIN","JUNIN","JAUJA","PACCHA","Mujer","15-19",{"$f":"'Pob x Genero'!DO1127","v":54},40851]
["120806","JUNIN","JUNIN","YAULI","PACCHA","Mujer","15-19",{"$f":"'Pob x Genero'!DO1166","v":50},40890]
["130501","LA LIBERTAD","LA LIBERTAD","JULCAN","JULCAN","Mujer","15-19",{"$f":"'Pob x Genero'!DO1209","v":562},40933]
["130908","LA LIBERTAD","LA LIBERTAD","SANCHEZ CARRION","SARTIMBAMBA","Mujer","15-19",{"$f":"'Pob x Genero'!DO1248","v":1009},40972]
["140116","LAMBAYEQUE","LAMBAYEQUE","CHICLAYO","CAYALTI","Mujer","15-19",{"$f":"'Pob x Genero'!DO1279","v":554},41003]
["140307","LAMBAYEQUE","LAMBAYEQUE","LAMBAYEQUE","MOTUPE","Mujer","15-19",{"$f":"'Pob x Genero'!DO1296","v":1718},41020]
["150134","DIRIS CENTRO","LIMA","LIMA","SAN LUIS","Mujer","15-19",{"$f":"'Pob x Genero'!DO1335","v":1913},41059]
["150513","LIMA","LIMA","CAÑETE","SAN ANTONIO","Mujer","15-19",{"$f":"'Pob x Genero'!DO1374","v":166},41098]
["150607","LIMA","LIMA","HUARAL","LAMPIAN","Mujer","15-19",{"$f":"'Pob x Genero'!DO1384","v":15},41108]
["150811","LIMA","LIMA","HUAURA","SAYAN","Mujer","15-19",{"$f":"'Pob x Genero'!DO1432","v":1164},41156]
["151026","LIMA","LIMA","YAUYOS","SAN JOAQUIN","Mujer","15-19",{"$f":"'Pob x Genero'!DO1465","v":3},41189]
["160505","LORETO","LORETO","REQUENA","MAQUIA","Mujer","15-19",{"$f":"'Pob x Genero'!DO1504","v":531},41228]
["180106","MOQUEGUA","MOQUEGUA","MARISCAL NIETO","TORATA","Mujer","15-19",{"$f":"'Pob x Genero'!DO1543","v":179},41267]
["180209","MOQUEGUA","MOQUEGUA","GENERAL SANCHEZ CERRO","QUINISTAQUILLAS","Mujer","15-19",{"$f":"'Pob x Genero'!DO1553","v":12},41277]
["190306","PASCO","PASCO","OXAPAMPA","PUERTO BERMUDEZ","Mujer","15-19",{"$f":"'Pob x Genero'!DO1585","v":1227},41309]
["200505","PIURA","PIURA","PAITA","LA HUACA","Mujer","15-19",{"$f":"'Pob x Genero'!DO1630","v":826},41354]
["210206","PUNO","PUNO","AZANGARO","CHUPA","Mujer","15-19",{"$f":"'Pob x Genero'!DO1673","v":259},41397]
["210212","PUNO","PUNO","AZANGARO","SAN JOSE","Mujer","15-19",{"$f":"'Pob x Genero'!DO1679","v":249},41403]
["210710","PUNO","PUNO","LAMPA","VILAVILA","Mujer","15-19",{"$f":"'Pob x Genero'!DO1722","v":31},41446]
["211306","PUNO","PUNO","YUNGUYO","TINICACHI","Mujer","15-19",{"$f":"'Pob x Genero'!DO1761","v":16},41485]
["220503","SAN MARTIN","SAN MARTIN","LAMAS","BARRANQUITA","Mujer","15-19",{"$f":"'Pob x Genero'!DO1788","v":369},41512]
["220708","SAN MARTIN","SAN MARTIN","PICOTA","SHAMBOYACU","Mujer","15-19",{"$f":"'Pob x Genero'!DO1809","v":623},41533]
["230108","TACNA","TACNA","TACNA","POCOLLAY","Mujer","15-19",{"$f":"'Pob x Genero'!DO1848","v":672},41572]
["250203","UCAYALI","UCAYALI","ATALAYA","TAHUANIA","Mujer","15-19",{"$f":"'Pob x Genero'!DO1891","v":615},41615]
["010303","AMAZONAS","AMAZONAS","BONGARA","CHURUJA","Mujer","20-24",{"$f":"'Pob x Genero'!DP38","v":5},41654]
["010402","AMAZONAS","AMAZONAS","CONDORCANQUI","EL CENEPA","Mujer","20-24",{"$f":"'Pob x Genero'!DP49","v":538},41665]
["010701","AMAZONAS","AMAZONAS","UTCUBAMBA","BAGUA GRANDE","Mujer","20-24",{"$f":"'Pob x Genero'!DP86","v":2471},41702]
["020508","ANCASH","ANCASH","BOLOGNESI","HUALLANCA","Mujer","20-24",{"$f":"'Pob x Genero'!DP125","v":233},41741]
["021007","ANCASH","ANCASH","HUARI","HUACHIS","Mujer","20-24",{"$f":"'Pob x Genero'!DP164","v":153},41780]
["021501","ANCASH","ANCASH","PALLASCA","CABANA","Mujer","20-24",{"$f":"'Pob x Genero'!DP207","v":78},41823]
["021803","ANCASH","ANCASH","SANTA","COISHCO","Mujer","20-24",{"$f":"'Pob x Genero'!DP234","v":589},41850]
["022005","ANCASH","ANCASH","YUNGAY","QUILLO","Mujer","20-24",{"$f":"'Pob x Genero'!DP255","v":536},41871]
["030307","APURIMAC","APURIMAC","ANTABAMBA","SABAINO","Mujer","20-24",{"$f":"'Pob x Genero'!DP294","v":38},41910]
["030704","APURIMAC","APURIMAC","GRAU","HUAYLLATI","Mujer","20-24",{"$f":"'Pob x Genero'!DP333","v":50},41949]
["030714","APURIMAC","APURIMAC","GRAU","CURASCO","Mujer","20-24",{"$f":"'Pob x Genero'!DP343","v":54},41959]
["040307","AREQUIPA","AREQUIPA","CARAVELI","CHALA","Mujer","20-24",{"$f":"'Pob x Genero'!DP387","v":422},42003]
["040513","AREQUIPA","AREQUIPA","CAYLLOMA","MADRIGAL","Mujer","20-24",{"$f":"'Pob x Genero'!DP420","v":30},42036]
["050111","AYACUCHO","AYACUCHO","HUAMANGA","SANTIAGO DE PISCHA","Mujer","20-24",{"$f":"'Pob x Genero'!DP463","v":77},42079]
["050511","AYACUCHO","AYACUCHO","LA MAR","ORONCCOY","Mujer","20-24",{"$f":"'Pob x Genero'!DP502","v":37},42118]
["050606","AYACUCHO","AYACUCHO","LUCANAS","CHIPAO","Mujer","20-24",{"$f":"'Pob x Genero'!DP512","v":73},42128]
["050805","AYACUCHO","AYACUCHO","PAUCAR DEL SARA SARA","MARCABAMBA","Mujer","20-24",{"$f":"'Pob x Genero'!DP540","v":7},42156]
["060201","CAJAMARCA","CAJAMARCA","CAJABAMBA","CAJABAMBA","Mujer","20-24",{"$f":"'Pob x Genero'!DP589","v":1231},42205]
["060601","CAJAMARCA","CAJAMARCA","CUTERVO","CUTERVO","Mujer","20-24",{"$f":"'Pob x Genero'!DP632","v":1987},42248]
["060607","CAJAMARCA","CAJAMARCA","CUTERVO","QUEROCOTILLO","Mujer","20-24",{"$f":"'Pob x Genero'!DP638","v":578},42254]
["061106","CAJAMARCA","CAJAMARCA","SAN MIGUEL","LA FLORIDA","Mujer","20-24",{"$f":"'Pob x Genero'!DP681","v":64},42297]
["080207","CUSCO","CUSCO","ACOMAYO","SANGARARA","Mujer","20-24",{"$f":"'Pob x Genero'!DP725","v":141},42341]
["080608","CUSCO","CUSCO","CANCHIS","TINTA","Mujer","20-24",{"$f":"'Pob x Genero'!DP758","v":215},42374]
["080802","CUSCO","CUSCO","ESPINAR","CONDOROMA","Mujer","20-24",{"$f":"'Pob x Genero'!DP768","v":27},42384]
["081106","CUSCO","CUSCO","PAUCARTAMBO","KOSÑIPATA","Mujer","20-24",{"$f":"'Pob x Genero'!DP807","v":203},42423]
["090201","HUANCAVELICA","HUANCAVELICA","ACOBAMBA","ACOBAMBA","Mujer","20-24",{"$f":"'Pob x Genero'!DP846","v":350},42462]
["090511","HUANCAVELICA","HUANCAVELICA","CHURCAMPA","COSME","Mujer","20-24",{"$f":"'Pob x Genero'!DP889","v":79},42505]
["090725","HUANCAVELICA","HUANCAVELICA","TAYACAJA","COCHABAMBA","Mujer","20-24",{"$f":"'Pob x Genero'!DP928","v":35},42544]
["100109","HUANUCO","HUANUCO","HUANUCO","SANTA MARIA DEL VALLE","Mujer","20-24",{"$f":"'Pob x Genero'!DP937","v":1052},42553]
["100603","HUANUCO","HUANUCO","LEONCIO PRADO","HERMILIO VALDIZAN","Mujer","20-24",{"$f":"'Pob x Genero'!DP976","v":158},42592]
["110103","ICA","ICA","ICA","LOS AQUIJES","Mujer","20-24",{"$f":"'Pob x Genero'!DP1015","v":1105},42631]
["120105","JUNIN","JUNIN","HUANCAYO","CHACAPAMPA","Mujer","20-24",{"$f":"'Pob x Genero'!DP1058","v":43},42674]
["120134","JUNIN","JUNIN","HUANCAYO","SICAYA","Mujer","20-24",{"$f":"'Pob x Genero'!DP1081","v":1053},42697]
["120402","JUNIN","JUNIN","JAUJA","ACOLLA","Mujer","20-24",{"$f":"'Pob x Genero'!DP1106","v":234},42722]
["120603","JUNIN","JUNIN","SATIPO","LLAYLLA","Mujer","20-24",{"$f":"'Pob x Genero'!DP1145","v":377},42761]
["130105","LA LIBERTAD","LA LIBERTAD","TRUJILLO","LA ESPERANZA","Mujer","20-24",{"$f":"'Pob x Genero'!DP1184","v":8081},42800]
["130705","LA LIBERTAD","LA LIBERTAD","PACASMAYO","SAN JOSE","Mujer","20-24",{"$f":"'Pob x Genero'!DP1227","v":408},42843]
["130807","LA LIBERTAD","LA LIBERTAD","PATAZ","ONGON","Mujer","20-24",{"$f":"'Pob x Genero'!DP1234","v":71},42850]
["140108","LAMBAYEQUE","LAMBAYEQUE","CHICLAYO","MONSEFU","Mujer","20-24",{"$f":"'Pob x Genero'!DP1271","v":1499},42887]
["150113","DIRIS CENTRO","LIMA","LIMA","JESUS MARIA","Mujer","20-24",{"$f":"'Pob x Genero'!DP1314","v":2158},42930]
["150304","LIMA","LIMA","CAJATAMBO","HUANCAPON","Mujer","20-24",{"$f":"'Pob x Genero'!DP1353","v":28},42969]
["150502","LIMA","LIMA","CAÑETE","ASIA","Mujer","20-24",{"$f":"'Pob x Genero'!DP1363","v":425},42979]
["150730","LIMA","LIMA","HUAROCHIRI","SANTIAGO DE TUNA","Mujer","20-24",{"$f":"'Pob x Genero'!DP1419","v":12},43035]
["151001","LIMA","LIMA","YAUYOS","YAUYOS","Mujer","20-24",{"$f":"'Pob x Genero'!DP1440","v":41},43056]
["160113","LORETO","LORETO","MAYNAS","SAN JUAN BAUTISTA","Mujer","20-24",{"$f":"'Pob x Genero'!DP1483","v":5730},43099]
["160706","LORETO","LORETO","DATEM DEL MARAÑON","ANDOAS","Mujer","20-24",{"$f":"'Pob x Genero'!DP1522","v":765},43138]
["170102","MADRE DE DIOS","MADRE DE DIOS","TAMBOPATA","INAMBARI","Mujer","20-24",{"$f":"'Pob x Genero'!DP1528","v":605},43144]
["190201","PASCO","PASCO","DANIEL ALCIDES CARRION","YANAHUANCA","Mujer","20-24",{"$f":"'Pob x Genero'!DP1572","v":458},43188]
["200302","PIURA","PIURA","HUANCABAMBA","CANCHAQUE","Mujer","20-24",{"$f":"'Pob x Genero'!DP1609","v":275},43225]
["200806","PIURA","PIURA","SECHURA","RINCONADA LLICUAR","Mujer","20-24",{"$f":"'Pob x Genero'!DP1652","v":128},43268]
["210106","PUNO","PUNO","PUNO","CHUCUITO","Mujer","20-24",{"$f":"'Pob x Genero'!DP1658","v":226},43274]
["210405","PUNO","PUNO","CHUCUITO","PISACOMA","Mujer","20-24",{"$f":"'Pob x Genero'!DP1697","v":210},43313]
["210803","PUNO","PUNO","MELGAR","CUPI","Mujer","20-24",{"$f":"'Pob x Genero'!DP1725","v":63},43341]
["220304","SAN MARTIN","SAN MARTIN","EL DORADO","SANTA ROSA","Mujer","20-24",{"$f":"'Pob x Genero'!DP1778","v":398},43394]
["220503","SAN MARTIN","SAN MARTIN","LAMAS","BARRANQUITA","Mujer","20-24",{"$f":"'Pob x Genero'!DP1788","v":285},43404]
["220907","SAN MARTIN","SAN MARTIN","SAN MARTIN","HUIMBAYOC","Mujer","20-24",{"$f":"'Pob x Genero'!DP1827","v":228},43443]
["230406","TACNA","TACNA","TARATA","SUSAPAYA","Mujer","20-24",{"$f":"'Pob x Genero'!DP1866","v":7},43482]
["010109","AMAZONAS","AMAZONAS","CHACHAPOYAS","LA JALCA","Mujer","25-29",{"$f":"'Pob x Genero'!DQ17","v":137},43525]
["010301","AMAZONAS","AMAZONAS","BONGARA","JUMBILLA","Mujer","25-29",{"$f":"'Pob x Genero'!DQ36","v":53},43544]
["010511","AMAZONAS","AMAZONAS","LUYA","MARIA","Mujer","25-29",{"$f":"'Pob x Genero'!DQ61","v":35},43569]
["020112","ANCASH","ANCASH","HUARAZ","TARICA","Mujer","25-29",{"$f":"'Pob x Genero'!DQ104","v":356},43612]
["020611","ANCASH","ANCASH","CARHUAZ","YUNGAR","Mujer","25-29",{"$f":"'Pob x Genero'!DQ143","v":137},43651]
["021208","ANCASH","ANCASH","HUAYLAS","SANTA CRUZ","Mujer","25-29",{"$f":"'Pob x Genero'!DQ186","v":208},43694]
["021301","ANCASH","ANCASH","MARISCAL LUZURIAGA","PISCOBAMBA","Mujer","25-29",{"$f":"'Pob x Genero'!DQ189","v":97},43697]
["021709","ANCASH","ANCASH","RECUAY","TAPACOCHA","Mujer","25-29",{"$f":"'Pob x Genero'!DQ230","v":14},43738]
["030206","APURIMAC","APURIMAC","ANDAHUAYLAS","HUAYANA","Mujer","25-29",{"$f":"'Pob x Genero'!DQ273","v":21},43781]
["030501","APURIMAC","APURIMAC","COTABAMBAS","TAMBOBAMBA","Mujer","25-29",{"$f":"'Pob x Genero'!DQ312","v":367},43820]
["030605","APURIMAC","APURIMAC","CHINCHEROS","OCOBAMBA","Mujer","25-29",{"$f":"'Pob x Genero'!DQ322","v":221},43830]
["040202","AREQUIPA","AREQUIPA","CAMANA","JOSE MARIA QUIMPER","Mujer","25-29",{"$f":"'Pob x Genero'!DQ374","v":279},43882]
["040406","AREQUIPA","AREQUIPA","CASTILLA","CHOCO","Mujer","25-29",{"$f":"'Pob x Genero'!DQ399","v":23},43907]
["040801","AREQUIPA","AREQUIPA","LA UNION","COTAHUASI","Mujer","25-29",{"$f":"'Pob x Genero'!DQ442","v":102},43950]
["050403","AYACUCHO","AYACUCHO","HUANTA","HUAMANGUILLA","Mujer","25-29",{"$f":"'Pob x Genero'!DQ481","v":134},43989]
["050409","AYACUCHO","AYACUCHO","HUANTA","CANAYRE","Mujer","25-29",{"$f":"'Pob x Genero'!DQ487","v":231},43995]
["050621","AYACUCHO","AYACUCHO","LUCANAS","SANTA LUCIA","Mujer","25-29",{"$f":"'Pob x Genero'!DQ527","v":69},44035]
["051012","AYACUCHO","AYACUCHO","VICTOR FAJARDO","VILCANCHOS","Mujer","25-29",{"$f":"'Pob x Genero'!DQ568","v":63},44076]
["060407","CAJAMARCA","CAJAMARCA","CHOTA","COCHABAMBA","Mujer","25-29",{"$f":"'Pob x Genero'!DQ611","v":183},44119]
["060413","CAJAMARCA","CAJAMARCA","CHOTA","PACCHA","Mujer","25-29",{"$f":"'Pob x Genero'!DQ617","v":164},44125]
["060807","CAJAMARCA","CAJAMARCA","JAEN","POMAHUACA","Mujer","25-29",{"$f":"'Pob x Genero'!DQ656","v":375},44164]
["080102","CUSCO","CUSCO","CUSCO","CCORCA","Mujer","25-29",{"$f":"'Pob x Genero'!DQ712","v":168},44220]
["080403","CUSCO","CUSCO","CALCA","LAMAY","Mujer","25-29",{"$f":"'Pob x Genero'!DQ737","v":247},44245]
["080902","CUSCO","CUSCO","LA CONVENCION","ECHARATE","Mujer","25-29",{"$f":"'Pob x Genero'!DQ776","v":801},44284]
["080912","CUSCO","CUSCO","LA CONVENCION","VILLA VIRGEN","Mujer","25-29",{"$f":"'Pob x Genero'!DQ786","v":116},44294]
["081306","CUSCO","CUSCO","URUBAMBA","OLLANTAYTAMBO","Mujer","25-29",{"$f":"'Pob x Genero'!DQ825","v":463},44333]
["090312","HUANCAVELICA","HUANCAVELICA","ANGARAES","SECCLLA","Mujer","25-29",{"$f":"'Pob x Genero'!DQ865","v":103},44373]
["090701","HUANCAVELICA","HUANCAVELICA","TAYACAJA","PAMPAS","Mujer","25-29",{"$f":"'Pob x Genero'!DQ906","v":409},44414]
["090707","HUANCAVELICA","HUANCAVELICA","TAYACAJA","HUACHOCOLPA","Mujer","25-29",{"$f":"'Pob x Genero'!DQ912","v":55},44420]
["100317","HUANUCO","HUANUCO","DOS DE MAYO","RIPAN","Mujer","25-29",{"$f":"'Pob x Genero'!DQ955","v":220},44463]
["100902","HUANUCO","HUANUCO","PUERTO INCA","CODO DEL POZUZO","Mujer","25-29",{"$f":"'Pob x Genero'!DQ994","v":293},44502]
["110211","ICA","ICA","CHINCHA","TAMBO DE MORA","Mujer","25-29",{"$f":"'Pob x Genero'!DQ1037","v":271},44545]
["120119","JUNIN","JUNIN","HUANCAYO","HUANCAN","Mujer","25-29",{"$f":"'Pob x Genero'!DQ1068","v":1427},44576]
["120134","JUNIN","JUNIN","HUANCAYO","SICAYA","Mujer","25-29",{"$f":"'Pob x Genero'!DQ1081","v":1080},44589]
["120420","JUNIN","JUNIN","JAUJA","MUQUI","Mujer","25-29",{"$f":"'Pob x Genero'!DQ1124","v":29},44632]
["120803","JUNIN","JUNIN","YAULI","HUAY-HUAY","Mujer","25-29",{"$f":"'Pob x Genero'!DQ1163","v":108},44671]
["130303","LA LIBERTAD","LA LIBERTAD","BOLIVAR","CONDORMARCA","Mujer","25-29",{"$f":"'Pob x Genero'!DQ1202","v":62},44710]
["130613","LA LIBERTAD","LA LIBERTAD","OTUZCO","SINSICAP","Mujer","25-29",{"$f":"'Pob x Genero'!DQ1221","v":286},44729]
["131002","LA LIBERTAD","LA LIBERTAD","SANTIAGO DE CHUCO","ANGASMARCA","Mujer","25-29",{"$f":"'Pob x Genero'!DQ1250","v":165},44758]
["140304","LAMBAYEQUE","LAMBAYEQUE","LAMBAYEQUE","JAYANCA","Mujer","25-29",{"$f":"'Pob x Genero'!DQ1293","v":932},44801]
["150131","DIRIS CENTRO","LIMA","LIMA","SAN ISIDRO","Mujer","25-29",{"$f":"'Pob x Genero'!DQ1332","v":2209},44840]
["150137","DIRIS ESTE","LIMA","LIMA","SANTA ANITA","Mujer","25-29",{"$f":"'Pob x Genero'!DQ1338","v":11751},44846]
["150513","LIMA","LIMA","CAÑETE","SAN ANTONIO","Mujer","25-29",{"$f":"'Pob x Genero'!DQ1374","v":200},44882]
["150730","LIMA","LIMA","HUAROCHIRI","SANTIAGO DE TUNA","Mujer","25-29",{"$f":"'Pob x Genero'!DQ1419","v":11},44927]
["151019","LIMA","LIMA","YAUYOS","LINCHA","Mujer","25-29",{"$f":"'Pob x Genero'!DQ1458","v":47},44966]
["151029","LIMA","LIMA","YAUYOS","TAURIPAMPA","Mujer","25-29",{"$f":"'Pob x Genero'!DQ1468","v":23},44976]
["160508","LORETO","LORETO","REQUENA","SOPLIN","Mujer","25-29",{"$f":"'Pob x Genero'!DQ1507","v":37},45015]
["190101","PASCO","PASCO","PASCO","CHAUPIMARCA","Mujer","25-29",{"$f":"'Pob x Genero'!DQ1559","v":860},45067]
["200101","PIURA","PIURA","PIURA","PIURA","Mujer","25-29",{"$f":"'Pob x Genero'!DQ1588","v":7661},45096]
["200502","PIURA","PIURA","PAITA","AMOTAPE","Mujer","25-29",{"$f":"'Pob x Genero'!DQ1627","v":140},45135]
["200605","PIURA","PIURA","SULLANA","MARCAVELICA","Mujer","25-29",{"$f":"'Pob x Genero'!DQ1637","v":1546},45145]
["210209","PUNO","PUNO","AZANGARO","POTONI","Mujer","25-29",{"$f":"'Pob x Genero'!DQ1676","v":159},45184]
["210608","PUNO","PUNO","HUANCANE","VILQUE CHICO","Mujer","25-29",{"$f":"'Pob x Genero'!DQ1712","v":198},45220]
["211302","PUNO","PUNO","YUNGUYO","ANAPIA","Mujer","25-29",{"$f":"'Pob x Genero'!DQ1757","v":42},45265]
["220101","SAN MARTIN","SAN MARTIN","MOYOBAMBA","MOYOBAMBA","Mujer","25-29",{"$f":"'Pob x Genero'!DQ1763","v":3338},45271]
["220705","SAN MARTIN","SAN MARTIN","PICOTA","PUCACACA","Mujer","25-29",{"$f":"'Pob x Genero'!DQ1806","v":108},45314]
["230105","TACNA","TACNA","TACNA","INCLAN","Mujer","25-29",{"$f":"'Pob x Genero'!DQ1845","v":140},45353]
["230405","TACNA","TACNA","TARATA","SITAJARA","Mujer","25-29",{"$f":"'Pob x Genero'!DQ1865","v":10},45373]
["010205","AMAZONAS","AMAZONAS","BAGUA","IMAZA","Mujer","30-34",{"$f":"'Pob x Genero'!DR34","v":952},45434]
["010305","AMAZONAS","AMAZONAS","BONGARA","CUISPES","Mujer","30-34",{"$f":"'Pob x Genero'!DR40","v":22},45440]
["010610","AMAZONAS","AMAZONAS","RODRIGUEZ DE MENDOZA","SANTA ROSA","Mujer","30-34",{"$f":"'Pob x Genero'!DR83","v":15},45483]
["020505","ANCASH","ANCASH","BOLOGNESI","CAJACAY","Mujer","30-34",{"$f":"'Pob x Genero'!DR122","v":75},45522]
["021004","ANCASH","ANCASH","HUARI","CHAVIN DE HUANTAR","Mujer","30-34",{"$f":"'Pob x Genero'!DR161","v":325},45561]
["021103","ANCASH","ANCASH","HUARMEY","CULEBRAS","Mujer","30-34",{"$f":"'Pob x Genero'!DR176","v":136},45576]
["021503","ANCASH","ANCASH","PALLASCA","CONCHUCOS","Mujer","30-34",{"$f":"'Pob x Genero'!DR209","v":254},45609]
["022002","ANCASH","ANCASH","YUNGAY","CASCAPARA","Mujer","30-34",{"$f":"'Pob x Genero'!DR252","v":64},45652]
["030304","APURIMAC","APURIMAC","ANTABAMBA","JUAN ESPINOZA MEDRANO","Mujer","30-34",{"$f":"'Pob x Genero'!DR291","v":43},45691]
["030701","APURIMAC","APURIMAC","GRAU","CHUQUIBAMBILLA","Mujer","30-34",{"$f":"'Pob x Genero'!DR330","v":150},45730]
["040118","AREQUIPA","AREQUIPA","AREQUIPA","SAN JUAN DE SIGUAS","Mujer","30-34",{"$f":"'Pob x Genero'!DR361","v":29},45761]
["040206","AREQUIPA","AREQUIPA","CAMANA","OCOÑA","Mujer","30-34",{"$f":"'Pob x Genero'!DR378","v":160},45778]
["040510","AREQUIPA","AREQUIPA","CAYLLOMA","LARI","Mujer","30-34",{"$f":"'Pob x Genero'!DR417","v":49},45817]
["050108","AYACUCHO","AYACUCHO","HUAMANGA","QUINUA","Mujer","30-34",{"$f":"'Pob x Genero'!DR460","v":308},45860]
["050114","AYACUCHO","AYACUCHO","HUAMANGA","VINCHOS","Mujer","30-34",{"$f":"'Pob x Genero'!DR466","v":944},45866]
["050608","AYACUCHO","AYACUCHO","LUCANAS","LARAMATE","Mujer","30-34",{"$f":"'Pob x Genero'!DR514","v":49},45914]
["050902","AYACUCHO","AYACUCHO","SUCRE","BELEN","Mujer","30-34",{"$f":"'Pob x Genero'!DR547","v":8},45947]
["060110","CAJAMARCA","CAJAMARCA","CAJAMARCA","MATARA","Mujer","30-34",{"$f":"'Pob x Genero'!DR586","v":130},45986]
["060304","CAJAMARCA","CAJAMARCA","CELENDIN","HUASMIN","Mujer","30-34",{"$f":"'Pob x Genero'!DR596","v":393},45996]
["060604","CAJAMARCA","CAJAMARCA","CUTERVO","CUJILLO","Mujer","30-34",{"$f":"'Pob x Genero'!DR635","v":85},46035]
["060906","CAJAMARCA","CAJAMARCA","SAN IGNACIO","SAN JOSE DE LOURDES","Mujer","30-34",{"$f":"'Pob x Genero'!DR667","v":687},46067]
["080106","CUSCO","CUSCO","CUSCO","SANTIAGO","Mujer","30-34",{"$f":"'Pob x Genero'!DR716","v":5189},46116]
["080605","CUSCO","CUSCO","CANCHIS","PITUMARCA","Mujer","30-34",{"$f":"'Pob x Genero'!DR755","v":356},46155]
["080707","CUSCO","CUSCO","CHUMBIVILCAS","QUIÑOTA","Mujer","30-34",{"$f":"'Pob x Genero'!DR765","v":137},46165]
["081103","CUSCO","CUSCO","PAUCARTAMBO","CHALLABAMBA","Mujer","30-34",{"$f":"'Pob x Genero'!DR804","v":314},46204]
["090207","HUANCAVELICA","HUANCAVELICA","ACOBAMBA","POMACOCHA","Mujer","30-34",{"$f":"'Pob x Genero'!DR852","v":66},46252]
["090507","HUANCAVELICA","HUANCAVELICA","CHURCAMPA","PAUCARBAMBA","Mujer","30-34",{"$f":"'Pob x Genero'!DR885","v":131},46285]
["090602","HUANCAVELICA","HUANCAVELICA","HUAYTARA","AYAVI","Mujer","30-34",{"$f":"'Pob x Genero'!DR891","v":52},46291]
["100106","HUANUCO","HUANUCO","HUANUCO","QUISQUI","Mujer","30-34",{"$f":"'Pob x Genero'!DR934","v":156},46334]
["100511","HUANUCO","HUANUCO","HUAMALIES","TANTAMAYO","Mujer","30-34",{"$f":"'Pob x Genero'!DR973","v":42},46373]
["101108","HUANUCO","HUANUCO","YAROWILCA","CHORAS","Mujer","30-34",{"$f":"'Pob x Genero'!DR1012","v":51},46412]
["110111","ICA","ICA","ICA","SANTIAGO","Mujer","30-34",{"$f":"'Pob x Genero'!DR1023","v":1571},46423]
["120107","JUNIN","JUNIN","HUANCAYO","CHILCA","Mujer","30-34",{"$f":"'Pob x Genero'!DR1060","v":4754},46460]
["120301","JUNIN","JUNIN","CHANCHAMAYO","CHANCHAMAYO","Mujer","30-34",{"$f":"'Pob x Genero'!DR1099","v":1161},46499]
["120504","JUNIN","JUNIN","JUNIN","ULCUMAYO","Mujer","30-34",{"$f":"'Pob x Genero'!DR1142","v":114},46542]
["130102","LA LIBERTAD","LA LIBERTAD","TRUJILLO","EL PORVENIR","Mujer","30-34",{"$f":"'Pob x Genero'!DR1181","v":6835},46581]
["130403","LA LIBERTAD","LA LIBERTAD","CHEPEN","PUEBLO NUEVO","Mujer","30-34",{"$f":"'Pob x Genero'!DR1208","v":480},46608]
["130802","LA LIBERTAD","LA LIBERTAD","PATAZ","BULDIBUYO","Mujer","30-34",{"$f":"'Pob x Genero'!DR1229","v":171},46629]
["140105","LAMBAYEQUE","LAMBAYEQUE","CHICLAYO","JOSE LEONARDO ORTIZ","Mujer","30-34",{"$f":"'Pob x Genero'!DR1268","v":6931},46668]
["150110","DIRIS NORTE","LIMA","LIMA","COMAS","Mujer","30-34",{"$f":"'Pob x Genero'!DR1311","v":25048},46711]
["150116","DIRIS CENTRO","LIMA","LIMA","LINCE","Mujer","30-34",{"$f":"'Pob x Genero'!DR1317","v":2158},46717]
["150407","LIMA","LIMA","CANTA","SANTA ROSA DE QUIVES","Mujer","30-34",{"$f":"'Pob x Genero'!DR1361","v":233},46761]
["150709","LIMA","LIMA","HUAROCHIRI","HUAROCHIRI","Mujer","30-34",{"$f":"'Pob x Genero'!DR1398","v":34},46798]
["150904","LIMA","LIMA","OYON","COCHAMARCA","Mujer","30-34",{"$f":"'Pob x Genero'!DR1437","v":35},46837]
["151008","LIMA","LIMA","YAUYOS","CATAHUASI","Mujer","30-34",{"$f":"'Pob x Genero'!DR1447","v":37},46847]
["160205","LORETO","LORETO","ALTO AMAZONAS","JEBEROS","Mujer","30-34",{"$f":"'Pob x Genero'!DR1486","v":241},46886]
["160604","LORETO","LORETO","UCAYALI","PAMPA HERMOSA","Mujer","30-34",{"$f":"'Pob x Genero'!DR1514","v":192},46914]
["190109","PASCO","PASCO","PASCO","SIMON BOLIVAR","Mujer","30-34",{"$f":"'Pob x Genero'!DR1567","v":437},46967]
["200209","PIURA","PIURA","AYABACA","SICCHEZ","Mujer","30-34",{"$f":"'Pob x Genero'!DR1606","v":47},47006]
["200401","PIURA","PIURA","MORROPON","CHULUCANAS","Mujer","30-34",{"$f":"'Pob x Genero'!DR1616","v":3623},47016]
["210103","PUNO","PUNO","PUNO","AMANTANI","Mujer","30-34",{"$f":"'Pob x Genero'!DR1655","v":156},47055]
["210407","PUNO","PUNO","CHUCUITO","ZEPITA","Mujer","30-34",{"$f":"'Pob x Genero'!DR1699","v":506},47099]
["211001","PUNO","PUNO","SAN ANTONIO DE PUTINA","PUTINA","Mujer","30-34",{"$f":"'Pob x Genero'!DR1736","v":474},47136]
["211102","PUNO","PUNO","SAN ROMAN","CABANA","Mujer","30-34",{"$f":"'Pob x Genero'!DR1742","v":263},47142]
["220402","SAN MARTIN","SAN MARTIN","HUALLAGA","ALTO SAPOSOA","Mujer","30-34",{"$f":"'Pob x Genero'!DR1781","v":233},47181]
["220904","SAN MARTIN","SAN MARTIN","SAN MARTIN","CHAZUTA","Mujer","30-34",{"$f":"'Pob x Genero'!DR1824","v":439},47224]
["230201","TACNA","TACNA","CANDARAVE","CANDARAVE","Mujer","30-34",{"$f":"'Pob x Genero'!DR1852","v":74},47252]
["240104","TUMBES","TUMBES","TUMBES","PAMPAS DE HOSPITAL","Mujer","30-34",{"$f":"'Pob x Genero'!DR1872","v":339},47272]
["010111","AMAZONAS","AMAZONAS","CHACHAPOYAS","LEVANTO","Mujer","35-39",{"$f":"'Pob x Genero'!DS19","v":46},47311]
["010508","AMAZONAS","AMAZONAS","LUYA","LONYA CHICO","Mujer","35-39",{"$f":"'Pob x Genero'!DS58","v":24},47350]
["020109","ANCASH","ANCASH","HUARAZ","PAMPAS","Mujer","35-39",{"$f":"'Pob x Genero'!DS101","v":33},47393]
["020608","ANCASH","ANCASH","CARHUAZ","SAN MIGUEL DE ACO","Mujer","35-39",{"$f":"'Pob x Genero'!DS140","v":84},47432]
["021006","ANCASH","ANCASH","HUARI","HUACCHIS","Mujer","35-39",{"$f":"'Pob x Genero'!DS163","v":47},47455]
["021210","ANCASH","ANCASH","HUAYLAS","YURACMARCA","Mujer","35-39",{"$f":"'Pob x Genero'!DS188","v":75},47480]
["021706","ANCASH","ANCASH","RECUAY","MARCA","Mujer","35-39",{"$f":"'Pob x Genero'!DS227","v":75},47519]
["030203","APURIMAC","APURIMAC","ANDAHUAYLAS","CHIARA","Mujer","35-39",{"$f":"'Pob x Genero'!DS270","v":31},47562]
["030209","APURIMAC","APURIMAC","ANDAHUAYLAS","PACUCHA","Mujer","35-39",{"$f":"'Pob x Genero'!DS276","v":299},47568]
["030505","APURIMAC","APURIMAC","COTABAMBAS","MARA","Mujer","35-39",{"$f":"'Pob x Genero'!DS316","v":245},47608]
["040114","AREQUIPA","AREQUIPA","AREQUIPA","POLOBAYA","Mujer","35-39",{"$f":"'Pob x Genero'!DS357","v":26},47649]
["040403","AREQUIPA","AREQUIPA","CASTILLA","AYO","Mujer","35-39",{"$f":"'Pob x Genero'!DS396","v":12},47688]
["040704","AREQUIPA","AREQUIPA","ISLAY","ISLAY","Mujer","35-39",{"$f":"'Pob x Genero'!DS439","v":204},47731]
["040804","AREQUIPA","AREQUIPA","LA UNION","HUAYNACOTAS","Mujer","35-39",{"$f":"'Pob x Genero'!DS445","v":43},47737]
["050510","AYACUCHO","AYACUCHO","LA MAR","ANCHIHUAY","Mujer","35-39",{"$f":"'Pob x Genero'!DS501","v":126},47793]
["050620","AYACUCHO","AYACUCHO","LUCANAS","SANTA ANA DE HUAYCAHUACHO","Mujer","35-39",{"$f":"'Pob x Genero'!DS526","v":17},47818]
["051009","AYACUCHO","AYACUCHO","VICTOR FAJARDO","HUANCARAYLLA","Mujer","35-39",{"$f":"'Pob x Genero'!DS565","v":34},47857]
["051103","AYACUCHO","AYACUCHO","VILCAS HUAMAN","CARHUANCA","Mujer","35-39",{"$f":"'Pob x Genero'!DS571","v":22},47863]
["060410","CAJAMARCA","CAJAMARCA","CHOTA","LAJAS","Mujer","35-39",{"$f":"'Pob x Genero'!DS614","v":383},47906]
["060805","CAJAMARCA","CAJAMARCA","JAEN","HUABAL","Mujer","35-39",{"$f":"'Pob x Genero'!DS654","v":350},47946]
["061303","CAJAMARCA","CAJAMARCA","SANTA CRUZ","CATACHE","Mujer","35-39",{"$f":"'Pob x Genero'!DS695","v":348},47987]
["080309","CUSCO","CUSCO","ANTA","ZURITE","Mujer","35-39",{"$f":"'Pob x Genero'!DS734","v":162},48026]
["080406","CUSCO","CUSCO","CALCA","SAN SALVADOR","Mujer","35-39",{"$f":"'Pob x Genero'!DS740","v":192},48032]
["080909","CUSCO","CUSCO","LA CONVENCION","VILCABAMBA","Mujer","35-39",{"$f":"'Pob x Genero'!DS783","v":380},48075]
["081106","CUSCO","CUSCO","PAUCARTAMBO","KOSÑIPATA","Mujer","35-39",{"$f":"'Pob x Genero'!DS807","v":238},48099]
["090311","HUANCAVELICA","HUANCAVELICA","ANGARAES","SANTO TOMAS DE PATA","Mujer","35-39",{"$f":"'Pob x Genero'!DS864","v":54},48156]
["090405","HUANCAVELICA","HUANCAVELICA","CASTROVIRREYNA","CHUPAMARCA","Mujer","35-39",{"$f":"'Pob x Genero'!DS870","v":27},48162]
["090704","HUANCAVELICA","HUANCAVELICA","TAYACAJA","AHUAYCHA","Mujer","35-39",{"$f":"'Pob x Genero'!DS909","v":106},48201]
["100311","HUANUCO","HUANUCO","DOS DE MAYO","MARIAS","Mujer","35-39",{"$f":"'Pob x Genero'!DS952","v":184},48244]
["100804","HUANUCO","HUANUCO","PACHITEA","UMARI","Mujer","35-39",{"$f":"'Pob x Genero'!DS992","v":248},48284]
["110203","ICA","ICA","CHINCHA","CHAVIN","Mujer","35-39",{"$f":"'Pob x Genero'!DS1029","v":178},48321]
["110302","ICA","ICA","NAZCA","CHANGUILLO","Mujer","35-39",{"$f":"'Pob x Genero'!DS1039","v":100},48331]
["120130","JUNIN","JUNIN","HUANCAYO","SAN JERONIMO DE TUNAN","Mujer","35-39",{"$f":"'Pob x Genero'!DS1078","v":536},48370]
["120417","JUNIN","JUNIN","JAUJA","MASMA CHICCHE","Mujer","35-39",{"$f":"'Pob x Genero'!DS1121","v":24},48413]
["120709","JUNIN","JUNIN","TARMA","TAPO","Mujer","35-39",{"$f":"'Pob x Genero'!DS1160","v":109},48452]
["120803","JUNIN","JUNIN","YAULI","HUAY-HUAY","Mujer","35-39",{"$f":"'Pob x Genero'!DS1163","v":82},48455]
["130403","LA LIBERTAD","LA LIBERTAD","CHEPEN","PUEBLO NUEVO","Mujer","35-39",{"$f":"'Pob x Genero'!DS1208","v":431},48500]
["130907","LA LIBERTAD","LA LIBERTAD","SANCHEZ CARRION","SARIN","Mujer","35-39",{"$f":"'Pob x Genero'!DS1247","v":390},48539]
["140301","LAMBAYEQUE","LAMBAYEQUE","LAMBAYEQUE","LAMBAYEQUE","Mujer","35-39",{"$f":"'Pob x Genero'!DS1290","v":3136},48582]
["140307","LAMBAYEQUE","LAMBAYEQUE","LAMBAYEQUE","MOTUPE","Mujer","35-39",{"$f":"'Pob x Genero'!DS1296","v":1241},48588]
["150204","LIMA","LIMA","BARRANCA","SUPE","Mujer","35-39",{"$f":"'Pob x Genero'!DS1348","v":973},48640]
["150516","LIMA","LIMA","CAÑETE","ZUÑIGA","Mujer","35-39",{"$f":"'Pob x Genero'!DS1377","v":39},48669]
["150727","LIMA","LIMA","HUAROCHIRI","SANTA CRUZ DE COCACHACRA","Mujer","35-39",{"$f":"'Pob x Genero'!DS1416","v":101},48708]
["151016","LIMA","LIMA","YAUYOS","HUANTAN","Mujer","35-39",{"$f":"'Pob x Genero'!DS1455","v":32},48747]
["151026","LIMA","LIMA","YAUYOS","SAN JOAQUIN","Mujer","35-39",{"$f":"'Pob x Genero'!DS1465","v":10},48757]
["160502","LORETO","LORETO","REQUENA","ALTO TAPICHE","Mujer","35-39",{"$f":"'Pob x Genero'!DS1501","v":97},48793]
["180202","MOQUEGUA","MOQUEGUA","GENERAL SANCHEZ CERRO","CHOJATA","Mujer","35-39",{"$f":"'Pob x Genero'!DS1546","v":13},48838]
["190306","PASCO","PASCO","OXAPAMPA","PUERTO BERMUDEZ","Mujer","35-39",{"$f":"'Pob x Genero'!DS1585","v":558},48877]
["200107","PIURA","PIURA","PIURA","CURA MORI","Mujer","35-39",{"$f":"'Pob x Genero'!DS1591","v":724},48883]
["200602","PIURA","PIURA","SULLANA","BELLAVISTA","Mujer","35-39",{"$f":"'Pob x Genero'!DS1634","v":1783},48926]
["210102","PUNO","PUNO","PUNO","ACORA","Mujer","35-39",{"$f":"'Pob x Genero'!DS1654","v":759},48946]
["210607","PUNO","PUNO","HUANCANE","TARACO","Mujer","35-39",{"$f":"'Pob x Genero'!DS1711","v":430},49003]
["210709","PUNO","PUNO","LAMPA","SANTA LUCIA","Mujer","35-39",{"$f":"'Pob x Genero'!DS1721","v":216},49013]
["211305","PUNO","PUNO","YUNGUYO","OLLARAYA","Mujer","35-39",{"$f":"'Pob x Genero'!DS1760","v":54},49052]
["220702","SAN MARTIN","SAN MARTIN","PICOTA","BUENOS AIRES","Mujer","35-39",{"$f":"'Pob x Genero'!DS1803","v":116},49095]
["221005","SAN MARTIN","SAN MARTIN","TOCACHE","UCHIZA","Mujer","35-39",{"$f":"'Pob x Genero'!DS1839","v":506},49131]
["240303","TUMBES","TUMBES","ZARUMILLA","MATAPALO","Mujer","35-39",{"$f":"'Pob x Genero'!DS1880","v":307},49172]
["250202","UCAYALI","UCAYALI","ATALAYA","SEPAHUA","Mujer","35-39",{"$f":"'Pob x Genero'!DS1890","v":244},49182]
["010302","AMAZONAS","AMAZONAS","BONGARA","CHISQUILLA","Mujer","40-44",{"$f":"'Pob x Genero'!DT37","v":16},49221]
["010607","AMAZONAS","AMAZONAS","RODRIGUEZ DE MENDOZA","MARISCAL BENAVIDES","Mujer","40-44",{"$f":"'Pob x Genero'!DT80","v":47},49264]
["020108","ANCASH","ANCASH","HUARAZ","OLLEROS","Mujer","40-44",{"$f":"'Pob x Genero'!DT100","v":89},49284]
["020507","ANCASH","ANCASH","BOLOGNESI","COLQUIOC","Mujer","40-44",{"$f":"'Pob x Genero'!DT124","v":65},49308]
["021010","ANCASH","ANCASH","HUARI","PAUCAS","Mujer","40-44",{"$f":"'Pob x Genero'!DT167","v":58},49351]
["021410","ANCASH","ANCASH","OCROS","SANTIAGO DE CHILCAS","Mujer","40-44",{"$f":"'Pob x Genero'!DT206","v":15},49390]
["021905","ANCASH","ANCASH","SIHUAS","CHINGALPO","Mujer","40-44",{"$f":"'Pob x Genero'!DT245","v":23},49429]
["022005","ANCASH","ANCASH","YUNGAY","QUILLO","Mujer","40-44",{"$f":"'Pob x Genero'!DT255","v":395},49439]
["030409","APURIMAC","APURIMAC","AYMARAES","LUCRE","Mujer","40-44",{"$f":"'Pob x Genero'!DT303","v":43},49487]
["030707","APURIMAC","APURIMAC","GRAU","PATAYPAMPA","Mujer","40-44",{"$f":"'Pob x Genero'!DT336","v":24},49520]
["040203","AREQUIPA","AREQUIPA","CAMANA","MARIANO NICOLAS VALCARCEL","Mujer","40-44",{"$f":"'Pob x Genero'!DT375","v":377},49559]
["040507","AREQUIPA","AREQUIPA","CAYLLOMA","HUAMBO","Mujer","40-44",{"$f":"'Pob x Genero'!DT414","v":33},49598]
["040517","AREQUIPA","AREQUIPA","CAYLLOMA","TISCO","Mujer","40-44",{"$f":"'Pob x Genero'!DT424","v":71},49608]
["050104","AYACUCHO","AYACUCHO","HUAMANGA","CARMEN ALTO","Mujer","40-44",{"$f":"'Pob x Genero'!DT456","v":1211},49640]
["050510","AYACUCHO","AYACUCHO","LA MAR","ANCHIHUAY","Mujer","40-44",{"$f":"'Pob x Genero'!DT501","v":77},49685]
["050809","AYACUCHO","AYACUCHO","PAUCAR DEL SARA SARA","SAN JOSE DE USHUA","Mujer","40-44",{"$f":"'Pob x Genero'!DT544","v":4},49728]
["050905","AYACUCHO","AYACUCHO","SUCRE","HUACAÑA","Mujer","40-44",{"$f":"'Pob x Genero'!DT550","v":6},49734]
["060301","CAJAMARCA","CAJAMARCA","CELENDIN","CELENDIN","Mujer","40-44",{"$f":"'Pob x Genero'!DT593","v":827},49777]
["060610","CAJAMARCA","CAJAMARCA","CUTERVO","SAN LUIS DE LUCMA","Mujer","40-44",{"$f":"'Pob x Genero'!DT641","v":79},49825]
["061002","CAJAMARCA","CAJAMARCA","SAN MARCOS","CHANCAY","Mujer","40-44",{"$f":"'Pob x Genero'!DT670","v":88},49854]
["061105","CAJAMARCA","CAJAMARCA","SAN MIGUEL","EL PRADO","Mujer","40-44",{"$f":"'Pob x Genero'!DT680","v":70},49864]
["080201","CUSCO","CUSCO","ACOMAYO","ACOMAYO","Mujer","40-44",{"$f":"'Pob x Genero'!DT719","v":126},49903]
["080704","CUSCO","CUSCO","CHUMBIVILCAS","COLQUEMARCA","Mujer","40-44",{"$f":"'Pob x Genero'!DT762","v":185},49946]
["081002","CUSCO","CUSCO","PARURO","ACCHA","Mujer","40-44",{"$f":"'Pob x Genero'!DT794","v":96},49978]
["090113","HUANCAVELICA","HUANCAVELICA","HUANCAVELICA","NUEVO OCCORO","Mujer","40-44",{"$f":"'Pob x Genero'!DT839","v":32},50023]
["090204","HUANCAVELICA","HUANCAVELICA","ACOBAMBA","CAJA","Mujer","40-44",{"$f":"'Pob x Genero'!DT849","v":95},50033]
["090510","HUANCAVELICA","HUANCAVELICA","CHURCAMPA","PACHAMARCA","Mujer","40-44",{"$f":"'Pob x Genero'!DT888","v":34},50072]
["090724","HUANCAVELICA","HUANCAVELICA","TAYACAJA","LAMBRAS","Mujer","40-44",{"$f":"'Pob x Genero'!DT927","v":35},50111]
["100206","HUANUCO","HUANUCO","AMBO","SAN FRANCISCO","Mujer","40-44",{"$f":"'Pob x Genero'!DT947","v":48},50131]
["100602","HUANUCO","HUANUCO","LEONCIO PRADO","DANIEL ALOMIA ROBLES","Mujer","40-44",{"$f":"'Pob x Genero'!DT975","v":237},50159]
["110106","ICA","ICA","ICA","PARCONA","Mujer","40-44",{"$f":"'Pob x Genero'!DT1018","v":1846},50202]
["120104","JUNIN","JUNIN","HUANCAYO","CARHUACALLANGA","Mujer","40-44",{"$f":"'Pob x Genero'!DT1057","v":19},50241]
["120213","JUNIN","JUNIN","CONCEPCION","ORCOTUNA","Mujer","40-44",{"$f":"'Pob x Genero'!DT1096","v":145},50280]
["120428","JUNIN","JUNIN","JAUJA","SAN LORENZO","Mujer","40-44",{"$f":"'Pob x Genero'!DT1132","v":106},50316]
["120602","JUNIN","JUNIN","SATIPO","COVIRIALI","Mujer","40-44",{"$f":"'Pob x Genero'!DT1144","v":226},50328]
["130108","LA LIBERTAD","LA LIBERTAD","TRUJILLO","POROTO","Mujer","40-44",{"$f":"'Pob x Genero'!DT1187","v":238},50371]
["130704","LA LIBERTAD","LA LIBERTAD","PACASMAYO","PACASMAYO","Mujer","40-44",{"$f":"'Pob x Genero'!DT1226","v":1162},50410]
["140102","LAMBAYEQUE","LAMBAYEQUE","CHICLAYO","CHONGOYAPE","Mujer","40-44",{"$f":"'Pob x Genero'!DT1265","v":750},50449]
["140112","LAMBAYEQUE","LAMBAYEQUE","CHICLAYO","PIMENTEL","Mujer","40-44",{"$f":"'Pob x Genero'!DT1275","v":1882},50459]
["150134","DIRIS CENTRO","LIMA","LIMA","SAN LUIS","Mujer","40-44",{"$f":"'Pob x Genero'!DT1335","v":2516},50519]
["150303","LIMA","LIMA","CAJATAMBO","GORGOR","Mujer","40-44",{"$f":"'Pob x Genero'!DT1352","v":41},50536]
["150706","LIMA","LIMA","HUAROCHIRI","CUENCA","Mujer","40-44",{"$f":"'Pob x Genero'!DT1395","v":19},50579]
["150901","LIMA","LIMA","OYON","OYON","Mujer","40-44",{"$f":"'Pob x Genero'!DT1434","v":339},50618]
["151005","LIMA","LIMA","YAUYOS","AZANGARO","Mujer","40-44",{"$f":"'Pob x Genero'!DT1444","v":19},50628]
["160210","LORETO","LORETO","ALTO AMAZONAS","SANTA CRUZ","Mujer","40-44",{"$f":"'Pob x Genero'!DT1488","v":145},50672]
["160705","LORETO","LORETO","DATEM DEL MARAÑON","PASTAZA","Mujer","40-44",{"$f":"'Pob x Genero'!DT1521","v":251},50705]
["190106","PASCO","PASCO","PASCO","PALLANCHACRA","Mujer","40-44",{"$f":"'Pob x Genero'!DT1564","v":48},50748]
["190112","PASCO","PASCO","PASCO","VICCO","Mujer","40-44",{"$f":"'Pob x Genero'!DT1570","v":147},50754]
["200302","PIURA","PIURA","HUANCABAMBA","CANCHAQUE","Mujer","40-44",{"$f":"'Pob x Genero'!DT1609","v":219},50793]
["200701","PIURA","PIURA","TALARA","PARIÑAS","Mujer","40-44",{"$f":"'Pob x Genero'!DT1641","v":3697},50825]
["210308","PUNO","PUNO","CARABAYA","OLLACHEA","Mujer","40-44",{"$f":"'Pob x Genero'!DT1690","v":186},50874]
["210501","PUNO","PUNO","EL COLLAO","ILAVE","Mujer","40-44",{"$f":"'Pob x Genero'!DT1700","v":1475},50884]
["211004","PUNO","PUNO","SAN ANTONIO DE PUTINA","QUILCAPUNCU","Mujer","40-44",{"$f":"'Pob x Genero'!DT1739","v":144},50923]
["220304","SAN MARTIN","SAN MARTIN","EL DORADO","SANTA ROSA","Mujer","40-44",{"$f":"'Pob x Genero'!DT1778","v":333},50962]
["220906","SAN MARTIN","SAN MARTIN","SAN MARTIN","EL PORVENIR","Mujer","40-44",{"$f":"'Pob x Genero'!DT1826","v":103},51010]
["230302","TACNA","TACNA","JORGE BASADRE","ILABAYA","Mujer","40-44",{"$f":"'Pob x Genero'!DT1859","v":339},51043]
["240101","TUMBES","TUMBES","TUMBES","TUMBES","Mujer","40-44",{"$f":"'Pob x Genero'!DT1869","v":3849},51053]
["010108","AMAZONAS","AMAZONAS","CHACHAPOYAS","HUANCAS","Mujer","45-49",{"$f":"'Pob x Genero'!DU16","v":43},51092]
["010505","AMAZONAS","AMAZONAS","LUYA","CONILA","Mujer","45-49",{"$f":"'Pob x Genero'!DU55","v":45},51131]
["010702","AMAZONAS","AMAZONAS","UTCUBAMBA","CAJARURO","Mujer","45-49",{"$f":"'Pob x Genero'!DU87","v":682},51163]
["020111","ANCASH","ANCASH","HUARAZ","PIRA","Mujer","45-49",{"$f":"'Pob x Genero'!DU103","v":95},51179]
["020610","ANCASH","ANCASH","CARHUAZ","TINCO","Mujer","45-49",{"$f":"'Pob x Genero'!DU142","v":125},51218]
["021207","ANCASH","ANCASH","HUAYLAS","PUEBLO LIBRE","Mujer","45-49",{"$f":"'Pob x Genero'!DU185","v":192},51261]
["021703","ANCASH","ANCASH","RECUAY","COTAPARACO","Mujer","45-49",{"$f":"'Pob x Genero'!DU224","v":10},51300]
["021809","ANCASH","ANCASH","SANTA","NUEVO CHIMBOTE","Mujer","45-49",{"$f":"'Pob x Genero'!DU240","v":6093},51316]
["030205","APURIMAC","APURIMAC","ANDAHUAYLAS","HUANCARAY","Mujer","45-49",{"$f":"'Pob x Genero'!DU272","v":78},51348]
["030417","APURIMAC","APURIMAC","AYMARAES","YANACA","Mujer","45-49",{"$f":"'Pob x Genero'!DU311","v":30},51387]
["040111","AREQUIPA","AREQUIPA","AREQUIPA","MOLLEBAYA","Mujer","45-49",{"$f":"'Pob x Genero'!DU354","v":329},51430]
["040313","AREQUIPA","AREQUIPA","CARAVELI","YAUCA","Mujer","45-49",{"$f":"'Pob x Genero'!DU393","v":100},51469]
["040410","AREQUIPA","AREQUIPA","CASTILLA","PAMPACOLCA","Mujer","45-49",{"$f":"'Pob x Genero'!DU403","v":55},51479]
["040802","AREQUIPA","AREQUIPA","LA UNION","ALCA","Mujer","45-49",{"$f":"'Pob x Genero'!DU443","v":49},51519]
["050402","AYACUCHO","AYACUCHO","HUANTA","AYAHUANCO","Mujer","45-49",{"$f":"'Pob x Genero'!DU480","v":36},51556]
["050617","AYACUCHO","AYACUCHO","LUCANAS","SAN PEDRO","Mujer","45-49",{"$f":"'Pob x Genero'!DU523","v":44},51599]
["050702","AYACUCHO","AYACUCHO","PARINACOCHAS","CHUMPI","Mujer","45-49",{"$f":"'Pob x Genero'!DU529","v":38},51605]
["051012","AYACUCHO","AYACUCHO","VICTOR FAJARDO","VILCANCHOS","Mujer","45-49",{"$f":"'Pob x Genero'!DU568","v":49},51644]
["060304","CAJAMARCA","CAJAMARCA","CELENDIN","HUASMIN","Mujer","45-49",{"$f":"'Pob x Genero'!DU596","v":272},51672]
["060703","CAJAMARCA","CAJAMARCA","HUALGAYOC","HUALGAYOC","Mujer","45-49",{"$f":"'Pob x Genero'!DU649","v":472},51725]
["060810","CAJAMARCA","CAJAMARCA","JAEN","SAN FELIPE","Mujer","45-49",{"$f":"'Pob x Genero'!DU659","v":131},51735]
["061306","CAJAMARCA","CAJAMARCA","SANTA CRUZ","NINABAMBA","Mujer","45-49",{"$f":"'Pob x Genero'!DU698","v":59},51774]
["080403","CUSCO","CUSCO","CALCA","LAMAY","Mujer","45-49",{"$f":"'Pob x Genero'!DU737","v":166},51813]
["080907","CUSCO","CUSCO","LA CONVENCION","KIMBIRI","Mujer","45-49",{"$f":"'Pob x Genero'!DU781","v":346},51857]
["081211","CUSCO","CUSCO","QUISPICANCHI","OROPESA","Mujer","45-49",{"$f":"'Pob x Genero'!DU818","v":327},51894]
["081305","CUSCO","CUSCO","URUBAMBA","MARAS","Mujer","45-49",{"$f":"'Pob x Genero'!DU824","v":178},51900]
["090402","HUANCAVELICA","HUANCAVELICA","CASTROVIRREYNA","ARMA","Mujer","45-49",{"$f":"'Pob x Genero'!DU867","v":37},51943]
["090701","HUANCAVELICA","HUANCAVELICA","TAYACAJA","PAMPAS","Mujer","45-49",{"$f":"'Pob x Genero'!DU906","v":201},51982]
["100106","HUANUCO","HUANUCO","HUANUCO","QUISQUI","Mujer","45-49",{"$f":"'Pob x Genero'!DU934","v":134},52010]
["100316","HUANUCO","HUANUCO","DOS DE MAYO","QUIVILLA","Mujer","45-49",{"$f":"'Pob x Genero'!DU954","v":18},52030]
["100901","HUANUCO","HUANUCO","PUERTO INCA","PUERTO INCA","Mujer","45-49",{"$f":"'Pob x Genero'!DU993","v":261},52069]
["110210","ICA","ICA","CHINCHA","SUNAMPE","Mujer","45-49",{"$f":"'Pob x Genero'!DU1036","v":928},52112]
["120127","JUNIN","JUNIN","HUANCAYO","QUICHUAY","Mujer","45-49",{"$f":"'Pob x Genero'!DU1075","v":60},52151]
["120204","JUNIN","JUNIN","CONCEPCION","CHAMBARA","Mujer","45-49",{"$f":"'Pob x Genero'!DU1087","v":63},52163]
["120419","JUNIN","JUNIN","JAUJA","MONOBAMBA","Mujer","45-49",{"$f":"'Pob x Genero'!DU1123","v":49},52199]
["120802","JUNIN","JUNIN","YAULI","CHACAPALPA","Mujer","45-49",{"$f":"'Pob x Genero'!DU1162","v":15},52238]
["130306","LA LIBERTAD","LA LIBERTAD","BOLIVAR","UCUNCHA","Mujer","45-49",{"$f":"'Pob x Genero'!DU1205","v":20},52281]
["130904","LA LIBERTAD","LA LIBERTAD","SANCHEZ CARRION","CURGOS","Mujer","45-49",{"$f":"'Pob x Genero'!DU1244","v":325},52320]
["140109","LAMBAYEQUE","LAMBAYEQUE","CHICLAYO","NUEVA ARICA","Mujer","45-49",{"$f":"'Pob x Genero'!DU1272","v":94},52348]
["140303","LAMBAYEQUE","LAMBAYEQUE","LAMBAYEQUE","ILLIMO","Mujer","45-49",{"$f":"'Pob x Genero'!DU1292","v":364},52368]
["150130","DIRIS CENTRO","LIMA","LIMA","SAN BORJA","Mujer","45-49",{"$f":"'Pob x Genero'!DU1331","v":5717},52407]
["150513","LIMA","LIMA","CAÑETE","SAN ANTONIO","Mujer","45-49",{"$f":"'Pob x Genero'!DU1374","v":170},52450]
["150603","LIMA","LIMA","HUARAL","ATAVILLOS BAJO","Mujer","45-49",{"$f":"'Pob x Genero'!DU1380","v":20},52456]
["150730","LIMA","LIMA","HUAROCHIRI","SANTIAGO DE TUNA","Mujer","45-49",{"$f":"'Pob x Genero'!DU1419","v":14},52495]
["160103","LORETO","LORETO","MAYNAS","FERNANDO LORES","Mujer","45-49",{"$f":"'Pob x Genero'!DU1475","v":375},52551]
["160501","LORETO","LORETO","REQUENA","REQUENA","Mujer","45-49",{"$f":"'Pob x Genero'!DU1500","v":624},52576]
["180102","MOQUEGUA","MOQUEGUA","MARISCAL NIETO","CARUMAS","Mujer","45-49",{"$f":"'Pob x Genero'!DU1539","v":117},52615]
["180205","MOQUEGUA","MOQUEGUA","GENERAL SANCHEZ CERRO","LA CAPILLA","Mujer","45-49",{"$f":"'Pob x Genero'!DU1549","v":14},52625]
["200101","PIURA","PIURA","PIURA","PIURA","Mujer","45-49",{"$f":"'Pob x Genero'!DU1588","v":6125},52664]
["200503","PIURA","PIURA","PAITA","ARENAL","Mujer","45-49",{"$f":"'Pob x Genero'!DU1628","v":70},52704]
["210202","PUNO","PUNO","AZANGARO","ACHAYA","Mujer","45-49",{"$f":"'Pob x Genero'!DU1669","v":131},52745]
["210208","PUNO","PUNO","AZANGARO","MUÑANI","Mujer","45-49",{"$f":"'Pob x Genero'!DU1675","v":203},52751]
["210706","PUNO","PUNO","LAMPA","PALCA","Mujer","45-49",{"$f":"'Pob x Genero'!DU1718","v":47},52794]
["211302","PUNO","PUNO","YUNGUYO","ANAPIA","Mujer","45-49",{"$f":"'Pob x Genero'!DU1757","v":43},52833]
["220402","SAN MARTIN","SAN MARTIN","HUALLAGA","ALTO SAPOSOA","Mujer","45-49",{"$f":"'Pob x Genero'!DU1781","v":137},52857]
["221004","SAN MARTIN","SAN MARTIN","TOCACHE","SHUNTE","Mujer","45-49",{"$f":"'Pob x Genero'!DU1838","v":67},52914]
["230104","TACNA","TACNA","TACNA","CIUDAD NUEVA","Mujer","45-49",{"$f":"'Pob x Genero'!DU1844","v":1076},52920]
["250106","UCAYALI","UCAYALI","CORONEL PORTILLO","NUEVA REQUENA","Mujer","45-49",{"$f":"'Pob x Genero'!DU1887","v":190},52963]
["010205","AMAZONAS","AMAZONAS","BAGUA","IMAZA","Mujer","50-54",{"$f":"'Pob x Genero'!DV34","v":376},53002]
["010601","AMAZONAS","AMAZONAS","RODRIGUEZ DE MENDOZA","SAN NICOLAS","Mujer","50-54",{"$f":"'Pob x Genero'!DV74","v":179},53042]
["010609","AMAZONAS","AMAZONAS","RODRIGUEZ DE MENDOZA","OMIA","Mujer","50-54",{"$f":"'Pob x Genero'!DV82","v":191},53050]
["020504","ANCASH","ANCASH","BOLOGNESI","AQUIA","Mujer","50-54",{"$f":"'Pob x Genero'!DV121","v":40},53089]
["021007","ANCASH","ANCASH","HUARI","HUACHIS","Mujer","50-54",{"$f":"'Pob x Genero'!DV164","v":62},53132]
["021407","ANCASH","ANCASH","OCROS","LLIPA","Mujer","50-54",{"$f":"'Pob x Genero'!DV203","v":4},53171]
["021706","ANCASH","ANCASH","RECUAY","MARCA","Mujer","50-54",{"$f":"'Pob x Genero'!DV227","v":75},53195]
["022001","ANCASH","ANCASH","YUNGAY","YUNGAY","Mujer","50-54",{"$f":"'Pob x Genero'!DV251","v":504},53219]
["030303","APURIMAC","APURIMAC","ANTABAMBA","HUAQUIRCA","Mujer","50-54",{"$f":"'Pob x Genero'!DV290","v":50},53258]
["030704","APURIMAC","APURIMAC","GRAU","HUAYLLATI","Mujer","50-54",{"$f":"'Pob x Genero'!DV333","v":28},53301]
["040129","AREQUIPA","AREQUIPA","AREQUIPA","JOSE LUIS BUSTAMANTE Y RIVERO","Mujer","50-54",{"$f":"'Pob x Genero'!DV372","v":2992},53340]
["040208","AREQUIPA","AREQUIPA","CAMANA","SAMUEL PASTOR","Mujer","50-54",{"$f":"'Pob x Genero'!DV380","v":602},53348]
["040513","AREQUIPA","AREQUIPA","CAYLLOMA","MADRIGAL","Mujer","50-54",{"$f":"'Pob x Genero'!DV420","v":26},53388]
["050107","AYACUCHO","AYACUCHO","HUAMANGA","PACAYCASA","Mujer","50-54",{"$f":"'Pob x Genero'!DV459","v":70},53427]
["050507","AYACUCHO","AYACUCHO","LA MAR","SANTA ROSA","Mujer","50-54",{"$f":"'Pob x Genero'!DV498","v":238},53466]
["050602","AYACUCHO","AYACUCHO","LUCANAS","AUCARA","Mujer","50-54",{"$f":"'Pob x Genero'!DV508","v":70},53476]
["050902","AYACUCHO","AYACUCHO","SUCRE","BELEN","Mujer","50-54",{"$f":"'Pob x Genero'!DV547","v":2},53515]
["060107","CAJAMARCA","CAJAMARCA","CAJAMARCA","LLACANORA","Mujer","50-54",{"$f":"'Pob x Genero'!DV583","v":137},53551]
["060505","CAJAMARCA","CAJAMARCA","CONTUMAZA","SAN BENITO","Mujer","50-54",{"$f":"'Pob x Genero'!DV628","v":86},53596]
["060906","CAJAMARCA","CAJAMARCA","SAN IGNACIO","SAN JOSE DE LOURDES","Mujer","50-54",{"$f":"'Pob x Genero'!DV667","v":383},53635]
["061102","CAJAMARCA","CAJAMARCA","SAN MIGUEL","BOLIVAR","Mujer","50-54",{"$f":"'Pob x Genero'!DV677","v":35},53645]
["080106","CUSCO","CUSCO","CUSCO","SANTIAGO","Mujer","50-54",{"$f":"'Pob x Genero'!DV716","v":2454},53684]
["080402","CUSCO","CUSCO","CALCA","COYA","Mujer","50-54",{"$f":"'Pob x Genero'!DV736","v":86},53704]
["081005","CUSCO","CUSCO","PARURO","HUANOQUITE","Mujer","50-54",{"$f":"'Pob x Genero'!DV797","v":110},53765]
["081102","CUSCO","CUSCO","PAUCARTAMBO","CAICAY","Mujer","50-54",{"$f":"'Pob x Genero'!DV803","v":64},53771]
["090201","HUANCAVELICA","HUANCAVELICA","ACOBAMBA","ACOBAMBA","Mujer","50-54",{"$f":"'Pob x Genero'!DV846","v":155},53814]
["090507","HUANCAVELICA","HUANCAVELICA","CHURCAMPA","PAUCARBAMBA","Mujer","50-54",{"$f":"'Pob x Genero'!DV885","v":73},53853]
["090718","HUANCAVELICA","HUANCAVELICA","TAYACAJA","TINTAY PUNCU","Mujer","50-54",{"$f":"'Pob x Genero'!DV921","v":34},53889]
["100105","HUANUCO","HUANUCO","HUANUCO","MARGOS","Mujer","50-54",{"$f":"'Pob x Genero'!DV933","v":132},53901]
["100510","HUANUCO","HUANUCO","HUAMALIES","SINGA","Mujer","50-54",{"$f":"'Pob x Genero'!DV972","v":47},53940]
["110103","ICA","ICA","ICA","LOS AQUIJES","Mujer","50-54",{"$f":"'Pob x Genero'!DV1015","v":638},53983]
["110507","ICA","ICA","PISCO","SAN CLEMENTE","Mujer","50-54",{"$f":"'Pob x Genero'!DV1054","v":757},54022]
["120126","JUNIN","JUNIN","HUANCAYO","PUCARA","Mujer","50-54",{"$f":"'Pob x Genero'!DV1074","v":155},54042]
["120304","JUNIN","JUNIN","CHANCHAMAYO","SAN LUIS DE SHUARO","Mujer","50-54",{"$f":"'Pob x Genero'!DV1102","v":139},54070]
["120503","JUNIN","JUNIN","JUNIN","ONDORES","Mujer","50-54",{"$f":"'Pob x Genero'!DV1141","v":28},54109]
["130101","LA LIBERTAD","LA LIBERTAD","TRUJILLO","TRUJILLO","Mujer","50-54",{"$f":"'Pob x Genero'!DV1180","v":10464},54148]
["130701","LA LIBERTAD","LA LIBERTAD","PACASMAYO","SAN PEDRO DE LLOC","Mujer","50-54",{"$f":"'Pob x Genero'!DV1223","v":625},54191]
["130705","LA LIBERTAD","LA LIBERTAD","PACASMAYO","SAN JOSE","Mujer","50-54",{"$f":"'Pob x Genero'!DV1227","v":396},54195]
["140108","LAMBAYEQUE","LAMBAYEQUE","CHICLAYO","MONSEFU","Mujer","50-54",{"$f":"'Pob x Genero'!DV1271","v":1285},54239]
["150109","DIRIS ESTE","LIMA","LIMA","CIENEGUILLA","Mujer","50-54",{"$f":"'Pob x Genero'!DV1310","v":1414},54278]
["150205","LIMA","LIMA","BARRANCA","SUPE PUERTO","Mujer","50-54",{"$f":"'Pob x Genero'!DV1349","v":538},54317]
["150405","LIMA","LIMA","CANTA","LACHAQUI","Mujer","50-54",{"$f":"'Pob x Genero'!DV1359","v":31},54327]
["150723","LIMA","LIMA","HUAROCHIRI","SAN MATEO DE OTAO","Mujer","50-54",{"$f":"'Pob x Genero'!DV1412","v":52},54380]
["150903","LIMA","LIMA","OYON","CAUJUL","Mujer","50-54",{"$f":"'Pob x Genero'!DV1436","v":14},54404]
["160107","LORETO","LORETO","MAYNAS","NAPO","Mujer","50-54",{"$f":"'Pob x Genero'!DV1479","v":220},54447]
["160702","LORETO","LORETO","DATEM DEL MARAÑON","CAHUAPANAS","Mujer","50-54",{"$f":"'Pob x Genero'!DV1518","v":106},54486]
["170102","MADRE DE DIOS","MADRE DE DIOS","TAMBOPATA","INAMBARI","Mujer","50-54",{"$f":"'Pob x Genero'!DV1528","v":370},54496]
["190109","PASCO","PASCO","PASCO","SIMON BOLIVAR","Mujer","50-54",{"$f":"'Pob x Genero'!DV1567","v":325},54535]
["200308","PIURA","PIURA","HUANCABAMBA","SONDORILLO","Mujer","50-54",{"$f":"'Pob x Genero'!DV1615","v":207},54583]
["200802","PIURA","PIURA","SECHURA","BELLAVISTA DE LA UNION","Mujer","50-54",{"$f":"'Pob x Genero'!DV1648","v":166},54616]
["210102","PUNO","PUNO","PUNO","ACORA","Mujer","50-54",{"$f":"'Pob x Genero'!DV1654","v":751},54622]
["210405","PUNO","PUNO","CHUCUITO","PISACOMA","Mujer","50-54",{"$f":"'Pob x Genero'!DV1697","v":211},54665]
["211001","PUNO","PUNO","SAN ANTONIO DE PUTINA","PUTINA","Mujer","50-54",{"$f":"'Pob x Genero'!DV1736","v":299},54704]
["220106","SAN MARTIN","SAN MARTIN","MOYOBAMBA","YANTALO","Mujer","50-54",{"$f":"'Pob x Genero'!DV1768","v":78},54736]
["220405","SAN MARTIN","SAN MARTIN","HUALLAGA","SACANCHE","Mujer","50-54",{"$f":"'Pob x Genero'!DV1784","v":74},54752]
["220903","SAN MARTIN","SAN MARTIN","SAN MARTIN","CACATACHI","Mujer","50-54",{"$f":"'Pob x Genero'!DV1823","v":105},54791]
["230402","TACNA","TACNA","TARATA","HEROES ALBARRACIN","Mujer","50-54",{"$f":"'Pob x Genero'!DV1862","v":17},54830]
["010105","AMAZONAS","AMAZONAS","CHACHAPOYAS","CHILIQUIN","Mujer","55-59",{"$f":"'Pob x Genero'!DW13","v":18},54873]
["010121","AMAZONAS","AMAZONAS","CHACHAPOYAS","SONCHE","Mujer","55-59",{"$f":"'Pob x Genero'!DW29","v":6},54889]
["010511","AMAZONAS","AMAZONAS","LUYA","MARIA","Mujer","55-59",{"$f":"'Pob x Genero'!DW61","v":15},54921]
["020108","ANCASH","ANCASH","HUARAZ","OLLEROS","Mujer","55-59",{"$f":"'Pob x Genero'!DW100","v":60},54960]
["020607","ANCASH","ANCASH","CARHUAZ","PARIAHUANCA","Mujer","55-59",{"$f":"'Pob x Genero'!DW139","v":34},54999]
["021204","ANCASH","ANCASH","HUAYLAS","HUAYLAS","Mujer","55-59",{"$f":"'Pob x Genero'!DW182","v":49},55042]
["021508","ANCASH","ANCASH","PALLASCA","PALLASCA","Mujer","55-59",{"$f":"'Pob x Genero'!DW214","v":60},55074]
["021709","ANCASH","ANCASH","RECUAY","TAPACOCHA","Mujer","55-59",{"$f":"'Pob x Genero'!DW230","v":17},55090]
["030202","APURIMAC","APURIMAC","ANDAHUAYLAS","ANDARAPA","Mujer","55-59",{"$f":"'Pob x Genero'!DW269","v":92},55129]
["030414","APURIMAC","APURIMAC","AYMARAES","TAPAIRIHUA","Mujer","55-59",{"$f":"'Pob x Genero'!DW308","v":47},55168]
["040108","AREQUIPA","AREQUIPA","AREQUIPA","LA JOYA","Mujer","55-59",{"$f":"'Pob x Genero'!DW351","v":1031},55211]
["040124","AREQUIPA","AREQUIPA","AREQUIPA","UCHUMAYO","Mujer","55-59",{"$f":"'Pob x Genero'!DW367","v":540},55227]
["040402","AREQUIPA","AREQUIPA","CASTILLA","ANDAGUA","Mujer","55-59",{"$f":"'Pob x Genero'!DW395","v":33},55255]
["040703","AREQUIPA","AREQUIPA","ISLAY","DEAN VALDIVIA","Mujer","55-59",{"$f":"'Pob x Genero'!DW438","v":227},55298]
["050303","AYACUCHO","AYACUCHO","HUANCA SANCOS","SACSAMARCA","Mujer","55-59",{"$f":"'Pob x Genero'!DW477","v":32},55337]
["050409","AYACUCHO","AYACUCHO","HUANTA","CANAYRE","Mujer","55-59",{"$f":"'Pob x Genero'!DW487","v":116},55347]
["050614","AYACUCHO","AYACUCHO","LUCANAS","SAISA","Mujer","55-59",{"$f":"'Pob x Genero'!DW520","v":25},55380]
["051008","AYACUCHO","AYACUCHO","VICTOR FAJARDO","HUAMANQUIQUIA","Mujer","55-59",{"$f":"'Pob x Genero'!DW564","v":18},55424]
["060403","CAJAMARCA","CAJAMARCA","CHOTA","CHADIN","Mujer","55-59",{"$f":"'Pob x Genero'!DW607","v":72},55467]
["060615","CAJAMARCA","CAJAMARCA","CUTERVO","TORIBIO CASANOVA","Mujer","55-59",{"$f":"'Pob x Genero'!DW646","v":28},55506]
["060803","CAJAMARCA","CAJAMARCA","JAEN","CHONTALI","Mujer","55-59",{"$f":"'Pob x Genero'!DW652","v":197},55512]
["061303","CAJAMARCA","CAJAMARCA","SANTA CRUZ","CATACHE","Mujer","55-59",{"$f":"'Pob x Genero'!DW695","v":225},55555]
["080205","CUSCO","CUSCO","ACOMAYO","POMACANCHI","Mujer","55-59",{"$f":"'Pob x Genero'!DW723","v":167},55583]
["080902","CUSCO","CUSCO","LA CONVENCION","ECHARATE","Mujer","55-59",{"$f":"'Pob x Genero'!DW776","v":500},55636]
["080908","CUSCO","CUSCO","LA CONVENCION","SANTA TERESA","Mujer","55-59",{"$f":"'Pob x Genero'!DW782","v":189},55642]
["081302","CUSCO","CUSCO","URUBAMBA","CHINCHERO","Mujer","55-59",{"$f":"'Pob x Genero'!DW821","v":274},55681]
["090311","HUANCAVELICA","HUANCAVELICA","ANGARAES","SANTO TOMAS DE PATA","Mujer","55-59",{"$f":"'Pob x Genero'!DW864","v":22},55724]
["090703","HUANCAVELICA","HUANCAVELICA","TAYACAJA","ACRAQUIA","Mujer","55-59",{"$f":"'Pob x Genero'!DW908","v":57},55768]
["090707","HUANCAVELICA","HUANCAVELICA","TAYACAJA","HUACHOCOLPA","Mujer","55-59",{"$f":"'Pob x Genero'!DW912","v":38},55772]
["100307","HUANUCO","HUANUCO","DOS DE MAYO","CHUQUIS","Mujer","55-59",{"$f":"'Pob x Genero'!DW951","v":63},55811]
["100802","HUANUCO","HUANUCO","PACHITEA","CHAGLLA","Mujer","55-59",{"$f":"'Pob x Genero'!DW990","v":155},55850]
["110207","ICA","ICA","CHINCHA","PUEBLO NUEVO","Mujer","55-59",{"$f":"'Pob x Genero'!DW1033","v":1690},55893]
["120108","JUNIN","JUNIN","HUANCAYO","CHONGOS ALTO","Mujer","55-59",{"$f":"'Pob x Genero'!DW1061","v":57},55921]
["120129","JUNIN","JUNIN","HUANCAYO","SAN AGUSTIN","Mujer","55-59",{"$f":"'Pob x Genero'!DW1077","v":407},55937]
["120416","JUNIN","JUNIN","JAUJA","MASMA","Mujer","55-59",{"$f":"'Pob x Genero'!DW1120","v":37},55980]
["120708","JUNIN","JUNIN","TARMA","SAN PEDRO DE CAJAS","Mujer","55-59",{"$f":"'Pob x Genero'!DW1159","v":92},56019]
["130303","LA LIBERTAD","LA LIBERTAD","BOLIVAR","CONDORMARCA","Mujer","55-59",{"$f":"'Pob x Genero'!DW1202","v":51},56062]
["130602","LA LIBERTAD","LA LIBERTAD","OTUZCO","AGALLPAMPA","Mujer","55-59",{"$f":"'Pob x Genero'!DW1214","v":158},56074]
["130906","LA LIBERTAD","LA LIBERTAD","SANCHEZ CARRION","SANAGORAN","Mujer","55-59",{"$f":"'Pob x Genero'!DW1246","v":340},56106]
["140206","LAMBAYEQUE","LAMBAYEQUE","FERREÑAFE","PUEBLO NUEVO","Mujer","55-59",{"$f":"'Pob x Genero'!DW1289","v":418},56149]
["150127","DIRIS SUR","LIMA","LIMA","PUNTA NEGRA","Mujer","55-59",{"$f":"'Pob x Genero'!DW1328","v":295},56188]
["150137","DIRIS ESTE","LIMA","LIMA","SANTA ANITA","Mujer","55-59",{"$f":"'Pob x Genero'!DW1338","v":6293},56198]
["150710","LIMA","LIMA","HUAROCHIRI","LAHUAYTAMBO","Mujer","55-59",{"$f":"'Pob x Genero'!DW1399","v":12},56259]
["150726","LIMA","LIMA","HUAROCHIRI","SANGALLAYA","Mujer","55-59",{"$f":"'Pob x Genero'!DW1415","v":22},56275]
["151019","LIMA","LIMA","YAUYOS","LINCHA","Mujer","55-59",{"$f":"'Pob x Genero'!DW1458","v":17},56318]
["160403","LORETO","LORETO","MARISCAL RAMON CASTILLA","YAVARI","Mujer","55-59",{"$f":"'Pob x Genero'!DW1497","v":102},56357]
["160504","LORETO","LORETO","REQUENA","EMILIO SAN MARTIN","Mujer","55-59",{"$f":"'Pob x Genero'!DW1503","v":90},56363]
["180208","MOQUEGUA","MOQUEGUA","GENERAL SANCHEZ CERRO","PUQUINA","Mujer","55-59",{"$f":"'Pob x Genero'!DW1552","v":107},56412]
["190305","PASCO","PASCO","OXAPAMPA","POZUZO","Mujer","55-59",{"$f":"'Pob x Genero'!DW1584","v":77},56444]
["200502","PIURA","PIURA","PAITA","AMOTAPE","Mujer","55-59",{"$f":"'Pob x Genero'!DW1627","v":81},56487]
["200601","PIURA","PIURA","SULLANA","SULLANA","Mujer","55-59",{"$f":"'Pob x Genero'!DW1633","v":4773},56493]
["210205","PUNO","PUNO","AZANGARO","CAMINACA","Mujer","55-59",{"$f":"'Pob x Genero'!DW1672","v":112},56532]
["210703","PUNO","PUNO","LAMPA","CALAPUJA","Mujer","55-59",{"$f":"'Pob x Genero'!DW1715","v":46},56575]
["211210","PUNO","PUNO","SANDIA","SAN PEDRO DE PUTINA PUNCO","Mujer","55-59",{"$f":"'Pob x Genero'!DW1755","v":202},56615]
["220507","SAN MARTIN","SAN MARTIN","LAMAS","RUMISAPA","Mujer","55-59",{"$f":"'Pob x Genero'!DW1792","v":82},56652]
["220701","SAN MARTIN","SAN MARTIN","PICOTA","PICOTA","Mujer","55-59",{"$f":"'Pob x Genero'!DW1802","v":237},56662]
["230101","TACNA","TACNA","TACNA","TACNA","Mujer","55-59",{"$f":"'Pob x Genero'!DW1841","v":3414},56701]
["250103","UCAYALI","UCAYALI","CORONEL PORTILLO","IPARIA","Mujer","55-59",{"$f":"'Pob x Genero'!DW1884","v":180},56744]
["010108","AMAZONAS","AMAZONAS","CHACHAPOYAS","HUANCAS","Mujer","60-64",{"$f":"'Pob x Genero'!DX16","v":46},56768]
["010301","AMAZONAS","AMAZONAS","BONGARA","JUMBILLA","Mujer","60-64",{"$f":"'Pob x Genero'!DX36","v":30},56788]
["010606","AMAZONAS","AMAZONAS","RODRIGUEZ DE MENDOZA","LONGAR","Mujer","60-64",{"$f":"'Pob x Genero'!DX79","v":37},56831]
["020501","ANCASH","ANCASH","BOLOGNESI","CHIQUIAN","Mujer","60-64",{"$f":"'Pob x Genero'!DX118","v":80},56870]
["021004","ANCASH","ANCASH","HUARI","CHAVIN DE HUANTAR","Mujer","60-64",{"$f":"'Pob x Genero'!DX161","v":155},56913]
["021012","ANCASH","ANCASH","HUARI","RAHUAPAMPA","Mujer","60-64",{"$f":"'Pob x Genero'!DX169","v":18},56921]
["021409","ANCASH","ANCASH","OCROS","SAN PEDRO","Mujer","60-64",{"$f":"'Pob x Genero'!DX205","v":16},56957]
["021908","ANCASH","ANCASH","SIHUAS","RAGASH","Mujer","60-64",{"$f":"'Pob x Genero'!DX248","v":37},57000]
["030220","APURIMAC","APURIMAC","ANDAHUAYLAS","JOSÉ MARÍA ARGUEDAS","Mujer","60-64",{"$f":"'Pob x Genero'!DX287","v":59},57039]
["030609","APURIMAC","APURIMAC","CHINCHEROS","ROCCHACC","Mujer","60-64",{"$f":"'Pob x Genero'!DX326","v":53},57078]
["040111","AREQUIPA","AREQUIPA","AREQUIPA","MOLLEBAYA","Mujer","60-64",{"$f":"'Pob x Genero'!DX354","v":183},57106]
["040202","AREQUIPA","AREQUIPA","CAMANA","JOSE MARIA QUIMPER","Mujer","60-64",{"$f":"'Pob x Genero'!DX374","v":186},57126]
["040510","AREQUIPA","AREQUIPA","CAYLLOMA","LARI","Mujer","60-64",{"$f":"'Pob x Genero'!DX417","v":32},57169]
["050104","AYACUCHO","AYACUCHO","HUAMANGA","CARMEN ALTO","Mujer","60-64",{"$f":"'Pob x Genero'!DX456","v":434},57208]
["050110","AYACUCHO","AYACUCHO","HUAMANGA","SAN JUAN BAUTISTA","Mujer","60-64",{"$f":"'Pob x Genero'!DX462","v":658},57214]
["050601","AYACUCHO","AYACUCHO","LUCANAS","PUQUIO","Mujer","60-64",{"$f":"'Pob x Genero'!DX507","v":251},57259]
["050808","AYACUCHO","AYACUCHO","PAUCAR DEL SARA SARA","SAN JAVIER DE ALPABAMBA","Mujer","60-64",{"$f":"'Pob x Genero'!DX543","v":8},57295]
["060106","CAJAMARCA","CAJAMARCA","CAJAMARCA","JESUS","Mujer","60-64",{"$f":"'Pob x Genero'!DX582","v":250},57334]
["060204","CAJAMARCA","CAJAMARCA","CAJABAMBA","SITACOCHA","Mujer","60-64",{"$f":"'Pob x Genero'!DX592","v":140},57344]
["060508","CAJAMARCA","CAJAMARCA","CONTUMAZA","YONAN","Mujer","60-64",{"$f":"'Pob x Genero'!DX631","v":187},57383]
["060811","CAJAMARCA","CAJAMARCA","JAEN","SAN JOSE DEL ALTO","Mujer","60-64",{"$f":"'Pob x Genero'!DX660","v":125},57412]
["080102","CUSCO","CUSCO","CUSCO","CCORCA","Mujer","60-64",{"$f":"'Pob x Genero'!DX712","v":106},57464]
["080601","CUSCO","CUSCO","CANCHIS","SICUANI","Mujer","60-64",{"$f":"'Pob x Genero'!DX751","v":1187},57503]
["080703","CUSCO","CUSCO","CHUMBIVILCAS","CHAMACA","Mujer","60-64",{"$f":"'Pob x Genero'!DX761","v":128},57513]
["081008","CUSCO","CUSCO","PARURO","PILLPINTO","Mujer","60-64",{"$f":"'Pob x Genero'!DX800","v":34},57552]
["090117","HUANCAVELICA","HUANCAVELICA","HUANCAVELICA","YAULI","Mujer","60-64",{"$f":"'Pob x Genero'!DX843","v":124},57595]
["090310","HUANCAVELICA","HUANCAVELICA","ANGARAES","SAN ANTONIO DE ANTAPARCO","Mujer","60-64",{"$f":"'Pob x Genero'!DX863","v":32},57615]
["090509","HUANCAVELICA","HUANCAVELICA","CHURCAMPA","SAN PEDRO DE CORIS","Mujer","60-64",{"$f":"'Pob x Genero'!DX887","v":44},57639]
["100102","HUANUCO","HUANUCO","HUANUCO","AMARILIS","Mujer","60-64",{"$f":"'Pob x Genero'!DX930","v":1332},57682]
["100507","HUANUCO","HUANUCO","HUAMALIES","MONZON","Mujer","60-64",{"$f":"'Pob x Genero'!DX969","v":177},57721]
["101104","HUANUCO","HUANUCO","YAROWILCA","APARICIO POMARES","Mujer","60-64",{"$f":"'Pob x Genero'!DX1008","v":78},57760]
["110501","ICA","ICA","PISCO","PISCO","Mujer","60-64",{"$f":"'Pob x Genero'!DX1048","v":1873},57800]
["120101","JUNIN","JUNIN","HUANCAYO","HUANCAYO","Mujer","60-64",{"$f":"'Pob x Genero'!DX1056","v":2927},57808]
["120301","JUNIN","JUNIN","CHANCHAMAYO","CHANCHAMAYO","Mujer","60-64",{"$f":"'Pob x Genero'!DX1099","v":637},57851]
["120434","JUNIN","JUNIN","JAUJA","YAUYOS","Mujer","60-64",{"$f":"'Pob x Genero'!DX1138","v":198},57890]
["120907","JUNIN","JUNIN","CHUPACA","SAN JUAN DE JARPA","Mujer","60-64",{"$f":"'Pob x Genero'!DX1177","v":63},57929]
["130302","LA LIBERTAD","LA LIBERTAD","BOLIVAR","BAMBAMARCA","Mujer","60-64",{"$f":"'Pob x Genero'!DX1201","v":53},57953]
["130703","LA LIBERTAD","LA LIBERTAD","PACASMAYO","JEQUETEPEQUE","Mujer","60-64",{"$f":"'Pob x Genero'!DX1225","v":103},57977]
["140105","LAMBAYEQUE","LAMBAYEQUE","CHICLAYO","JOSE LEONARDO ORTIZ","Mujer","60-64",{"$f":"'Pob x Genero'!DX1268","v":3431},58020]
["150106","DIRIS NORTE","LIMA","LIMA","CARABAYLLO","Mujer","60-64",{"$f":"'Pob x Genero'!DX1307","v":9554},58059]
["150202","LIMA","LIMA","BARRANCA","PARAMONGA","Mujer","60-64",{"$f":"'Pob x Genero'!DX1346","v":781},58098]
["150305","LIMA","LIMA","CAJATAMBO","MANAS","Mujer","60-64",{"$f":"'Pob x Genero'!DX1354","v":28},58106]
["150705","LIMA","LIMA","HUAROCHIRI","CHICLA","Mujer","60-64",{"$f":"'Pob x Genero'!DX1394","v":64},58146]
["150812","LIMA","LIMA","HUAURA","VEGUETA","Mujer","60-64",{"$f":"'Pob x Genero'!DX1433","v":693},58185]
["160104","LORETO","LORETO","MAYNAS","INDIANA","Mujer","60-64",{"$f":"'Pob x Genero'!DX1476","v":157},58228]
["160112","LORETO","LORETO","MAYNAS","BELEN","Mujer","60-64",{"$f":"'Pob x Genero'!DX1482","v":1009},58234]
["180102","MOQUEGUA","MOQUEGUA","MARISCAL NIETO","CARUMAS","Mujer","60-64",{"$f":"'Pob x Genero'!DX1539","v":86},58291]
["190105","PASCO","PASCO","PASCO","NINACACA","Mujer","60-64",{"$f":"'Pob x Genero'!DX1563","v":76},58315]
["200205","PIURA","PIURA","AYABACA","MONTERO","Mujer","60-64",{"$f":"'Pob x Genero'!DX1602","v":134},58354]
["200305","PIURA","PIURA","HUANCABAMBA","LALAQUIZ","Mujer","60-64",{"$f":"'Pob x Genero'!DX1612","v":110},58364]
["200805","PIURA","PIURA","SECHURA","VICE","Mujer","60-64",{"$f":"'Pob x Genero'!DX1651","v":266},58403]
["210310","PUNO","PUNO","CARABAYA","USICAYOS","Mujer","60-64",{"$f":"'Pob x Genero'!DX1692","v":146},58444]
["210901","PUNO","PUNO","MOHO","MOHO","Mujer","60-64",{"$f":"'Pob x Genero'!DX1732","v":289},58484]
["220203","SAN MARTIN","SAN MARTIN","BELLAVISTA","BAJO BIAVO","Mujer","60-64",{"$f":"'Pob x Genero'!DX1771","v":204},58523]
["220402","SAN MARTIN","SAN MARTIN","HUALLAGA","ALTO SAPOSOA","Mujer","60-64",{"$f":"'Pob x Genero'!DX1781","v":107},58533]
["220809","SAN MARTIN","SAN MARTIN","RIOJA","YURACYACU","Mujer","60-64",{"$f":"'Pob x Genero'!DX1820","v":88},58572]
["230302","TACNA","TACNA","JORGE BASADRE","ILABAYA","Mujer","60-64",{"$f":"'Pob x Genero'!DX1859","v":289},58611]
["250303","UCAYALI","UCAYALI","PADRE ABAD","CURIMANA","Mujer","60-64",{"$f":"'Pob x Genero'!DX1895","v":163},58647]
["010107","AMAZONAS","AMAZONAS","CHACHAPOYAS","GRANADA","Mujer","65-69",{"$f":"'Pob x Genero'!DY15","v":6},58659]
["010508","AMAZONAS","AMAZONAS","LUYA","LONYA CHICO","Mujer","65-69",{"$f":"'Pob x Genero'!DY58","v":19},58702]
["020105","ANCASH","ANCASH","HUARAZ","INDEPENDENCIA","Mujer","65-69",{"$f":"'Pob x Genero'!DY97","v":1508},58741]
["020604","ANCASH","ANCASH","CARHUAZ","ANTA","Mujer","65-69",{"$f":"'Pob x Genero'!DY136","v":47},58780]
["020906","ANCASH","ANCASH","CORONGO","YANAC","Mujer","65-69",{"$f":"'Pob x Genero'!DY156","v":15},58800]
["021206","ANCASH","ANCASH","HUAYLAS","PAMPAROMAS","Mujer","65-69",{"$f":"'Pob x Genero'!DY184","v":106},58828]
["021702","ANCASH","ANCASH","RECUAY","CATAC","Mujer","65-69",{"$f":"'Pob x Genero'!DY223","v":77},58867]
["030108","APURIMAC","APURIMAC","ABANCAY","SAN PEDRO DE CACHORA","Mujer","65-69",{"$f":"'Pob x Genero'!DY266","v":38},58910]
["030411","APURIMAC","APURIMAC","AYMARAES","SAN JUAN DE CHACÑA","Mujer","65-69",{"$f":"'Pob x Genero'!DY305","v":13},58949]
["030415","APURIMAC","APURIMAC","AYMARAES","TINTAY","Mujer","65-69",{"$f":"'Pob x Genero'!DY309","v":37},58953]
["040110","AREQUIPA","AREQUIPA","AREQUIPA","MIRAFLORES","Mujer","65-69",{"$f":"'Pob x Genero'!DY353","v":1412},58997]
["040312","AREQUIPA","AREQUIPA","CARAVELI","QUICACHA","Mujer","65-69",{"$f":"'Pob x Genero'!DY392","v":43},59036]
["040608","AREQUIPA","AREQUIPA","CONDESUYOS","YANAQUIHUA","Mujer","65-69",{"$f":"'Pob x Genero'!DY435","v":103},59079]
["040706","AREQUIPA","AREQUIPA","ISLAY","PUNTA DE BOMBON","Mujer","65-69",{"$f":"'Pob x Genero'!DY441","v":177},59085]
["050503","AYACUCHO","AYACUCHO","LA MAR","AYNA","Mujer","65-69",{"$f":"'Pob x Genero'!DY494","v":117},59138]
["050616","AYACUCHO","AYACUCHO","LUCANAS","SAN JUAN","Mujer","65-69",{"$f":"'Pob x Genero'!DY522","v":12},59166]
["051005","AYACUCHO","AYACUCHO","VICTOR FAJARDO","CANARIA","Mujer","65-69",{"$f":"'Pob x Genero'!DY561","v":99},59205]
["051103","AYACUCHO","AYACUCHO","VILCAS HUAMAN","CARHUANCA","Mujer","65-69",{"$f":"'Pob x Genero'!DY571","v":13},59215]
["060406","CAJAMARCA","CAJAMARCA","CHOTA","CHOROPAMPA","Mujer","65-69",{"$f":"'Pob x Genero'!DY610","v":29},59254]
["060701","CAJAMARCA","CAJAMARCA","HUALGAYOC","BAMBAMARCA","Mujer","65-69",{"$f":"'Pob x Genero'!DY647","v":832},59291]
["061203","CAJAMARCA","CAJAMARCA","SAN PABLO","SAN LUIS","Mujer","65-69",{"$f":"'Pob x Genero'!DY691","v":23},59335]
["080305","CUSCO","CUSCO","ANTA","HUAROCONDO","Mujer","65-69",{"$f":"'Pob x Genero'!DY730","v":80},59374]
["080406","CUSCO","CUSCO","CALCA","SAN SALVADOR","Mujer","65-69",{"$f":"'Pob x Genero'!DY740","v":99},59384]
["080905","CUSCO","CUSCO","LA CONVENCION","OCOBAMBA","Mujer","65-69",{"$f":"'Pob x Genero'!DY779","v":129},59423]
["081008","CUSCO","CUSCO","PARURO","PILLPINTO","Mujer","65-69",{"$f":"'Pob x Genero'!DY800","v":35},59444]
["090307","HUANCAVELICA","HUANCAVELICA","ANGARAES","HUANCA-HUANCA","Mujer","65-69",{"$f":"'Pob x Genero'!DY860","v":14},59504]
["090401","HUANCAVELICA","HUANCAVELICA","CASTROVIRREYNA","CASTROVIRREYNA","Mujer","65-69",{"$f":"'Pob x Genero'!DY866","v":39},59510]
["090616","HUANCAVELICA","HUANCAVELICA","HUAYTARA","TAMBO","Mujer","65-69",{"$f":"'Pob x Genero'!DY905","v":13},59549]
["100207","HUANUCO","HUANUCO","AMBO","SAN RAFAEL","Mujer","65-69",{"$f":"'Pob x Genero'!DY948","v":124},59592]
["100704","HUANUCO","HUANUCO","MARAÑON","LA MORADA","Mujer","65-69",{"$f":"'Pob x Genero'!DY987","v":33},59631]
["101006","HUANUCO","HUANUCO","LAURICOCHA","SAN FRANCISCO DE ASIS","Mujer","65-69",{"$f":"'Pob x Genero'!DY1003","v":14},59647]
["110209","ICA","ICA","CHINCHA","SAN PEDRO DE HUACARPANA","Mujer","65-69",{"$f":"'Pob x Genero'!DY1035","v":41},59679]
["120126","JUNIN","JUNIN","HUANCAYO","PUCARA","Mujer","65-69",{"$f":"'Pob x Genero'!DY1074","v":135},59718]
["120413","JUNIN","JUNIN","JAUJA","LEONOR ORDOÑEZ","Mujer","65-69",{"$f":"'Pob x Genero'!DY1117","v":45},59761]
["120705","JUNIN","JUNIN","TARMA","LA UNION","Mujer","65-69",{"$f":"'Pob x Genero'!DY1156","v":86},59800]
["130109","LA LIBERTAD","LA LIBERTAD","TRUJILLO","SALAVERRY","Mujer","65-69",{"$f":"'Pob x Genero'!DY1188","v":423},59832]
["130305","LA LIBERTAD","LA LIBERTAD","BOLIVAR","UCHUMARCA","Mujer","65-69",{"$f":"'Pob x Genero'!DY1204","v":29},59848]
["130903","LA LIBERTAD","LA LIBERTAD","SANCHEZ CARRION","COCHORCO","Mujer","65-69",{"$f":"'Pob x Genero'!DY1243","v":166},59887]
["140203","LAMBAYEQUE","LAMBAYEQUE","FERREÑAFE","INCAHUASI","Mujer","65-69",{"$f":"'Pob x Genero'!DY1286","v":251},59930]
["140303","LAMBAYEQUE","LAMBAYEQUE","LAMBAYEQUE","ILLIMO","Mujer","65-69",{"$f":"'Pob x Genero'!DY1292","v":272},59936]
["150140","DIRIS SUR","LIMA","LIMA","SANTIAGO DE SURCO","Mujer","65-69",{"$f":"'Pob x Genero'!DY1341","v":12696},59985]
["150512","LIMA","LIMA","CAÑETE","QUILMANA","Mujer","65-69",{"$f":"'Pob x Genero'!DY1373","v":325},60017]
["150723","LIMA","LIMA","HUAROCHIRI","SAN MATEO DE OTAO","Mujer","65-69",{"$f":"'Pob x Genero'!DY1412","v":29},60056]
["151016","LIMA","LIMA","YAUYOS","HUANTAN","Mujer","65-69",{"$f":"'Pob x Genero'!DY1455","v":47},60099]
["151022","LIMA","LIMA","YAUYOS","OMAS","Mujer","65-69",{"$f":"'Pob x Genero'!DY1461","v":25},60105]
["160305","LORETO","LORETO","LORETO","URARINAS","Mujer","65-69",{"$f":"'Pob x Genero'!DY1494","v":97},60138]
["180105","MOQUEGUA","MOQUEGUA","MARISCAL NIETO","SAN CRISTOBAL","Mujer","65-69",{"$f":"'Pob x Genero'!DY1542","v":57},60186]
["190302","PASCO","PASCO","OXAPAMPA","CHONTABAMBA","Mujer","65-69",{"$f":"'Pob x Genero'!DY1581","v":126},60225]
["190308","PASCO","PASCO","OXAPAMPA","CONSTITUCIÓN","Mujer","65-69",{"$f":"'Pob x Genero'!DY1587","v":165},60231]
["200505","PIURA","PIURA","PAITA","LA HUACA","Mujer","65-69",{"$f":"'Pob x Genero'!DY1630","v":306},60274]
["210212","PUNO","PUNO","AZANGARO","SAN JOSE","Mujer","65-69",{"$f":"'Pob x Genero'!DY1679","v":91},60323]
["210607","PUNO","PUNO","HUANCANE","TARACO","Mujer","65-69",{"$f":"'Pob x Genero'!DY1711","v":291},60355]
["211205","PUNO","PUNO","SANDIA","PHARA","Mujer","65-69",{"$f":"'Pob x Genero'!DY1750","v":92},60394]
["211301","PUNO","PUNO","YUNGUYO","YUNGUYO","Mujer","65-69",{"$f":"'Pob x Genero'!DY1756","v":473},60400]
["220603","SAN MARTIN","SAN MARTIN","MARISCAL CACERES","HUICUNGO","Mujer","65-69",{"$f":"'Pob x Genero'!DY1799","v":116},60443]
["220912","SAN MARTIN","SAN MARTIN","SAN MARTIN","SAN ANTONIO","Mujer","65-69",{"$f":"'Pob x Genero'!DY1832","v":38},60476]
["240303","TUMBES","TUMBES","ZARUMILLA","MATAPALO","Mujer","65-69",{"$f":"'Pob x Genero'!DY1880","v":81},60524]
["250105","UCAYALI","UCAYALI","CORONEL PORTILLO","YARINACOCHA","Mujer","65-69",{"$f":"'Pob x Genero'!DY1886","v":1409},60530]
["010204","AMAZONAS","AMAZONAS","BAGUA","EL PARCO","Mujer","70-74",{"$f":"'Pob x Genero'!DZ33","v":13},60569]
["010603","AMAZONAS","AMAZONAS","RODRIGUEZ DE MENDOZA","COCHAMAL","Mujer","70-74",{"$f":"'Pob x Genero'!DZ76","v":8},60612]
["020306","ANCASH","ANCASH","ANTONIO RAYMONDI","SAN JUAN DE RONTOY","Mujer","70-74",{"$f":"'Pob x Genero'!DZ115","v":12},60651]
["020611","ANCASH","ANCASH","CARHUAZ","YUNGAR","Mujer","70-74",{"$f":"'Pob x Genero'!DZ143","v":37},60679]
["021006","ANCASH","ANCASH","HUARI","HUACCHIS","Mujer","70-74",{"$f":"'Pob x Genero'!DZ163","v":17},60699]
["021406","ANCASH","ANCASH","OCROS","CONGAS","Mujer","70-74",{"$f":"'Pob x Genero'!DZ202","v":12},60738]
["021905","ANCASH","ANCASH","SIHUAS","CHINGALPO","Mujer","70-74",{"$f":"'Pob x Genero'!DZ245","v":8},60781]
["030217","APURIMAC","APURIMAC","ANDAHUAYLAS","TUMAY HUARACA","Mujer","70-74",{"$f":"'Pob x Genero'!DZ284","v":29},60820]
["030402","APURIMAC","APURIMAC","AYMARAES","CAPAYA","Mujer","70-74",{"$f":"'Pob x Genero'!DZ296","v":10},60832]
["030703","APURIMAC","APURIMAC","GRAU","GAMARRA","Mujer","70-74",{"$f":"'Pob x Genero'!DZ332","v":42},60868]
["040128","AREQUIPA","AREQUIPA","AREQUIPA","YURA","Mujer","70-74",{"$f":"'Pob x Genero'!DZ371","v":470},60907]
["040507","AREQUIPA","AREQUIPA","CAYLLOMA","HUAMBO","Mujer","70-74",{"$f":"'Pob x Genero'!DZ414","v":34},60950]
["040513","AREQUIPA","AREQUIPA","CAYLLOMA","MADRIGAL","Mujer","70-74",{"$f":"'Pob x Genero'!DZ420","v":29},60956]
["050403","AYACUCHO","AYACUCHO","HUANTA","HUAMANGUILLA","Mujer","70-74",{"$f":"'Pob x Genero'!DZ481","v":50},61017]
["050510","AYACUCHO","AYACUCHO","LA MAR","ANCHIHUAY","Mujer","70-74",{"$f":"'Pob x Genero'!DZ501","v":27},61037]
["050805","AYACUCHO","AYACUCHO","PAUCAR DEL SARA SARA","MARCABAMBA","Mujer","70-74",{"$f":"'Pob x Genero'!DZ540","v":10},61076]
["060103","CAJAMARCA","CAJAMARCA","CAJAMARCA","CHETILLA","Mujer","70-74",{"$f":"'Pob x Genero'!DZ579","v":39},61115]
["060201","CAJAMARCA","CAJAMARCA","CAJABAMBA","CAJABAMBA","Mujer","70-74",{"$f":"'Pob x Genero'!DZ589","v":365},61125]
["060603","CAJAMARCA","CAJAMARCA","CUTERVO","CHOROS","Mujer","70-74",{"$f":"'Pob x Genero'!DZ634","v":43},61170]
["061002","CAJAMARCA","CAJAMARCA","SAN MARCOS","CHANCAY","Mujer","70-74",{"$f":"'Pob x Genero'!DZ670","v":43},61206]
["070106","CALLAO","CALLAO","CALLAO","VENTANILLA","Mujer","70-74",{"$f":"'Pob x Genero'!DZ709","v":4170},61245]
["080105","CUSCO","CUSCO","CUSCO","SAN SEBASTIAN","Mujer","70-74",{"$f":"'Pob x Genero'!DZ715","v":1397},61251]
["080608","CUSCO","CUSCO","CANCHIS","TINTA","Mujer","70-74",{"$f":"'Pob x Genero'!DZ758","v":98},61294]
["080913","CUSCO","CUSCO","LA CONVENCION","VILLA KINTIARINA","Mujer","70-74",{"$f":"'Pob x Genero'!DZ787","v":11},61323]
["090109","HUANCAVELICA","HUANCAVELICA","HUANCAVELICA","LARIA","Mujer","70-74",{"$f":"'Pob x Genero'!DZ835","v":9},61371]
["090119","HUANCAVELICA","HUANCAVELICA","HUANCAVELICA","HUANDO","Mujer","70-74",{"$f":"'Pob x Genero'!DZ845","v":105},61381]
["090506","HUANCAVELICA","HUANCAVELICA","CHURCAMPA","LOCROJA","Mujer","70-74",{"$f":"'Pob x Genero'!DZ884","v":27},61420]
["090724","HUANCAVELICA","HUANCAVELICA","TAYACAJA","LAMBRAS","Mujer","70-74",{"$f":"'Pob x Genero'!DZ927","v":15},61463]
["100510","HUANUCO","HUANUCO","HUAMALIES","SINGA","Mujer","70-74",{"$f":"'Pob x Genero'!DZ972","v":43},61508]
["101007","HUANUCO","HUANUCO","LAURICOCHA","SAN MIGUEL DE CAURI","Mujer","70-74",{"$f":"'Pob x Genero'!DZ1004","v":30},61540]
["110102","ICA","ICA","ICA","LA TINGUIÑA","Mujer","70-74",{"$f":"'Pob x Genero'!DZ1014","v":685},61550]
["110506","ICA","ICA","PISCO","SAN ANDRES","Mujer","70-74",{"$f":"'Pob x Genero'!DZ1053","v":253},61589]
["120213","JUNIN","JUNIN","CONCEPCION","ORCOTUNA","Mujer","70-74",{"$f":"'Pob x Genero'!DZ1096","v":79},61632]
["120431","JUNIN","JUNIN","JAUJA","SINCOS","Mujer","70-74",{"$f":"'Pob x Genero'!DZ1135","v":68},61671]
["120601","JUNIN","JUNIN","SATIPO","SATIPO","Mujer","70-74",{"$f":"'Pob x Genero'!DZ1143","v":380},61679]
["130104","LA LIBERTAD","LA LIBERTAD","TRUJILLO","HUANCHACO","Mujer","70-74",{"$f":"'Pob x Genero'!DZ1183","v":1053},61719]
["130614","LA LIBERTAD","LA LIBERTAD","OTUZCO","USQUIL","Mujer","70-74",{"$f":"'Pob x Genero'!DZ1222","v":258},61758]
["131201","LA LIBERTAD","LA LIBERTAD","VIRU","VIRU","Mujer","70-74",{"$f":"'Pob x Genero'!DZ1261","v":629},61797]
["140108","LAMBAYEQUE","LAMBAYEQUE","CHICLAYO","MONSEFU","Mujer","70-74",{"$f":"'Pob x Genero'!DZ1271","v":630},61807]
["150127","DIRIS SUR","LIMA","LIMA","PUNTA NEGRA","Mujer","70-74",{"$f":"'Pob x Genero'!DZ1328","v":216},61864]
["150303","LIMA","LIMA","CAJATAMBO","GORGOR","Mujer","70-74",{"$f":"'Pob x Genero'!DZ1352","v":40},61888]
["150702","LIMA","LIMA","HUAROCHIRI","ANTIOQUIA","Mujer","70-74",{"$f":"'Pob x Genero'!DZ1391","v":28},61927]
["150809","LIMA","LIMA","HUAURA","SANTA LEONOR","Mujer","70-74",{"$f":"'Pob x Genero'!DZ1430","v":26},61966]
["151001","LIMA","LIMA","YAUYOS","YAUYOS","Mujer","70-74",{"$f":"'Pob x Genero'!DZ1440","v":30},61976]
["160110","LORETO","LORETO","MAYNAS","TORRES CAUSANA","Mujer","70-74",{"$f":"'Pob x Genero'!DZ1481","v":35},62017]
["160701","LORETO","LORETO","DATEM DEL MARAÑON","BARRANCA","Mujer","70-74",{"$f":"'Pob x Genero'!DZ1517","v":109},62053]
["190102","PASCO","PASCO","PASCO","HUACHON","Mujer","70-74",{"$f":"'Pob x Genero'!DZ1560","v":64},62096]
["190108","PASCO","PASCO","PASCO","SAN FRANCISCO DE ASIS DE YARUSYACAN","Mujer","70-74",{"$f":"'Pob x Genero'!DZ1566","v":54},62102]
["200302","PIURA","PIURA","HUANCABAMBA","CANCHAQUE","Mujer","70-74",{"$f":"'Pob x Genero'!DZ1609","v":169},62145]
["200602","PIURA","PIURA","SULLANA","BELLAVISTA","Mujer","70-74",{"$f":"'Pob x Genero'!DZ1634","v":724},62170]
["210304","PUNO","PUNO","CARABAYA","COASA","Mujer","70-74",{"$f":"'Pob x Genero'!DZ1686","v":52},62222]
["210404","PUNO","PUNO","CHUCUITO","KELLUYO","Mujer","70-74",{"$f":"'Pob x Genero'!DZ1696","v":70},62232]
["210904","PUNO","PUNO","MOHO","TILALI","Mujer","70-74",{"$f":"'Pob x Genero'!DZ1735","v":73},62271]
["220304","SAN MARTIN","SAN MARTIN","EL DORADO","SANTA ROSA","Mujer","70-74",{"$f":"'Pob x Genero'!DZ1778","v":82},62314]
["220808","SAN MARTIN","SAN MARTIN","RIOJA","YORONGOS","Mujer","70-74",{"$f":"'Pob x Genero'!DZ1819","v":27},62355]
["230204","TACNA","TACNA","CANDARAVE","CURIBAYA","Mujer","70-74",{"$f":"'Pob x Genero'!DZ1855","v":8},62391]
["230405","TACNA","TACNA","TARATA","SITAJARA","Mujer","70-74",{"$f":"'Pob x Genero'!DZ1865","v":15},62401]
["010104","AMAZONAS","AMAZONAS","CHACHAPOYAS","CHETO","Mujer","75-79",{"$f":"'Pob x Genero'!EA12","v":6},62440]
["010501","AMAZONAS","AMAZONAS","LUYA","LAMUD","Mujer","75-79",{"$f":"'Pob x Genero'!EA51","v":29},62479]
["010607","AMAZONAS","AMAZONAS","RODRIGUEZ DE MENDOZA","MARISCAL BENAVIDES","Mujer","75-79",{"$f":"'Pob x Genero'!EA80","v":20},62508]
["020107","ANCASH","ANCASH","HUARAZ","LA LIBERTAD","Mujer","75-79",{"$f":"'Pob x Genero'!EA99","v":12},62527]
["020610","ANCASH","ANCASH","CARHUAZ","TINCO","Mujer","75-79",{"$f":"'Pob x Genero'!EA142","v":42},62570]
["021203","ANCASH","ANCASH","HUAYLAS","HUATA","Mujer","75-79",{"$f":"'Pob x Genero'!EA181","v":16},62609]
["021603","ANCASH","ANCASH","POMABAMBA","PAROBAMBA","Mujer","75-79",{"$f":"'Pob x Genero'!EA220","v":80},62648]
["030105","APURIMAC","APURIMAC","ABANCAY","HUANIPACA","Mujer","75-79",{"$f":"'Pob x Genero'!EA263","v":34},62691]
["030216","APURIMAC","APURIMAC","ANDAHUAYLAS","TALAVERA","Mujer","75-79",{"$f":"'Pob x Genero'!EA283","v":143},62711]
["030417","APURIMAC","APURIMAC","AYMARAES","YANACA","Mujer","75-79",{"$f":"'Pob x Genero'!EA311","v":12},62739]
["040107","AREQUIPA","AREQUIPA","AREQUIPA","JACOBO HUNTER","Mujer","75-79",{"$f":"'Pob x Genero'!EA350","v":630},62778]
["040309","AREQUIPA","AREQUIPA","CARAVELI","HUANUHUANU","Mujer","75-79",{"$f":"'Pob x Genero'!EA389","v":8},62817]
["040406","AREQUIPA","AREQUIPA","CASTILLA","CHOCO","Mujer","75-79",{"$f":"'Pob x Genero'!EA399","v":35},62827]
["040701","AREQUIPA","AREQUIPA","ISLAY","MOLLENDO","Mujer","75-79",{"$f":"'Pob x Genero'!EA436","v":479},62864]
["050302","AYACUCHO","AYACUCHO","HUANCA SANCOS","CARAPO","Mujer","75-79",{"$f":"'Pob x Genero'!EA476","v":18},62904]
["050613","AYACUCHO","AYACUCHO","LUCANAS","OTOCA","Mujer","75-79",{"$f":"'Pob x Genero'!EA519","v":23},62947]
["051002","AYACUCHO","AYACUCHO","VICTOR FAJARDO","ALCAMENCA","Mujer","75-79",{"$f":"'Pob x Genero'!EA558","v":17},62986]
["051012","AYACUCHO","AYACUCHO","VICTOR FAJARDO","VILCANCHOS","Mujer","75-79",{"$f":"'Pob x Genero'!EA568","v":17},62996]
["060417","CAJAMARCA","CAJAMARCA","CHOTA","TACABAMBA","Mujer","75-79",{"$f":"'Pob x Genero'!EA621","v":165},63049]
["060614","CAJAMARCA","CAJAMARCA","CUTERVO","SOCOTA","Mujer","75-79",{"$f":"'Pob x Genero'!EA645","v":83},63073]
["061113","CAJAMARCA","CAJAMARCA","SAN MIGUEL","UNION AGUA BLANCA","Mujer","75-79",{"$f":"'Pob x Genero'!EA688","v":31},63116]
["061302","CAJAMARCA","CAJAMARCA","SANTA CRUZ","ANDABAMBA","Mujer","75-79",{"$f":"'Pob x Genero'!EA694","v":14},63122]
["080308","CUSCO","CUSCO","ANTA","PUCYURA","Mujer","75-79",{"$f":"'Pob x Genero'!EA733","v":28},63161]
["080808","CUSCO","CUSCO","ESPINAR","ALTO PICHIGUA","Mujer","75-79",{"$f":"'Pob x Genero'!EA774","v":32},63202]
["081207","CUSCO","CUSCO","QUISPICANCHI","HUARO","Mujer","75-79",{"$f":"'Pob x Genero'!EA814","v":47},63242]
["081305","CUSCO","CUSCO","URUBAMBA","MARAS","Mujer","75-79",{"$f":"'Pob x Genero'!EA824","v":78},63252]
["090310","HUANCAVELICA","HUANCAVELICA","ANGARAES","SAN ANTONIO DE ANTAPARCO","Mujer","75-79",{"$f":"'Pob x Genero'!EA863","v":16},63291]
["090613","HUANCAVELICA","HUANCAVELICA","HUAYTARA","SANTIAGO DE CHOCORVOS","Mujer","75-79",{"$f":"'Pob x Genero'!EA902","v":20},63330]
["090724","HUANCAVELICA","HUANCAVELICA","TAYACAJA","LAMBRAS","Mujer","75-79",{"$f":"'Pob x Genero'!EA927","v":11},63355]
["100610","HUANUCO","HUANUCO","LEONCIO PRADO","SANTO DOMINGO DE ANDA","Mujer","75-79",{"$f":"'Pob x Genero'!EA983","v":12},63411]
["100901","HUANUCO","HUANUCO","PUERTO INCA","PUERTO INCA","Mujer","75-79",{"$f":"'Pob x Genero'!EA993","v":44},63421]
["110206","ICA","ICA","CHINCHA","GROCIO PRADO","Mujer","75-79",{"$f":"'Pob x Genero'!EA1032","v":353},63460]
["120122","JUNIN","JUNIN","HUANCAYO","INGENIO","Mujer","75-79",{"$f":"'Pob x Genero'!EA1071","v":36},63499]
["120408","JUNIN","JUNIN","JAUJA","HUAMALI","Mujer","75-79",{"$f":"'Pob x Genero'!EA1112","v":24},63540]
["120415","JUNIN","JUNIN","JAUJA","MARCO","Mujer","75-79",{"$f":"'Pob x Genero'!EA1119","v":37},63547]
["120707","JUNIN","JUNIN","TARMA","PALCAMAYO","Mujer","75-79",{"$f":"'Pob x Genero'!EA1158","v":44},63586]
["130302","LA LIBERTAD","LA LIBERTAD","BOLIVAR","BAMBAMARCA","Mujer","75-79",{"$f":"'Pob x Genero'!EA1201","v":19},63629]
["130813","LA LIBERTAD","LA LIBERTAD","PATAZ","URPAY","Mujer","75-79",{"$f":"'Pob x Genero'!EA1240","v":45},63668]
["131002","LA LIBERTAD","LA LIBERTAD","SANTIAGO DE CHUCO","ANGASMARCA","Mujer","75-79",{"$f":"'Pob x Genero'!EA1250","v":53},63678]
["140120","LAMBAYEQUE","LAMBAYEQUE","CHICLAYO","TUMAN","Mujer","75-79",{"$f":"'Pob x Genero'!EA1283","v":349},63711]
["150126","DIRIS SUR","LIMA","LIMA","PUNTA HERMOSA","Mujer","75-79",{"$f":"'Pob x Genero'!EA1327","v":293},63755]
["150509","LIMA","LIMA","CAÑETE","MALA","Mujer","75-79",{"$f":"'Pob x Genero'!EA1370","v":353},63798]
["150720","LIMA","LIMA","HUAROCHIRI","SAN JUAN DE TANTARANCHE","Mujer","75-79",{"$f":"'Pob x Genero'!EA1409","v":5},63837]
["150730","LIMA","LIMA","HUAROCHIRI","SANTIAGO DE TUNA","Mujer","75-79",{"$f":"'Pob x Genero'!EA1419","v":8},63847]
["151029","LIMA","LIMA","YAUYOS","TAURIPAMPA","Mujer","75-79",{"$f":"'Pob x Genero'!EA1468","v":15},63896]
["160402","LORETO","LORETO","MARISCAL RAMON CASTILLA","PEBAS","Mujer","75-79",{"$f":"'Pob x Genero'!EA1496","v":53},63924]
["180102","MOQUEGUA","MOQUEGUA","MARISCAL NIETO","CARUMAS","Mujer","75-79",{"$f":"'Pob x Genero'!EA1539","v":61},63967]
["180201","MOQUEGUA","MOQUEGUA","GENERAL SANCHEZ CERRO","OMATE","Mujer","75-79",{"$f":"'Pob x Genero'!EA1545","v":63},63973]
["190305","PASCO","PASCO","OXAPAMPA","POZUZO","Mujer","75-79",{"$f":"'Pob x Genero'!EA1584","v":22},64012]
["200406","PIURA","PIURA","MORROPON","SALITRAL","Mujer","75-79",{"$f":"'Pob x Genero'!EA1621","v":96},64049]
["210113","PUNO","PUNO","PUNO","SAN ANTONIO","Mujer","75-79",{"$f":"'Pob x Genero'!EA1665","v":43},64093]
["210208","PUNO","PUNO","AZANGARO","MUÑANI","Mujer","75-79",{"$f":"'Pob x Genero'!EA1675","v":76},64103]
["210702","PUNO","PUNO","LAMPA","CABANILLA","Mujer","75-79",{"$f":"'Pob x Genero'!EA1714","v":65},64142]
["211208","PUNO","PUNO","SANDIA","YANAHUAYA","Mujer","75-79",{"$f":"'Pob x Genero'!EA1753","v":12},64181]
["220206","SAN MARTIN","SAN MARTIN","BELLAVISTA","SAN RAFAEL","Mujer","75-79",{"$f":"'Pob x Genero'!EA1774","v":31},64202]
["220914","SAN MARTIN","SAN MARTIN","SAN MARTIN","SHAPAJA","Mujer","75-79",{"$f":"'Pob x Genero'!EA1834","v":22},64262]
["221006","SAN MARTIN","SAN MARTIN","TOCACHE","SANTA LUCIA","Mujer","75-79",{"$f":"'Pob x Genero'!EA1840","v":31},64268]
["250102","UCAYALI","UCAYALI","CORONEL PORTILLO","CAMPOVERDE","Mujer","75-79",{"$f":"'Pob x Genero'!EA1883","v":137},64311]
["010201","AMAZONAS","AMAZONAS","BAGUA","BAGUA","Mujer","80-84",{"$f":"'Pob x Genero'!EB30","v":61},64350]
["010517","AMAZONAS","AMAZONAS","LUYA","SAN FRANCISCO DEL YESO","Mujer","80-84",{"$f":"'Pob x Genero'!EB67","v":7},64387]
["010605","AMAZONAS","AMAZONAS","RODRIGUEZ DE MENDOZA","LIMABAMBA","Mujer","80-84",{"$f":"'Pob x Genero'!EB78","v":16},64398]
["020402","ANCASH","ANCASH","ASUNCION","ACOCHACA","Mujer","80-84",{"$f":"'Pob x Genero'!EB117","v":45},64437]
["021003","ANCASH","ANCASH","HUARI","CAJAY","Mujer","80-84",{"$f":"'Pob x Genero'!EB160","v":23},64480]
["021403","ANCASH","ANCASH","OCROS","CAJAMARQUILLA","Mujer","80-84",{"$f":"'Pob x Genero'!EB199","v":3},64519]
["021603","ANCASH","ANCASH","POMABAMBA","PAROBAMBA","Mujer","80-84",{"$f":"'Pob x Genero'!EB220","v":39},64540]
["021907","ANCASH","ANCASH","SIHUAS","QUICHES","Mujer","80-84",{"$f":"'Pob x Genero'!EB247","v":21},64567]
["030219","APURIMAC","APURIMAC","ANDAHUAYLAS","KAQUIABAMBA","Mujer","80-84",{"$f":"'Pob x Genero'!EB286","v":16},64606]
["030612","APURIMAC","APURIMAC","CHINCHEROS","AHUAYRO","Mujer","80-84",{"$f":"'Pob x Genero'!EB329","v":8},64649]
["040125","AREQUIPA","AREQUIPA","AREQUIPA","VITOR","Mujer","80-84",{"$f":"'Pob x Genero'!EB368","v":42},64688]
["040202","AREQUIPA","AREQUIPA","CAMANA","JOSE MARIA QUIMPER","Mujer","80-84",{"$f":"'Pob x Genero'!EB374","v":42},64694]
["040516","AREQUIPA","AREQUIPA","CAYLLOMA","TAPAY","Mujer","80-84",{"$f":"'Pob x Genero'!EB423","v":28},64743]
["050103","AYACUCHO","AYACUCHO","HUAMANGA","ACOS VINCHOS","Mujer","80-84",{"$f":"'Pob x Genero'!EB455","v":37},64775]
["050507","AYACUCHO","AYACUCHO","LA MAR","SANTA ROSA","Mujer","80-84",{"$f":"'Pob x Genero'!EB498","v":24},64818]
["050513","AYACUCHO","AYACUCHO","LA MAR","RIO MAGDALENA","Mujer","80-84",{"$f":"'Pob x Genero'!EB504","v":9},64824]
["050808","AYACUCHO","AYACUCHO","PAUCAR DEL SARA SARA","SAN JAVIER DE ALPABAMBA","Mujer","80-84",{"$f":"'Pob x Genero'!EB543","v":4},64863]
["051108","AYACUCHO","AYACUCHO","VILCAS HUAMAN","VISCHONGO","Mujer","80-84",{"$f":"'Pob x Genero'!EB576","v":56},64896]
["060501","CAJAMARCA","CAJAMARCA","CONTUMAZA","CONTUMAZA","Mujer","80-84",{"$f":"'Pob x Genero'!EB624","v":63},64944]
["060902","CAJAMARCA","CAJAMARCA","SAN IGNACIO","CHIRINOS","Mujer","80-84",{"$f":"'Pob x Genero'!EB663","v":58},64983]
["061005","CAJAMARCA","CAJAMARCA","SAN MARCOS","ICHOCAN","Mujer","80-84",{"$f":"'Pob x Genero'!EB673","v":20},64993]
["080102","CUSCO","CUSCO","CUSCO","CCORCA","Mujer","80-84",{"$f":"'Pob x Genero'!EB712","v":36},65032]
["080703","CUSCO","CUSCO","CHUMBIVILCAS","CHAMACA","Mujer","80-84",{"$f":"'Pob x Genero'!EB761","v":32},65081]
["081001","CUSCO","CUSCO","PARURO","PARURO","Mujer","80-84",{"$f":"'Pob x Genero'!EB793","v":28},65113]
["081007","CUSCO","CUSCO","PARURO","PACCARITAMBO","Mujer","80-84",{"$f":"'Pob x Genero'!EB799","v":27},65119]
["090116","HUANCAVELICA","HUANCAVELICA","HUANCAVELICA","VILCA","Mujer","80-84",{"$f":"'Pob x Genero'!EB842","v":12},65162]
["090503","HUANCAVELICA","HUANCAVELICA","CHURCAMPA","CHINCHIHUASI","Mujer","80-84",{"$f":"'Pob x Genero'!EB881","v":15},65201]
["090710","HUANCAVELICA","HUANCAVELICA","TAYACAJA","ÑAHUIMPUQUIO","Mujer","80-84",{"$f":"'Pob x Genero'!EB914","v":9},65234]
["100404","HUANUCO","HUANUCO","HUACAYBAMBA","PINRA","Mujer","80-84",{"$f":"'Pob x Genero'!EB962","v":33},65282]
["100506","HUANUCO","HUANUCO","HUAMALIES","MIRAFLORES","Mujer","80-84",{"$f":"'Pob x Genero'!EB968","v":12},65288]
["101107","HUANUCO","HUANUCO","YAROWILCA","PAMPAMARCA","Mujer","80-84",{"$f":"'Pob x Genero'!EB1011","v":4},65331]
["110503","ICA","ICA","PISCO","HUMAY","Mujer","80-84",{"$f":"'Pob x Genero'!EB1050","v":39},65370]
["120117","JUNIN","JUNIN","HUANCAYO","HUALHUAS","Mujer","80-84",{"$f":"'Pob x Genero'!EB1067","v":43},65387]
["120215","JUNIN","JUNIN","CONCEPCION","SANTA ROSA DE OCOPA","Mujer","80-84",{"$f":"'Pob x Genero'!EB1098","v":28},65418]
["120433","JUNIN","JUNIN","JAUJA","YAULI","Mujer","80-84",{"$f":"'Pob x Genero'!EB1137","v":12},65457]
["130101","LA LIBERTAD","LA LIBERTAD","TRUJILLO","TRUJILLO","Mujer","80-84",{"$f":"'Pob x Genero'!EB1180","v":3305},65500]
["130610","LA LIBERTAD","LA LIBERTAD","OTUZCO","PARANDAY","Mujer","80-84",{"$f":"'Pob x Genero'!EB1219","v":2},65539]
["131004","LA LIBERTAD","LA LIBERTAD","SANTIAGO DE CHUCO","MOLLEBAMBA","Mujer","80-84",{"$f":"'Pob x Genero'!EB1252","v":17},65572]
["140104","LAMBAYEQUE","LAMBAYEQUE","CHICLAYO","ETEN PUERTO","Mujer","80-84",{"$f":"'Pob x Genero'!EB1267","v":41},65587]
["150105","DIRIS CENTRO","LIMA","LIMA","BREÑA","Mujer","80-84",{"$f":"'Pob x Genero'!EB1306","v":1469},65626]
["150205","LIMA","LIMA","BARRANCA","SUPE PUERTO","Mujer","80-84",{"$f":"'Pob x Genero'!EB1349","v":150},65669]
["150611","LIMA","LIMA","HUARAL","SUMBILCA","Mujer","80-84",{"$f":"'Pob x Genero'!EB1388","v":26},65708]
["150705","LIMA","LIMA","HUAROCHIRI","CHICLA","Mujer","80-84",{"$f":"'Pob x Genero'!EB1394","v":13},65714]
["150802","LIMA","LIMA","HUAURA","AMBAR","Mujer","80-84",{"$f":"'Pob x Genero'!EB1423","v":46},65743]
["160103","LORETO","LORETO","MAYNAS","FERNANDO LORES","Mujer","80-84",{"$f":"'Pob x Genero'!EB1475","v":80},65795]
["160604","LORETO","LORETO","UCAYALI","PAMPA HERMOSA","Mujer","80-84",{"$f":"'Pob x Genero'!EB1514","v":14},65834]
["160802","LORETO","LORETO","PUTUMAYO","ROSA PANDURO","Mujer","80-84",{"$f":"'Pob x Genero'!EB1524","v":4},65844]
["190105","PASCO","PASCO","PASCO","NINACACA","Mujer","80-84",{"$f":"'Pob x Genero'!EB1563","v":34},65883]
["200301","PIURA","PIURA","HUANCABAMBA","HUANCABAMBA","Mujer","80-84",{"$f":"'Pob x Genero'!EB1608","v":232},65928]
["200704","PIURA","PIURA","TALARA","LOBITOS","Mujer","80-84",{"$f":"'Pob x Genero'!EB1644","v":6},65964]
["210301","PUNO","PUNO","CARABAYA","MACUSANI","Mujer","80-84",{"$f":"'Pob x Genero'!EB1683","v":56},66003]
["210401","PUNO","PUNO","CHUCUITO","JULI","Mujer","80-84",{"$f":"'Pob x Genero'!EB1693","v":203},66013]
["210901","PUNO","PUNO","MOHO","MOHO","Mujer","80-84",{"$f":"'Pob x Genero'!EB1732","v":165},66052]
["211306","PUNO","PUNO","YUNGUYO","TINICACHI","Mujer","80-84",{"$f":"'Pob x Genero'!EB1761","v":8},66081]
["220802","SAN MARTIN","SAN MARTIN","RIOJA","AWAJUN","Mujer","80-84",{"$f":"'Pob x Genero'!EB1813","v":20},66133]
["220808","SAN MARTIN","SAN MARTIN","RIOJA","YORONGOS","Mujer","80-84",{"$f":"'Pob x Genero'!EB1819","v":10},66139]
["230402","TACNA","TACNA","TARATA","HEROES ALBARRACIN","Mujer","80-84",{"$f":"'Pob x Genero'!EB1862","v":3},66182]
["010101","AMAZONAS","AMAZONAS","CHACHAPOYAS","CHACHAPOYAS","Mujer","85-+",{"$f":"'Pob x Genero'!EC9","v":166},66221]
["010504","AMAZONAS","AMAZONAS","LUYA","COLCAMAR","Mujer","85-+",{"$f":"'Pob x Genero'!EC54","v":14},66266]
["010507","AMAZONAS","AMAZONAS","LUYA","LONGUITA","Mujer","85-+",{"$f":"'Pob x Genero'!EC57","v":7},66269]
["020104","ANCASH","ANCASH","HUARAZ","HUANCHAY","Mujer","85-+",{"$f":"'Pob x Genero'!EC96","v":29},66308]
["020607","ANCASH","ANCASH","CARHUAZ","PARIAHUANCA","Mujer","85-+",{"$f":"'Pob x Genero'!EC139","v":15},66351]
["021105","ANCASH","ANCASH","HUARMEY","MALVAS","Mujer","85-+",{"$f":"'Pob x Genero'!EC178","v":20},66390]
["021501","ANCASH","ANCASH","PALLASCA","CABANA","Mujer","85-+",{"$f":"'Pob x Genero'!EC207","v":36},66419]
["021705","ANCASH","ANCASH","RECUAY","LLACLLIN","Mujer","85-+",{"$f":"'Pob x Genero'!EC226","v":16},66438]
["030107","APURIMAC","APURIMAC","ABANCAY","PICHIRHUA","Mujer","85-+",{"$f":"'Pob x Genero'!EC265","v":33},66477]
["030410","APURIMAC","APURIMAC","AYMARAES","POCOHUANCA","Mujer","85-+",{"$f":"'Pob x Genero'!EC304","v":9},66516]
["040104","AREQUIPA","AREQUIPA","AREQUIPA","CERRO COLORADO","Mujer","85-+",{"$f":"'Pob x Genero'!EC347","v":1135},66559]
["040117","AREQUIPA","AREQUIPA","AREQUIPA","SACHACA","Mujer","85-+",{"$f":"'Pob x Genero'!EC360","v":259},66572]
["040402","AREQUIPA","AREQUIPA","CASTILLA","ANDAGUA","Mujer","85-+",{"$f":"'Pob x Genero'!EC395","v":23},66607]
["040607","AREQUIPA","AREQUIPA","CONDESUYOS","SALAMANCA","Mujer","85-+",{"$f":"'Pob x Genero'!EC434","v":13},66646]
["050205","AYACUCHO","AYACUCHO","CANGALLO","PARAS","Mujer","85-+",{"$f":"'Pob x Genero'!EC473","v":22},66685]
["050405","AYACUCHO","AYACUCHO","HUANTA","LURICOCHA","Mujer","85-+",{"$f":"'Pob x Genero'!EC483","v":25},66695]
["050616","AYACUCHO","AYACUCHO","LUCANAS","SAN JUAN","Mujer","85-+",{"$f":"'Pob x Genero'!EC522","v":6},66734]
["051007","AYACUCHO","AYACUCHO","VICTOR FAJARDO","COLCA","Mujer","85-+",{"$f":"'Pob x Genero'!EC563","v":5},66775]
["060311","CAJAMARCA","CAJAMARCA","CELENDIN","UTCO","Mujer","85-+",{"$f":"'Pob x Genero'!EC603","v":7},66815]
["060611","CAJAMARCA","CAJAMARCA","CUTERVO","SANTA CRUZ","Mujer","85-+",{"$f":"'Pob x Genero'!EC642","v":17},66854]
["060803","CAJAMARCA","CAJAMARCA","JAEN","CHONTALI","Mujer","85-+",{"$f":"'Pob x Genero'!EC652","v":35},66864]
["061203","CAJAMARCA","CAJAMARCA","SAN PABLO","SAN LUIS","Mujer","85-+",{"$f":"'Pob x Genero'!EC691","v":4},66903]
["080106","CUSCO","CUSCO","CUSCO","SANTIAGO","Mujer","85-+",{"$f":"'Pob x Genero'!EC716","v":431},66928]
["080806","CUSCO","CUSCO","ESPINAR","PICHIGUA","Mujer","85-+",{"$f":"'Pob x Genero'!EC772","v":17},66984]
["080904","CUSCO","CUSCO","LA CONVENCION","MARANURA","Mujer","85-+",{"$f":"'Pob x Genero'!EC778","v":49},66990]
["081302","CUSCO","CUSCO","URUBAMBA","CHINCHERO","Mujer","85-+",{"$f":"'Pob x Genero'!EC821","v":49},67033]
["090307","HUANCAVELICA","HUANCAVELICA","ANGARAES","HUANCA-HUANCA","Mujer","85-+",{"$f":"'Pob x Genero'!EC860","v":5},67072]
["090612","HUANCAVELICA","HUANCAVELICA","HUAYTARA","SAN ISIDRO","Mujer","85-+",{"$f":"'Pob x Genero'!EC901","v":12},67113]
["090703","HUANCAVELICA","HUANCAVELICA","TAYACAJA","ACRAQUIA","Mujer","85-+",{"$f":"'Pob x Genero'!EC908","v":12},67120]
["100206","HUANUCO","HUANUCO","AMBO","SAN FRANCISCO","Mujer","85-+",{"$f":"'Pob x Genero'!EC947","v":8},67159]
["100703","HUANUCO","HUANUCO","MARAÑON","SAN BUENAVENTURA","Mujer","85-+",{"$f":"'Pob x Genero'!EC986","v":9},67198]
["110203","ICA","ICA","CHINCHA","CHAVIN","Mujer","85-+",{"$f":"'Pob x Genero'!EC1029","v":26},67241]
["110507","ICA","ICA","PISCO","SAN CLEMENTE","Mujer","85-+",{"$f":"'Pob x Genero'!EC1054","v":102},67266]
["120129","JUNIN","JUNIN","HUANCAYO","SAN AGUSTIN","Mujer","85-+",{"$f":"'Pob x Genero'!EC1077","v":104},67289]
["120412","JUNIN","JUNIN","JAUJA","JULCAN","Mujer","85-+",{"$f":"'Pob x Genero'!EC1116","v":9},67328]
["120704","JUNIN","JUNIN","TARMA","HUASAHUASI","Mujer","85-+",{"$f":"'Pob x Genero'!EC1155","v":63},67367]
["130207","LA LIBERTAD","LA LIBERTAD","ASCOPE","SANTIAGO DE CAO","Mujer","85-+",{"$f":"'Pob x Genero'!EC1198","v":195},67410]
["130402","LA LIBERTAD","LA LIBERTAD","CHEPEN","PACANGA","Mujer","85-+",{"$f":"'Pob x Genero'!EC1207","v":142},67419]
["130906","LA LIBERTAD","LA LIBERTAD","SANCHEZ CARRION","SANAGORAN","Mujer","85-+",{"$f":"'Pob x Genero'!EC1246","v":125},67458]
["140202","LAMBAYEQUE","LAMBAYEQUE","FERREÑAFE","CAÑARIS","Mujer","85-+",{"$f":"'Pob x Genero'!EC1285","v":65},67497]
["150123","DIRIS SUR","LIMA","LIMA","PACHACAMAC","Mujer","85-+",{"$f":"'Pob x Genero'!EC1324","v":503},67536]
["150506","LIMA","LIMA","CAÑETE","COAYLLO","Mujer","85-+",{"$f":"'Pob x Genero'!EC1367","v":23},67579]
["150512","LIMA","LIMA","CAÑETE","QUILMANA","Mujer","85-+",{"$f":"'Pob x Genero'!EC1373","v":150},67585]
["150712","LIMA","LIMA","HUAROCHIRI","LARAOS","Mujer","85-+",{"$f":"'Pob x Genero'!EC1401","v":16},67613]
["150713","LIMA","LIMA","HUAROCHIRI","MARIATANA","Mujer","85-+",{"$f":"'Pob x Genero'!EC1402","v":17},67614]
["150714","LIMA","LIMA","HUAROCHIRI","RICARDO PALMA","Mujer","85-+",{"$f":"'Pob x Genero'!EC1403","v":49},67615]
["150715","LIMA","LIMA","HUAROCHIRI","SAN ANDRES DE TUPICOCHA","Mujer","85-+",{"$f":"'Pob x Genero'!EC1404","v":22},67616]
["150716","LIMA","LIMA","HUAROCHIRI","SAN ANTONIO","Mujer","85-+",{"$f":"'Pob x Genero'!EC1405","v":9},67617]
["150717","LIMA","LIMA","HUAROCHIRI","SAN BARTOLOME","Mujer","85-+",{"$f":"'Pob x Genero'!EC1406","v":13},67618]
["150718","LIMA","LIMA","HUAROCHIRI","SAN DAMIAN","Mujer","85-+",{"$f":"'Pob x Genero'!EC1407","v":22},67619]
["150719","LIMA","LIMA","HUAROCHIRI","SAN JUAN DE IRIS","Mujer","85-+",{"$f":"'Pob x Genero'!EC1408","v":19},67620]
["150720","LIMA","LIMA","HUAROCHIRI","SAN JUAN DE TANTARANCHE","Mujer","85-+",{"$f":"'Pob x Genero'!EC1409","v":4},67621]
["150721","LIMA","LIMA","HUAROCHIRI","SAN LORENZO DE QUINTI","Mujer","85-+",{"$f":"'Pob x Genero'!EC1410","v":22},67622]
["150722","LIMA","LIMA","HUAROCHIRI","SAN MATEO","Mujer","85-+",{"$f":"'Pob x Genero'!EC1411","v":28},67623]
["150723","LIMA","LIMA","HUAROCHIRI","SAN MATEO DE OTAO","Mujer","85-+",{"$f":"'Pob x Genero'!EC1412","v":14},67624]
["150724","LIMA","LIMA","HUAROCHIRI","SAN PEDRO DE CASTA","Mujer","85-+",{"$f":"'Pob x Genero'!EC1413","v":21},67625]
["150725","LIMA","LIMA","HUAROCHIRI","SAN PEDRO DE HUANCAYRE","Mujer","85-+",{"$f":"'Pob x Genero'!EC1414","v":5},67626]
["150726","LIMA","LIMA","HUAROCHIRI","SANGALLAYA","Mujer","85-+",{"$f":"'Pob x Genero'!EC1415","v":14},67627]
["150727","LIMA","LIMA","HUAROCHIRI","SANTA CRUZ DE COCACHACRA","Mujer","85-+",{"$f":"'Pob x Genero'!EC1416","v":19},67628]
["150728","LIMA","LIMA","HUAROCHIRI","SANTA EULALIA","Mujer","85-+",{"$f":"'Pob x Genero'!EC1417","v":106},67629]
["150729","LIMA","LIMA","HUAROCHIRI","SANTIAGO DE ANCHUCAYA","Mujer","85-+",{"$f":"'Pob x Genero'!EC1418","v":8},67630]
["150730","LIMA","LIMA","HUAROCHIRI","SANTIAGO DE TUNA","Mujer","85-+",{"$f":"'Pob x Genero'!EC1419","v":14},67631]
["150731","LIMA","LIMA","HUAROCHIRI","SANTO DOMINGO DE LOS OLLEROS","Mujer","85-+",{"$f":"'Pob x Genero'!EC1420","v":17},67632]
["150732","LIMA","LIMA","HUAROCHIRI","SURCO","Mujer","85-+",{"$f":"'Pob x Genero'!EC1421","v":16},67633]
["150801","LIMA","LIMA","HUAURA","HUACHO","Mujer","85-+",{"$f":"'Pob x Genero'!EC1422","v":986},67634]
["150802","LIMA","LIMA","HUAURA","AMBAR","Mujer","85-+",{"$f":"'Pob x Genero'!EC1423","v":50},67635]
["150803","LIMA","LIMA","HUAURA","CALETA DE CARQUIN","Mujer","85-+",{"$f":"'Pob x Genero'!EC1424","v":72},67636]
["150804","LIMA","LIMA","HUAURA","CHECRAS","Mujer","85-+",{"$f":"'Pob x Genero'!EC1425","v":51},67637]
["150805","LIMA","LIMA","HUAURA","HUALMAY","Mujer","85-+",{"$f":"'Pob x Genero'!EC1426","v":318},67638]
["150806","LIMA","LIMA","HUAURA","HUAURA","Mujer","85-+",{"$f":"'Pob x Genero'!EC1427","v":310},67639]
["150807","LIMA","LIMA","HUAURA","LEONCIO PRADO","Mujer","85-+",{"$f":"'Pob x Genero'!EC1428","v":44},67640]
["150808","LIMA","LIMA","HUAURA","PACCHO","Mujer","85-+",{"$f":"'Pob x Genero'!EC1429","v":62},67641]
["150809","LIMA","LIMA","HUAURA","SANTA LEONOR","Mujer","85-+",{"$f":"'Pob x Genero'!EC1430","v":32},67642]
["150810","LIMA","LIMA","HUAURA","SANTA MARIA","Mujer","85-+",{"$f":"'Pob x Genero'!EC1431","v":377},67643]
["150811","LIMA","LIMA","HUAURA","SAYAN","Mujer","85-+",{"$f":"'Pob x Genero'!EC1432","v":201},67644]
["150812","LIMA","LIMA","HUAURA","VEGUETA","Mujer","85-+",{"$f":"'Pob x Genero'!EC1433","v":261},67645]
["150901","LIMA","LIMA","OYON","OYON","Mujer","85-+",{"$f":"'Pob x Genero'!EC1434","v":117},67646]
["150902","LIMA","LIMA","OYON","ANDAJES","Mujer","85-+",{"$f":"'Pob x Genero'!EC1435","v":21},67647]
["150903","LIMA","LIMA","OYON","CAUJUL","Mujer","85-+",{"$f":"'Pob x Genero'!EC1436","v":12},67648]
["150904","LIMA","LIMA","OYON","COCHAMARCA","Mujer","85-+",{"$f":"'Pob x Genero'!EC1437","v":18},67649]
["150905","LIMA","LIMA","OYON","NAVAN","Mujer","85-+",{"$f":"'Pob x Genero'!EC1438","v":18},67650]
["150906","LIMA","LIMA","OYON","PACHANGARA","Mujer","85-+",{"$f":"'Pob x Genero'!EC1439","v":32},67651]
["151001","LIMA","LIMA","YAUYOS","YAUYOS","Mujer","85-+",{"$f":"'Pob x Genero'!EC1440","v":32},67652]
["151002","LIMA","LIMA","YAUYOS","ALIS","Mujer","85-+",{"$f":"'Pob x Genero'!EC1441","v":21},67653]
["151003","LIMA","LIMA","YAUYOS","AYAUCA","Mujer","85-+",{"$f":"'Pob x Genero'!EC1442","v":28},67654]
["151004","LIMA","LIMA","YAUYOS","AYAVIRI","Mujer","85-+",{"$f":"'Pob x Genero'!EC1443","v":21},67655]
["151005","LIMA","LIMA","YAUYOS","AZANGARO","Mujer","85-+",{"$f":"'Pob x Genero'!EC1444","v":14},67656]
["151006","LIMA","LIMA","YAUYOS","CACRA","Mujer","85-+",{"$f":"'Pob x Genero'!EC1445","v":12},67657]
["151007","LIMA","LIMA","YAUYOS","CARANIA","Mujer","85-+",{"$f":"'Pob x Genero'!EC1446","v":17},67658]
["151008","LIMA","LIMA","YAUYOS","CATAHUASI","Mujer","85-+",{"$f":"'Pob x Genero'!EC1447","v":21},67659]
["151009","LIMA","LIMA","YAUYOS","CHOCOS","Mujer","85-+",{"$f":"'Pob x Genero'!EC1448","v":19},67660]
["151010","LIMA","LIMA","YAUYOS","COCHAS","Mujer","85-+",{"$f":"'Pob x Genero'!EC1449","v":14},67661]
["151011","LIMA","LIMA","YAUYOS","COLONIA","Mujer","85-+",{"$f":"'Pob x Genero'!EC1450","v":41},67662]
["151012","LIMA","LIMA","YAUYOS","HONGOS","Mujer","85-+",{"$f":"'Pob x Genero'!EC1451","v":10},67663]
["151013","LIMA","LIMA","YAUYOS","HUAMPARA","Mujer","85-+",{"$f":"'Pob x Genero'!EC1452","v":13},67664]
["151014","LIMA","LIMA","YAUYOS","HUANCAYA","Mujer","85-+",{"$f":"'Pob x Genero'!EC1453","v":17},67665]
["151015","LIMA","LIMA","YAUYOS","HUANGASCAR","Mujer","85-+",{"$f":"'Pob x Genero'!EC1454","v":18},67666]
["151016","LIMA","LIMA","YAUYOS","HUANTAN","Mujer","85-+",{"$f":"'Pob x Genero'!EC1455","v":22},67667]
["151017","LIMA","LIMA","YAUYOS","HUAÑEC","Mujer","85-+",{"$f":"'Pob x Genero'!EC1456","v":22},67668]
["151018","LIMA","LIMA","YAUYOS","LARAOS","Mujer","85-+",{"$f":"'Pob x Genero'!EC1457","v":9},67669]
["151019","LIMA","LIMA","YAUYOS","LINCHA","Mujer","85-+",{"$f":"'Pob x Genero'!EC1458","v":9},67670]
["151020","LIMA","LIMA","YAUYOS","MADEAN","Mujer","85-+",{"$f":"'Pob x Genero'!EC1459","v":13},67671]
["151021","LIMA","LIMA","YAUYOS","MIRAFLORES","Mujer","85-+",{"$f":"'Pob x Genero'!EC1460","v":8},67672]
["151022","LIMA","LIMA","YAUYOS","OMAS","Mujer","85-+",{"$f":"'Pob x Genero'!EC1461","v":30},67673]
["151023","LIMA","LIMA","YAUYOS","PUTINZA","Mujer","85-+",{"$f":"'Pob x Genero'!EC1462","v":6},67674]
["151024","LIMA","LIMA","YAUYOS","QUINCHES","Mujer","85-+",{"$f":"'Pob x Genero'!EC1463","v":31},67675]
["151025","LIMA","LIMA","YAUYOS","QUINOCAY","Mujer","85-+",{"$f":"'Pob x Genero'!EC1464","v":19},67676]
["151026","LIMA","LIMA","YAUYOS","SAN JOAQUIN","Mujer","85-+",{"$f":"'Pob x Genero'!EC1465","v":4},67677]
["151027","LIMA","LIMA","YAUYOS","SAN PEDRO DE PILAS","Mujer","85-+",{"$f":"'Pob x Genero'!EC1466","v":32},67678]
["151028","LIMA","LIMA","YAUYOS","TANTA","Mujer","85-+",{"$f":"'Pob x Genero'!EC1467","v":4},67679]
["151029","LIMA","LIMA","YAUYOS","TAURIPAMPA","Mujer","85-+",{"$f":"'Pob x Genero'!EC1468","v":19},67680]
["151030","LIMA","LIMA","YAUYOS","TOMAS","Mujer","85-+",{"$f":"'Pob x Genero'!EC1469","v":5},67681]
["151031","LIMA","LIMA","YAUYOS","TUPE","Mujer","85-+",{"$f":"'Pob x Genero'!EC1470","v":17},67682]
["151032","LIMA","LIMA","YAUYOS","VIÑAC","Mujer","85-+",{"$f":"'Pob x Genero'!EC1471","v":30},67683]
["151033","LIMA","LIMA","YAUYOS","VITIS","Mujer","85-+",{"$f":"'Pob x Genero'!EC1472","v":14},67684]
["160101","LORETO","LORETO","MAYNAS","IQUITOS","Mujer","85-+",{"$f":"'Pob x Genero'!EC1473","v":894},67685]
["160102","LORETO","LORETO","MAYNAS","ALTO NANAY","Mujer","85-+",{"$f":"'Pob x Genero'!EC1474","v":16},67686]
["160103","LORETO","LORETO","MAYNAS","FERNANDO LORES","Mujer","85-+",{"$f":"'Pob x Genero'!EC1475","v":74},67687]
["160104","LORETO","LORETO","MAYNAS","INDIANA","Mujer","85-+",{"$f":"'Pob x Genero'!EC1476","v":60},67688]
["160105","LORETO","LORETO","MAYNAS","LAS AMAZONAS","Mujer","85-+",{"$f":"'Pob x Genero'!EC1477","v":38},67689]
["160106","LORETO","LORETO","MAYNAS","MAZAN","Mujer","85-+",{"$f":"'Pob x Genero'!EC1478","v":38},67690]
["160107","LORETO","LORETO","MAYNAS","NAPO","Mujer","85-+",{"$f":"'Pob x Genero'!EC1479","v":39},67691]
["160108","LORETO","LORETO","MAYNAS","PUNCHANA","Mujer","85-+",{"$f":"'Pob x Genero'!EC1480","v":295},67692]
["160110","LORETO","LORETO","MAYNAS","TORRES CAUSANA","Mujer","85-+",{"$f":"'Pob x Genero'!EC1481","v":11},67693]
["160112","LORETO","LORETO","MAYNAS","BELEN","Mujer","85-+",{"$f":"'Pob x Genero'!EC1482","v":245},67694]
["160113","LORETO","LORETO","MAYNAS","SAN JUAN BAUTISTA","Mujer","85-+",{"$f":"'Pob x Genero'!EC1483","v":388},67695]
["160201","LORETO","LORETO","ALTO AMAZONAS","YURIMAGUAS","Mujer","85-+",{"$f":"'Pob x Genero'!EC1484","v":363},67696]
["160202","LORETO","LORETO","ALTO AMAZONAS","BALSAPUERTO","Mujer","85-+",{"$f":"'Pob x Genero'!EC1485","v":1},67697]
["160205","LORETO","LORETO","ALTO AMAZONAS","JEBEROS","Mujer","85-+",{"$f":"'Pob x Genero'!EC1486","v":15},67698]
["160206","LORETO","LORETO","ALTO AMAZONAS","LAGUNAS","Mujer","85-+",{"$f":"'Pob x Genero'!EC1487","v":69},67699]
["160210","LORETO","LORETO","ALTO AMAZONAS","SANTA CRUZ","Mujer","85-+",{"$f":"'Pob x Genero'!EC1488","v":14},67700]
["160211","LORETO","LORETO","ALTO AMAZONAS","TENIENTE CESAR LOPEZ ROJAS","Mujer","85-+",{"$f":"'Pob x Genero'!EC1489","v":17},67701]
["160301","LORETO","LORETO","LORETO","NAUTA","Mujer","85-+",{"$f":"'Pob x Genero'!EC1490","v":100},67702]
["160302","LORETO","LORETO","LORETO","PARINARI","Mujer","85-+",{"$f":"'Pob x Genero'!EC1491","v":14},67703]
["160303","LORETO","LORETO","LORETO","TIGRE","Mujer","85-+",{"$f":"'Pob x Genero'!EC1492","v":29},67704]
["160304","LORETO","LORETO","LORETO","TROMPETEROS","Mujer","85-+",{"$f":"'Pob x Genero'!EC1493","v":14},67705]
["160305","LORETO","LORETO","LORETO","URARINAS","Mujer","85-+",{"$f":"'Pob x Genero'!EC1494","v":36},67706]
["160401","LORETO","LORETO","MARISCAL RAMON CASTILLA","RAMON CASTILLA","Mujer","85-+",{"$f":"'Pob x Genero'!EC1495","v":72},67707]
["160402","LORETO","LORETO","MARISCAL RAMON CASTILLA","PEBAS","Mujer","85-+",{"$f":"'Pob x Genero'!EC1496","v":28},67708]
["160403","LORETO","LORETO","MARISCAL RAMON CASTILLA","YAVARI","Mujer","85-+",{"$f":"'Pob x Genero'!EC1497","v":14},67709]
["160404","LORETO","LORETO","MARISCAL RAMON CASTILLA","SAN PABLO","Mujer","85-+",{"$f":"'Pob x Genero'!EC1498","v":41},67710]
["160405","LORETO","LORETO","MARISCAL RAMON CASTILLA","SANTA ROSA DE LORETO","Mujer","85-+",{"$f":"'Pob x Genero'!EC1499","v":7},67711]
["160501","LORETO","LORETO","REQUENA","REQUENA","Mujer","85-+",{"$f":"'Pob x Genero'!EC1500","v":102},67712]
["160502","LORETO","LORETO","REQUENA","ALTO TAPICHE","Mujer","85-+",{"$f":"'Pob x Genero'!EC1501","v":12},67713]
["160503","LORETO","LORETO","REQUENA","CAPELO","Mujer","85-+",{"$f":"'Pob x Genero'!EC1502","v":12},67714]
["160504","LORETO","LORETO","REQUENA","EMILIO SAN MARTIN","Mujer","85-+",{"$f":"'Pob x Genero'!EC1503","v":20},67715]
["160505","LORETO","LORETO","REQUENA","MAQUIA","Mujer","85-+",{"$f":"'Pob x Genero'!EC1504","v":14},67716]
["160506","LORETO","LORETO","REQUENA","PUINAHUA","Mujer","85-+",{"$f":"'Pob x Genero'!EC1505","v":14},67717]
["160507","LORETO","LORETO","REQUENA","SAQUENA","Mujer","85-+",{"$f":"'Pob x Genero'!EC1506","v":14},67718]
["160508","LORETO","LORETO","REQUENA","SOPLIN","Mujer","85-+",{"$f":"'Pob x Genero'!EC1507","v":1},67719]
["160509","LORETO","LORETO","REQUENA","TAPICHE","Mujer","85-+",{"$f":"'Pob x Genero'!EC1508","v":3},67720]
["160510","LORETO","LORETO","REQUENA","JENARO HERRERA","Mujer","85-+",{"$f":"'Pob x Genero'!EC1509","v":7},67721]
["160511","LORETO","LORETO","REQUENA","YAQUERANA","Mujer","85-+",{"$f":"'Pob x Genero'!EC1510","v":2},67722]
["160601","LORETO","LORETO","UCAYALI","CONTAMANA","Mujer","85-+",{"$f":"'Pob x Genero'!EC1511","v":80},67723]
["160602","LORETO","LORETO","UCAYALI","INAHUAYA","Mujer","85-+",{"$f":"'Pob x Genero'!EC1512","v":7},67724]
["160603","LORETO","LORETO","UCAYALI","PADRE MARQUEZ","Mujer","85-+",{"$f":"'Pob x Genero'!EC1513","v":4},67725]
["160604","LORETO","LORETO","UCAYALI","PAMPA HERMOSA","Mujer","85-+",{"$f":"'Pob x Genero'!EC1514","v":14},67726]
["160605","LORETO","LORETO","UCAYALI","SARAYACU","Mujer","85-+",{"$f":"'Pob x Genero'!EC1515","v":37},67727]
["160606","LORETO","LORETO","UCAYALI","VARGAS GUERRA","Mujer","85-+",{"$f":"'Pob x Genero'!EC1516","v":21},67728]
["160701","LORETO","LORETO","DATEM DEL MARAÑON","BARRANCA","Mujer","85-+",{"$f":"'Pob x Genero'!EC1517","v":36},67729]
["160702","LORETO","LORETO","DATEM DEL MARAÑON","CAHUAPANAS","Mujer","85-+",{"$f":"'Pob x Genero'!EC1518","v":5},67730]
["160703","LORETO","LORETO","DATEM DEL MARAÑON","MANSERICHE","Mujer","85-+",{"$f":"'Pob x Genero'!EC1519","v":14},67731]
["160704","LORETO","LORETO","DATEM DEL MARAÑON","MORONA","Mujer","85-+",{"$f":"'Pob x Genero'!EC1520","v":3},67732]
["160705","LORETO","LORETO","DATEM DEL MARAÑON","PASTAZA","Mujer","85-+",{"$f":"'Pob x Genero'!EC1521","v":14},67733]
["160706","LORETO","LORETO","DATEM DEL MARAÑON","ANDOAS","Mujer","85-+",{"$f":"'Pob x Genero'!EC1522","v":4},67734]
["160801","LORETO","LORETO","PUTUMAYO","PUTUMAYO","Mujer","85-+",{"$f":"'Pob x Genero'!EC1523","v":13},67735]
["160802","LORETO","LORETO","PUTUMAYO","ROSA PANDURO","Mujer","85-+",{"$f":"'Pob x Genero'!EC1524","v":1},67736]
["160803","LORETO","LORETO","PUTUMAYO","TENIENTE MANUEL CLAVERO","Mujer","85-+",{"$f":"'Pob x Genero'!EC1525","v":9},67737]
["160804","LORETO","LORETO","PUTUMAYO","YAGUAS","Mujer","85-+",{"$f":"'Pob x Genero'!EC1526","v":4},67738]
["170101","MADRE DE DIOS","MADRE DE DIOS","TAMBOPATA","TAMBOPATA","Mujer","85-+",{"$f":"'Pob x Genero'!EC1527","v":237},67739]
["170102","MADRE DE DIOS","MADRE DE DIOS","TAMBOPATA","INAMBARI","Mujer","85-+",{"$f":"'Pob x Genero'!EC1528","v":22},67740]
["170103","MADRE DE DIOS","MADRE DE DIOS","TAMBOPATA","LAS PIEDRAS","Mujer","85-+",{"$f":"'Pob x Genero'!EC1529","v":47},67741]
["170104","MADRE DE DIOS","MADRE DE DIOS","TAMBOPATA","LABERINTO","Mujer","85-+",{"$f":"'Pob x Genero'!EC1530","v":10},67742]
["170201","MADRE DE DIOS","MADRE DE DIOS","MANU","MANU","Mujer","85-+",{"$f":"'Pob x Genero'!EC1531","v":2},67743]
["170202","MADRE DE DIOS","MADRE DE DIOS","MANU","FITZCARRALD","Mujer","85-+",{"$f":"'Pob x Genero'!EC1532","v":14},67744]
["170203","MADRE DE DIOS","MADRE DE DIOS","MANU","MADRE DE DIOS","Mujer","85-+",{"$f":"'Pob x Genero'!EC1533","v":12},67745]
["170204","MADRE DE DIOS","MADRE DE DIOS","MANU","HUEPETUHE","Mujer","85-+",{"$f":"'Pob x Genero'!EC1534","v":2},67746]
["170301","MADRE DE DIOS","MADRE DE DIOS","TAHUAMANU","IÑAPARI","Mujer","85-+",{"$f":"'Pob x Genero'!EC1535","v":10},67747]
["170302","MADRE DE DIOS","MADRE DE DIOS","TAHUAMANU","IBERIA","Mujer","85-+",{"$f":"'Pob x Genero'!EC1536","v":22},67748]
["170303","MADRE DE DIOS","MADRE DE DIOS","TAHUAMANU","TAHUAMANU","Mujer","85-+",{"$f":"'Pob x Genero'!EC1537","v":18},67749]
["180101","MOQUEGUA","MOQUEGUA","MARISCAL NIETO","MOQUEGUA","Mujer","85-+",{"$f":"'Pob x Genero'!EC1538","v":259},67750]
["180102","MOQUEGUA","MOQUEGUA","MARISCAL NIETO","CARUMAS","Mujer","85-+",{"$f":"'Pob x Genero'!EC1539","v":68},67751]
["180103","MOQUEGUA","MOQUEGUA","MARISCAL NIETO","CUCHUMBAYA","Mujer","85-+",{"$f":"'Pob x Genero'!EC1540","v":30},67752]
["180104","MOQUEGUA","MOQUEGUA","MARISCAL NIETO","SAMEGUA","Mujer","85-+",{"$f":"'Pob x Genero'!EC1541","v":44},67753]
["180105","MOQUEGUA","MOQUEGUA","MARISCAL NIETO","SAN CRISTOBAL","Mujer","85-+",{"$f":"'Pob x Genero'!EC1542","v":35},67754]
["180106","MOQUEGUA","MOQUEGUA","MARISCAL NIETO","TORATA","Mujer","85-+",{"$f":"'Pob x Genero'!EC1543","v":69},67755]
["180107","MOQUEGUA","MOQUEGUA","MARISCAL NIETO","SAN ANTONIO","Mujer","85-+",{"$f":"'Pob x Genero'!EC1544","v":161},67756]
["180201","MOQUEGUA","MOQUEGUA","GENERAL SANCHEZ CERRO","OMATE","Mujer","85-+",{"$f":"'Pob x Genero'!EC1545","v":74},67757]
["180202","MOQUEGUA","MOQUEGUA","GENERAL SANCHEZ CERRO","CHOJATA","Mujer","85-+",{"$f":"'Pob x Genero'!EC1546","v":7},67758]
["180203","MOQUEGUA","MOQUEGUA","GENERAL SANCHEZ CERRO","COALAQUE","Mujer","85-+",{"$f":"'Pob x Genero'!EC1547","v":23},67759]
["180204","MOQUEGUA","MOQUEGUA","GENERAL SANCHEZ CERRO","ICHUÑA","Mujer","85-+",{"$f":"'Pob x Genero'!EC1548","v":44},67760]
["180205","MOQUEGUA","MOQUEGUA","GENERAL SANCHEZ CERRO","LA CAPILLA","Mujer","85-+",{"$f":"'Pob x Genero'!EC1549","v":14},67761]
["180206","MOQUEGUA","MOQUEGUA","GENERAL SANCHEZ CERRO","LLOQUE","Mujer","85-+",{"$f":"'Pob x Genero'!EC1550","v":3},67762]
["180207","MOQUEGUA","MOQUEGUA","GENERAL SANCHEZ CERRO","MATALAQUE","Mujer","85-+",{"$f":"'Pob x Genero'!EC1551","v":10},67763]
["180208","MOQUEGUA","MOQUEGUA","GENERAL SANCHEZ CERRO","PUQUINA","Mujer","85-+",{"$f":"'Pob x Genero'!EC1552","v":86},67764]
["180209","MOQUEGUA","MOQUEGUA","GENERAL SANCHEZ CERRO","QUINISTAQUILLAS","Mujer","85-+",{"$f":"'Pob x Genero'!EC1553","v":9},67765]
["180210","MOQUEGUA","MOQUEGUA","GENERAL SANCHEZ CERRO","UBINAS","Mujer","85-+",{"$f":"'Pob x Genero'!EC1554","v":39},67766]
["180211","MOQUEGUA","MOQUEGUA","GENERAL SANCHEZ CERRO","YUNGA","Mujer","85-+",{"$f":"'Pob x Genero'!EC1555","v":8},67767]
["180301","MOQUEGUA","MOQUEGUA","ILO","ILO","Mujer","85-+",{"$f":"'Pob x Genero'!EC1556","v":350},67768]
["180302","MOQUEGUA","MOQUEGUA","ILO","EL ALGARROBAL","Mujer","85-+",{"$f":"'Pob x Genero'!EC1557","v":50},67769]
["180303","MOQUEGUA","MOQUEGUA","ILO","PACOCHA","Mujer","85-+",{"$f":"'Pob x Genero'!EC1558","v":29},67770]
["190101","PASCO","PASCO","PASCO","CHAUPIMARCA","Mujer","85-+",{"$f":"'Pob x Genero'!EC1559","v":68},67771]
["190102","PASCO","PASCO","PASCO","HUACHON","Mujer","85-+",{"$f":"'Pob x Genero'!EC1560","v":38},67772]
["190103","PASCO","PASCO","PASCO","HUARIACA","Mujer","85-+",{"$f":"'Pob x Genero'!EC1561","v":56},67773]
["190104","PASCO","PASCO","PASCO","HUAYLLAY","Mujer","85-+",{"$f":"'Pob x Genero'!EC1562","v":24},67774]
["190105","PASCO","PASCO","PASCO","NINACACA","Mujer","85-+",{"$f":"'Pob x Genero'!EC1563","v":17},67775]
["190106","PASCO","PASCO","PASCO","PALLANCHACRA","Mujer","85-+",{"$f":"'Pob x Genero'!EC1564","v":11},67776]
["190107","PASCO","PASCO","PASCO","PAUCARTAMBO","Mujer","85-+",{"$f":"'Pob x Genero'!EC1565","v":78},67777]
["190108","PASCO","PASCO","PASCO","SAN FRANCISCO DE ASIS DE YARUSYACAN","Mujer","85-+",{"$f":"'Pob x Genero'!EC1566","v":30},67778]
["190109","PASCO","PASCO","PASCO","SIMON BOLIVAR","Mujer","85-+",{"$f":"'Pob x Genero'!EC1567","v":41},67779]
["190110","PASCO","PASCO","PASCO","TICLACAYAN","Mujer","85-+",{"$f":"'Pob x Genero'!EC1568","v":18},67780]
["190111","PASCO","PASCO","PASCO","TINYAHUARCO","Mujer","85-+",{"$f":"'Pob x Genero'!EC1569","v":19},67781]
["190112","PASCO","PASCO","PASCO","VICCO","Mujer","85-+",{"$f":"'Pob x Genero'!EC1570","v":37},67782]
["190113","PASCO","PASCO","PASCO","YANACANCHA","Mujer","85-+",{"$f":"'Pob x Genero'!EC1571","v":102},67783]
["190201","PASCO","PASCO","DANIEL ALCIDES CARRION","YANAHUANCA","Mujer","85-+",{"$f":"'Pob x Genero'!EC1572","v":111},67784]
["190202","PASCO","PASCO","DANIEL ALCIDES CARRION","CHACAYAN","Mujer","85-+",{"$f":"'Pob x Genero'!EC1573","v":24},67785]
["190203","PASCO","PASCO","DANIEL ALCIDES CARRION","GOYLLARISQUIZGA","Mujer","85-+",{"$f":"'Pob x Genero'!EC1574","v":13},67786]
["190204","PASCO","PASCO","DANIEL ALCIDES CARRION","PAUCAR","Mujer","85-+",{"$f":"'Pob x Genero'!EC1575","v":34},67787]
["190205","PASCO","PASCO","DANIEL ALCIDES CARRION","SAN PEDRO DE PILLAO","Mujer","85-+",{"$f":"'Pob x Genero'!EC1576","v":17},67788]
["190206","PASCO","PASCO","DANIEL ALCIDES CARRION","SANTA ANA DE TUSI","Mujer","85-+",{"$f":"'Pob x Genero'!EC1577","v":155},67789]
["190207","PASCO","PASCO","DANIEL ALCIDES CARRION","TAPUC","Mujer","85-+",{"$f":"'Pob x Genero'!EC1578","v":24},67790]
["190208","PASCO","PASCO","DANIEL ALCIDES CARRION","VILCABAMBA","Mujer","85-+",{"$f":"'Pob x Genero'!EC1579","v":26},67791]
["190301","PASCO","PASCO","OXAPAMPA","OXAPAMPA","Mujer","85-+",{"$f":"'Pob x Genero'!EC1580","v":105},67792]
["190302","PASCO","PASCO","OXAPAMPA","CHONTABAMBA","Mujer","85-+",{"$f":"'Pob x Genero'!EC1581","v":34},67793]
["190303","PASCO","PASCO","OXAPAMPA","HUANCABAMBA","Mujer","85-+",{"$f":"'Pob x Genero'!EC1582","v":24},67794]
["190304","PASCO","PASCO","OXAPAMPA","PALCAZU","Mujer","85-+",{"$f":"'Pob x Genero'!EC1583","v":7},67795]
["190305","PASCO","PASCO","OXAPAMPA","POZUZO","Mujer","85-+",{"$f":"'Pob x Genero'!EC1584","v":11},67796]
["190306","PASCO","PASCO","OXAPAMPA","PUERTO BERMUDEZ","Mujer","85-+",{"$f":"'Pob x Genero'!EC1585","v":18},67797]
["190307","PASCO","PASCO","OXAPAMPA","VILLA RICA","Mujer","85-+",{"$f":"'Pob x Genero'!EC1586","v":70},67798]
["190308","PASCO","PASCO","OXAPAMPA","CONSTITUCIÓN","Mujer","85-+",{"$f":"'Pob x Genero'!EC1587","v":31},67799]
["200101","PIURA","PIURA","PIURA","PIURA","Mujer","85-+",{"$f":"'Pob x Genero'!EC1588","v":1436},67800]
["200104","PIURA","PIURA","PIURA","CASTILLA","Mujer","85-+",{"$f":"'Pob x Genero'!EC1589","v":1050},67801]
["200105","PIURA","PIURA","PIURA","CATACAOS","Mujer","85-+",{"$f":"'Pob x Genero'!EC1590","v":345},67802]
["200107","PIURA","PIURA","PIURA","CURA MORI","Mujer","85-+",{"$f":"'Pob x Genero'!EC1591","v":92},67803]
["200108","PIURA","PIURA","PIURA","EL TALLAN","Mujer","85-+",{"$f":"'Pob x Genero'!EC1592","v":28},67804]
["200109","PIURA","PIURA","PIURA","LA ARENA","Mujer","85-+",{"$f":"'Pob x Genero'!EC1593","v":219},67805]
["200110","PIURA","PIURA","PIURA","LA UNION","Mujer","85-+",{"$f":"'Pob x Genero'!EC1594","v":201},67806]
["200111","PIURA","PIURA","PIURA","LAS LOMAS","Mujer","85-+",{"$f":"'Pob x Genero'!EC1595","v":201},67807]
["200114","PIURA","PIURA","PIURA","TAMBO GRANDE","Mujer","85-+",{"$f":"'Pob x Genero'!EC1596","v":554},67808]
["200115","PIURA","PIURA","PIURA","VEINTISEIS DE OCTUBRE","Mujer","85-+",{"$f":"'Pob x Genero'!EC1597","v":677},67809]
["200201","PIURA","PIURA","AYABACA","AYABACA","Mujer","85-+",{"$f":"'Pob x Genero'!EC1598","v":310},67810]
["200202","PIURA","PIURA","AYABACA","FRIAS","Mujer","85-+",{"$f":"'Pob x Genero'!EC1599","v":155},67811]
["200203","PIURA","PIURA","AYABACA","JILILI","Mujer","85-+",{"$f":"'Pob x Genero'!EC1600","v":32},67812]
["200204","PIURA","PIURA","AYABACA","LAGUNAS","Mujer","85-+",{"$f":"'Pob x Genero'!EC1601","v":42},67813]
["200205","PIURA","PIURA","AYABACA","MONTERO","Mujer","85-+",{"$f":"'Pob x Genero'!EC1602","v":84},67814]
["200206","PIURA","PIURA","AYABACA","PACAIPAMPA","Mujer","85-+",{"$f":"'Pob x Genero'!EC1603","v":84},67815]
["200207","PIURA","PIURA","AYABACA","PAIMAS","Mujer","85-+",{"$f":"'Pob x Genero'!EC1604","v":75},67816]
["200208","PIURA","PIURA","AYABACA","SAPILLICA","Mujer","85-+",{"$f":"'Pob x Genero'!EC1605","v":62},67817]
["200209","PIURA","PIURA","AYABACA","SICCHEZ","Mujer","85-+",{"$f":"'Pob x Genero'!EC1606","v":37},67818]
["200210","PIURA","PIURA","AYABACA","SUYO","Mujer","85-+",{"$f":"'Pob x Genero'!EC1607","v":76},67819]
["200301","PIURA","PIURA","HUANCABAMBA","HUANCABAMBA","Mujer","85-+",{"$f":"'Pob x Genero'!EC1608","v":212},67820]
["200302","PIURA","PIURA","HUANCABAMBA","CANCHAQUE","Mujer","85-+",{"$f":"'Pob x Genero'!EC1609","v":86},67821]
["200303","PIURA","PIURA","HUANCABAMBA","EL CARMEN DE LA FRONTERA","Mujer","85-+",{"$f":"'Pob x Genero'!EC1610","v":83},67822]
["200304","PIURA","PIURA","HUANCABAMBA","HUARMACA","Mujer","85-+",{"$f":"'Pob x Genero'!EC1611","v":320},67823]
["200305","PIURA","PIURA","HUANCABAMBA","LALAQUIZ","Mujer","85-+",{"$f":"'Pob x Genero'!EC1612","v":56},67824]
["200306","PIURA","PIURA","HUANCABAMBA","SAN MIGUEL DE EL FAIQUE","Mujer","85-+",{"$f":"'Pob x Genero'!EC1613","v":87},67825]
["200307","PIURA","PIURA","HUANCABAMBA","SONDOR","Mujer","85-+",{"$f":"'Pob x Genero'!EC1614","v":52},67826]
["200308","PIURA","PIURA","HUANCABAMBA","SONDORILLO","Mujer","85-+",{"$f":"'Pob x Genero'!EC1615","v":78},67827]
["200401","PIURA","PIURA","MORROPON","CHULUCANAS","Mujer","85-+",{"$f":"'Pob x Genero'!EC1616","v":636},67828]
["200402","PIURA","PIURA","MORROPON","BUENOS AIRES","Mujer","85-+",{"$f":"'Pob x Genero'!EC1617","v":95},67829]
["200403","PIURA","PIURA","MORROPON","CHALACO","Mujer","85-+",{"$f":"'Pob x Genero'!EC1618","v":91},67830]
["200404","PIURA","PIURA","MORROPON","LA MATANZA","Mujer","85-+",{"$f":"'Pob x Genero'!EC1619","v":102},67831]
["200405","PIURA","PIURA","MORROPON","MORROPON","Mujer","85-+",{"$f":"'Pob x Genero'!EC1620","v":169},67832]
["200406","PIURA","PIURA","MORROPON","SALITRAL","Mujer","85-+",{"$f":"'Pob x Genero'!EC1621","v":60},67833]
["200407","PIURA","PIURA","MORROPON","SAN JUAN DE BIGOTE","Mujer","85-+",{"$f":"'Pob x Genero'!EC1622","v":39},67834]
["200408","PIURA","PIURA","MORROPON","SANTA CATALINA DE MOSSA","Mujer","85-+",{"$f":"'Pob x Genero'!EC1623","v":56},67835]
["200409","PIURA","PIURA","MORROPON","SANTO DOMINGO","Mujer","85-+",{"$f":"'Pob x Genero'!EC1624","v":110},67836]
["200410","PIURA","PIURA","MORROPON","YAMANGO","Mujer","85-+",{"$f":"'Pob x Genero'!EC1625","v":86},67837]
["200501","PIURA","PIURA","PAITA","PAITA","Mujer","85-+",{"$f":"'Pob x Genero'!EC1626","v":261},67838]
["200502","PIURA","PIURA","PAITA","AMOTAPE","Mujer","85-+",{"$f":"'Pob x Genero'!EC1627","v":28},67839]
["200503","PIURA","PIURA","PAITA","ARENAL","Mujer","85-+",{"$f":"'Pob x Genero'!EC1628","v":21},67840]
["200504","PIURA","PIURA","PAITA","COLAN","Mujer","85-+",{"$f":"'Pob x Genero'!EC1629","v":163},67841]
["200505","PIURA","PIURA","PAITA","LA HUACA","Mujer","85-+",{"$f":"'Pob x Genero'!EC1630","v":111},67842]
["200506","PIURA","PIURA","PAITA","TAMARINDO","Mujer","85-+",{"$f":"'Pob x Genero'!EC1631","v":62},67843]
["200507","PIURA","PIURA","PAITA","VICHAYAL","Mujer","85-+",{"$f":"'Pob x Genero'!EC1632","v":59},67844]
["200601","PIURA","PIURA","SULLANA","SULLANA","Mujer","85-+",{"$f":"'Pob x Genero'!EC1633","v":1021},67845]
["200602","PIURA","PIURA","SULLANA","BELLAVISTA","Mujer","85-+",{"$f":"'Pob x Genero'!EC1634","v":293},67846]
["200603","PIURA","PIURA","SULLANA","IGNACIO ESCUDERO","Mujer","85-+",{"$f":"'Pob x Genero'!EC1635","v":149},67847]
["200604","PIURA","PIURA","SULLANA","LANCONES","Mujer","85-+",{"$f":"'Pob x Genero'!EC1636","v":149},67848]
["200605","PIURA","PIURA","SULLANA","MARCAVELICA","Mujer","85-+",{"$f":"'Pob x Genero'!EC1637","v":217},67849]
["200606","PIURA","PIURA","SULLANA","MIGUEL CHECA","Mujer","85-+",{"$f":"'Pob x Genero'!EC1638","v":57},67850]
["200607","PIURA","PIURA","SULLANA","QUERECOTILLO","Mujer","85-+",{"$f":"'Pob x Genero'!EC1639","v":190},67851]
["200608","PIURA","PIURA","SULLANA","SALITRAL","Mujer","85-+",{"$f":"'Pob x Genero'!EC1640","v":58},67852]
["200701","PIURA","PIURA","TALARA","PARIÑAS","Mujer","85-+",{"$f":"'Pob x Genero'!EC1641","v":599},67853]
["200702","PIURA","PIURA","TALARA","EL ALTO","Mujer","85-+",{"$f":"'Pob x Genero'!EC1642","v":62},67854]
["200703","PIURA","PIURA","TALARA","LA BREA","Mujer","85-+",{"$f":"'Pob x Genero'!EC1643","v":111},67855]
["200704","PIURA","PIURA","TALARA","LOBITOS","Mujer","85-+",{"$f":"'Pob x Genero'!EC1644","v":7},67856]
["200705","PIURA","PIURA","TALARA","LOS ORGANOS","Mujer","85-+",{"$f":"'Pob x Genero'!EC1645","v":78},67857]
["200706","PIURA","PIURA","TALARA","MANCORA","Mujer","85-+",{"$f":"'Pob x Genero'!EC1646","v":76},67858]
["200801","PIURA","PIURA","SECHURA","SECHURA","Mujer","85-+",{"$f":"'Pob x Genero'!EC1647","v":124},67859]
["200802","PIURA","PIURA","SECHURA","BELLAVISTA DE LA UNION","Mujer","85-+",{"$f":"'Pob x Genero'!EC1648","v":35},67860]
["200803","PIURA","PIURA","SECHURA","BERNAL","Mujer","85-+",{"$f":"'Pob x Genero'!EC1649","v":46},67861]
["200804","PIURA","PIURA","SECHURA","CRISTO NOS VALGA","Mujer","85-+",{"$f":"'Pob x Genero'!EC1650","v":19},67862]
["200805","PIURA","PIURA","SECHURA","VICE","Mujer","85-+",{"$f":"'Pob x Genero'!EC1651","v":54},67863]
["200806","PIURA","PIURA","SECHURA","RINCONADA LLICUAR","Mujer","85-+",{"$f":"'Pob x Genero'!EC1652","v":25},67864]
["210101","PUNO","PUNO","PUNO","PUNO","Mujer","85-+",{"$f":"'Pob x Genero'!EC1653","v":712},67865]
["210102","PUNO","PUNO","PUNO","ACORA","Mujer","85-+",{"$f":"'Pob x Genero'!EC1654","v":342},67866]
["210103","PUNO","PUNO","PUNO","AMANTANI","Mujer","85-+",{"$f":"'Pob x Genero'!EC1655","v":45},67867]
["210104","PUNO","PUNO","PUNO","ATUNCOLLA","Mujer","85-+",{"$f":"'Pob x Genero'!EC1656","v":35},67868]
["210105","PUNO","PUNO","PUNO","CAPACHICA","Mujer","85-+",{"$f":"'Pob x Genero'!EC1657","v":150},67869]
["210106","PUNO","PUNO","PUNO","CHUCUITO","Mujer","85-+",{"$f":"'Pob x Genero'!EC1658","v":142},67870]
["210107","PUNO","PUNO","PUNO","COATA","Mujer","85-+",{"$f":"'Pob x Genero'!EC1659","v":35},67871]
["210108","PUNO","PUNO","PUNO","HUATA","Mujer","85-+",{"$f":"'Pob x Genero'!EC1660","v":33},67872]
["210109","PUNO","PUNO","PUNO","MAÑAZO","Mujer","85-+",{"$f":"'Pob x Genero'!EC1661","v":51},67873]
["210110","PUNO","PUNO","PUNO","PAUCARCOLLA","Mujer","85-+",{"$f":"'Pob x Genero'!EC1662","v":66},67874]
["210111","PUNO","PUNO","PUNO","PICHACANI","Mujer","85-+",{"$f":"'Pob x Genero'!EC1663","v":63},67875]
["210112","PUNO","PUNO","PUNO","PLATERIA","Mujer","85-+",{"$f":"'Pob x Genero'!EC1664","v":129},67876]
["210113","PUNO","PUNO","PUNO","SAN ANTONIO","Mujer","85-+",{"$f":"'Pob x Genero'!EC1665","v":8},67877]
["210114","PUNO","PUNO","PUNO","TIQUILLACA","Mujer","85-+",{"$f":"'Pob x Genero'!EC1666","v":21},67878]
["210115","PUNO","PUNO","PUNO","VILQUE","Mujer","85-+",{"$f":"'Pob x Genero'!EC1667","v":15},67879]
["210201","PUNO","PUNO","AZANGARO","AZANGARO","Mujer","85-+",{"$f":"'Pob x Genero'!EC1668","v":228},67880]
["210202","PUNO","PUNO","AZANGARO","ACHAYA","Mujer","85-+",{"$f":"'Pob x Genero'!EC1669","v":26},67881]
["210203","PUNO","PUNO","AZANGARO","ARAPA","Mujer","85-+",{"$f":"'Pob x Genero'!EC1670","v":69},67882]
["210204","PUNO","PUNO","AZANGARO","ASILLO","Mujer","85-+",{"$f":"'Pob x Genero'!EC1671","v":139},67883]
["210205","PUNO","PUNO","AZANGARO","CAMINACA","Mujer","85-+",{"$f":"'Pob x Genero'!EC1672","v":21},67884]
["210206","PUNO","PUNO","AZANGARO","CHUPA","Mujer","85-+",{"$f":"'Pob x Genero'!EC1673","v":88},67885]
["210207","PUNO","PUNO","AZANGARO","JOSE DOMINGO CHOQUEHUANCA","Mujer","85-+",{"$f":"'Pob x Genero'!EC1674","v":38},67886]
["210208","PUNO","PUNO","AZANGARO","MUÑANI","Mujer","85-+",{"$f":"'Pob x Genero'!EC1675","v":50},67887]
["210209","PUNO","PUNO","AZANGARO","POTONI","Mujer","85-+",{"$f":"'Pob x Genero'!EC1676","v":16},67888]
["210210","PUNO","PUNO","AZANGARO","SAMAN","Mujer","85-+",{"$f":"'Pob x Genero'!EC1677","v":79},67889]
["210211","PUNO","PUNO","AZANGARO","SAN ANTON","Mujer","85-+",{"$f":"'Pob x Genero'!EC1678","v":49},67890]
["210212","PUNO","PUNO","AZANGARO","SAN JOSE","Mujer","85-+",{"$f":"'Pob x Genero'!EC1679","v":44},67891]
["210213","PUNO","PUNO","AZANGARO","SAN JUAN DE SALINAS","Mujer","85-+",{"$f":"'Pob x Genero'!EC1680","v":24},67892]
["210214","PUNO","PUNO","AZANGARO","SANTIAGO DE PUPUJA","Mujer","85-+",{"$f":"'Pob x Genero'!EC1681","v":53},67893]
["210215","PUNO","PUNO","AZANGARO","TIRAPATA","Mujer","85-+",{"$f":"'Pob x Genero'!EC1682","v":17},67894]
["210301","PUNO","PUNO","CARABAYA","MACUSANI","Mujer","85-+",{"$f":"'Pob x Genero'!EC1683","v":40},67895]
["210302","PUNO","PUNO","CARABAYA","AJOYANI","Mujer","85-+",{"$f":"'Pob x Genero'!EC1684","v":9},67896]
["210303","PUNO","PUNO","CARABAYA","AYAPATA","Mujer","85-+",{"$f":"'Pob x Genero'!EC1685","v":36},67897]
["210304","PUNO","PUNO","CARABAYA","COASA","Mujer","85-+",{"$f":"'Pob x Genero'!EC1686","v":21},67898]
["210305","PUNO","PUNO","CARABAYA","CORANI","Mujer","85-+",{"$f":"'Pob x Genero'!EC1687","v":11},67899]
["210306","PUNO","PUNO","CARABAYA","CRUCERO","Mujer","85-+",{"$f":"'Pob x Genero'!EC1688","v":45},67900]
["210307","PUNO","PUNO","CARABAYA","ITUATA","Mujer","85-+",{"$f":"'Pob x Genero'!EC1689","v":24},67901]
["210308","PUNO","PUNO","CARABAYA","OLLACHEA","Mujer","85-+",{"$f":"'Pob x Genero'!EC1690","v":26},67902]
["210309","PUNO","PUNO","CARABAYA","SAN GABAN","Mujer","85-+",{"$f":"'Pob x Genero'!EC1691","v":11},67903]
["210310","PUNO","PUNO","CARABAYA","USICAYOS","Mujer","85-+",{"$f":"'Pob x Genero'!EC1692","v":31},67904]
["210401","PUNO","PUNO","CHUCUITO","JULI","Mujer","85-+",{"$f":"'Pob x Genero'!EC1693","v":187},67905]
["210402","PUNO","PUNO","CHUCUITO","DESAGUADERO","Mujer","85-+",{"$f":"'Pob x Genero'!EC1694","v":72},67906]
["210403","PUNO","PUNO","CHUCUITO","HUACULLANI","Mujer","85-+",{"$f":"'Pob x Genero'!EC1695","v":69},67907]
["210404","PUNO","PUNO","CHUCUITO","KELLUYO","Mujer","85-+",{"$f":"'Pob x Genero'!EC1696","v":46},67908]
["210405","PUNO","PUNO","CHUCUITO","PISACOMA","Mujer","85-+",{"$f":"'Pob x Genero'!EC1697","v":72},67909]
["210406","PUNO","PUNO","CHUCUITO","POMATA","Mujer","85-+",{"$f":"'Pob x Genero'!EC1698","v":181},67910]
["210407","PUNO","PUNO","CHUCUITO","ZEPITA","Mujer","85-+",{"$f":"'Pob x Genero'!EC1699","v":180},67911]
["210501","PUNO","PUNO","EL COLLAO","ILAVE","Mujer","85-+",{"$f":"'Pob x Genero'!EC1700","v":350},67912]
["210502","PUNO","PUNO","EL COLLAO","CAPAZO","Mujer","85-+",{"$f":"'Pob x Genero'!EC1701","v":14},67913]
["210503","PUNO","PUNO","EL COLLAO","PILCUYO","Mujer","85-+",{"$f":"'Pob x Genero'!EC1702","v":179},67914]
["210504","PUNO","PUNO","EL COLLAO","SANTA ROSA","Mujer","85-+",{"$f":"'Pob x Genero'!EC1703","v":23},67915]
["210505","PUNO","PUNO","EL COLLAO","CONDURIRI","Mujer","85-+",{"$f":"'Pob x Genero'!EC1704","v":9},67916]
["210601","PUNO","PUNO","HUANCANE","HUANCANE","Mujer","85-+",{"$f":"'Pob x Genero'!EC1705","v":268},67917]
["210602","PUNO","PUNO","HUANCANE","COJATA","Mujer","85-+",{"$f":"'Pob x Genero'!EC1706","v":11},67918]
["210603","PUNO","PUNO","HUANCANE","HUATASANI","Mujer","85-+",{"$f":"'Pob x Genero'!EC1707","v":28},67919]
["210604","PUNO","PUNO","HUANCANE","INCHUPALLA","Mujer","85-+",{"$f":"'Pob x Genero'!EC1708","v":28},67920]
["210605","PUNO","PUNO","HUANCANE","PUSI","Mujer","85-+",{"$f":"'Pob x Genero'!EC1709","v":31},67921]
["210606","PUNO","PUNO","HUANCANE","ROSASPATA","Mujer","85-+",{"$f":"'Pob x Genero'!EC1710","v":55},67922]
["210607","PUNO","PUNO","HUANCANE","TARACO","Mujer","85-+",{"$f":"'Pob x Genero'!EC1711","v":98},67923]
["210608","PUNO","PUNO","HUANCANE","VILQUE CHICO","Mujer","85-+",{"$f":"'Pob x Genero'!EC1712","v":127},67924]
["210701","PUNO","PUNO","LAMPA","LAMPA","Mujer","85-+",{"$f":"'Pob x Genero'!EC1713","v":85},67925]
["210702","PUNO","PUNO","LAMPA","CABANILLA","Mujer","85-+",{"$f":"'Pob x Genero'!EC1714","v":51},67926]
["210703","PUNO","PUNO","LAMPA","CALAPUJA","Mujer","85-+",{"$f":"'Pob x Genero'!EC1715","v":11},67927]
["210704","PUNO","PUNO","LAMPA","NICASIO","Mujer","85-+",{"$f":"'Pob x Genero'!EC1716","v":23},67928]
["210705","PUNO","PUNO","LAMPA","OCUVIRI","Mujer","85-+",{"$f":"'Pob x Genero'!EC1717","v":3},67929]
["210706","PUNO","PUNO","LAMPA","PALCA","Mujer","85-+",{"$f":"'Pob x Genero'!EC1718","v":10},67930]
["210707","PUNO","PUNO","LAMPA","PARATIA","Mujer","85-+",{"$f":"'Pob x Genero'!EC1719","v":10},67931]
["210708","PUNO","PUNO","LAMPA","PUCARA","Mujer","85-+",{"$f":"'Pob x Genero'!EC1720","v":46},67932]
["210709","PUNO","PUNO","LAMPA","SANTA LUCIA","Mujer","85-+",{"$f":"'Pob x Genero'!EC1721","v":44},67933]
["210710","PUNO","PUNO","LAMPA","VILAVILA","Mujer","85-+",{"$f":"'Pob x Genero'!EC1722","v":5},67934]
["210801","PUNO","PUNO","MELGAR","AYAVIRI","Mujer","85-+",{"$f":"'Pob x Genero'!EC1723","v":147},67935]
["210802","PUNO","PUNO","MELGAR","ANTAUTA","Mujer","85-+",{"$f":"'Pob x Genero'!EC1724","v":27},67936]
["210803","PUNO","PUNO","MELGAR","CUPI","Mujer","85-+",{"$f":"'Pob x Genero'!EC1725","v":18},67937]
["210804","PUNO","PUNO","MELGAR","LLALLI","Mujer","85-+",{"$f":"'Pob x Genero'!EC1726","v":11},67938]
["210805","PUNO","PUNO","MELGAR","MACARI","Mujer","85-+",{"$f":"'Pob x Genero'!EC1727","v":38},67939]
["210806","PUNO","PUNO","MELGAR","NUÑOA","Mujer","85-+",{"$f":"'Pob x Genero'!EC1728","v":52},67940]
["210807","PUNO","PUNO","MELGAR","ORURILLO","Mujer","85-+",{"$f":"'Pob x Genero'!EC1729","v":54},67941]
["210808","PUNO","PUNO","MELGAR","SANTA ROSA","Mujer","85-+",{"$f":"'Pob x Genero'!EC1730","v":35},67942]
["210809","PUNO","PUNO","MELGAR","UMACHIRI","Mujer","85-+",{"$f":"'Pob x Genero'!EC1731","v":37},67943]
["210901","PUNO","PUNO","MOHO","MOHO","Mujer","85-+",{"$f":"'Pob x Genero'!EC1732","v":167},67944]
["210902","PUNO","PUNO","MOHO","CONIMA","Mujer","85-+",{"$f":"'Pob x Genero'!EC1733","v":54},67945]
["210903","PUNO","PUNO","MOHO","HUAYRAPATA","Mujer","85-+",{"$f":"'Pob x Genero'!EC1734","v":21},67946]
["210904","PUNO","PUNO","MOHO","TILALI","Mujer","85-+",{"$f":"'Pob x Genero'!EC1735","v":38},67947]
["211001","PUNO","PUNO","SAN ANTONIO DE PUTINA","PUTINA","Mujer","85-+",{"$f":"'Pob x Genero'!EC1736","v":69},67948]
["211002","PUNO","PUNO","SAN ANTONIO DE PUTINA","ANANEA","Mujer","85-+",{"$f":"'Pob x Genero'!EC1737","v":23},67949]
["211003","PUNO","PUNO","SAN ANTONIO DE PUTINA","PEDRO VILCA APAZA","Mujer","85-+",{"$f":"'Pob x Genero'!EC1738","v":20},67950]
["211004","PUNO","PUNO","SAN ANTONIO DE PUTINA","QUILCAPUNCU","Mujer","85-+",{"$f":"'Pob x Genero'!EC1739","v":34},67951]
["211005","PUNO","PUNO","SAN ANTONIO DE PUTINA","SINA","Mujer","85-+",{"$f":"'Pob x Genero'!EC1740","v":2},67952]
["211101","PUNO","PUNO","SAN ROMAN","JULIACA","Mujer","85-+",{"$f":"'Pob x Genero'!EC1741","v":724},67953]
["211102","PUNO","PUNO","SAN ROMAN","CABANA","Mujer","85-+",{"$f":"'Pob x Genero'!EC1742","v":76},67954]
["211103","PUNO","PUNO","SAN ROMAN","CABANILLAS","Mujer","85-+",{"$f":"'Pob x Genero'!EC1743","v":57},67955]
["211104","PUNO","PUNO","SAN ROMAN","CARACOTO","Mujer","85-+",{"$f":"'Pob x Genero'!EC1744","v":98},67956]
["211105","PUNO","PUNO","SAN ROMAN","SAN MIGUEL","Mujer","85-+",{"$f":"'Pob x Genero'!EC1745","v":104},67957]
["211201","PUNO","PUNO","SANDIA","SANDIA","Mujer","85-+",{"$f":"'Pob x Genero'!EC1746","v":69},67958]
["211202","PUNO","PUNO","SANDIA","CUYOCUYO","Mujer","85-+",{"$f":"'Pob x Genero'!EC1747","v":32},67959]
["211203","PUNO","PUNO","SANDIA","LIMBANI","Mujer","85-+",{"$f":"'Pob x Genero'!EC1748","v":19},67960]
["211204","PUNO","PUNO","SANDIA","PATAMBUCO","Mujer","85-+",{"$f":"'Pob x Genero'!EC1749","v":16},67961]
["211205","PUNO","PUNO","SANDIA","PHARA","Mujer","85-+",{"$f":"'Pob x Genero'!EC1750","v":40},67962]
["211206","PUNO","PUNO","SANDIA","QUIACA","Mujer","85-+",{"$f":"'Pob x Genero'!EC1751","v":10},67963]
["211207","PUNO","PUNO","SANDIA","SAN JUAN DEL ORO","Mujer","85-+",{"$f":"'Pob x Genero'!EC1752","v":15},67964]
["211208","PUNO","PUNO","SANDIA","YANAHUAYA","Mujer","85-+",{"$f":"'Pob x Genero'!EC1753","v":7},67965]
["211209","PUNO","PUNO","SANDIA","ALTO INAMBARI","Mujer","85-+",{"$f":"'Pob x Genero'!EC1754","v":15},67966]
["211210","PUNO","PUNO","SANDIA","SAN PEDRO DE PUTINA PUNCO","Mujer","85-+",{"$f":"'Pob x Genero'!EC1755","v":10},67967]
["211301","PUNO","PUNO","YUNGUYO","YUNGUYO","Mujer","85-+",{"$f":"'Pob x Genero'!EC1756","v":233},67968]
["211302","PUNO","PUNO","YUNGUYO","ANAPIA","Mujer","85-+",{"$f":"'Pob x Genero'!EC1757","v":23},67969]
["211303","PUNO","PUNO","YUNGUYO","COPANI","Mujer","85-+",{"$f":"'Pob x Genero'!EC1758","v":38},67970]
["211304","PUNO","PUNO","YUNGUYO","CUTURAPI","Mujer","85-+",{"$f":"'Pob x Genero'!EC1759","v":11},67971]
["211305","PUNO","PUNO","YUNGUYO","OLLARAYA","Mujer","85-+",{"$f":"'Pob x Genero'!EC1760","v":47},67972]
["211306","PUNO","PUNO","YUNGUYO","TINICACHI","Mujer","85-+",{"$f":"'Pob x Genero'!EC1761","v":10},67973]
["211307","PUNO","PUNO","YUNGUYO","UNICACHI","Mujer","85-+",{"$f":"'Pob x Genero'!EC1762","v":19},67974]
["220101","SAN MARTIN","SAN MARTIN","MOYOBAMBA","MOYOBAMBA","Mujer","85-+",{"$f":"'Pob x Genero'!EC1763","v":251},67975]
["220102","SAN MARTIN","SAN MARTIN","MOYOBAMBA","CALZADA","Mujer","85-+",{"$f":"'Pob x Genero'!EC1764","v":11},67976]
["220103","SAN MARTIN","SAN MARTIN","MOYOBAMBA","HABANA","Mujer","85-+",{"$f":"'Pob x Genero'!EC1765","v":5},67977]
["220104","SAN MARTIN","SAN MARTIN","MOYOBAMBA","JEPELACIO","Mujer","85-+",{"$f":"'Pob x Genero'!EC1766","v":52},67978]
["220105","SAN MARTIN","SAN MARTIN","MOYOBAMBA","SORITOR","Mujer","85-+",{"$f":"'Pob x Genero'!EC1767","v":70},67979]
["220106","SAN MARTIN","SAN MARTIN","MOYOBAMBA","YANTALO","Mujer","85-+",{"$f":"'Pob x Genero'!EC1768","v":11},67980]
["220201","SAN MARTIN","SAN MARTIN","BELLAVISTA","BELLAVISTA","Mujer","85-+",{"$f":"'Pob x Genero'!EC1769","v":75},67981]
["220202","SAN MARTIN","SAN MARTIN","BELLAVISTA","ALTO BIAVO","Mujer","85-+",{"$f":"'Pob x Genero'!EC1770","v":13},67982]
["220203","SAN MARTIN","SAN MARTIN","BELLAVISTA","BAJO BIAVO","Mujer","85-+",{"$f":"'Pob x Genero'!EC1771","v":26},67983]
["220204","SAN MARTIN","SAN MARTIN","BELLAVISTA","HUALLAGA","Mujer","85-+",{"$f":"'Pob x Genero'!EC1772","v":11},67984]
["220205","SAN MARTIN","SAN MARTIN","BELLAVISTA","SAN PABLO","Mujer","85-+",{"$f":"'Pob x Genero'!EC1773","v":30},67985]
["220206","SAN MARTIN","SAN MARTIN","BELLAVISTA","SAN RAFAEL","Mujer","85-+",{"$f":"'Pob x Genero'!EC1774","v":11},67986]
["220301","SAN MARTIN","SAN MARTIN","EL DORADO","SAN JOSE DE SISA","Mujer","85-+",{"$f":"'Pob x Genero'!EC1775","v":86},67987]
["220302","SAN MARTIN","SAN MARTIN","EL DORADO","AGUA BLANCA","Mujer","85-+",{"$f":"'Pob x Genero'!EC1776","v":16},67988]
["220303","SAN MARTIN","SAN MARTIN","EL DORADO","SAN MARTIN","Mujer","85-+",{"$f":"'Pob x Genero'!EC1777","v":37},67989]
["220304","SAN MARTIN","SAN MARTIN","EL DORADO","SANTA ROSA","Mujer","85-+",{"$f":"'Pob x Genero'!EC1778","v":33},67990]
["220305","SAN MARTIN","SAN MARTIN","EL DORADO","SHATOJA","Mujer","85-+",{"$f":"'Pob x Genero'!EC1779","v":15},67991]
["220401","SAN MARTIN","SAN MARTIN","HUALLAGA","SAPOSOA","Mujer","85-+",{"$f":"'Pob x Genero'!EC1780","v":70},67992]
["220402","SAN MARTIN","SAN MARTIN","HUALLAGA","ALTO SAPOSOA","Mujer","85-+",{"$f":"'Pob x Genero'!EC1781","v":17},67993]
["220403","SAN MARTIN","SAN MARTIN","HUALLAGA","EL ESLABON","Mujer","85-+",{"$f":"'Pob x Genero'!EC1782","v":15},67994]
["220404","SAN MARTIN","SAN MARTIN","HUALLAGA","PISCOYACU","Mujer","85-+",{"$f":"'Pob x Genero'!EC1783","v":11},67995]
["220405","SAN MARTIN","SAN MARTIN","HUALLAGA","SACANCHE","Mujer","85-+",{"$f":"'Pob x Genero'!EC1784","v":12},67996]
["220406","SAN MARTIN","SAN MARTIN","HUALLAGA","TINGO DE SAPOSOA","Mujer","85-+",{"$f":"'Pob x Genero'!EC1785","v":5},67997]
["220501","SAN MARTIN","SAN MARTIN","LAMAS","LAMAS","Mujer","85-+",{"$f":"'Pob x Genero'!EC1786","v":109},67998]
["220502","SAN MARTIN","SAN MARTIN","LAMAS","ALONSO DE ALVARADO","Mujer","85-+",{"$f":"'Pob x Genero'!EC1787","v":20},67999]
["220503","SAN MARTIN","SAN MARTIN","LAMAS","BARRANQUITA","Mujer","85-+",{"$f":"'Pob x Genero'!EC1788","v":26},68000]
["220504","SAN MARTIN","SAN MARTIN","LAMAS","CAYNARACHI","Mujer","85-+",{"$f":"'Pob x Genero'!EC1789","v":20},68001]
["220505","SAN MARTIN","SAN MARTIN","LAMAS","CUÑUMBUQUI","Mujer","85-+",{"$f":"'Pob x Genero'!EC1790","v":23},68002]
["220506","SAN MARTIN","SAN MARTIN","LAMAS","PINTO RECODO","Mujer","85-+",{"$f":"'Pob x Genero'!EC1791","v":20},68003]
["220507","SAN MARTIN","SAN MARTIN","LAMAS","RUMISAPA","Mujer","85-+",{"$f":"'Pob x Genero'!EC1792","v":20},68004]
["220508","SAN MARTIN","SAN MARTIN","LAMAS","SAN ROQUE DE CUMBAZA","Mujer","85-+",{"$f":"'Pob x Genero'!EC1793","v":7},68005]
["220509","SAN MARTIN","SAN MARTIN","LAMAS","SHANAO","Mujer","85-+",{"$f":"'Pob x Genero'!EC1794","v":14},68006]
["220510","SAN MARTIN","SAN MARTIN","LAMAS","TABALOSOS","Mujer","85-+",{"$f":"'Pob x Genero'!EC1795","v":68},68007]
["220511","SAN MARTIN","SAN MARTIN","LAMAS","ZAPATERO","Mujer","85-+",{"$f":"'Pob x Genero'!EC1796","v":25},68008]
["220601","SAN MARTIN","SAN MARTIN","MARISCAL CACERES","JUANJUI","Mujer","85-+",{"$f":"'Pob x Genero'!EC1797","v":166},68009]
["220602","SAN MARTIN","SAN MARTIN","MARISCAL CACERES","CAMPANILLA","Mujer","85-+",{"$f":"'Pob x Genero'!EC1798","v":26},68010]
["220603","SAN MARTIN","SAN MARTIN","MARISCAL CACERES","HUICUNGO","Mujer","85-+",{"$f":"'Pob x Genero'!EC1799","v":30},68011]
["220604","SAN MARTIN","SAN MARTIN","MARISCAL CACERES","PACHIZA","Mujer","85-+",{"$f":"'Pob x Genero'!EC1800","v":25},68012]
["220605","SAN MARTIN","SAN MARTIN","MARISCAL CACERES","PAJARILLO","Mujer","85-+",{"$f":"'Pob x Genero'!EC1801","v":18},68013]
["220701","SAN MARTIN","SAN MARTIN","PICOTA","PICOTA","Mujer","85-+",{"$f":"'Pob x Genero'!EC1802","v":55},68014]
["220702","SAN MARTIN","SAN MARTIN","PICOTA","BUENOS AIRES","Mujer","85-+",{"$f":"'Pob x Genero'!EC1803","v":11},68015]
["220703","SAN MARTIN","SAN MARTIN","PICOTA","CASPISAPA","Mujer","85-+",{"$f":"'Pob x Genero'!EC1804","v":8},68016]
["220704","SAN MARTIN","SAN MARTIN","PICOTA","PILLUANA","Mujer","85-+",{"$f":"'Pob x Genero'!EC1805","v":4},68017]
["220705","SAN MARTIN","SAN MARTIN","PICOTA","PUCACACA","Mujer","85-+",{"$f":"'Pob x Genero'!EC1806","v":29},68018]
["220706","SAN MARTIN","SAN MARTIN","PICOTA","SAN CRISTOBAL","Mujer","85-+",{"$f":"'Pob x Genero'!EC1807","v":2},68019]
["220707","SAN MARTIN","SAN MARTIN","PICOTA","SAN HILARION","Mujer","85-+",{"$f":"'Pob x Genero'!EC1808","v":12},68020]
["220708","SAN MARTIN","SAN MARTIN","PICOTA","SHAMBOYACU","Mujer","85-+",{"$f":"'Pob x Genero'!EC1809","v":11},68021]
["220709","SAN MARTIN","SAN MARTIN","PICOTA","TINGO DE PONASA","Mujer","85-+",{"$f":"'Pob x Genero'!EC1810","v":10},68022]
["220710","SAN MARTIN","SAN MARTIN","PICOTA","TRES UNIDOS","Mujer","85-+",{"$f":"'Pob x Genero'!EC1811","v":15},68023]
["220801","SAN MARTIN","SAN MARTIN","RIOJA","RIOJA","Mujer","85-+",{"$f":"'Pob x Genero'!EC1812","v":102},68024]
["220802","SAN MARTIN","SAN MARTIN","RIOJA","AWAJUN","Mujer","85-+",{"$f":"'Pob x Genero'!EC1813","v":17},68025]
["220803","SAN MARTIN","SAN MARTIN","RIOJA","ELIAS SOPLIN VARGAS","Mujer","85-+",{"$f":"'Pob x Genero'!EC1814","v":53},68026]
["220804","SAN MARTIN","SAN MARTIN","RIOJA","NUEVA CAJAMARCA","Mujer","85-+",{"$f":"'Pob x Genero'!EC1815","v":93},68027]
["220805","SAN MARTIN","SAN MARTIN","RIOJA","PARDO MIGUEL","Mujer","85-+",{"$f":"'Pob x Genero'!EC1816","v":49},68028]
["220806","SAN MARTIN","SAN MARTIN","RIOJA","POSIC","Mujer","85-+",{"$f":"'Pob x Genero'!EC1817","v":7},68029]
["220807","SAN MARTIN","SAN MARTIN","RIOJA","SAN FERNANDO","Mujer","85-+",{"$f":"'Pob x Genero'!EC1818","v":7},68030]
["220808","SAN MARTIN","SAN MARTIN","RIOJA","YORONGOS","Mujer","85-+",{"$f":"'Pob x Genero'!EC1819","v":7},68031]
["220809","SAN MARTIN","SAN MARTIN","RIOJA","YURACYACU","Mujer","85-+",{"$f":"'Pob x Genero'!EC1820","v":15},68032]
["220901","SAN MARTIN","SAN MARTIN","SAN MARTIN","TARAPOTO","Mujer","85-+",{"$f":"'Pob x Genero'!EC1821","v":294},68033]
["220902","SAN MARTIN","SAN MARTIN","SAN MARTIN","ALBERTO LEVEAU","Mujer","85-+",{"$f":"'Pob x Genero'!EC1822","v":6},68034]
["220903","SAN MARTIN","SAN MARTIN","SAN MARTIN","CACATACHI","Mujer","85-+",{"$f":"'Pob x Genero'!EC1823","v":26},68035]
["220904","SAN MARTIN","SAN MARTIN","SAN MARTIN","CHAZUTA","Mujer","85-+",{"$f":"'Pob x Genero'!EC1824","v":43},68036]
["220905","SAN MARTIN","SAN MARTIN","SAN MARTIN","CHIPURANA","Mujer","85-+",{"$f":"'Pob x Genero'!EC1825","v":8},68037]
["220906","SAN MARTIN","SAN MARTIN","SAN MARTIN","EL PORVENIR","Mujer","85-+",{"$f":"'Pob x Genero'!EC1826","v":13},68038]
["220907","SAN MARTIN","SAN MARTIN","SAN MARTIN","HUIMBAYOC","Mujer","85-+",{"$f":"'Pob x Genero'!EC1827","v":15},68039]
["220908","SAN MARTIN","SAN MARTIN","SAN MARTIN","JUAN GUERRA","Mujer","85-+",{"$f":"'Pob x Genero'!EC1828","v":36},68040]
["220909","SAN MARTIN","SAN MARTIN","SAN MARTIN","LA BANDA DE SHILCAYO","Mujer","85-+",{"$f":"'Pob x Genero'!EC1829","v":144},68041]
["220910","SAN MARTIN","SAN MARTIN","SAN MARTIN","MORALES","Mujer","85-+",{"$f":"'Pob x Genero'!EC1830","v":123},68042]
["220911","SAN MARTIN","SAN MARTIN","SAN MARTIN","PAPAPLAYA","Mujer","85-+",{"$f":"'Pob x Genero'!EC1831","v":12},68043]
["220912","SAN MARTIN","SAN MARTIN","SAN MARTIN","SAN ANTONIO","Mujer","85-+",{"$f":"'Pob x Genero'!EC1832","v":20},68044]
["220913","SAN MARTIN","SAN MARTIN","SAN MARTIN","SAUCE","Mujer","85-+",{"$f":"'Pob x Genero'!EC1833","v":23},68045]
["220914","SAN MARTIN","SAN MARTIN","SAN MARTIN","SHAPAJA","Mujer","85-+",{"$f":"'Pob x Genero'!EC1834","v":16},68046]
["221001","SAN MARTIN","SAN MARTIN","TOCACHE","TOCACHE","Mujer","85-+",{"$f":"'Pob x Genero'!EC1835","v":71},68047]
["221002","SAN MARTIN","SAN MARTIN","TOCACHE","NUEVO PROGRESO","Mujer","85-+",{"$f":"'Pob x Genero'!EC1836","v":34},68048]
["221003","SAN MARTIN","SAN MARTIN","TOCACHE","POLVORA","Mujer","85-+",{"$f":"'Pob x Genero'!EC1837","v":8},68049]
["221004","SAN MARTIN","SAN MARTIN","TOCACHE","SHUNTE","Mujer","85-+",{"$f":"'Pob x Genero'!EC1838","v":6},68050]
["221005","SAN MARTIN","SAN MARTIN","TOCACHE","UCHIZA","Mujer","85-+",{"$f":"'Pob x Genero'!EC1839","v":34},68051]
["221006","SAN MARTIN","SAN MARTIN","TOCACHE","SANTA LUCIA","Mujer","85-+",{"$f":"'Pob x Genero'!EC1840","v":15},68052]
["230101","TACNA","TACNA","TACNA","TACNA","Mujer","85-+",{"$f":"'Pob x Genero'!EC1841","v":980},68053]
["230102","TACNA","TACNA","TACNA","ALTO DE LA ALIANZA","Mujer","85-+",{"$f":"'Pob x Genero'!EC1842","v":208},68054]
["230103","TACNA","TACNA","TACNA","CALANA","Mujer","85-+",{"$f":"'Pob x Genero'!EC1843","v":47},68055]
["230104","TACNA","TACNA","TACNA","CIUDAD NUEVA","Mujer","85-+",{"$f":"'Pob x Genero'!EC1844","v":71},68056]
["230105","TACNA","TACNA","TACNA","INCLAN","Mujer","85-+",{"$f":"'Pob x Genero'!EC1845","v":25},68057]
["230106","TACNA","TACNA","TACNA","PACHIA","Mujer","85-+",{"$f":"'Pob x Genero'!EC1846","v":45},68058]
["230107","TACNA","TACNA","TACNA","PALCA","Mujer","85-+",{"$f":"'Pob x Genero'!EC1847","v":35},68059]
["230108","TACNA","TACNA","TACNA","POCOLLAY","Mujer","85-+",{"$f":"'Pob x Genero'!EC1848","v":126},68060]
["230109","TACNA","TACNA","TACNA","SAMA","Mujer","85-+",{"$f":"'Pob x Genero'!EC1849","v":71},68061]
["230110","TACNA","TACNA","TACNA","CORONEL GREGORIO ALBARRACIN LANCHIPA","Mujer","85-+",{"$f":"'Pob x Genero'!EC1850","v":269},68062]
["230111","TACNA","TACNA","TACNA","LA YARADA LOS PALOS","Mujer","85-+",{"$f":"'Pob x Genero'!EC1851","v":38},68063]
["230201","TACNA","TACNA","CANDARAVE","CANDARAVE","Mujer","85-+",{"$f":"'Pob x Genero'!EC1852","v":47},68064]
["230202","TACNA","TACNA","CANDARAVE","CAIRANI","Mujer","85-+",{"$f":"'Pob x Genero'!EC1853","v":14},68065]
["230203","TACNA","TACNA","CANDARAVE","CAMILACA","Mujer","85-+",{"$f":"'Pob x Genero'!EC1854","v":13},68066]
["230204","TACNA","TACNA","CANDARAVE","CURIBAYA","Mujer","85-+",{"$f":"'Pob x Genero'!EC1855","v":13},68067]
["230205","TACNA","TACNA","CANDARAVE","HUANUARA","Mujer","85-+",{"$f":"'Pob x Genero'!EC1856","v":13},68068]
["230206","TACNA","TACNA","CANDARAVE","QUILAHUANI","Mujer","85-+",{"$f":"'Pob x Genero'!EC1857","v":8},68069]
["230301","TACNA","TACNA","JORGE BASADRE","LOCUMBA","Mujer","85-+",{"$f":"'Pob x Genero'!EC1858","v":19},68070]
["230302","TACNA","TACNA","JORGE BASADRE","ILABAYA","Mujer","85-+",{"$f":"'Pob x Genero'!EC1859","v":143},68071]
["230303","TACNA","TACNA","JORGE BASADRE","ITE","Mujer","85-+",{"$f":"'Pob x Genero'!EC1860","v":28},68072]
["230401","TACNA","TACNA","TARATA","TARATA","Mujer","85-+",{"$f":"'Pob x Genero'!EC1861","v":94},68073]
["230402","TACNA","TACNA","TARATA","HEROES ALBARRACIN","Mujer","85-+",{"$f":"'Pob x Genero'!EC1862","v":8},68074]
["230403","TACNA","TACNA","TARATA","ESTIQUE","Mujer","85-+",{"$f":"'Pob x Genero'!EC1863","v":2},68075]
["230404","TACNA","TACNA","TARATA","ESTIQUE-PAMPA","Mujer","85-+",{"$f":"'Pob x Genero'!EC1864","v":10},68076]
["230405","TACNA","TACNA","TARATA","SITAJARA","Mujer","85-+",{"$f":"'Pob x Genero'!EC1865","v":8},68077]
["230406","TACNA","TACNA","TARATA","SUSAPAYA","Mujer","85-+",{"$f":"'Pob x Genero'!EC1866","v":13},68078]
["230407","TACNA","TACNA","TARATA","TARUCACHI","Mujer","85-+",{"$f":"'Pob x Genero'!EC1867","v":6},68079]
["230408","TACNA","TACNA","TARATA","TICACO","Mujer","85-+",{"$f":"'Pob x Genero'!EC1868","v":20},68080]
["240101","TUMBES","TUMBES","TUMBES","TUMBES","Mujer","85-+",{"$f":"'Pob x Genero'!EC1869","v":778},68081]
["240102","TUMBES","TUMBES","TUMBES","CORRALES","Mujer","85-+",{"$f":"'Pob x Genero'!EC1870","v":178},68082]
["240103","TUMBES","TUMBES","TUMBES","LA CRUZ","Mujer","85-+",{"$f":"'Pob x Genero'!EC1871","v":95},68083]
["240104","TUMBES","TUMBES","TUMBES","PAMPAS DE HOSPITAL","Mujer","85-+",{"$f":"'Pob x Genero'!EC1872","v":90},68084]
["240105","TUMBES","TUMBES","TUMBES","SAN JACINTO","Mujer","85-+",{"$f":"'Pob x Genero'!EC1873","v":101},68085]
["240106","TUMBES","TUMBES","TUMBES","SAN JUAN DE LA VIRGEN","Mujer","85-+",{"$f":"'Pob x Genero'!EC1874","v":59},68086]
["240201","TUMBES","TUMBES","CONTRALMIRANTE VILLAR","ZORRITOS","Mujer","85-+",{"$f":"'Pob x Genero'!EC1875","v":148},68087]
["240202","TUMBES","TUMBES","CONTRALMIRANTE VILLAR","CASITAS","Mujer","85-+",{"$f":"'Pob x Genero'!EC1876","v":123},68088]
["240203","TUMBES","TUMBES","CONTRALMIRANTE VILLAR","CANOAS DE PUNTA SAL","Mujer","85-+",{"$f":"'Pob x Genero'!EC1877","v":53},68089]
["240301","TUMBES","TUMBES","ZARUMILLA","ZARUMILLA","Mujer","85-+",{"$f":"'Pob x Genero'!EC1878","v":209},68090]
["240302","TUMBES","TUMBES","ZARUMILLA","AGUAS VERDES","Mujer","85-+",{"$f":"'Pob x Genero'!EC1879","v":88},68091]
["240303","TUMBES","TUMBES","ZARUMILLA","MATAPALO","Mujer","85-+",{"$f":"'Pob x Genero'!EC1880","v":10},68092]
["240304","TUMBES","TUMBES","ZARUMILLA","PAPAYAL","Mujer","85-+",{"$f":"'Pob x Genero'!EC1881","v":75},68093]
["250101","UCAYALI","UCAYALI","CORONEL PORTILLO","CALLERIA","Mujer","85-+",{"$f":"'Pob x Genero'!EC1882","v":778},68094]
["250102","UCAYALI","UCAYALI","CORONEL PORTILLO","CAMPOVERDE","Mujer","85-+",{"$f":"'Pob x Genero'!EC1883","v":70},68095]
["250103","UCAYALI","UCAYALI","CORONEL PORTILLO","IPARIA","Mujer","85-+",{"$f":"'Pob x Genero'!EC1884","v":19},68096]
["250104","UCAYALI","UCAYALI","CORONEL PORTILLO","MASISEA","Mujer","85-+",{"$f":"'Pob x Genero'!EC1885","v":66},68097]
["250105","UCAYALI","UCAYALI","CORONEL PORTILLO","YARINACOCHA","Mujer","85-+",{"$f":"'Pob x Genero'!EC1886","v":350},68098]
["250106","UCAYALI","UCAYALI","CORONEL PORTILLO","NUEVA REQUENA","Mujer","85-+",{"$f":"'Pob x Genero'!EC1887","v":12},68099]
["250107","UCAYALI","UCAYALI","CORONEL PORTILLO","MANANTAY","Mujer","85-+",{"$f":"'Pob x Genero'!EC1888","v":243},68100]
["250201","UCAYALI","UCAYALI","ATALAYA","RAYMONDI","Mujer","85-+",{"$f":"'Pob x Genero'!EC1889","v":42},68101]
["250202","UCAYALI","UCAYALI","ATALAYA","SEPAHUA","Mujer","85-+",{"$f":"'Pob x Genero'!EC1890","v":23},68102]
["250203","UCAYALI","UCAYALI","ATALAYA","TAHUANIA","Mujer","85-+",{"$f":"'Pob x Genero'!EC1891","v":12},68103]
["250204","UCAYALI","UCAYALI","ATALAYA","YURUA","Mujer","85-+",{"$f":"'Pob x Genero'!EC1892","v":2},68104]
["250301","UCAYALI","UCAYALI","PADRE ABAD","PADRE ABAD","Mujer","85-+",{"$f":"'Pob x Genero'!EC1893","v":62},68105]
["250302","UCAYALI","UCAYALI","PADRE ABAD","IRAZOLA","Mujer","85-+",{"$f":"'Pob x Genero'!EC1894","v":29},68106]
["250303","UCAYALI","UCAYALI","PADRE ABAD","CURIMANA","Mujer","85-+",{"$f":"'Pob x Genero'!EC1895","v":17},68107]
["250304","UCAYALI","UCAYALI","PADRE ABAD","NESHUYA","Mujer","85-+",{"$f":"'Pob x Genero'!EC1896","v":18},68108]
["250305","UCAYALI","UCAYALI","PADRE ABAD","ALEXANDER VON HUMBOLDT","Mujer","85-+",{"$f":"'Pob x Genero'!EC1897","v":29},68109]
["250306","UCAYALI","UCAYALI","PADRE ABAD","HUIPOCA","Mujer","85-+",{"$f":"'Pob x Genero'!EC1898","v":10},68110]
["250307","UCAYALI","UCAYALI","PADRE ABAD","BOQUERON","Mujer","85-+",{"$f":"'Pob x Genero'!EC1899","v":21},68111]
["250401","UCAYALI","UCAYALI","PURUS","PURUS","Mujer","85-+",{"$f":"'Pob x Genero'!EC1900","v":4},68112]

{"sheet":"PIRAMIDE","index":7,"n_rows":43,"n_cols":8,"rows_kept":43}
[null,"PIRAMIDE POBLACIONAL 2026"]
{"$rows_empty":14}
[null," GRUPOS DE EDAD"]
[null,null,"Hombre","Mujer","Total general",null,"Hombre (%)","Mujer (%)"]
[null,"00-04",{"v":1137727,"d":"1,137,727"},{"v":1096198,"d":"1,096,198"},{"v":2233925,"d":"2,233,925"},null,{"$f":"C18/$E$36","v":{"v":0.03284047711979138,"d":"3.3%"}},{"$f":"D18/$E$36*-1","v":{"v":-0.03164174299964848,"d":"3.2%"}}]
[null,"05-09",{"v":1433971,"d":"1,433,971"},{"v":1379330,"d":"1,379,330"},{"v":2813301,"d":"2,813,301"},null,{"$f":"C19/$E$36","v":{"v":0.041391556863768164,"d":"4.1%"}},{"$f":"D19/$E$36*-1","v":{"v":-0.03981434501039515,"d":"4.0%"}}]
[null,"10-14",{"v":1364263,"d":"1,364,263"},{"v":1328540,"d":"1,328,540"},{"v":2692803,"d":"2,692,803"},null,{"v":0.03937943622404843,"d":"3.9%"},{"v":-0.038348292228915754,"d":"3.8%"}]
[null,"15-19",{"v":1406447,"d":"1,406,447"},{"v":1394285,"d":"1,394,285"},{"v":2800732,"d":"2,800,732"},null,{"v":0.04059707691185954,"d":"4.1%"},{"v":-0.04024602091799555,"d":"4.0%"}]
[null,"20-24",{"v":1230361,"d":"1,230,361"},{"v":1275517,"d":"1,275,517"},{"v":2505878,"d":"2,505,878"},null,{"v":0.03551435649288769,"d":"3.6%"},{"v":-0.03681778392743157,"d":"3.7%"}]
[null,"25-29",{"v":1283576,"d":"1,283,576"},{"v":1447731,"d":"1,447,731"},{"v":2731307,"d":"2,731,307"},null,{"v":0.03705040687222272,"d":"3.7%"},{"v":-0.04178873910974486,"d":"4.2%"}]
[null,"30-34",{"v":1348762,"d":"1,348,762"},{"v":1400835,"d":"1,400,835"},{"v":2749597,"d":"2,749,597"},null,{"v":0.038932000032559706,"d":"3.9%"},{"v":-0.04043508659467777,"d":"4.0%"}]
[null,"35-39",{"v":1327391,"d":"1,327,391"},{"v":1285839,"d":"1,285,839"},{"v":2613230,"d":"2,613,230"},null,{"v":0.03831512635677715,"d":"3.8%"},{"v":-0.0371157283418917,"d":"3.7%"}]
[null,"40-44",{"v":1247949,"d":"1,247,949"},{"v":1226827,"d":"1,226,827"},{"v":2474776,"d":"2,474,776"},null,{"v":0.03602203391601547,"d":"3.6%"},{"v":-0.03541234762244572,"d":"3.5%"}]
[null,"45-49",{"v":1149641,"d":"1,149,641"},{"v":1111493,"d":"1,111,493"},{"v":2261134,"d":"2,261,134"},null,{"v":0.03318437459643137,"d":"3.3%"},{"v":-0.032083233003443075,"d":"3.2%"}]
[null,"50-54",{"v":959442,"d":"959,442"},{"v":985968,"d":"985,968"},{"v":1945410,"d":"1,945,410"},null,{"v":0.027694282590434154,"d":"2.8%"},{"v":-0.02845995528351394,"d":"2.8%"}]
[null,"55-59",{"v":864269,"d":"864,269"},{"v":884902,"d":"884,902"},{"v":1749171,"d":"1,749,171"},null,{"v":0.02494711501075827,"d":"2.5%"},{"v":-0.02554268632480167,"d":"2.6%"}]
[null,"60-64",{"v":741261,"d":"741,261"},{"v":757552,"d":"757,552"},{"v":1498813,"d":"1,498,813"},null,{"v":0.02139649046765496,"d":"2.1%"},{"v":-0.021866730000300774,"d":"2.2%"}]
[null,"65-69",{"v":564863,"d":"564,863"},{"v":614940,"d":"614,940"},{"v":1179803,"d":"1,179,803"},null,{"v":0.016304764172175502,"d":"1.6%"},{"v":-0.017750236216635896,"d":"1.8%"}]
[null,"70-74",{"v":442508,"d":"442,508"},{"v":499897,"d":"499,897"},{"v":942405,"d":"942,405"},null,{"v":0.012772988466762803,"d":"1.3%"},{"v":-0.014429521309375932,"d":"1.4%"}]
[null,"75-79",{"v":311479,"d":"311,479"},{"v":347041,"d":"347,041"},{"v":658520,"d":"658,520"},null,{"v":8.990837848442991E-3,"d":"0.9%"},{"v":-0.010017334580377823,"d":"1.0%"}]
[null,"80-84",{"v":182609,"d":"182,609"},{"v":226151,"d":"226,151"},{"v":408760,"d":"408,760"},null,{"v":0.005271006740956296,"d":"0.5%"},{"v":-0.006527846083566567,"d":"0.7%"}]
[null,"85-+",{"v":156978,"d":"156,978"},{"v":227503,"d":"227,503"},{"v":384481,"d":"384,481"},null,{"v":0.004531168212858279,"d":"0.5%"},{"v":-0.006566871548432883,"d":"0.7%"}]
[null,"Total general",{"v":17153497,"d":"17,153,497"},{"v":17490549,"d":"17,490,549"},{"v":34644046,"d":"34,644,046"},null,{"$f":"SUM(G18:G35)","v":{"v":0.49513549889640485,"d":"49.51%"}},{"$f":"ABS(SUM(H18:H35))","v":{"v":0.504864501103595,"d":"50.49%"}}]
[null,"Fuente: OGEI/OGTI-Minsa"]
[null,"* Actualizado con datos INEI y el Padrón Nominal"]
[]
[]
[]
[null,"FUENTE: BOLETIN DEMOGRAFICO Nº 25, 26, 39 / RENIEC / Padrón Nominal/ CNV"]
[null,"La población de 0-5 años corresponden al reporte de la poblacion del Padrón Nominal con corte al 31/12/2025"]